BEGIN:VCALENDAR
VERSION:2.0
PRODID:-//Spil Dansk - ECPv6.5.0//NONSGML v1.0//EN
CALSCALE:GREGORIAN
METHOD:PUBLISH
X-ORIGINAL-URL:https://spildansk.dk
X-WR-CALDESC:Events for Spil Dansk
REFRESH-INTERVAL;VALUE=DURATION:PT1H
X-Robots-Tag:noindex
X-PUBLISHED-TTL:PT1H
BEGIN:VTIMEZONE
TZID:Europe/Copenhagen
BEGIN:DAYLIGHT
TZOFFSETFROM:+0100
TZOFFSETTO:+0200
TZNAME:CEST
DTSTART:20190331T010000
END:DAYLIGHT
BEGIN:STANDARD
TZOFFSETFROM:+0200
TZOFFSETTO:+0100
TZNAME:CET
DTSTART:20191027T010000
END:STANDARD
END:VTIMEZONE
BEGIN:VEVENT
DTSTART;TZID=Europe/Copenhagen:20191029T110000
DTEND;TZID=Europe/Copenhagen:20191029T120000
DTSTAMP:20260421T145457
CREATED:20191015T115422Z
LAST-MODIFIED:20191015T115422Z
UID:21555-1572346800-1572350400@spildansk.dk
SUMMARY:Livekoncert
DESCRIPTION:Musik og sundhed
URL:https://spildansk.dk/kalender/livekoncert/
LOCATION:Ældrecenteret Havbakken\, Købstedvej 6\, Tornby\, 9850
CATEGORIES:Alternative
ORGANIZER;CN="Spil Dansk":MAILTO:info@spildansk.dk
END:VEVENT
BEGIN:VEVENT
DTSTART;TZID=Europe/Copenhagen:20191029T110000
DTEND;TZID=Europe/Copenhagen:20191029T120000
DTSTAMP:20260421T145457
CREATED:20191023T105025Z
LAST-MODIFIED:20191023T105025Z
UID:22513-1572346800-1572350400@spildansk.dk
SUMMARY:Mads Vinding & Øyvind Ougaard
DESCRIPTION:LMS-Familiekoncert i forbindelse med Spil Dansk Ugen 2019.
URL:https://spildansk.dk/kalender/mads-vinding-oeyvind-ougaard-8/
LOCATION:Kildebakkeskolen\, Soldalen 8\, Vildbjerg\, 7480\, Danmark
END:VEVENT
BEGIN:VEVENT
DTSTART;TZID=Europe/Copenhagen:20191029T120000
DTEND;TZID=Europe/Copenhagen:20191029T140000
DTSTAMP:20260421T145457
CREATED:20191016T101801Z
LAST-MODIFIED:20191016T102630Z
UID:21631-1572350400-1572357600@spildansk.dk
SUMMARY:’Spil dansk solisterier’  med Tove Hyldgaard & Henrik Krogsgaard
DESCRIPTION:UDSOLGT. Sangerinden Tove Hyldgaard og pianisten Henrik Krogsgaard præsenterer et alsangsprogram med danske sange under titlen ” Så syng da…..dansk “. Tove Hyldgaard synger solo\,  sammen med publikum og fortæller også om sangenes oprindelse. Til dette arrangement spiser vi sammen kl. 12.00 og menuen består af noget så dansk som frikadeller m. kartoffelsalat og dagens grønt\, rødgrød med fløde samt kaffe. Arrangementet er for brugerne af Aktivitetscentret i Glostrup Kommune\, som er et aktivt mødested for kommunens pensionister og efterlønnere. \nArrangementet er blevet til med støtte fra Glostrup Kommunes kulturpulje.
URL:https://spildansk.dk/kalender/spil-dansk-solisterier-med-tove-hyldgaard-henrik-krogsgaard/
LOCATION:Aktivitetscentret\, Sydvestvej\, Glostrup\, 2600
CATEGORIES:Koncert
ATTACH;FMTTYPE=image/jpeg:https://spildansk.dk/wp-content/uploads/2019/10/ToveHyldgaard_pressefoto3-e1558511957386.jpg
ORGANIZER;CN="Glostrup Musikskole":MAILTO:musikskolen@glostrup.dk
END:VEVENT
BEGIN:VEVENT
DTSTART;TZID=Europe/Copenhagen:20191029T120000
DTEND;TZID=Europe/Copenhagen:20191101T120000
DTSTAMP:20260421T145457
CREATED:20191014T070306Z
LAST-MODIFIED:20191014T070306Z
UID:21346-1572350400-1572609600@spildansk.dk
SUMMARY:Book en frokostsang
DESCRIPTION:Tirsdag til fredag i uge 44 kan I få besøg af en vaskeægte operasanger i det store skrud og hendes eminente pianist i jeres frokostpause. Vi varmer jer op\, laver sjove sangøvelser og synger et par danske sange og kanons sammen med jer. \nBooking: Lise Christensen – lise@soeholmopera.com eller telefon: 5239 5967
URL:https://spildansk.dk/kalender/book-en-frokostsang/
LOCATION:Samsø
CATEGORIES:Fællessang
END:VEVENT
BEGIN:VEVENT
DTSTART;TZID=Europe/Copenhagen:20191029T120500
DTEND;TZID=Europe/Copenhagen:20191029T130500
DTSTAMP:20260421T145457
CREATED:20191023T104818Z
LAST-MODIFIED:20191023T104818Z
UID:22495-1572350700-1572354300@spildansk.dk
SUMMARY:Wenzell & Bugge
DESCRIPTION:LMS-Familiekoncert i forbindelse med Spil Dansk Ugen 2019.
URL:https://spildansk.dk/kalender/wenzell-bugge/
LOCATION:Ejby Skole\, Ejby\, Middelfart\, Danmark
END:VEVENT
BEGIN:VEVENT
DTSTART;TZID=Europe/Copenhagen:20191029T121500
DTEND;TZID=Europe/Copenhagen:20191029T131500
DTSTAMP:20260421T145457
CREATED:20191023T105107Z
LAST-MODIFIED:20191023T105107Z
UID:22520-1572351300-1572354900@spildansk.dk
SUMMARY:Verdenssange med Vingefang
DESCRIPTION:LMS-Familiekoncert i forbindelse med Spil Dansk Ugen 2019.
URL:https://spildansk.dk/kalender/verdenssange-med-vingefang-2/
LOCATION:Nordbyskolen\, Nordby Allé 2\, Nykøbing F\, 4800\, Denmark
END:VEVENT
BEGIN:VEVENT
DTSTART;TZID=Europe/Copenhagen:20191029T123000
DTEND;TZID=Europe/Copenhagen:20191029T133000
DTSTAMP:20260421T145457
CREATED:20191023T105205Z
LAST-MODIFIED:20191023T105205Z
UID:22529-1572352200-1572355800@spildansk.dk
SUMMARY:Cirkeline og Coco rejser til Afrika
DESCRIPTION:LMS-Familiekoncert i forbindelse med Spil Dansk Ugen 2019.
URL:https://spildansk.dk/kalender/cirkeline-og-coco-rejser-til-afrika-5/
LOCATION:Rolighed Skolen\, Kastanievej 80\, Thisted\, 7700\, Denmark
END:VEVENT
BEGIN:VEVENT
DTSTART;TZID=Europe/Copenhagen:20191029T130000
DTEND;TZID=Europe/Copenhagen:20191029T140000
DTSTAMP:20260421T145457
CREATED:20191011T132457Z
LAST-MODIFIED:20191011T132457Z
UID:21292-1572354000-1572357600@spildansk.dk
SUMMARY:Spil Dansk-bussen på Næstved Bibliotek
DESCRIPTION:Musikskolens forskellige børnekor kører traditionen tro rundt i Næstved kommune og giver koncerter i Spil Dansk-ugen – også på Næstved Bibliotek\n\n\n\n\n\nMusikskolens dygtige\, sangglade elever optræder 5 forskellige steder og slutter af med en offentlig koncert på Næstved Bibliotek kl. 13. \nHer kan I opleve Voice Factory\, Rytmisk Børnekor\, Korskildekoret og Fridas Superkor under ledelse af Ulla Britt Simonsen\, Frida Fridriksdottir og Helle Møller. \nDer bliver masser af dansk musik og godt humør.
URL:https://spildansk.dk/kalender/spil-dansk-bussen-paa-naestved-bibliotek/
LOCATION:Næstved Bibliotek\, Kvægtorvet 4-6\, Næstved\, 4700\, Danmark
CATEGORIES:Koncert,Kor
ATTACH;FMTTYPE=image/jpeg:https://spildansk.dk/wp-content/uploads/2019/10/spil-dansk-bussen.jpg
END:VEVENT
BEGIN:VEVENT
DTSTART;TZID=Europe/Copenhagen:20191029T130000
DTEND;TZID=Europe/Copenhagen:20191029T140000
DTSTAMP:20260421T145457
CREATED:20191021T073912Z
LAST-MODIFIED:20191021T073912Z
UID:21916-1572354000-1572357600@spildansk.dk
SUMMARY:KULTURSKOLEN SKANDERBORG GIVER KONCERT PÅ BJEDSTRUP SKOLE
DESCRIPTION:Bjedstrup Skole får besøg af Kulturskolen Skanderborg\, hvor flere musiklærere og elever spiller gratis for Bjedstrup Skoles elever og personale. Der vil blive spillet meget forskelligt musik fra den danske sangskat\, og Bjedstrup Skoles elever skal selvfølgelig synge med.
URL:https://spildansk.dk/kalender/kulturskolen-skanderborg-giver-koncert-paa-bjedstrup-skole/
LOCATION:bjedstrup skole\, Bjedstrup Skole\, Bjedstrup
CATEGORIES:Koncert
ATTACH;FMTTYPE=image/jpeg:https://spildansk.dk/wp-content/uploads/2019/10/DSCF0992-1.jpg
END:VEVENT
BEGIN:VEVENT
DTSTART;TZID=Europe/Copenhagen:20191029T130000
DTEND;TZID=Europe/Copenhagen:20191029T150000
DTSTAMP:20260421T145457
CREATED:20191017T090845Z
LAST-MODIFIED:20191017T090845Z
UID:21718-1572354000-1572361200@spildansk.dk
SUMMARY:M.C. Hansen
DESCRIPTION:Under temaet “Musik og Sundhed” vil Richter til dette arrangement lægge hus til en beroligende intimkoncert for en udvalgt patientgruppe\, hvor musikken kan bidrage til lindring i et sygeforløb. Arrangementet tager udgangspunkt i musikkens sundhedsfremmende muligheder\, og varetages af den professionelle sanger og sangskriver M.C. Hansen\, der vil spille\, fortælle og underholde. \nDet er de gode historier med finurlige detaljer og øje for det store i det små\, der er i fokus\, når den prisvindende singer-songwriter og historiefortæller M.C. Hansen går på scenen. Den 25. maj 2019 udkom hans første dansksprogede album\, Alter ego//Ego alter\, et moderne visealbum. \nM.C. Hansen har vundet flere priser – blandt andet blev han Årets Sangskriver ved Danish Music Awards Folk 2017\, Årets musikalske iværksætter 2018 og komponistforeningen DPA tildelte ham i 2018 deres Påskønnelseslegat. Når han går på scenen med sin guitar og sin faste makker Jacob Chano på harmonium og klaver\, er nøgleorde nærvær\, historiefortælling og gode melodier. \nArrangementet er en del af Spil Dansk Ugen på Richter\, som præsenteres i samarbejde med Telefonfabrikken\, Gladsaxe Musik- og Billedskole\, Gladsaxe Bibliotekerne og UniG.
URL:https://spildansk.dk/kalender/m-c-hansen/
LOCATION:Richter\, Søborg\, Gladsaxe\, Danmark
CATEGORIES:Koncert,Singer-songwriter
ATTACH;FMTTYPE=image/jpeg:https://spildansk.dk/wp-content/uploads/2019/10/MC-med-logo.jpg
ORGANIZER;CN="Richter":MAILTO:info@richter-gladsaxe.dk
END:VEVENT
BEGIN:VEVENT
DTSTART;TZID=Europe/Copenhagen:20191029T133000
DTEND;TZID=Europe/Copenhagen:20191029T150000
DTSTAMP:20260421T145457
CREATED:20191019T190224Z
LAST-MODIFIED:20191020T160733Z
UID:21793-1572355800-1572361200@spildansk.dk
SUMMARY:Konfirmandundervisning med fokus på musik i Mariekirken Bøvlingbjerg
DESCRIPTION:Konfirmationsundervisning med fokus på musik 🙂 \nTil denne uges konfirmationsundervisning sætter Marianne Gyldenkaerne fokus på musik og sang. \nDørene er åbne og alle kan være med. Vi slutter af med kaffe.
URL:https://spildansk.dk/kalender/konfirmandundervisning-med-fokus-paa-musik/
LOCATION:Mariekirken Bøvlingbjerg\, Høvsørevej\, Bøvlingbjerg\, 7650
CATEGORIES:Alternative,Fællessang
ATTACH;FMTTYPE=image/png:https://spildansk.dk/wp-content/uploads/2019/10/Konfirmationsundervisning-.png
END:VEVENT
BEGIN:VEVENT
DTSTART;TZID=Europe/Copenhagen:20191029T150000
DTEND;TZID=Europe/Copenhagen:20191029T160000
DTSTAMP:20260421T145457
CREATED:20190916T065646Z
LAST-MODIFIED:20190916T065807Z
UID:20246-1572361200-1572364800@spildansk.dk
SUMMARY:Børn og brugere synger dansk
DESCRIPTION:Jennumparkens børnekor synger for og sammen med beboere og brugere af Brugerhuset på Dronningborg Centret. \nI programmet er der lagt vægt på digterne Jeppe Aakjær og Harald Bergstedt samt komponisten Carl Nielsen.
URL:https://spildansk.dk/kalender/boern-og-brugere-synger-dansk/
LOCATION:Brugerhuset Dronningborg Centret Randers\, Egholmsvej 4\, Randers NØ\, 8930
CATEGORIES:Fællessang,Kor
ATTACH;FMTTYPE=image/jpeg:https://spildansk.dk/wp-content/uploads/2019/09/IMG_9463.jpg
END:VEVENT
BEGIN:VEVENT
DTSTART;TZID=Europe/Copenhagen:20191029T150000
DTEND;TZID=Europe/Copenhagen:20191029T180000
DTSTAMP:20260421T145457
CREATED:20191022T125845Z
LAST-MODIFIED:20191022T125845Z
UID:22250-1572361200-1572372000@spildansk.dk
SUMMARY:Åbent studie på Kaosambassaden
DESCRIPTION:Har du nogensinde tænkt: ”Jeg kunne godt tænke mig at indspille en sang”\, men samtidig tænkt: ”Nej\, jeg synger ikke godt nok\, og det er sikkert også meget dyrt”\, så er det her\, du skal læse videre: \nPå Kaosambassaden i Randers Centrum er etableret et studie\, der dagligt bruges flittigt af unge mennesker i alderen 15-25 år.\nHer kan man helt gratis (og med de evner\, man nu har) prøve at indspille/indsynge en sang under kyndig vejledning fra Torben fra Kaosambassaden. Enten til noget musik\, man selv har lavet eller sammen med et nummer fra YouTube. Hvad den færdige indspilning skal bruges til\, bestemmer du selv. \nI forbindelse med Spil Dansk vil studiet stå åbent for dig\, der bare vil prøve\, hvordan det er at synge i en rigtig studiemikrofon \nKaosambassaden\, Stemannsgade 9D\, 8900 Randers C – Tirsdag d. 29/10 kl. 15-18 \nKaosambassaden\, Stemannsgade 9D\, 8900 Randers C – Torsdag d. 31/10 kl. 15-18 \n  \nhttps://ungdomsskolen.randers.dk/fritidsmiljoeer/kaosambassaden/
URL:https://spildansk.dk/kalender/aabent-studie-paa-kaosambassaden/
LOCATION:Kaosambassaden\, Stemannsgade 9 D\, Randers C\, 8900\, Danmark
CATEGORIES:Workshop
ATTACH;FMTTYPE=image/jpeg:https://spildansk.dk/wp-content/uploads/2019/10/Spildanskmiclogo2.jpg
ORGANIZER;CN="Kaosambassaden%2C Randers Ungdomsskole":MAILTO:torben.mohlenberg@randers.dk
END:VEVENT
BEGIN:VEVENT
DTSTART;TZID=Europe/Copenhagen:20191029T160000
DTEND;TZID=Europe/Copenhagen:20191029T163000
DTSTAMP:20260421T145458
CREATED:20191023T092049Z
LAST-MODIFIED:20191023T092049Z
UID:22400-1572364800-1572366600@spildansk.dk
SUMMARY:Kom og syng sammen med os
DESCRIPTION:Nørre Boulevard Skoleorkester besøger Holstebro Bibliotek. \nNørre Boulevard Skoleorkester giver et par koncertnumre og spiller op til fællessang. Kom og oplev de forskellige instrumenter i orkestret og syng et par danske sange sammen med os. \nHolstebro Bibliotek\, udlånet\nGratis – bare mød op
URL:https://spildansk.dk/kalender/kom-og-syng-sammen-med-os-2/
LOCATION:Holstebro bibliotek\, musikafdelingen\, Kirkestræde 11\, Holstebro\, 7500\, Danmark
CATEGORIES:Fællessang,Musik til børn
ORGANIZER;CN="Holstebro Musikskole":MAILTO:homus@homus.dk
END:VEVENT
BEGIN:VEVENT
DTSTART;TZID=Europe/Copenhagen:20191029T160000
DTEND;TZID=Europe/Copenhagen:20191029T170000
DTSTAMP:20260421T145458
CREATED:20191028T080116Z
LAST-MODIFIED:20191028T080116Z
UID:22897-1572364800-1572368400@spildansk.dk
SUMMARY:Sang- & Klaverparty
DESCRIPTION:Elever til sanglærer Laura og klaverlærer Jesper fra Faaborg-Midtfyn Musikskole holder koncert på Faaborg Bibliotek
URL:https://spildansk.dk/kalender/sang-klaverparty/
LOCATION:Faaborg Bibliotek\, Herregårdscentret 17\, Faaborg\, 5600\, Danmark
CATEGORIES:Koncert
ORGANIZER;CN="Faaborg Midtfyn Musikskole":MAILTO:Musikskolen@fmk.dk
END:VEVENT
BEGIN:VEVENT
DTSTART;TZID=Europe/Copenhagen:20191029T163000
DTEND;TZID=Europe/Copenhagen:20191029T173000
DTSTAMP:20260421T145458
CREATED:20190926T065110Z
LAST-MODIFIED:20190926T065234Z
UID:20530-1572366600-1572370200@spildansk.dk
SUMMARY:Spil Dansk: Begivenhed ved SuperBrugsen Spentrup
DESCRIPTION:I anledningen af Spil Dansk er der arrangeret et spændende indslag ved SuperBrugsen i Spentrup tirsdag d. 29. oktober. Hvad det indebærer\, må du dukke op for at finde ud af… \nSpil Dansk er musiklivets festuge\, der altid foregår i uge 44. Siden 2001 har Spil Dansk været Danmarks største musikbegivenhed i al sin bredde og mangfoldighed af arrangementer. Turbinen\, Randers Bibliotek\, Randers Kommune og Randers Eventsekretariat er lokale arrangører. Det sker i samarbejde med blandt andre lokale bands\, musikkorps\, -ensembler og -kor. Målet er at skabe glæde og øge kendskabet til musik med dansk afsæt – herunder udfolde musikken i nye og anderledes rammer.
URL:https://spildansk.dk/kalender/spil-dansk-begivenhed-ved-superbrugsen-spentrup/
LOCATION:SuperBrugsen Spentrup\, Stationsvej 2\, Spentrup\, 8981
CATEGORIES:Singer-songwriter
END:VEVENT
BEGIN:VEVENT
DTSTART;TZID=Europe/Copenhagen:20191029T163000
DTEND;TZID=Europe/Copenhagen:20191029T173000
DTSTAMP:20260421T145458
CREATED:20191017T065752Z
LAST-MODIFIED:20191017T065752Z
UID:21699-1572366600-1572370200@spildansk.dk
SUMMARY:Koncert med Vejle Musikskole
DESCRIPTION:I uge 44 er det Spil Dansk Uge\, og det fejrer vi igen i år med et hyggeligt musikalsk indslag på Børkop Bibliotek.\n\n\n\n\n\nKom og vær med\, når de dygtige elever fra Vejle Musikskole spiller og synger dansk musik på biblioteket. \nIngen tilmelding – bare kig forbi.
URL:https://spildansk.dk/kalender/koncert-med-vejle-musikskole/
LOCATION:Børkop Bibliotek\, Ågade 6\, Børkop\, 7080
CATEGORIES:Koncert,Fællessang
ATTACH;FMTTYPE=image/jpeg:https://spildansk.dk/wp-content/uploads/2019/10/guitar_mand_spiller.jpg
ORGANIZER;CN="Vejle Bibliotekerne":MAILTO:palar@vejlebib.dk
END:VEVENT
BEGIN:VEVENT
DTSTART;TZID=Europe/Copenhagen:20191029T170000
DTEND;TZID=Europe/Copenhagen:20191029T170000
DTSTAMP:20260421T145458
CREATED:20191023T113003Z
LAST-MODIFIED:20191023T113003Z
UID:22557-1572368400-1572368400@spildansk.dk
SUMMARY:Orkesterspire-koncert på Horsens Musikskole
DESCRIPTION:Orkesterspirerne/violinspirerne “spiller dansk” i orkestersalen nr. 12 på Horsens Musikskole kl. 17-17:50 tirsdag d. 29.-10. De nye små violiner\, der går i 1. 2. og 3. klasse\, spiller\, leger og synger og viser\, hvad de har siden sæsonens start. Alle er velkomne!
URL:https://spildansk.dk/kalender/orkesterspire-koncert-paa-horsens-musikskole/
LOCATION:Horsens Musikskole\, Skolegade 5-7\, Horsens\, 8700\, Danmark
CATEGORIES:Alternative
ORGANIZER;CN="Horsens Musikskole":MAILTO:musiki@horsens.dk
END:VEVENT
BEGIN:VEVENT
DTSTART;TZID=Europe/Copenhagen:20191029T170000
DTEND;TZID=Europe/Copenhagen:20191029T174500
DTSTAMP:20260421T145458
CREATED:20191014T115650Z
LAST-MODIFIED:20191014T115650Z
UID:21471-1572368400-1572371100@spildansk.dk
SUMMARY:ABC-koncert med Spirekorene
DESCRIPTION:Roskilde Domkirkes Spirekor samt Trekroner Skole og Kirkes Spire- og Børnekor synger sammen et uddrag af de finurlige tekster fra Halfdans ABC. Michael Bojesen har sat musik til teksterne.
URL:https://spildansk.dk/kalender/abc-koncert-med-spirekorene/
LOCATION:Roskilde Bibliotek\, Dronning Margrethesvej 14\, 4000\, Roskilde\, Danmark
CATEGORIES:Koncert,Musik til børn
ORGANIZER;CN="Roskilde Bibliotekerne":MAILTO:mellemreolerne@roskilde.dk
END:VEVENT
BEGIN:VEVENT
DTSTART;TZID=Europe/Copenhagen:20191029T170000
DTEND;TZID=Europe/Copenhagen:20191029T175000
DTSTAMP:20260421T145458
CREATED:20191024T072807Z
LAST-MODIFIED:20191024T072807Z
UID:22679-1572368400-1572371400@spildansk.dk
SUMMARY:Violin- og orkesterspirer spiller dansk
DESCRIPTION:Orkesterspirerne/violinspirerne “spiller dansk” i orkestersalen nr. 12 på Horsens Musikskole kl. 17-17:50 tirsdag d. 29.-10.\nDe nye små violiner\, der går i 1. 2. og 3. klasse\, spiller\, leger og synger og viser\, hvad de har siden sæsonens start.\n\nAlle er velkomne!
URL:https://spildansk.dk/kalender/violin-og-orkesterspirer-spiller-dansk/
LOCATION:Kulturstationen\, Skolegade 7-9\, Horsens\, 8700
CATEGORIES:Musik til børn
ATTACH;FMTTYPE=image/jpeg:https://spildansk.dk/wp-content/uploads/2019/10/Violinspirer-16.jpg
ORGANIZER;CN="Horsens Musikskole":MAILTO:musiki@horsens.dk
END:VEVENT
BEGIN:VEVENT
DTSTART;TZID=Europe/Copenhagen:20191029T170000
DTEND;TZID=Europe/Copenhagen:20191029T180000
DTSTAMP:20260421T145458
CREATED:20191022T074219Z
LAST-MODIFIED:20191022T074219Z
UID:22158-1572368400-1572372000@spildansk.dk
SUMMARY:Favoritter & Fællessang med Jytte Hilden
DESCRIPTION:Favoritter & Fællessang med Jytte Hilden\, som er sangvært for denne helt særlige aften\, hvor hun har udvalgt 10 fællessange\, der betyder noget særligt i hendes liv. Den roste pianist Nicolai Majland akkompagnerer fællessangen.
URL:https://spildansk.dk/kalender/favoritter-faellessang-med-jytte-hilden/
LOCATION:Alhambra\, Allégade 5\, Frederiksberg\, 1801
CATEGORIES:Fællessang
ATTACH;FMTTYPE=image/jpeg:https://spildansk.dk/wp-content/uploads/2019/10/JytteHilden_pressefoto-e1557916756926-1107x700.jpeg
ORGANIZER;CN="Spil Dansk":MAILTO:info@spildansk.dk
END:VEVENT
BEGIN:VEVENT
DTSTART;TZID=Europe/Copenhagen:20191029T170000
DTEND;TZID=Europe/Copenhagen:20191029T180000
DTSTAMP:20260421T145458
CREATED:20191025T095044Z
LAST-MODIFIED:20191025T095212Z
UID:22839-1572368400-1572372000@spildansk.dk
SUMMARY:Musikskolen spiller dansk
DESCRIPTION:Vi hylder den danske musik i Børkop. Musikskolens lokale elever vil fylde lokalet med danske toner og dansk komponeret musik. Alle er velkommen.
URL:https://spildansk.dk/kalender/musikskolen-spiller-dansk/
LOCATION:Børkop Bibliotek\, Ågade 6\, Børkop\, 7080
END:VEVENT
BEGIN:VEVENT
DTSTART;TZID=Europe/Copenhagen:20191029T170000
DTEND;TZID=Europe/Copenhagen:20191029T190000
DTSTAMP:20260421T145458
CREATED:20191024T121107Z
LAST-MODIFIED:20191024T121107Z
UID:22751-1572368400-1572375600@spildansk.dk
SUMMARY:Roskilde Kulturskoles Bandaften
DESCRIPTION:Koncert med Roskilde Kulturskoles rytmiske bands
URL:https://spildansk.dk/kalender/roskilde-kulturskoles-bandaften/
LOCATION:Roskilde Kulturskole\, Planetvej 30A\, Jyllinge\, 4040\, Danmark
CATEGORIES:Pop,Rock
ATTACH;FMTTYPE=image/jpeg:https://spildansk.dk/wp-content/uploads/2019/10/Slagtøjs-orkestret-Cowkillers-Lass-på-Olietønder.jpg
ORGANIZER;CN="Roskilde Kulturskole":MAILTO:kulturskolen@roskilde.dk
END:VEVENT
BEGIN:VEVENT
DTSTART;TZID=Europe/Copenhagen:20191029T173000
DTEND;TZID=Europe/Copenhagen:20191029T190000
DTSTAMP:20260421T145458
CREATED:20190924T084606Z
LAST-MODIFIED:20190924T084606Z
UID:20436-1572370200-1572375600@spildansk.dk
SUMMARY:Danmarks Fællessang
DESCRIPTION:Vi mødes vanen tro til Danmarks Fællessang i anledning af Spil Dansk Ugen.\n\n\n\n\n\nI år gør vi\, hvad vi kan for at lokke fyraftensfolket og andet godtfolk med til denne seance sidst på eftermiddagen i selskab med koret SAFOLI og levende pianist. Vi tænder op under fællessangen med et par håndfulde gode danske sange – og selvfølgelig skal alle synge med.
URL:https://spildansk.dk/kalender/danmarks-faellessang-5/
LOCATION:Hvidovre Hovedbibliotek\, Hvidovrevej 280\, Hvidovre\, 2650\, Danmark
CATEGORIES:Fællessang
ATTACH;FMTTYPE=image/jpeg:https://spildansk.dk/wp-content/uploads/2019/09/Danmarks-Fællessang.jpg
ORGANIZER;CN="HvidovreBibliotekerne":MAILTO:hvbib@hvidovre.dk
END:VEVENT
BEGIN:VEVENT
DTSTART;TZID=Europe/Copenhagen:20191029T180000
DTEND;TZID=Europe/Copenhagen:20191029T203000
DTSTAMP:20260421T145458
CREATED:20191020T160442Z
LAST-MODIFIED:20191020T160442Z
UID:21860-1572372000-1572381000@spildansk.dk
SUMMARY:Fællessang og spisning i Mariekirken og i Forsamlingshuset
DESCRIPTION:SPIL DANSK UGEN fortsætter med fyraftenssang & aftensmad kl. 18.00 \nVi begynder med en halv times sang i kirken og fortsætter med aftensmad i forsamlingshuset\,\nForsamlingshuset står for en middag med musik i!\nSangen er gratis. Maden koster 60 kr.\nTilmelding til spisning hos Anna Margrethe Volder tlf. 2153 2191
URL:https://spildansk.dk/kalender/faellessang-og-spisning-i-mariekirken-og-i-forsamlingshuset/
LOCATION:Mariekirken og forsamlingshuset i Bøvlingbjerg\, Høvsørevej 2 og Havrevænget 2\, Bøvlingbjerg\, 7650
CATEGORIES:Fællessang
ATTACH;FMTTYPE=image/png:https://spildansk.dk/wp-content/uploads/2019/10/FYRAFTENSSANG-OG-FÆLLESSPISNING.png
END:VEVENT
BEGIN:VEVENT
DTSTART;TZID=Europe/Copenhagen:20191029T180000
DTEND;TZID=Europe/Copenhagen:20191029T210000
DTSTAMP:20260421T145458
CREATED:20191017T091659Z
LAST-MODIFIED:20191017T091659Z
UID:21727-1572372000-1572382800@spildansk.dk
SUMMARY:Nikolaj Peyk – Dansk hiphops historie
DESCRIPTION:Få dansk hiphops historie serveret personligt af ham der med fra starten. \nNikolaj Peyk fortæller om\, hvordan han var med til at importere en sort ghettokultur til et privilegeret hvidt mellemklasseland\, hvordan kreativitet opstår\, og hvordan det nogle gange er en glimrende karrierevej at bryde alle regler. \nSå tag med tilbage til New York i 70’erne og København i 80’erne\, når ordekvilibristen Nikolaj Peyk fortæller om\, hvordan folk startede med at danse på hovederne\, skrive på S-togene og synge uden melodi. \nArrangementet er lavet i samarbejde med Gladsaxe Bibliotekerne i anledning af Spil Dansk Ugen. \nGratis – bestil billetter \nFoto: Christian Krog
URL:https://spildansk.dk/kalender/nikolaj-peyk-dansk-hiphops-historie/
LOCATION:Richter\, Søborg\, Gladsaxe\, Danmark
CATEGORIES:Foredrag,Hiphop
ATTACH;FMTTYPE=image/jpeg:https://spildansk.dk/wp-content/uploads/2019/10/Nikolaj-Peyk.jpg
ORGANIZER;CN="Richter":MAILTO:info@richter-gladsaxe.dk
END:VEVENT
BEGIN:VEVENT
DTSTART;TZID=Europe/Copenhagen:20191029T183000
DTEND;TZID=Europe/Copenhagen:20191029T200000
DTSTAMP:20260421T145458
CREATED:20190926T065759Z
LAST-MODIFIED:20190926T065854Z
UID:20537-1572373800-1572379200@spildansk.dk
SUMMARY:Spil Dansk: DMF på Café Gaia Papaya
DESCRIPTION:Medlemmer fra Dansk Musikerforbunds Randers-afdeling spiller koncert for fysisk og psykisk udviklingshæmmede i Spil Dansk-ugen. Det foregår på Cafe Gaia Papaya\, hvor bandet Mixtape leverer en solid omgang rock og pop fra dengang og frem til nutidens radiohits. Som opvarmning kan man opleve HOF-band. Bandet har base hos Klub 85 på Stenaltvej og består af fysisk/psykisk funktionshæmmede. \nSpil Dansk er musiklivets festuge\, der altid foregår i uge 44. Siden 2001 har Spil Dansk været Danmarks største musikbegivenhed i al sin bredde og mangfoldighed af arrangementer. Turbinen\, Randers Bibliotek\, Randers Kommune og Randers Eventsekretariat er lokale arrangører. Det sker i samarbejde med blandt andre lokale bands\, musikkorps\, -ensembler og -kor. Målet er at skabe glæde og øge kendskabet til musik med dansk afsæt – herunder udfolde musikken i nye og anderledes rammer.
URL:https://spildansk.dk/kalender/spil-dansk-dmf-paa-cafe-gaia-papaya/
LOCATION:Cafe Gaia Papaya\, Lene Bredahls Gade 10\, Randers C\, 8900
CATEGORIES:Pop,Rock
END:VEVENT
BEGIN:VEVENT
DTSTART;TZID=Europe/Copenhagen:20191029T183000
DTEND;TZID=Europe/Copenhagen:20191029T203000
DTSTAMP:20260421T145458
CREATED:20191008T043047Z
LAST-MODIFIED:20191008T043047Z
UID:20972-1572373800-1572381000@spildansk.dk
SUMMARY:Spil dansk på Gaia Papaya
DESCRIPTION:Kære alle\, \nHele Danmark fejrer dansk musik i uge 44.\nDet gør vi også i Randers.\nDerfor inviterer vi JER til en koncert med dansk musik. Koncerten er d. 29. oktober 2019 kl. 18:30 – 20:30\ni Café Gaia Papaya\, Lene Bredahls Gade 10. \nKoncerten er gratis \nMIX TAPE – musik med gang i HOF Band – et Klub 85 band spiller op til fest og dans. \nCafé Gaia Papaya sørger for snacks og drikkevarer\, som du kan købe til sædvanlige priser. \nHåber vi ses\nDansk Musiker Forbund\, Randers
URL:https://spildansk.dk/kalender/spil-dansk-paa-gaia-papaya/
LOCATION:Cafe Gaia Papaya\, Lene Bredahls Gade 10\, Randers C\, 8900
CATEGORIES:Koncert,Pop,Rock
ATTACH;FMTTYPE=image/png:https://spildansk.dk/wp-content/uploads/2019/10/Skærmbillede-2019-10-07-kl.-18.08.43.png
ORGANIZER;CN="DMF Randers":MAILTO:adybris@mail.dk
END:VEVENT
BEGIN:VEVENT
DTSTART;TZID=Europe/Copenhagen:20191029T190000
DTEND;TZID=Europe/Copenhagen:20191029T190000
DTSTAMP:20260421T145458
CREATED:20191003T095152Z
LAST-MODIFIED:20191003T095152Z
UID:20801-1572375600-1572375600@spildansk.dk
SUMMARY:Julekor synger dansk
DESCRIPTION:I anledning af spil dansk ugen\, holder vi koncert og fællessang med danske sange og musik. Julekoret under ledelse af Mikael Haaning er med denne aften.\nDer bydes på kaffe i sognehuset bagefter.
URL:https://spildansk.dk/kalender/julekor-synger-dansk-3/
LOCATION:Aal Kirke\, Kirkegade 40\, Oksbøl\, 6840
CATEGORIES:Fællessang,Kor
ATTACH;FMTTYPE=image/png:https://spildansk.dk/wp-content/uploads/2019/10/grafik-facebook-banner-4.png
END:VEVENT
BEGIN:VEVENT
DTSTART;TZID=Europe/Copenhagen:20191029T190000
DTEND;TZID=Europe/Copenhagen:20191029T190000
DTSTAMP:20260421T145458
CREATED:20191003T100248Z
LAST-MODIFIED:20191003T124414Z
UID:20805-1572375600-1572375600@spildansk.dk
SUMMARY:Spil Dansk Koncert
DESCRIPTION:Koncert med Varde Blæseorkester ledet af Kenn Højbjerg.
URL:https://spildansk.dk/kalender/spil-dansk-koncert-14/
LOCATION:Sportspark Vest\, Strandvejen 2\, Oksbøl\, 6840
CATEGORIES:Koncert
ATTACH;FMTTYPE=image/png:https://spildansk.dk/wp-content/uploads/2019/10/grafik-facebook-banner-5.png
END:VEVENT
END:VCALENDAR