BEGIN:VCALENDAR
VERSION:2.0
PRODID:-//Spil Dansk - ECPv6.5.0//NONSGML v1.0//EN
CALSCALE:GREGORIAN
METHOD:PUBLISH
X-WR-CALNAME:Spil Dansk
X-ORIGINAL-URL:https://spildansk.dk
X-WR-CALDESC:Events for Spil Dansk
REFRESH-INTERVAL;VALUE=DURATION:PT1H
X-Robots-Tag:noindex
X-PUBLISHED-TTL:PT1H
BEGIN:VTIMEZONE
TZID:Europe/Copenhagen
BEGIN:DAYLIGHT
TZOFFSETFROM:+0100
TZOFFSETTO:+0200
TZNAME:CEST
DTSTART:20190331T010000
END:DAYLIGHT
BEGIN:STANDARD
TZOFFSETFROM:+0200
TZOFFSETTO:+0100
TZNAME:CET
DTSTART:20191027T010000
END:STANDARD
END:VTIMEZONE
BEGIN:VEVENT
DTSTART;TZID=Europe/Copenhagen:20191028T193000
DTEND;TZID=Europe/Copenhagen:20191028T220000
DTSTAMP:20260423T002133
CREATED:20190915T163832Z
LAST-MODIFIED:20190915T164036Z
UID:20234-1572291000-1572300000@spildansk.dk
SUMMARY:Kom og spil eller dans med
DESCRIPTION:Brøndby Spillemandslaug og Dansere \nVi mødes i gymnastiksalen kl 19.30 til 22.00 på Uddannelsescenter Nygaard\, Nykær 44\, 2605 Brøndby\, 5 minutters gang fra Brøndbyøster st.. Det er tæt ved Vestbadet og Roskildevejen.\nDer vil vi fortsat mødes hver anden mandag i de lige uger.\nVi starter i september og slutter i april. Vi hygger os med bl.a. nye og gamle danske folkedanse og Les Lancier (dansk udgave) til levende musik. Der instrueres i dansene. (Vi danser ikke i dragter).\nDu er velkommen til at komme og være med et par gange\, før du melder dig ind. Kom bare selv om du ikke har en dansepartner. Det plejer at løse sig.\nDer bliver holdt en pause\, hvor vi synger et par danske sange og drikker kaffe og spiser kage\, som vi selv medbringer. \nDet koster for tiden 150 kr.  for hele sæsonen. Pengene bliver hovedsageligt brugt til traktementer ved diverse hyggearrangementer.\nSpillemænd deltager gratis
URL:https://spildansk.dk/kalender/kom-og-spil-eller-dans-med/
LOCATION:Uddannelsescenter Nygård\,\, Nykær 44\, Brøndby\, 2605
ATTACH;FMTTYPE=image/jpeg:https://spildansk.dk/wp-content/uploads/2019/09/Nydanser.jpg
ORGANIZER;CN="Br%C3%B8ndby Spillemandslaug og Dansere":MAILTO:Vibe-Stig@duovisti.dk
END:VEVENT
BEGIN:VEVENT
DTSTART;TZID=Europe/Copenhagen:20191028T193000
DTEND;TZID=Europe/Copenhagen:20191028T220000
DTSTAMP:20260423T002133
CREATED:20190924T112228Z
LAST-MODIFIED:20190924T112228Z
UID:20455-1572291000-1572300000@spildansk.dk
SUMMARY:Laursen (Folk Club 95)
DESCRIPTION:Folk Club 95 af afholder koncert i Folkets Hus med Laursen.
URL:https://spildansk.dk/kalender/laursen-folk-club-95/
LOCATION:Folkets Hus\, Tegltorvet 2\, Struer\, 7600
END:VEVENT
BEGIN:VEVENT
DTSTART;TZID=Europe/Copenhagen:20191028T193000
DTEND;TZID=Europe/Copenhagen:20191101T223000
DTSTAMP:20260423T002133
CREATED:20191016T121446Z
LAST-MODIFIED:20191016T121732Z
UID:21666-1572291000-1572647400@spildansk.dk
SUMMARY:Spil Dansk på Nicolai Scene
DESCRIPTION:SPIL DANSK på Nicolai Scene gentager succesen og vender tilbage i uge 44. Bag arrangementet står Kjeld Jensen i samarbejde med Nicolai Kultur og Kolding Kommune.\nNicolai Scene \nDer er gratis adgang alle dagene. I år kan man opleve følgende: \nMandag:\nHARMONIKA BANDitterne\nVokalJoy \nTirsdag:\nDrachmans Venner\nBlackLabel\nKoldingkoret \nOnsdag:\nFlyverhjemmeværnets Musikkorps\nJordrup Sangkor\nSprogskolens Integrationskor \nTorsdag:\nNicolai synger med Jakob Bonderup \nFredag:\nLos Dementos\nKolding Harmonika Klub
URL:https://spildansk.dk/kalender/spil-dansk-paa-nicolai-scene-2/
LOCATION:Nicolai Scene\, Skolegade 2\, Kolding\, 6000
CATEGORIES:Koncert,Fællessang
ATTACH;FMTTYPE=image/jpeg:https://spildansk.dk/wp-content/uploads/2019/10/spildansk2019-billede.jpg
END:VEVENT
BEGIN:VEVENT
DTSTART;TZID=Europe/Copenhagen:20191028T200000
DTEND;TZID=Europe/Copenhagen:20191028T204500
DTSTAMP:20260423T002133
CREATED:20190916T151245Z
LAST-MODIFIED:20190916T151245Z
UID:20285-1572292800-1572295500@spildansk.dk
SUMMARY:Syng i Cisternerne med VokalSelskabet GLAS
DESCRIPTION:Vær med til en magisk aften med fællessang i Cisternerne. \nCisternerne + fællessang + levende lys + 17 sekunders rumklang + aftenstemning + professionelle sangere fra Vokalselskabet GLAS / GLAS Vocal Ensemble som synger for. \nDet bliver spektakulært og en helt særlig oplevelse at være med til SYNG I CISTERNERNE. \nVIGTIG INFO: \n* Det er gratis at deltage.\n* Dørene åbner kl. 19.45.\n* Der er kun plads til 150 deltagere efter først-til-mølle. Kom i rigtig god tid (måske kl. 19\, måske endda tidligere)\, hvis du vil være sikker på en plads. Der var mange – og nogle gik forgæves – da vi havde stor succes med det samme arrangement i Spil Dansk Ugen 2018.\n* Tag en varm frakke på. Det er koldt ude og køligt nede i Cisternerne.\n* Det er kun VEJLEDENDE at du (og andre) trykker “deltager” på dette opslag\, for at vi kan få en pejling på\, hvor mange der er er INTERESSEREDE i at deltage.\n* Hvis du trykker “Deltager” anses det IKKE for en tilmelding. Der er ingen måde hvorpå vi kan garantere\, at der er plads. Kom i rigtig god tid. Til gengæld er det helt gratis at deltage.\n* Medbring din egen Højskolesangbog. Eller lån en af os.\n* Medbring gerne en lille lommelygte/cykellygte\, så du kan se teksten i din Højskolesangbog. \nSyng i Cisternerne er arrangeret af Spil Dansk og Alsang 2020 i samarbejde med Cisternerne og Dansk Korforbund\, muliggjort med støtte fra Frederiksberg Kommune. Tak også til Højskolerne.
URL:https://spildansk.dk/kalender/syng-i-cisternerne-med-vokalselskabet-glas/
LOCATION:Cisternerne\, Søndermarken\, Frederiksberg\, 2000
CATEGORIES:Fællessang,Kor
ATTACH;FMTTYPE=image/jpeg:https://spildansk.dk/wp-content/uploads/2019/09/Syng-i-Cisternene-2019-FB-eventcover-mandag.jpg
END:VEVENT
BEGIN:VEVENT
DTSTART;TZID=Europe/Copenhagen:20191028T200000
DTEND;TZID=Europe/Copenhagen:20191028T213000
DTSTAMP:20260423T002133
CREATED:20191019T185552Z
LAST-MODIFIED:20191020T161930Z
UID:21788-1572292800-1572298200@spildansk.dk
SUMMARY:Cichosz giver koncert i Bøvling Forsamlingshus
DESCRIPTION:Det bliver en helt særlig mandag aften i Bøvling Forsamlingshus\, når Cichosz åbner dørene op til en oplevelseskoncert i borde stillet op i hestesko og orkesteret i øjenhøjde med publikum. Sangerinden og sangskriveren Cichosz er en ny stemme på den danske musikscene. Hendes tekster kredser om temaer som brændende livsmod\, mænd\, der kun kan love en nat\, og jagten på kærligheden\, når man er rundet 35 og er den ældste dame på klubben. Det musikalske univers kombinerer længselsfuld bodegastemning med håndspillede beats\, Farfisa-orgel\, filmiske samples og velourblød vokal\, der både er formet af Liva Weel og Amy Winehouse. \n\nUdover ”Cichosz” hedder hun Christina og kommer oppe fra ”elektrikeren i Bøvlingbjerg”. Med stort hjerte for det vestjyske\, har hun været med til at stable ”Bøvlingbjerg spiller dansk” på benene. \nSpil Dansk\nhttps://billetto.dk/e/bovlingbjerg-spiller-dansk-billetter-…
URL:https://spildansk.dk/kalender/cichosz/
LOCATION:Bøvling Forsamlingshus\, Havrevænget 2\, Bøvlingbjerg\, 7650
CATEGORIES:Koncert
ATTACH;FMTTYPE=image/png:https://spildansk.dk/wp-content/uploads/2019/10/CICHOSZ.png
END:VEVENT
BEGIN:VEVENT
DTSTART;TZID=Europe/Copenhagen:20191029T080000
DTEND;TZID=Europe/Copenhagen:20191029T090000
DTSTAMP:20260423T002133
CREATED:20191024T081956Z
LAST-MODIFIED:20191024T081956Z
UID:22699-1572336000-1572339600@spildansk.dk
SUMMARY:Fællessang og historiefortælling på Bjørnhøjskolen
DESCRIPTION:På Bjørnehøjskolen fejrer vi dansk musik tirsdag d. 29. oktober.\nVi har valgt at fokusere på tre forskellige digtere/ sangskrivere – Halfdan Rasmussen\, Kim Larsen og Rasmus Seebach.\nVi samler 0.-6. klasse og skal høre om sangskriverne og synge 2 sange af dem hver.
URL:https://spildansk.dk/kalender/faellessang-og-historiefortaelling-paa-bjoernhoejskolen/
LOCATION:Bjørnehøjskolen\, Thorsmosevej 18\, Helsinge\, 3200
CATEGORIES:Fællessang,Foredrag
ATTACH;FMTTYPE=image/jpeg:https://spildansk.dk/wp-content/uploads/2019/10/Bjørnehøj-skolen.jpg
ORGANIZER;CN="Kulturskolen Gribskov":MAILTO:musikskolen@gribskov.dk
END:VEVENT
BEGIN:VEVENT
DTSTART;TZID=Europe/Copenhagen:20191029T080000
DTEND;TZID=Europe/Copenhagen:20191029T150000
DTSTAMP:20260423T002133
CREATED:20190924T081447Z
LAST-MODIFIED:20190924T081447Z
UID:20425-1572336000-1572361200@spildansk.dk
SUMMARY:Strøm til børn
DESCRIPTION:Eleverne på Humlum Skole arbejder med musik og strøm mandag til onsdag.
URL:https://spildansk.dk/kalender/stroem-til-boern-3/
LOCATION:Humlum Skole\, Chr. Gades Vej 32\, Struer\, 7600
END:VEVENT
BEGIN:VEVENT
DTSTART;TZID=Europe/Copenhagen:20191029T080000
DTEND;TZID=Europe/Copenhagen:20191029T150000
DTSTAMP:20260423T002133
CREATED:20191021T110905Z
LAST-MODIFIED:20191021T110905Z
UID:21978-1572336000-1572361200@spildansk.dk
SUMMARY:Kørende kor - børn synger for børn
DESCRIPTION:Roskilde Musiske Skoles to ældste kor tager igen i år på Kor-tour og synger for skoler og lokalpolitikere. \nKorsangerne møder denne dag på musikskolen kl 8 og så går turen ellers med bus rundt i kommunen – vi er glade og trætte\, når vi holder fri om eftermiddagen\, hvor vi har nået at synge for – og med – mange skolebørn!
URL:https://spildansk.dk/kalender/koerende-kor-boern-synger-for-boern/
LOCATION:Roskilde Rådhus\, Rådhusbuen 1\, Roskilde\, 4000\, Danmark
CATEGORIES:Kor,Musik til børn
ATTACH;FMTTYPE=image/jpeg:https://spildansk.dk/wp-content/uploads/2019/10/Kortour2018_1.jpg
END:VEVENT
BEGIN:VEVENT
DTSTART;TZID=Europe/Copenhagen:20191029T084500
DTEND;TZID=Europe/Copenhagen:20191029T094500
DTSTAMP:20260423T002133
CREATED:20191023T105029Z
LAST-MODIFIED:20191023T105029Z
UID:22514-1572338700-1572342300@spildansk.dk
SUMMARY:Gospel Sisters
DESCRIPTION:LMS-Familiekoncert i forbindelse med Spil Dansk Ugen 2019.
URL:https://spildansk.dk/kalender/gospel-sisters/
LOCATION:Kirstinedalsskolen\, Skolevej 1\, Køge\, 4600\, Denmark
END:VEVENT
BEGIN:VEVENT
DTSTART;TZID=Europe/Copenhagen:20191029T090000
DTEND;TZID=Europe/Copenhagen:20191029T093000
DTSTAMP:20260423T002133
CREATED:20191022T071142Z
LAST-MODIFIED:20191108T084940Z
UID:22123-1572339600-1572341400@spildansk.dk
SUMMARY:Københavns Rådhus holder Spil Dansk morgensang
DESCRIPTION:Københavns Rådhus holder Spil Dansk morgensang. En professionel kor-kvartet fra Dansk Korforbund holder Spil Dansk morgensang på Københavns Rådhus (velkomsthallen)\, for at skyde Spil Dansk Ugen 2019 godt igang. Alle er velkomne. \nDette arrangement er støttet af Københavns Kommune. \n \n 
URL:https://spildansk.dk/kalender/koebenhavns-raadhus-holder-spil-dansk-morgensang/
LOCATION:Københavns Rådhus\, Rådhuspladsen 1\, København\, 1599
CATEGORIES:Kor
ATTACH;FMTTYPE=image/jpeg:https://spildansk.dk/wp-content/uploads/2019/10/Raadhuspladsen2-1024x516.jpg
ORGANIZER;CN="Spil Dansk":MAILTO:info@spildansk.dk
END:VEVENT
BEGIN:VEVENT
DTSTART;TZID=Europe/Copenhagen:20191029T090000
DTEND;TZID=Europe/Copenhagen:20191029T094500
DTSTAMP:20260423T002133
CREATED:20191022T080357Z
LAST-MODIFIED:20191022T081114Z
UID:22166-1572339600-1572342300@spildansk.dk
SUMMARY:Fællessang med strøm til
DESCRIPTION:Morgensang for 0. – 6. klasse på Carl Nielsen Skolen d. 29.10. kl. 9  – i dagens anledning med et band fra musikkonservatoriet i Esbjerg. Forældre er velkomne til at komme og synge med 🙂
URL:https://spildansk.dk/kalender/faellessang-med-stroem-til/
LOCATION:Carl Nielsenskolen\, Lumbyvej 64\, Nr. Lyndelse\, 5792 Årslev
CATEGORIES:Koncert,Fællessang
END:VEVENT
BEGIN:VEVENT
DTSTART;TZID=Europe/Copenhagen:20191029T090000
DTEND;TZID=Europe/Copenhagen:20191029T100000
DTSTAMP:20260423T002133
CREATED:20191023T104905Z
LAST-MODIFIED:20191023T104905Z
UID:22502-1572339600-1572343200@spildansk.dk
SUMMARY:Mads Vinding & Øyvind Ougaard
DESCRIPTION:LMS-Familiekoncert i forbindelse med Spil Dansk Ugen 2019.
URL:https://spildansk.dk/kalender/mads-vinding-oeyvind-ougaard-6/
LOCATION:Hammerum skole\, Hammerum Hovedgade 1\, Herning\, 7400\, Denmark
END:VEVENT
BEGIN:VEVENT
DTSTART;TZID=Europe/Copenhagen:20191029T090000
DTEND;TZID=Europe/Copenhagen:20191029T100000
DTSTAMP:20260423T002133
CREATED:20191023T104947Z
LAST-MODIFIED:20191023T104947Z
UID:22508-1572339600-1572343200@spildansk.dk
SUMMARY:Krøyer & Winding
DESCRIPTION:LMS-Familiekoncert i forbindelse med Spil Dansk Ugen 2019.
URL:https://spildansk.dk/kalender/kroeyer-winding/
LOCATION:Karensmindeskole\, Mastrupvej 75\, Støvring\, 9530\, Denmark
END:VEVENT
BEGIN:VEVENT
DTSTART;TZID=Europe/Copenhagen:20191029T090000
DTEND;TZID=Europe/Copenhagen:20191029T100000
DTSTAMP:20260423T002133
CREATED:20191023T104959Z
LAST-MODIFIED:20191023T104959Z
UID:22510-1572339600-1572343200@spildansk.dk
SUMMARY:Hjertelys
DESCRIPTION:LMS-Familiekoncert i forbindelse med Spil Dansk Ugen 2019.
URL:https://spildansk.dk/kalender/hjertelys-4/
LOCATION:Kastrupgårdskolen\, Blåklokkevej 1\, Kastrup\, 2770\, Denmark
END:VEVENT
BEGIN:VEVENT
DTSTART;TZID=Europe/Copenhagen:20191029T090000
DTEND;TZID=Europe/Copenhagen:20191029T100000
DTSTAMP:20260423T002133
CREATED:20191023T105143Z
LAST-MODIFIED:20191023T105143Z
UID:22526-1572339600-1572343200@spildansk.dk
SUMMARY:Cirkeline og Coco rejser til Afrika
DESCRIPTION:LMS-Familiekoncert i forbindelse med Spil Dansk Ugen 2019.
URL:https://spildansk.dk/kalender/cirkeline-og-coco-rejser-til-afrika-4/
LOCATION:Østre Skole\, Middelfart\, Middelfart\, Danmark
END:VEVENT
BEGIN:VEVENT
DTSTART;TZID=Europe/Copenhagen:20191029T090000
DTEND;TZID=Europe/Copenhagen:20191029T110000
DTSTAMP:20260423T002133
CREATED:20191027T062648Z
LAST-MODIFIED:20191027T062935Z
UID:22867-1572339600-1572346800@spildansk.dk
SUMMARY:Spil dansk koncert
DESCRIPTION:Rundhøjskolen synger en række fællessange og optræder for hinanden med danskproduceret musik.
URL:https://spildansk.dk/kalender/spil-dansk-koncert-18/
LOCATION:Rundhøjhallen\, Holmevej 200\, Holme\, 8270\, Danmark
END:VEVENT
BEGIN:VEVENT
DTSTART;TZID=Europe/Copenhagen:20191029T090000
DTEND;TZID=Europe/Copenhagen:20191029T130000
DTSTAMP:20260423T002133
CREATED:20190923T132542Z
LAST-MODIFIED:20190923T132542Z
UID:20394-1572339600-1572354000@spildansk.dk
SUMMARY:Koncert med Ensemble MidtVest
DESCRIPTION:Ensemble MidtVest afholder koncert på Struer Musikskole for 4. og 5. klasser i kommunen.
URL:https://spildansk.dk/kalender/koncert-med-ensemble-midtvest/
LOCATION:Struer Musikskole\, Bredgade 6\, Struer\, 7600
END:VEVENT
BEGIN:VEVENT
DTSTART;TZID=Europe/Copenhagen:20191029T093000
DTEND;TZID=Europe/Copenhagen:20191029T100000
DTSTAMP:20260423T002133
CREATED:20191024T185626Z
LAST-MODIFIED:20191024T185626Z
UID:22788-1572341400-1572343200@spildansk.dk
SUMMARY:Morgensang i Børnehuset Himmelblå
DESCRIPTION:Sang og sanglege i Børnehuset Himmelblå til morgensamling
URL:https://spildansk.dk/kalender/morgensang-i-boernehuset-himmelblaa/
LOCATION:Børnehuset Himmelblå\, Naffet 21\, Vojens\, 6500
CATEGORIES:Musik til børn
END:VEVENT
BEGIN:VEVENT
DTSTART;TZID=Europe/Copenhagen:20191029T093000
DTEND;TZID=Europe/Copenhagen:20191029T100000
DTSTAMP:20260423T002133
CREATED:20191029T080311Z
LAST-MODIFIED:20191029T092901Z
UID:22958-1572341400-1572343200@spildansk.dk
SUMMARY:Fællessang Online
DESCRIPTION:Studieopgave! \nVi er fire pædagogstuderende som vil undersøge om man som barn kan få følelsen af fællessang\, over nettet. \nTina Dahl. Sabrina Jensen. Carina Lemtorp. Karina Prægel.
URL:https://spildansk.dk/kalender/faellessang-online/
LOCATION:Skårup Børnehus\, Oluf Rings Vej\, Skårup\, 5881
CATEGORIES:Fællessang
END:VEVENT
BEGIN:VEVENT
DTSTART;TZID=Europe/Copenhagen:20191029T093000
DTEND;TZID=Europe/Copenhagen:20191029T103000
DTSTAMP:20260423T002133
CREATED:20190911T080302Z
LAST-MODIFIED:20190911T080302Z
UID:20166-1572341400-1572345000@spildansk.dk
SUMMARY:Fællessang på Alderdomshjemmet med Hans Jakob Jessen
DESCRIPTION:Hans Jakob Jessen synger\nmed Alderdomshjemmets beboere.\nAndre interesserede er\nogså hjerteligt velkomne til at\ndeltage i arrangementet.
URL:https://spildansk.dk/kalender/faellessang-paa-alderdomshjemmet-med-hans-jakob-jessen-2/
LOCATION:Dansk Alderdomshjem Flensborg\, Nerongsallee 27\, Flensborg
CATEGORIES:Fællessang
END:VEVENT
BEGIN:VEVENT
DTSTART;TZID=Europe/Copenhagen:20191029T093000
DTEND;TZID=Europe/Copenhagen:20191029T103000
DTSTAMP:20260423T002133
CREATED:20190916T125634Z
LAST-MODIFIED:20190916T125634Z
UID:20273-1572341400-1572345000@spildansk.dk
SUMMARY:Ringsted Synger
DESCRIPTION:Lærerorkester fra Ringsted Musik & Kulturskole synger\, spiller og danser med alle børnehavebørn fra Ringsted Kommune.
URL:https://spildansk.dk/kalender/ringsted-synger/
LOCATION:Ringsted Kongrescenter\, Nørretorv 55\, Ringsted\, Danmark
CATEGORIES:Musik til børn
ATTACH;FMTTYPE=image/jpeg:https://spildansk.dk/wp-content/uploads/2019/09/Ringsted_musik_logo_cmyk.jpg
END:VEVENT
BEGIN:VEVENT
DTSTART;TZID=Europe/Copenhagen:20191029T093000
DTEND;TZID=Europe/Copenhagen:20191029T103000
DTSTAMP:20260423T002133
CREATED:20191008T114225Z
LAST-MODIFIED:20191008T114225Z
UID:21033-1572341400-1572345000@spildansk.dk
SUMMARY:Danmark Fællessang Live
DESCRIPTION:Ronnie Flyvbjerg Olesen og Mona Britt Nykjær står i spidsen for fællessang i Syddjurs. \nDanmarks Fællessang Live er et tilbud til alle kommunens skolebørn på mellemtrinnet. Det professionelle akkompagnement motiverer skolebørnene til at synge med\, så de får en energisk og nærværende musikoplevelse. \n\nHvad skal vi synge?\nRepertoiret for dagen er følgende: \n\nDanmark (GNAGS)\nDanmark\, nu blunder den lyse nat\nDu er ikke alene\nI Danmark er jeg født (Schierbeck)\nKringsatt av fiender\nLille store verden\nBuster\nJeg vil la’ lyset brænde\nJutlandia\nMan binder os på mund og hånd
URL:https://spildansk.dk/kalender/danmark-faellessang-live/
LOCATION:Kolind+\, Danmark
CATEGORIES:Fællessang
ATTACH;FMTTYPE=image/jpeg:https://spildansk.dk/wp-content/uploads/2019/10/spildansk2017_d-051.jpg
ORGANIZER;CN="Kulturafdelingen%2C Syddjurs Kommune":MAILTO:ligl@syddjurs.dk
END:VEVENT
BEGIN:VEVENT
DTSTART;TZID=Europe/Copenhagen:20191029T093000
DTEND;TZID=Europe/Copenhagen:20191029T103000
DTSTAMP:20260423T002133
CREATED:20191021T073441Z
LAST-MODIFIED:20191021T073441Z
UID:21905-1572341400-1572345000@spildansk.dk
SUMMARY:Kulturskolen Skanderborg giver koncert på Veng Skole
DESCRIPTION:Veng Skole får besøg af Kulturskolen Skanderborg\, hvor flere musiklærere og elever spiller gratis for Veng Skoles elever og personale. Der vil blive spillet meget forskelligt musik fra den danske sangskat\, og Veng Skoles elever skal selvfølgelig synge med.
URL:https://spildansk.dk/kalender/kulturskolen-skanderborg-giver-koncert-paa-veng-skole/
LOCATION:veng skole\, Veng Skole\, Veng
CATEGORIES:Koncert
ATTACH;FMTTYPE=image/jpeg:https://spildansk.dk/wp-content/uploads/2019/10/DSCF0992.jpg
END:VEVENT
BEGIN:VEVENT
DTSTART;TZID=Europe/Copenhagen:20191029T093000
DTEND;TZID=Europe/Copenhagen:20191029T133000
DTSTAMP:20260423T002133
CREATED:20190903T100717Z
LAST-MODIFIED:20190903T100717Z
UID:19924-1572341400-1572355800@spildansk.dk
SUMMARY:Sangskriverworkshop - Anders Graae
DESCRIPTION:På Næstved Gymnasium & HF får musikstudieretningen besøg af Anders Graae\, der vil komme lave en sangskriverworkshop med 2.g’erne. Anders Graae er uddannet guitarist og sangskriver på Det Jyske Musikkonservatorium i 2009.\nAnders slog igennem med sangen “ Den anden pige” som vandt Tv2 Radios store sangskriverkonkurrence i 2008.\nSiden har han udgivet 2 anmelderroste album “En omvej hjem” og “Mens luften endnu er mild”\, som er blevet spillet flittgt på bl.a. DR’s P4. Vi glæder os meget til at blive inspireret\, udforske og udfordre de studerendes kreativitet!
URL:https://spildansk.dk/kalender/sangskriverworkshop-anders-graae/
LOCATION:Næstved Gymnasium & Hf\, Nygårdsvej 43\, Næstved\, 4700
CATEGORIES:Workshop
ORGANIZER;CN="N%C3%A6stved Gymnasium &amp%3B Hf":MAILTO:skolen@naestved-gym.dk
END:VEVENT
BEGIN:VEVENT
DTSTART;TZID=Europe/Copenhagen:20191029T094500
DTEND;TZID=Europe/Copenhagen:20191029T100000
DTSTAMP:20260423T002133
CREATED:20191008T090558Z
LAST-MODIFIED:20191008T090558Z
UID:21006-1572342300-1572343200@spildansk.dk
SUMMARY:Fællessang på Skægkærskolen.
DESCRIPTION:Hele Skægkærskolen mødes hver dag i uge 44 og synger fællessang.
URL:https://spildansk.dk/kalender/faellessang-paa-skaegkaerskolen/
LOCATION:Skægkærskolen\, Sindingvej 15\, Silkeborg\, 8600
END:VEVENT
BEGIN:VEVENT
DTSTART;TZID=Europe/Copenhagen:20191029T100000
DTEND;TZID=Europe/Copenhagen:20191029T103000
DTSTAMP:20260423T002133
CREATED:20191023T124711Z
LAST-MODIFIED:20191023T124711Z
UID:22606-1572343200-1572345000@spildansk.dk
SUMMARY:Morgensang i Spil Dansk ugen
DESCRIPTION:Start dagen med at få rørt stemmebåndet\n\n\n\nKom og marker den landsdækkende Spil Dansk uge med os\, når vi starten dagen med skøn morgensang. \nVi synger sange fra blandt andet Højskolesangbogen\, men også nyere\, danske sange. \nDer vil være klaverledsagelse af Eskil Irminger. \nVi udleverer sanghæfter\, så alle kan synge med. \nAlle er velkommen\, så kom glad og begynd dagen med at få klaret stemmen. \nDu behøver ikke tilmelde dig og det er gratis at deltage.
URL:https://spildansk.dk/kalender/morgensang-i-spil-dansk-ugen/
LOCATION:Guldborgsund-bibliotekerne\, Hovedbiblioteket\, Kongensgade 43\, Nykøbing Falster\, 4800
CATEGORIES:Fællessang
ATTACH;FMTTYPE=image/jpeg:https://spildansk.dk/wp-content/uploads/2019/10/Spil-dansk1.jpg
ORGANIZER;CN="Guldborgsund-bibliotekerne":MAILTO:nyfac@guldborgsund.dk
END:VEVENT
BEGIN:VEVENT
DTSTART;TZID=Europe/Copenhagen:20191029T100000
DTEND;TZID=Europe/Copenhagen:20191029T103000
DTSTAMP:20260423T002133
CREATED:20191023T124926Z
LAST-MODIFIED:20191023T124951Z
UID:22614-1572343200-1572345000@spildansk.dk
SUMMARY:Morgensang i Spil Dansk Ugen
DESCRIPTION:Start dagen med at få rørt stemmebåndet\n\n\n\nKom og marker den landsdækkende Spil Dansk uge med os\, når vi starten dagen med skøn morgensang. \nVi synger sange fra blandt andet Højskolesangbogen\, men også nyere\, danske sange. \nDer vil være klaverledsagelse af Eskil Irminger. \nVi udleverer sanghæfter\, så alle kan synge med. \nAlle er velkommen\, så kom glad og begynd dagen med at få klaret stemmen. \nDu behøver ikke tilmelde dig og det er gratis at deltage.
URL:https://spildansk.dk/kalender/morgensang-i-spil-dansk-ugen-2/
LOCATION:Guldborgsund-bibliotekerne\, Hovedbiblioteket\, Kongensgade 43\, Nykøbing Falster\, 4800
CATEGORIES:Fællessang
ATTACH;FMTTYPE=image/jpeg:https://spildansk.dk/wp-content/uploads/2019/10/Spil-dansk1-1.jpg
ORGANIZER;CN="Guldborgsund-bibliotekerne":MAILTO:nyfac@guldborgsund.dk
END:VEVENT
BEGIN:VEVENT
DTSTART;TZID=Europe/Copenhagen:20191029T100000
DTEND;TZID=Europe/Copenhagen:20191029T110000
DTSTAMP:20260423T002133
CREATED:20190902T115852Z
LAST-MODIFIED:20190902T115852Z
UID:19902-1572343200-1572346800@spildansk.dk
SUMMARY:Min Mormors Gebis - Dissing og Las synger Strid
DESCRIPTION:Den anmelderroste trio Dissing & Las har givet Jakob Martin Strids ny-klassiker ”Min mormors gebis” en lydside i tråd med bogens anarkistiske appel til både børn og voksne\, så nu kan Strids elskede børnerim nydes både på album og opleves live til familie-koncerter for børn og deres voksne – og det sker i Spil Dansk-ugen i Slagelse Musikhus!\nDer er frække numre\, eftertænksomme numre og numre spækket med detaljer og finurlige reallyde. Dissing & Las ”Min mormors gebis”\, er en musikalsk fortolkning af Jakob Martin Strids bestseller-børnebog af samme navn. En bog\, der har solgt 37.000 fysiske eksemplarer. Og fordi bogen sprudler\, gør trioen det samme og spænder fra folk og rock over reggae til rendyrket pop. \nJonas Dissing fortæller: “Kigger man på bogens tegninger\, bliver man let inspireret til at flippe ud i alle mulige retninger. Og vi har ladet os rive med. En del børneplader lyder lidt som om\, de er tilpasset at skulle køre i baggrunden uden at genere nogen. Men vi har ønsket at nå dertil\, hvor det blev en fælles oplevelse for børn og voksne\, ligesom bogen. Vi har tænkt: ’Hvad ville Jakob synes om det her?’ Sangene skulle have noget af hans anarki\, så det er blevet et børnealbum med lidt horn i panden”.\nSamarbejdets startede\, da Jakob Martin Strid over hals og hoved bad trioen om at sætte musik til en tekst i forbindelse med\, at han fik Kronprinsparrets Kulturpris. Dissing & Las lavede ’Grønlands is’\, og alle var så glade for resultatet\, at samarbejdet blev udvidet til at omfatte hele den bramfri bog om medisterminister Fister\, om et araberkomplot mod en rabarberkompot og om hvaler i Holmens Kanal.\n“Vi har alle sammen elsket Strid siden de flabede striber i Politiken. Og ’Min mormors gebis’ har vi en stærk relation til\, fordi vi hver især har siddet med den bog sammen med de mennesker\, vi elsker højest i verden”\, siger Rasmus Dissing.
URL:https://spildansk.dk/kalender/min-mormors-gebis-dissing-og-las-synger-strid/
LOCATION:Slagelse Musikhus\, Sdr. Stationsvej 3-5\, Slagelse\, Danmark
CATEGORIES:Musik til børn
ATTACH;FMTTYPE=image/jpeg:https://spildansk.dk/wp-content/uploads/2019/09/dissingoglas_prfoto_Børn.jpg
END:VEVENT
BEGIN:VEVENT
DTSTART;TZID=Europe/Copenhagen:20191029T100000
DTEND;TZID=Europe/Copenhagen:20191029T110000
DTSTAMP:20260423T002133
CREATED:20190923T132921Z
LAST-MODIFIED:20190924T080305Z
UID:20397-1572343200-1572346800@spildansk.dk
SUMMARY:Musik og sundhed
DESCRIPTION:Musik og fællesskab ved Tine Mynster på Lærkehuset.
URL:https://spildansk.dk/kalender/musik-og-sundhed/
LOCATION:Lærkehuset\, Voldgade 14\, Struer\, 7600
END:VEVENT
BEGIN:VEVENT
DTSTART;TZID=Europe/Copenhagen:20191029T100000
DTEND;TZID=Europe/Copenhagen:20191029T110000
DTSTAMP:20260423T002133
CREATED:20190925T114551Z
LAST-MODIFIED:20190925T114551Z
UID:20501-1572343200-1572346800@spildansk.dk
SUMMARY:GAKKEDE SANGE FRA ROSKILDE
DESCRIPTION:Musikkollektivet Tikke Takke afholder i løbet af efteråret workshops i sangskrivning og historiefortælling med børnehuse i Roskilde sammen med Roskilde Kulturskole. Børnene\, der selv er med til at skrive sangene\, gæsteoptræder med Tikke Takke orkesteret\, når de spiller koncert for børnehuse fra hele Roskilde. Koncerten er en del af Spil Dansk ugen og er støttet af KODA. \nTikke Takke er et samarbejde mellem musiker/komponist Andreas Ugorskij og historiefortæller Hans Laurens. Andreas og Hans har en fest\, når de digter sange og fortællinger med hundredevis af børn. Tikke Takke udgav i 2018 nodehæftet og albummet ‘Gakkede sange fra verdenshavet’ – sange skrevet i dialog med Amager børn. \nNu er turen kommet til Roskildes børn – og der bliver digtet om venskaber\, hverdag og de mærkelige voksne sammen med de to kunstnere i løbet af ugerne op til dagens koncert. \nBandet er et hold bestående af de sejeste professionelle musikere inden for jazz\, world og pop. \nLyt til Krabben Ken her. \nAndreas Ugorskij: guitar og vokal\, Hans Laurens: vokal\, Nana Schwartzlose: vokal\, Ole Reimer: trompet\, Hans Find Møller: bas\, Morten Ærø: Trommer
URL:https://spildansk.dk/kalender/gakkede-sange-fra-roskilde/
LOCATION:Gimle\, Roskilde\, Helligkorsvej 2\, Roskilde\, 4000\, Danmark
CATEGORIES:Musik til børn
ATTACH;FMTTYPE=image/jpeg:https://spildansk.dk/wp-content/uploads/2019/09/VGlra2UgVGFra2UgaW5rbC4gS09EQSBMb2dv_600x600-1.jpg
ORGANIZER;CN="Gimle":MAILTO:mail@gimle.dk
END:VEVENT
END:VCALENDAR