BEGIN:VCALENDAR
VERSION:2.0
PRODID:-//Spil Dansk - ECPv6.5.0//NONSGML v1.0//EN
CALSCALE:GREGORIAN
METHOD:PUBLISH
X-WR-CALNAME:Spil Dansk
X-ORIGINAL-URL:https://spildansk.dk
X-WR-CALDESC:Events for Spil Dansk
REFRESH-INTERVAL;VALUE=DURATION:PT1H
X-Robots-Tag:noindex
X-PUBLISHED-TTL:PT1H
BEGIN:VTIMEZONE
TZID:Europe/Copenhagen
BEGIN:DAYLIGHT
TZOFFSETFROM:+0100
TZOFFSETTO:+0200
TZNAME:CEST
DTSTART:20190331T010000
END:DAYLIGHT
BEGIN:STANDARD
TZOFFSETFROM:+0200
TZOFFSETTO:+0100
TZNAME:CET
DTSTART:20191027T010000
END:STANDARD
END:VTIMEZONE
BEGIN:VEVENT
DTSTART;TZID=Europe/Copenhagen:20191101T101500
DTEND;TZID=Europe/Copenhagen:20191101T111500
DTSTAMP:20260423T204541
CREATED:20191023T105041Z
LAST-MODIFIED:20191023T105041Z
UID:22516-1572603300-1572606900@spildansk.dk
SUMMARY:Mads Vinding & Øyvind Ougaard
DESCRIPTION:LMS-Familiekoncert i forbindelse med Spil Dansk Ugen 2019.
URL:https://spildansk.dk/kalender/mads-vinding-oeyvind-ougaard-9/
LOCATION:Klostermarkskolen\, Dr. Christinesvej 6\, Aalborg\, 9000\, Denmark
END:VEVENT
BEGIN:VEVENT
DTSTART;TZID=Europe/Copenhagen:20191101T100000
DTEND;TZID=Europe/Copenhagen:20191101T120000
DTSTAMP:20260423T204541
CREATED:20191014T120922Z
LAST-MODIFIED:20191029T132924Z
UID:21477-1572602400-1572609600@spildansk.dk
SUMMARY:Skoleelever laver filmmusik
DESCRIPTION:De to anerkendte musikere Kasper Kaae (Cody) og Michael Møller (Moi Caprice og The Mountains) holder workshop for to skoleklasser. Med udgangspunkt i en kortfilm laver børnene deres egne lydbilleder. Workshoppen afsluttes med en samlet koncert. \nBemærk: Koncerten er flyttet fra Gimle til Kreativt Hus for Børn
URL:https://spildansk.dk/kalender/skoleelever-laver-filmmusik/
LOCATION:Algade 31 – kreativt hus for børn\, Algade 31\, Roskilde\, 4000
CATEGORIES:Filmkoncert,Musik til børn
ORGANIZER;CN="Algade 31 - kreativt hus for b%C3%B8rn":MAILTO:bibalgade31@roskilde.dk
END:VEVENT
BEGIN:VEVENT
DTSTART;TZID=Europe/Copenhagen:20191101T100000
DTEND;TZID=Europe/Copenhagen:20191101T120000
DTSTAMP:20260423T204541
CREATED:20190904T092006Z
LAST-MODIFIED:20190917T090136Z
UID:19935-1572602400-1572609600@spildansk.dk
SUMMARY:Spil Dansk: Fællessang og dansemusik på Dronningborg Plejecenter
DESCRIPTION:De friske og hyggelige herrer fra Trekløveret synger og spiller fællessange og dansemusik på Dronningborg Plejecenter til deres fredagscafé d. 1/11 kl. 10.00-12.00. Gode historier og en hyggelig stemning er en stor del af arrangementet. Arrangementet er lukket. \nSpil Dansk er musiklivets festuge\, der altid foregår i uge 44. Siden 2001 har Spil Dansk været Danmarks største musikbegivenhed i al sin bredde og mangfoldighed af arrangementer. Turbinen\, Randers Bibliotek\, Randers Kommune og Randers Eventsekretariat er lokale arrangører. Det sker i samarbejde med blandt andre lokale bands\, musikkorps\, -ensembler og -kor. Målet er blandt andet at skabe glæde og øge kendskabet til musik med dansk afsæt – herunder udfolde musikken i nye og anderledes rammer.
URL:https://spildansk.dk/kalender/spil-dansk-faellessang-og-dansemusik-paa-dronningborg-plejecenter/
LOCATION:Dronningborg Plejecenter\, Egholmvej 4\, Randers NØ\, 8930
CATEGORIES:Dansktop,Fællessang
END:VEVENT
BEGIN:VEVENT
DTSTART;TZID=Europe/Copenhagen:20191101T100000
DTEND;TZID=Europe/Copenhagen:20191101T113000
DTSTAMP:20260423T204541
CREATED:20191004T163811Z
LAST-MODIFIED:20191004T163811Z
UID:20899-1572602400-1572607800@spildansk.dk
SUMMARY:Mellemblond på Nørre Gymnasium
DESCRIPTION:Mellemblond besøger Nørre Gymnasium. Dansk beat-poesi på et gymnasium\, hvor kulturen og musikken betyder noget. Forsanger Kristoffer Munck Mortensen og resten af gruppen vil forsøge at påvirke Danmarks ungdom med tekster fulde af stof til eftertanke\, groovy dansksproget rockmusik og psykedeliske vibrationer. Mellemblond vil øse ud af smagsprøver fra gruppens 4 udgivne album samt smagsprøver på nye sange. \nKoncerten er støttet af Kodas Kulturelle midler.
URL:https://spildansk.dk/kalender/mellemblond-paa-noerre-gymnasium/
LOCATION:Nørre Gymnasium\, Mørkhøjvej 78\, Brønshøj\, 2700
CATEGORIES:Koncert,Rock
ATTACH;FMTTYPE=image/jpeg:https://spildansk.dk/wp-content/uploads/2019/10/mellemblond_farve_neg15_peterbjerg-1.jpg
ORGANIZER;CN="M%C3%B8s M%C3%B8s":MAILTO:lauritz@mosmoscph.com
END:VEVENT
BEGIN:VEVENT
DTSTART;TZID=Europe/Copenhagen:20191101T100000
DTEND;TZID=Europe/Copenhagen:20191101T110000
DTSTAMP:20260423T204541
CREATED:20191023T104811Z
LAST-MODIFIED:20191023T104811Z
UID:22494-1572602400-1572606000@spildansk.dk
SUMMARY:Forførende folkemusik
DESCRIPTION:LMS-Familiekoncert i forbindelse med Spil Dansk Ugen 2019.
URL:https://spildansk.dk/kalender/forfoerende-folkemusik-2/
LOCATION:Dybkærskolen\, Arendalsvej 271\, Silkeborg\, 8600\, Denmark
END:VEVENT
BEGIN:VEVENT
DTSTART;TZID=Europe/Copenhagen:20191101T100000
DTEND;TZID=Europe/Copenhagen:20191101T110000
DTSTAMP:20260423T204541
CREATED:20190911T082226Z
LAST-MODIFIED:20190911T082226Z
UID:20167-1572602400-1572606000@spildansk.dk
SUMMARY:Koncert med " lidt i ni"
DESCRIPTION:” Lidt i ni” underholder med musik og sang i cafeen sammen med en gruppe børnehavebørn.\nLidt i ni er en musikalsk samspilsgruppe\, som øver hver fredag på Åpark Centret.
URL:https://spildansk.dk/kalender/koncert-med-lidt-i-ni/
LOCATION:Åpark Centret\, Løvenørnsgade 21\, Horsens\, 8700
CATEGORIES:Folk
END:VEVENT
BEGIN:VEVENT
DTSTART;TZID=Europe/Copenhagen:20191101T100000
DTEND;TZID=Europe/Copenhagen:20191101T110000
DTSTAMP:20260423T204541
CREATED:20190911T080542Z
LAST-MODIFIED:20190911T080542Z
UID:20170-1572602400-1572606000@spildansk.dk
SUMMARY:Egernførde - Koncert med børnekor
DESCRIPTION:Deltagere er JKS megakor og band\, Askfeld Danske\nSkole\, Rieseby Danske Skole\, Jernved Danske Skole\,\nBorreby Børnehave og Brd. Brovst Børnehave og selvfølgelig\nJes Kruse-Skolen.
URL:https://spildansk.dk/kalender/egernfoerde-koncert-med-boernekor/
LOCATION:Rådhuspladsen Egernførde\, Rathausmarkt 4-6\, Egernførde
CATEGORIES:Fællessang
END:VEVENT
BEGIN:VEVENT
DTSTART;TZID=Europe/Copenhagen:20191101T100000
DTEND;TZID=Europe/Copenhagen:20191101T103000
DTSTAMP:20260423T204541
CREATED:20191023T125604Z
LAST-MODIFIED:20191023T125604Z
UID:22624-1572602400-1572604200@spildansk.dk
SUMMARY:Morgensang i Spil Dansk Ugen
DESCRIPTION:Start dagen med at få rørt stemmebåndet\n\n\n\nKom og marker den landsdækkende Spil Dansk uge med os\, når vi starten dagen med skøn morgensang. \nVi synger sange fra blandt andet Højskolesangbogen\, men også nyere\, danske sange. \nDer vil være klaverledsagelse af Ingeborg Skafte-Pedersen. \nVi udleverer sanghæfter\, så alle kan synge med. \nAlle er velkommen\, så kom glad og begynd dagen med at få klaret stemmen. \nDu behøver ikke tilmelde dig og det er gratis at deltage.
URL:https://spildansk.dk/kalender/morgensang-i-spil-dansk-ugen-5/
LOCATION:Guldborgsund-bibliotekerne\, Hovedbiblioteket\, Kongensgade 43\, Nykøbing Falster\, 4800
CATEGORIES:Fællessang
ATTACH;FMTTYPE=image/jpeg:https://spildansk.dk/wp-content/uploads/2019/10/Spil-dansk1-4.jpg
ORGANIZER;CN="Guldborgsund-bibliotekerne":MAILTO:nyfac@guldborgsund.dk
END:VEVENT
BEGIN:VEVENT
DTSTART;TZID=Europe/Copenhagen:20191101T094500
DTEND;TZID=Europe/Copenhagen:20191101T100000
DTSTAMP:20260423T204541
CREATED:20191008T091122Z
LAST-MODIFIED:20191008T091122Z
UID:21013-1572601500-1572602400@spildansk.dk
SUMMARY:Fællessang på Skægkærskolen.
DESCRIPTION:Hele Skægkærskolen mødes hver dag i uge 44 og synger fællessang.
URL:https://spildansk.dk/kalender/faellessang-paa-skaegkaerskolen-4/
LOCATION:Skægkærskolen\, Sindingvej 15\, Silkeborg\, 8600
END:VEVENT
BEGIN:VEVENT
DTSTART;TZID=Europe/Copenhagen:20191101T093000
DTEND;TZID=Europe/Copenhagen:20191101T103000
DTSTAMP:20260423T204541
CREATED:20191030T195657Z
LAST-MODIFIED:20191030T195657Z
UID:23014-1572600600-1572604200@spildansk.dk
SUMMARY:Fællessang “ Se min kjole”
DESCRIPTION:Fredag d.1.november 2019 afholdes fællessangaktivitet i Børneunivers Nord afd. Favrdal under temaet “Se min kjole”. \nAktiviteten afholdes for de ældre vuggestuebørn.
URL:https://spildansk.dk/kalender/faellessang-se-min-kjole/
LOCATION:Børneunivers Nord afd. Favrdal\, Christen Koldsvej 4\, Haderslev\, 6100
CATEGORIES:Fællessang
END:VEVENT
BEGIN:VEVENT
DTSTART;TZID=Europe/Copenhagen:20191101T093000
DTEND;TZID=Europe/Copenhagen:20191101T103000
DTSTAMP:20260423T204541
CREATED:20191023T123812Z
LAST-MODIFIED:20191023T123812Z
UID:22600-1572600600-1572604200@spildansk.dk
SUMMARY:Elever fra Arden Skole synger i byen
DESCRIPTION:6.a\, 6.b og 6.c fra Arden Skole synger for til fællessang. \nKlasserne mødes med de andre på stedet og starter med rundstykker. Der er rundstykker til både børn og voksne. Herefter synges fra et fælles sanghæfte og alle tre steder er der tovholdere\, som synger for og styrer slagets gang
URL:https://spildansk.dk/kalender/elever-fra-arden-skole-synger-i-byen/
LOCATION:Arden Skole\, Arden\, Mariagerfjord\, Danmark
CATEGORIES:Fællessang
END:VEVENT
BEGIN:VEVENT
DTSTART;TZID=Europe/Copenhagen:20191101T090000
DTEND;TZID=Europe/Copenhagen:20191101T103000
DTSTAMP:20260423T204541
CREATED:20191030T111646Z
LAST-MODIFIED:20191030T111657Z
UID:23001-1572598800-1572604200@spildansk.dk
SUMMARY:Sang i børnehaven
DESCRIPTION:Synge og lave fagter til ‘Se min kjole’ sammen med en gruppe børn i en børnehave.
URL:https://spildansk.dk/kalender/sang-i-boernehaven/
LOCATION:Tønder
CATEGORIES:Fællessang
END:VEVENT
BEGIN:VEVENT
DTSTART;TZID=Europe/Copenhagen:20191101T090000
DTEND;TZID=Europe/Copenhagen:20191101T100000
DTSTAMP:20260423T204541
CREATED:20191023T104840Z
LAST-MODIFIED:20191023T104840Z
UID:22498-1572598800-1572602400@spildansk.dk
SUMMARY:Ny dansk folkemusik med rødder
DESCRIPTION:LMS-Familiekoncert i forbindelse med Spil Dansk Ugen 2019.
URL:https://spildansk.dk/kalender/ny-dansk-folkemusik-med-roedder/
LOCATION:Enghaveskolen\, Prices Havevej 13\, Faaborg\, 5600\, Denmark
END:VEVENT
BEGIN:VEVENT
DTSTART;TZID=Europe/Copenhagen:20191101T090000
DTEND;TZID=Europe/Copenhagen:20191101T100000
DTSTAMP:20260423T204541
CREATED:20191023T104807Z
LAST-MODIFIED:20191023T104807Z
UID:22493-1572598800-1572602400@spildansk.dk
SUMMARY:Forførende folkemusik
DESCRIPTION:LMS-Familiekoncert i forbindelse med Spil Dansk Ugen 2019.
URL:https://spildansk.dk/kalender/forfoerende-folkemusik/
LOCATION:Dybkærskolen\, Arendalsvej 271\, Silkeborg\, 8600\, Denmark
END:VEVENT
BEGIN:VEVENT
DTSTART;TZID=Europe/Copenhagen:20191101T090000
DTEND;TZID=Europe/Copenhagen:20191101T091500
DTSTAMP:20260423T204541
CREATED:20191021T110855Z
LAST-MODIFIED:20191021T111109Z
UID:21980-1572598800-1572599700@spildansk.dk
SUMMARY:Morgensang
DESCRIPTION:Morgensang for personalet i AL
URL:https://spildansk.dk/kalender/morgensang-13/
LOCATION:Arbejdernes Landsbank\, Søndergade 48\, Horsens\, 8700\, Danmark
CATEGORIES:Fællessang
END:VEVENT
BEGIN:VEVENT
DTSTART;TZID=Europe/Copenhagen:20191101T090000
DTEND;TZID=Europe/Copenhagen:20191101T090000
DTSTAMP:20260423T204541
CREATED:20191023T141852Z
LAST-MODIFIED:20191023T141852Z
UID:22633-1572598800-1572598800@spildansk.dk
SUMMARY:Sangskriver -workshop
DESCRIPTION:Vi får besøg af Jeppe og Martin\, der vil guide eleverne igennem junglen af spændende udfordringer\, når (ikke hvis) man vælger livet som sangskriver eller komponist.
URL:https://spildansk.dk/kalender/sangskriver-workshop-7/
LOCATION:Skolen på La Cours Vej\, Beringsvej 8\, Frederiksberg\, 2000\, Danmark
CATEGORIES:Undervisning
END:VEVENT
BEGIN:VEVENT
DTSTART;TZID=Europe/Copenhagen:20191101T090000
DTEND;TZID=Europe/Copenhagen:20191101T090000
DTSTAMP:20260423T204541
CREATED:20190912T080230Z
LAST-MODIFIED:20190912T080230Z
UID:20207-1572598800-1572598800@spildansk.dk
SUMMARY:Sangskriver workshop
DESCRIPTION:4.A på La Cours Vej Skole\, FR.berg\, får besøg af Mikkel og Jeppe. Kodeordene er fredag\, fri fantasi\, fantastisk forløb og fedt flow… wow
URL:https://spildansk.dk/kalender/sangskriver-workshop-3/
LOCATION:Skolen på La Cours Vej\, Beringsvej 8\, Frederiksberg\, 2000\, Danmark
ATTACH;FMTTYPE=image/jpeg:https://spildansk.dk/wp-content/uploads/2019/09/E8D2407A-0D1A-4722-AD92-B6CA4BD9C50F.jpeg
END:VEVENT
BEGIN:VEVENT
DTSTART;TZID=Europe/Copenhagen:20191101T085500
DTEND;TZID=Europe/Copenhagen:20191101T094500
DTSTAMP:20260423T204541
CREATED:20191028T133155Z
LAST-MODIFIED:20191028T133747Z
UID:22949-1572598500-1572601500@spildansk.dk
SUMMARY:Fællessang på Alkjærskolen\, Ringkøbing
DESCRIPTION:Alkjærskolen: 350 børn og deres lærere samles i gymnastiksalen og synger sammen.
URL:https://spildansk.dk/kalender/faellessang-paa-alkjaerskolen-ringkoebing/
LOCATION:Alkjærskolen\, Ringkøbing\, Søibergsvej 3\, Ringkøbing\, 6950
CATEGORIES:Fællessang
END:VEVENT
BEGIN:VEVENT
DTSTART;TZID=Europe/Copenhagen:20191101T084500
DTEND;TZID=Europe/Copenhagen:20191101T094500
DTSTAMP:20260423T204541
CREATED:20191023T104925Z
LAST-MODIFIED:20191023T104925Z
UID:22506-1572597900-1572601500@spildansk.dk
SUMMARY:Danmark møder New Orleans
DESCRIPTION:LMS-Familiekoncert i forbindelse med Spil Dansk Ugen 2019.
URL:https://spildansk.dk/kalender/danmark-moeder-new-orleans/
LOCATION:Hedegårdenes Skole\, Københavnsvej 34\, Roskilde\, 4000\, Denmark
END:VEVENT
BEGIN:VEVENT
DTSTART;TZID=Europe/Copenhagen:20191101T083500
DTEND;TZID=Europe/Copenhagen:20191101T093500
DTSTAMP:20260423T204541
CREATED:20191023T105020Z
LAST-MODIFIED:20191023T105020Z
UID:22512-1572597300-1572600900@spildansk.dk
SUMMARY:Hjertelys
DESCRIPTION:LMS-Familiekoncert i forbindelse med Spil Dansk Ugen 2019.
URL:https://spildansk.dk/kalender/hjertelys-6/
LOCATION:Kildebakken\, Kildesgårdsvej 19\, Allinge\, 3770\, Denmark
END:VEVENT
BEGIN:VEVENT
DTSTART;TZID=Europe/Copenhagen:20191101T083000
DTEND;TZID=Europe/Copenhagen:20191101T140000
DTSTAMP:20260423T204541
CREATED:20191024T065732Z
LAST-MODIFIED:20191024T065732Z
UID:22677-1572597000-1572616800@spildansk.dk
SUMMARY:Workshop
DESCRIPTION:Workshop med Rappolitics
URL:https://spildansk.dk/kalender/workshop-2/
LOCATION:10.klassecentret\, Langbygårdsvej 6\, Glamsbjerg\, 5620
CATEGORIES:Workshop
END:VEVENT
BEGIN:VEVENT
DTSTART;TZID=Europe/Copenhagen:20191101T083000
DTEND;TZID=Europe/Copenhagen:20191101T093000
DTSTAMP:20260423T204541
CREATED:20191023T104852Z
LAST-MODIFIED:20191023T104852Z
UID:22500-1572597000-1572600600@spildansk.dk
SUMMARY:Mads Vinding & Øyvind Ougaard
DESCRIPTION:LMS-Familiekoncert i forbindelse med Spil Dansk Ugen 2019.
URL:https://spildansk.dk/kalender/mads-vinding-oeyvind-ougaard-4/
LOCATION:Gl. Lindholm Skole\, Lindholmsvej 65\, Nørresundby\, 9400\, Denmark
END:VEVENT
BEGIN:VEVENT
DTSTART;TZID=Europe/Copenhagen:20191101T083000
DTEND;TZID=Europe/Copenhagen:20191101T093000
DTSTAMP:20260423T204541
CREATED:20191023T104757Z
LAST-MODIFIED:20191023T104757Z
UID:22491-1572597000-1572600600@spildansk.dk
SUMMARY:Cirkeline og Coco rejser til Afrika
DESCRIPTION:LMS-Familiekoncert i forbindelse med Spil Dansk Ugen 2019.
URL:https://spildansk.dk/kalender/cirkeline-og-coco-rejser-til-afrika/
LOCATION:Ansager Skole\, Ansager\, Varde\, Danmark
END:VEVENT
BEGIN:VEVENT
DTSTART;TZID=Europe/Copenhagen:20191101T083000
DTEND;TZID=Europe/Copenhagen:20191101T093000
DTSTAMP:20260423T204541
CREATED:20191022T095439Z
LAST-MODIFIED:20191022T095439Z
UID:22199-1572597000-1572600600@spildansk.dk
SUMMARY:Fælles morgensang
DESCRIPTION:I anledning af ”Spil dansk ugen” vil Friskolen i Lemming gerne invitere ALLE interesserede til fælles morgensang i skolens sal. Med ALLE mener vi ALLE – dvs. lokale\, folk fra omegn\, skoler\, familier\, bedsteforældre – ja alle\, også dem\, der ikke umiddelbart har tilknytning til Friskolen. \nKl. 8.30 – ca. 9.15 synger vi sammen og bagefter er der mulighed for at drikke en kop kaffe/the. \nBare mød op – ingen tilmelding – men husk det gode humør og sangstemmen…. \nVel mødt \nI anledning af ”Spil dansk ugen” vil Friskolen i Lemming gerne invitere ALLE interesserede til fælles morgensang i skolens sal. Med ALLE mener vi ALLE – dvs. lokale\, folk fra omegn\, skoler\, familier\, bedsteforældre – ja alle\, også dem\, der ikke umiddelbart har tilknytning til Friskolen. \nKl. 8.30 – ca. 9.15 synger vi sammen og bagefter er der mulighed for at drikke en kop kaffe/the. \nBare mød op – ingen tilmelding – men husk det gode humør og sangstemmen…. \nVel mødt
URL:https://spildansk.dk/kalender/faelles-morgensang-2/
LOCATION:Friskolen i Lemming\, Lemming Bygade 2a\, Lemming\, 8632
CATEGORIES:Fællessang,Folk
ATTACH;FMTTYPE=image/jpeg:https://spildansk.dk/wp-content/uploads/2019/10/friskolen-i-lemming-logo.jpg
ORGANIZER;CN="Friskolen i Lemming":MAILTO:friskolenilemming@gmail.com
END:VEVENT
BEGIN:VEVENT
DTSTART;TZID=Europe/Copenhagen:20191101T083000
DTEND;TZID=Europe/Copenhagen:20191101T090000
DTSTAMP:20260423T204541
CREATED:20191030T075317Z
LAST-MODIFIED:20191030T080005Z
UID:22988-1572597000-1572598800@spildansk.dk
SUMMARY:Byen synger morgensang i Aarestrup
DESCRIPTION:Fredag d. 1. november inviterer Gregers Krabbe Friskolen i Aarestrup og Aarestrup kirke alle interesserede til åben morgensang kl. 8.30 i Aarestrup kirke. Arrangementet er en del af skole-kirke samarbejdet i Aarestrup og er tilrettelagt af skolens leder og lærere og kirkens organist. \nForældre\, bedsteforældre\, hele byen og alle andre er velkommen til denne morgen at møde op og være med til at begynde dagen med sang i kirken. Der er både fællessang og fortælling på programmet\, der varer en halv times tid. \nEfter morgensangen er Aarestrup menighedsråd vært ved morgenkaffe i Aarestrup forsamlingshus\, hvor alle de\, der ikke skal tilbage til skolen\, er meget velkomne.
URL:https://spildansk.dk/kalender/byen-synger-morgensang/
LOCATION:Aarestrup kirke\, Haverslevvej\, Aarestrup\, 9520\, Danmark
CATEGORIES:Fællessang
ATTACH;FMTTYPE=image/jpeg:https://spildansk.dk/wp-content/uploads/2019/10/Aarestrup-kirke.-Foto-A.-Kjær-sep.-2019.jpg
END:VEVENT
BEGIN:VEVENT
DTSTART;TZID=Europe/Copenhagen:20191101T080000
DTEND;TZID=Europe/Copenhagen:20191101T090000
DTSTAMP:20260423T204541
CREATED:20191025T113909Z
LAST-MODIFIED:20191025T113909Z
UID:22854-1572595200-1572598800@spildansk.dk
SUMMARY:Syng Dansk
DESCRIPTION:Friskolen Asgaard har fællestime med emnet “Syng Dansk” og får besøg af elever fra Nøvlingskov Efterskole. De skal synge for hinanden\, og vi skal også synge med hinanden. Alle er velkommen til at være med.
URL:https://spildansk.dk/kalender/syng-dansk-14/
LOCATION:Friskolen Asgaard\, Herningvej 70b\, Vildbjerg\, 7480
CATEGORIES:Undervisning,Fællessang
ATTACH;FMTTYPE=image/jpeg:https://spildansk.dk/wp-content/uploads/2019/10/Musik-sammenspil-2.jpg
END:VEVENT
BEGIN:VEVENT
DTSTART;TZID=Europe/Copenhagen:20191101T080000
DTEND;TZID=Europe/Copenhagen:20191101T085000
DTSTAMP:20260423T204541
CREATED:20191023T155458Z
LAST-MODIFIED:20191023T155458Z
UID:22644-1572595200-1572598200@spildansk.dk
SUMMARY:Dirigent Hansen - om Sigurd og Symfoniorkestret
DESCRIPTION:Dirigent Hansen alias Nikolaj Hansen kommer på Vejen Friskole og fortæller om tilblivelsen af “Sigurd og Symfoniorkestret”.
URL:https://spildansk.dk/kalender/dirigent-hansen-om-sigurd-og-symfoniorkestret/
LOCATION:Vejen Friskole\, Læborgvej 14\, Vejen\, 6600
CATEGORIES:Musik til børn
END:VEVENT
BEGIN:VEVENT
DTSTART;TZID=Europe/Copenhagen:20191101T080000
DTEND;TZID=Europe/Copenhagen:20191101T083000
DTSTAMP:20260423T204541
CREATED:20191014T202206Z
LAST-MODIFIED:20191014T202206Z
UID:21509-1572595200-1572597000@spildansk.dk
SUMMARY:Morgensang sammen med friskolen Asgaard og Nøvlingskov efterskole i Skibbild-Nøvling
DESCRIPTION:Byens friskole og efterskole holder fælles morgensang den 1. november kl. 8.00. Alle er velkomne til at deltage.
URL:https://spildansk.dk/kalender/morgensang-sammen-med-friskolen-asgaard-og-noevlingskov-efterskole-i-skibbild-noevling/
LOCATION:Friskolen Asgaard\, Herningvej 70b\, Vildbjerg\, 7480
CATEGORIES:Fællessang
ORGANIZER;CN="N%C3%B8vlingskov Efterskole":MAILTO:noev@noevlingskov.dk
END:VEVENT
BEGIN:VEVENT
DTSTART;TZID=Europe/Copenhagen:20191101T075000
DTEND;TZID=Europe/Copenhagen:20191101T081500
DTSTAMP:20260423T204541
CREATED:20190805T065104Z
LAST-MODIFIED:20190805T065244Z
UID:19486-1572594600-1572596100@spildansk.dk
SUMMARY:Fællessang
DESCRIPTION:Fællessang for skolens elever\, medarbejdere\, forældre og andre interesserede!
URL:https://spildansk.dk/kalender/faellessang-32/
LOCATION:Fællesrummet\, Gedsted Skole\, Søndergade 27\, 9631 Gedsted\, Søndergade 27\, Gedsted\, 9631
CATEGORIES:Fællessang
ATTACH;FMTTYPE=image/jpeg:https://spildansk.dk/wp-content/uploads/2019/08/Logo_violin_tromme.jpg
END:VEVENT
BEGIN:VEVENT
DTSTART;TZID=Europe/Copenhagen:20191031T210000
DTEND;TZID=Europe/Copenhagen:20191031T230000
DTSTAMP:20260423T204541
CREATED:20191003T123945Z
LAST-MODIFIED:20191003T125313Z
UID:20844-1572555600-1572562800@spildansk.dk
SUMMARY:Sarah Elgeti Quartet with Friends
DESCRIPTION:”…lynende intelligent og utrolig cool New Nordic Jazz” – Der Spiegel\, DE\n”Saxophonist/flautist Sarah Elgeti is the latest Danish wonder to emerge on the international stage”\n– Edward Blanco\, All About Jazz- US\n“..instrumentaljazz af den organisk\, funky\, fedt swingende slags\, som det ene øjeblik emmer af melankoli\, det næste af groovy latin fever. Instrumenthåndteringen er i top\, og det samme er samspillet..”\n– Ivan Rod\, Gaffa- DK \n\n\n\n\nLine Up:\nAlexander Kragelund (violin)\nSidsel Storm (vokal)\nSarah Elgeti (saxofon\, fløjte\,basklarinet\, komposition)\nNils Raae (keys & mundharpe)\nAnders K. Fjeldsted(bas)\nHenrik Holst Hansen(trommer)\nLyt og læs mere på: http://www.sarahelgeti.com \nvideolinks:\nhttps://www.facebook.com/watch/?v=2479664135458135\nhttps://youtu.be/4QfMVIX8YWw
URL:https://spildansk.dk/kalender/sarah-elgeti-quartet-with-friends/
LOCATION:Paradise Jazz\, Magstræde 16\, Kbh\, Danmark
CATEGORIES:Koncert,Jazz
ATTACH;FMTTYPE=image/jpeg:https://spildansk.dk/wp-content/uploads/2019/10/Live-at-Cph-Jazzfestival-KF-mørk-version.jpg
END:VEVENT
END:VCALENDAR