BEGIN:VCALENDAR
VERSION:2.0
PRODID:-//Spil Dansk - ECPv6.5.0//NONSGML v1.0//EN
CALSCALE:GREGORIAN
METHOD:PUBLISH
X-ORIGINAL-URL:https://spildansk.dk
X-WR-CALDESC:Events for Spil Dansk
REFRESH-INTERVAL;VALUE=DURATION:PT1H
X-Robots-Tag:noindex
X-PUBLISHED-TTL:PT1H
BEGIN:VTIMEZONE
TZID:Europe/Copenhagen
BEGIN:DAYLIGHT
TZOFFSETFROM:+0100
TZOFFSETTO:+0200
TZNAME:CEST
DTSTART:20200329T010000
END:DAYLIGHT
BEGIN:STANDARD
TZOFFSETFROM:+0200
TZOFFSETTO:+0100
TZNAME:CET
DTSTART:20201025T010000
END:STANDARD
END:VTIMEZONE
BEGIN:VEVENT
DTSTART;TZID=Europe/Copenhagen:20201026T113000
DTEND;TZID=Europe/Copenhagen:20201026T123000
DTSTAMP:20260422T142308
CREATED:20201009T114907Z
LAST-MODIFIED:20201009T114907Z
UID:25707-1603711800-1603715400@spildansk.dk
SUMMARY:Eastwind
DESCRIPTION:LMS koncert
URL:https://spildansk.dk/kalender/eastwind-2/
LOCATION:Møn Skole afd. Hjertebjerg\, Klintevej 237\, Stege\, 4780\, Danmark
CATEGORIES:Musik til børn
END:VEVENT
BEGIN:VEVENT
DTSTART;TZID=Europe/Copenhagen:20201026T115500
DTEND;TZID=Europe/Copenhagen:20201026T125500
DTSTAMP:20260422T142308
CREATED:20201009T114917Z
LAST-MODIFIED:20201009T114917Z
UID:25708-1603713300-1603716900@spildansk.dk
SUMMARY:Mirja Klippel
DESCRIPTION:LMS koncert
URL:https://spildansk.dk/kalender/mirja-klippel-2/
LOCATION:Sønderskov-Skolen\, Grundvigs Alle 100\, Sønderborg\, 6400\, Danmark
CATEGORIES:Musik til børn
END:VEVENT
BEGIN:VEVENT
DTSTART;TZID=Europe/Copenhagen:20201026T120000
DTEND;TZID=Europe/Copenhagen:20201026T130000
DTSTAMP:20260422T142308
CREATED:20201009T114926Z
LAST-MODIFIED:20201009T114926Z
UID:25709-1603713600-1603717200@spildansk.dk
SUMMARY:Admiral Awesome
DESCRIPTION:LMS koncert
URL:https://spildansk.dk/kalender/admiral-awesome-2/
LOCATION:Hørup Centralskole\, Vestervej 42\, Kr. Hørup\, Sydals\, 6470\, Danmark
CATEGORIES:Musik til børn
END:VEVENT
BEGIN:VEVENT
DTSTART;TZID=Europe/Copenhagen:20201026T120000
DTEND;TZID=Europe/Copenhagen:20201026T130000
DTSTAMP:20260422T142308
CREATED:20201009T114934Z
LAST-MODIFIED:20201009T114934Z
UID:25710-1603713600-1603717200@spildansk.dk
SUMMARY:Ea Philippa
DESCRIPTION:LMS koncert
URL:https://spildansk.dk/kalender/ea-philippa-3/
LOCATION:Sennels Skole\, Sennelsvej 122\, Thisted\, 7700\, Danmark
CATEGORIES:Musik til børn
END:VEVENT
BEGIN:VEVENT
DTSTART;TZID=Europe/Copenhagen:20201026T120500
DTEND;TZID=Europe/Copenhagen:20201026T130500
DTSTAMP:20260422T142308
CREATED:20201009T114942Z
LAST-MODIFIED:20201009T114942Z
UID:25711-1603713900-1603717500@spildansk.dk
SUMMARY:Goin' Back To New Orleans
DESCRIPTION:LMS koncert
URL:https://spildansk.dk/kalender/goin-back-to-new-orleans-3/
LOCATION:Antvorskov Skole\, Sejerøvej 1\, Slagelse\, 4200\, Danmark
CATEGORIES:Musik til børn
END:VEVENT
BEGIN:VEVENT
DTSTART;TZID=Europe/Copenhagen:20201026T121500
DTEND;TZID=Europe/Copenhagen:20201026T131500
DTSTAMP:20260422T142308
CREATED:20201009T114952Z
LAST-MODIFIED:20201009T114952Z
UID:25712-1603714500-1603718100@spildansk.dk
SUMMARY:Asbjørn
DESCRIPTION:LMS koncert
URL:https://spildansk.dk/kalender/asbjoern-2/
LOCATION:Lille Næstved Skole afd. Karrebækvej\, Karrebækvej 70\, Næstved\, 4700\, Danmark
CATEGORIES:Musik til børn
END:VEVENT
BEGIN:VEVENT
DTSTART;TZID=Europe/Copenhagen:20201026T122500
DTEND;TZID=Europe/Copenhagen:20201026T132500
DTSTAMP:20260422T142308
CREATED:20201009T115004Z
LAST-MODIFIED:20201009T115004Z
UID:25713-1603715100-1603718700@spildansk.dk
SUMMARY:Virelai
DESCRIPTION:LMS koncert
URL:https://spildansk.dk/kalender/virelai-2/
LOCATION:Søndre Skole\, Viborg\, Viborg\, Danmark
CATEGORIES:Musik til børn
END:VEVENT
BEGIN:VEVENT
DTSTART;TZID=Europe/Copenhagen:20201026T123000
DTEND;TZID=Europe/Copenhagen:20201026T133000
DTSTAMP:20260422T142308
CREATED:20201009T115012Z
LAST-MODIFIED:20201009T115012Z
UID:25714-1603715400-1603719000@spildansk.dk
SUMMARY:Charanga Copenhagen
DESCRIPTION:LMS koncert
URL:https://spildansk.dk/kalender/charanga-copenhagen-3/
LOCATION:Sydskolen afd. Asnæs\, Stadionvej 6\, Asnæs\, 4550\, Danmark
CATEGORIES:Musik til børn
END:VEVENT
BEGIN:VEVENT
DTSTART;TZID=Europe/Copenhagen:20201026T124000
DTEND;TZID=Europe/Copenhagen:20201026T134000
DTSTAMP:20260422T142308
CREATED:20201009T115020Z
LAST-MODIFIED:20201009T115020Z
UID:25715-1603716000-1603719600@spildansk.dk
SUMMARY:HP Lange & Jarno Varsted
DESCRIPTION:LMS koncert
URL:https://spildansk.dk/kalender/hp-lange-jarno-varsted-3/
LOCATION:Vestre Skole\, Middelfart\, Middelfart\, Danmark
CATEGORIES:Musik til børn
END:VEVENT
BEGIN:VEVENT
DTSTART;TZID=Europe/Copenhagen:20201026T124500
DTEND;TZID=Europe/Copenhagen:20201026T134500
DTSTAMP:20260422T142308
CREATED:20201009T115028Z
LAST-MODIFIED:20201009T115028Z
UID:25716-1603716300-1603719900@spildansk.dk
SUMMARY:IKI
DESCRIPTION:LMS koncert
URL:https://spildansk.dk/kalender/iki/
LOCATION:Vorbasse Skole\, Østergade 28\, Vorbasse\, 6623\, Danmark
CATEGORIES:Musik til børn
END:VEVENT
BEGIN:VEVENT
DTSTART;TZID=Europe/Copenhagen:20201026T124500
DTEND;TZID=Europe/Copenhagen:20201026T134500
DTSTAMP:20260422T142308
CREATED:20201009T115037Z
LAST-MODIFIED:20201009T115037Z
UID:25717-1603716300-1603719900@spildansk.dk
SUMMARY:APHYXION
DESCRIPTION:LMS koncert
URL:https://spildansk.dk/kalender/aphyxion-2/
LOCATION:Humlehøj-Skolen\, Stråbjergvej 3\, Sønderborg\, 6400\, Danmark
CATEGORIES:Musik til børn
END:VEVENT
BEGIN:VEVENT
DTSTART;TZID=Europe/Copenhagen:20201026T130000
DTEND;TZID=Europe/Copenhagen:20201026T140000
DTSTAMP:20260422T142308
CREATED:20201009T115047Z
LAST-MODIFIED:20201009T115047Z
UID:25718-1603717200-1603720800@spildansk.dk
SUMMARY:Defecto
DESCRIPTION:LMS koncert
URL:https://spildansk.dk/kalender/defecto-4/
LOCATION:Paletten\, Vesterbrogade 10\, Viborg\, 8800\, Danmark
CATEGORIES:Musik til børn
END:VEVENT
BEGIN:VEVENT
DTSTART;TZID=Europe/Copenhagen:20201026T130000
DTEND;TZID=Europe/Copenhagen:20201026T140000
DTSTAMP:20260422T142308
CREATED:20201013T063030Z
LAST-MODIFIED:20201023T114047Z
UID:25835-1603717200-1603720800@spildansk.dk
SUMMARY:Fællessang for frihed
DESCRIPTION:Kom og syng med på sange om frihed\, når sangerinde Gitte Degn\, pianist Kasper Daugaard og Helligaandskirken åbner dørene for arrangementet “Fællessang for Frihed” i samarbejde med Spil Dansk ugen. Sangene er sange fra Højskolesangbogen\, bl.a. “En lærke letted”\, “Den blå anemone” m.fl. samt den nyskrevne frihedssang “Frihedens lysdøgn”. \nArrangementet varer 60 min. Gratis adgang. \nArrangementet er støttet af Københavns Kommune:
URL:https://spildansk.dk/kalender/faellessang-for-frihed-5/
LOCATION:Helligaandskirken\, Niels Hemmingsens Gade 5\, København K\, 1153
CATEGORIES:Fællessang
ATTACH;FMTTYPE=image/jpeg:https://spildansk.dk/wp-content/uploads/2018/08/Gitte-Degn-og-Kasper-Daugaard-1.jpeg
END:VEVENT
BEGIN:VEVENT
DTSTART;TZID=Europe/Copenhagen:20201026T133000
DTEND;TZID=Europe/Copenhagen:20201026T143000
DTSTAMP:20260422T142308
CREATED:20201009T115055Z
LAST-MODIFIED:20201009T115055Z
UID:25719-1603719000-1603722600@spildansk.dk
SUMMARY:Johanna Juhola Trio
DESCRIPTION:LMS koncert
URL:https://spildansk.dk/kalender/johanna-juhola-trio-3/
LOCATION:Valsgård Skole\, Hobro\, Mariagerfjord\, Danmark
CATEGORIES:Musik til børn
END:VEVENT
BEGIN:VEVENT
DTSTART;TZID=Europe/Copenhagen:20201026T135000
DTEND;TZID=Europe/Copenhagen:20201026T152000
DTSTAMP:20260422T142308
CREATED:20201012T081153Z
LAST-MODIFIED:20201012T081527Z
UID:25820-1603720200-1603725600@spildansk.dk
SUMMARY:Mellemblond på Sankt Annæ Gymnasium
DESCRIPTION:Mellemblond besøger Sankt Annæ Gymnasium. Dansk beat-poesi på et gymnasium\, hvor kulturen og musikken betyder noget. Forsanger/sangskriver Kristoffer Munck Mortensen  og Mellemblond vil forsøge at påvirke Danmarks ungdom med tekster fulde af stof til eftertanke og masser af musikalsk nærvær. Til dette arrangement optræder bandet i akustisk duoformat med kontrabassist og cellist Nils Bo Davidsen og de vil øse ud smagsprøver fra gruppens nyudgivne album ‘Solregn’ \nKoncerten er støttet af Kodas Kulturelle midler.
URL:https://spildansk.dk/kalender/mellemblond-paa-sankt-annae-gymnasium/
LOCATION:Sankt Annæ Gymnasium\, Sangskolen\, Sjælør Boulevard 135\, Valby\, 2500\, Danmark
CATEGORIES:Rock
ATTACH;FMTTYPE=image/jpeg:https://spildansk.dk/wp-content/uploads/2020/10/mellemblond_bw_neg18_peterbjerg.jpg
ORGANIZER;CN="M%C3%B8s M%C3%B8s":MAILTO:mosbabymos@gmail.com
END:VEVENT
BEGIN:VEVENT
DTSTART;TZID=Europe/Copenhagen:20201026T143000
DTEND;TZID=Europe/Copenhagen:20201026T153000
DTSTAMP:20260422T142308
CREATED:20201009T115103Z
LAST-MODIFIED:20201009T115103Z
UID:25720-1603722600-1603726200@spildansk.dk
SUMMARY:HeartBeat Group
DESCRIPTION:LMS koncert
URL:https://spildansk.dk/kalender/heartbeat-group-3/
LOCATION:Hadsund Skole\, Hadsund\, Mariagerfjord\, Danmark
CATEGORIES:Musik til børn
END:VEVENT
BEGIN:VEVENT
DTSTART;TZID=Europe/Copenhagen:20201026T153000
DTEND;TZID=Europe/Copenhagen:20201026T170000
DTSTAMP:20260422T142308
CREATED:20201019T132737Z
LAST-MODIFIED:20201019T132737Z
UID:26027-1603726200-1603731600@spildansk.dk
SUMMARY:Sjov og sang for børn
DESCRIPTION:Dette er et arrangement der bliver lavet i forbindelse til spil dansk ugen og i forbindelse med en studie opgave på seminariet. \nDet er et arrangement der bliver lavet for en gruppe børn i alderen 4-12år hvor der bliver udvalgt sange og sanglege.
URL:https://spildansk.dk/kalender/sjov-og-sang-for-boern/
LOCATION:privat
CATEGORIES:Fællessang,Musik til børn
END:VEVENT
BEGIN:VEVENT
DTSTART;TZID=Europe/Copenhagen:20201026T160000
DTEND;TZID=Europe/Copenhagen:20201026T170000
DTSTAMP:20260422T142308
CREATED:20200915T065743Z
LAST-MODIFIED:20200915T065743Z
UID:24865-1603728000-1603731600@spildansk.dk
SUMMARY:Klub Klassisk - Spil Dansk-specialudgave
DESCRIPTION:Mandag den 26. oktober 2020\, kl. 16-17.\nPris: (Fri entré)\nRanders Bibliotek\, Stemannsgade 2\, Randers C \nUge 44 er Spil Dansk-uge. Bliv introduceret til musik af danske komponister\, som du (måske) ikke kendte!. \nHvis du har lyst til at gå om bord i den klassiske musiks verden\, er Klub Klassisk\, Randers Biblioteks lytteklub for klassisk musik\, lige stedet for dig! Eneste forudsætning er lyst til at dykke ned i et spændende stykke musik og lære komponisten bedre at kende. Der er kaffe på kanden\, godt selskab og masser af spændende lytteindtryk. \nI efteråret 2020 afholdes Klub Klassisk i Kulturhusets Sal\, så der er god plads omkring os og vi kan overholde retningslinjerne vedr. håndtering af Covid 19-virus
URL:https://spildansk.dk/kalender/klub-klassisk-spil-dansk-specialudgave/
LOCATION:Randers Bibliotek\, Stemannsgade 2\, Randers C\, 8900\, Danmark
CATEGORIES:Klassisk,Musik til børn
ORGANIZER;CN="Randers Bibliotek":MAILTO:mk@randersbib.dk
END:VEVENT
BEGIN:VEVENT
DTSTART;TZID=Europe/Copenhagen:20201026T170000
DTEND;TZID=Europe/Copenhagen:20201026T180000
DTSTAMP:20260422T142308
CREATED:20200924T113502Z
LAST-MODIFIED:20200924T134849Z
UID:25070-1603731600-1603735200@spildansk.dk
SUMMARY:Kvindelige Forbilleder med Liive
DESCRIPTION:Liive er en norsk sangerinde\, som altid har villet gøre tingene lidt anderledes\, og drog afsted til København for at lave Popmusik. Hendes debut single “København”\, blev et stort hit i radioen på P4. I 2018 vandt hun Live Camp prisen på Smukfest\, og åbnede bøgescenen og varmede dermed op for Britney Spears\, Kim Larsen og Mø. \nSiden har hun spillet koncerter på de store scener omkring i Danmark med sit band og udgivet singlerne “Tinka” (med Burhan G) til Julekalenderen på Tv2 og singlen Gaslightning\, som udkom d. 17. maj 2019\, som var den første Engelskprogede single fra Liive. \nHvem er Liive? \nLiive\, spiller også under navnet Live Foyn Friis\, og er en norsk sangerinde\, som egentlig kommer fra jazzverdenen. Med bandet har hun rejst rundt i verden og spillet med nogle af verdens største jazzstjerner som Bobby McFerrin\, Brian Blade & John Scofield.
URL:https://spildansk.dk/kalender/kvindelige-forbilleder-med-liive/
LOCATION:Vejle Bibliotek\, Willy Sørensens Plads 1\, Vejle\, 7100
CATEGORIES:Foredrag,Jazz,Pop,Singer-songwriter
ATTACH;FMTTYPE=image/jpeg:https://spildansk.dk/wp-content/uploads/2020/09/Liive.jpg
ORGANIZER;CN="Vejle Bibliotekerne":MAILTO:palar@vejlebib.dk
END:VEVENT
BEGIN:VEVENT
DTSTART;TZID=Europe/Copenhagen:20201026T173000
DTEND;TZID=Europe/Copenhagen:20201026T193000
DTSTAMP:20260422T142308
CREATED:20201019T130920Z
LAST-MODIFIED:20201019T130920Z
UID:26015-1603733400-1603740600@spildansk.dk
SUMMARY:Syng dansk på Roskilde Festival Højskole
DESCRIPTION:Morten Grimstrup tager eleverne på Roskilde Festival Højskole gennem højskolesangbogens festlige og finurlige sangskat. Med sin helt særlige indlevelse i klavermusik og tekstformidling\, vil han blande lyrik og musik i et råklingende samsurium af flygeltangenter og rå beton på Danmarks nye højskole.
URL:https://spildansk.dk/kalender/syng-dansk-paa-roskilde-festival-hoejskole/
LOCATION:Roskilde Festival Højskole\, Basgangen 20\, Roskilde\, 4000\, Danmark
CATEGORIES:Fællessang
ATTACH;FMTTYPE=image/jpeg:https://spildansk.dk/wp-content/uploads/2020/10/morten-grimstrup-højskolelærer-i-almene-fag-på-roskilde-festival-højskole-1721x1024-1.jpeg
ORGANIZER;CN="Roskilde Festival H%C3%B8jskole":MAILTO:kontakt@rofh.dk
END:VEVENT
BEGIN:VEVENT
DTSTART;TZID=Europe/Copenhagen:20201026T190000
DTEND;TZID=Europe/Copenhagen:20201026T200000
DTSTAMP:20260422T142308
CREATED:20200311T145259Z
LAST-MODIFIED:20200311T145259Z
UID:23723-1603738800-1603742400@spildansk.dk
SUMMARY:Releasekoncert
DESCRIPTION:Denne koncert er releasen for den første af to planlagte CD’er med den danske komponist Martinus Ræhs’ (1702-1766) samtlige fløjtesonater. CDen udgives på det tyske pladeselskab\, Arcantus. Releasekoncerten foregår i KoncertKirken på Nørrebro\, og gruppen vil spille uddrag af CDen. Martinus Ræhs har skrevet 15 fortryllende fløjtesonater\, som dog sjældent høres. Han blev født i Horsens\, arbejdede i Aarhus\, England og Tyskland inden han havnede i København. Han var selv en virtuos fløjtenist\, og sonaterne har han højst sandsynlig skrevet til sig selv. \nClara Guldberg Ravn\, blokfløjte – Anna Paradiso\, cembalo – Jonas Nordberg\, theorbe og barokguitar – Mats Olofsson\, cello.
URL:https://spildansk.dk/kalender/releasekoncert/
LOCATION:København
CATEGORIES:Koncert,Klassisk
ATTACH;FMTTYPE=image/jpeg:https://spildansk.dk/wp-content/uploads/2020/03/solobillede-farver-profil-i-siv.jpg
END:VEVENT
BEGIN:VEVENT
DTSTART;TZID=Europe/Copenhagen:20201026T190000
DTEND;TZID=Europe/Copenhagen:20201026T200000
DTSTAMP:20260422T142308
CREATED:20200929T113115Z
LAST-MODIFIED:20201026T122830Z
UID:25271-1603738800-1603742400@spildansk.dk
SUMMARY:Spil Dansk Koncert  – DESVÆRRE AFLYST
DESCRIPTION:Elever fra Næstved Musikskole underholder med et varieret program fyldt med dansk-skabt musik. \nKoncerten er aflyst som følge af de nyeste restriktioner.
URL:https://spildansk.dk/kalender/spil-dansk-koncert-24/
LOCATION:Fladsåskolen afd. Mogenstrup\, Mogenstrup Parkvej 10A\, Næstved\, 4700
CATEGORIES:Koncert
ORGANIZER;CN="N%C3%A6stved Musikskole":MAILTO:musikskolen@naestved.dk
END:VEVENT
BEGIN:VEVENT
DTSTART;TZID=Europe/Copenhagen:20201026T190000
DTEND;TZID=Europe/Copenhagen:20201026T203000
DTSTAMP:20260422T142308
CREATED:20200702T065316Z
LAST-MODIFIED:20200702T065316Z
UID:24382-1603738800-1603744200@spildansk.dk
SUMMARY:"FORVANDLET" - et musikalsk foredrag
DESCRIPTION:Komponisten Lasse D. Hansen kommer tilbage til Vissenbjerg. \nHvad er det egentlig vi oplever\, når vi siger at musikken “rører os” eller at vi “bliver bevæget”? Det gør vi jo\, påstår Lasse D. Hansen\, men hvorfor? Ud fra overskriften ”Forvandlet” vil vi sammen udforske musikken – indefra.
URL:https://spildansk.dk/kalender/forvandlet-et-musikalsk-foredrag/
LOCATION:Vissenbjerghus\, Vestergade 4\, Vissenbjerg\, 5492
CATEGORIES:Foredrag
ORGANIZER;CN="AssensBibliotekerne":MAILTO:mipou@assens.dk
END:VEVENT
BEGIN:VEVENT
DTSTART;TZID=Europe/Copenhagen:20201026T190000
DTEND;TZID=Europe/Copenhagen:20201026T203000
DTSTAMP:20260422T142308
CREATED:20201007T210200Z
LAST-MODIFIED:20201007T210200Z
UID:25484-1603738800-1603744200@spildansk.dk
SUMMARY:KLIK PÅ KULS _ SPIL DANSK
DESCRIPTION:Talentlinjen Shanghai Akademiet spiller egne numre og covers. Det lokale band Drivkraft spiller egne numre.\nDer er begrænset antal billetter pga corona\, gratis billetter kan bookes på www.go-syddjurs.dk
URL:https://spildansk.dk/kalender/klik-paa-kuls-_-spil-dansk/
LOCATION:KulturHotellet i Rønde\, Hovedgaden 10\, Rønde\, 8410
CATEGORIES:Koncert
END:VEVENT
BEGIN:VEVENT
DTSTART;TZID=Europe/Copenhagen:20201026T190000
DTEND;TZID=Europe/Copenhagen:20201026T210000
DTSTAMP:20260422T142308
CREATED:20200820T110825Z
LAST-MODIFIED:20200820T110825Z
UID:24598-1603738800-1603746000@spildansk.dk
SUMMARY:Fællessang med Erik Sommer
DESCRIPTION:Syng fra Højskolesangbogen\nFællessang er blevet populært – især i forbindelse med coronakrisen\, hvor mange danskere sang hjemme foran tv-skærmen og sang hver dag. Nu må vi mødes igen\, og det fejrer vi sammen med lektor\, komponist og tidligere forstander for SeniorHøjskolen i Nørre Nissum Erik Sommer. \nDenne aften synger vi sange fra Højskolesangbogen\, hvor Erik Sommer også har bidraget med flere melodier.
URL:https://spildansk.dk/kalender/faellessang-med-erik-sommer/
LOCATION:Lemvig Bibliotek\, Skolegade 3\, Lemvig\, 7620\, Danmark
ATTACH;FMTTYPE=image/jpeg:https://spildansk.dk/wp-content/uploads/2020/08/erik-sommer.jpg
ORGANIZER;CN="Lemvig Bibliotek":MAILTO:lebr@lemvig.dk
END:VEVENT
BEGIN:VEVENT
DTSTART;TZID=Europe/Copenhagen:20201026T190000
DTEND;TZID=Europe/Copenhagen:20201026T220000
DTSTAMP:20260422T142308
CREATED:20201002T115816Z
LAST-MODIFIED:20201002T115816Z
UID:25359-1603738800-1603749600@spildansk.dk
SUMMARY:Kurts Quiz Klub (Spil Dansk-udgave)
DESCRIPTION:Quizmaster Kurt Baagø og bibliotekets egen Lars O hylder dansk musik i denne ”Spil Dansk-udgave” af bibliotekets velkendte musikquiz. \nNyd nogle timer i godt selskab\, hvor du får (gen)hørt en masse god musik og samtidigt får afpudset quizformen. Der quizzes i dansk musik fra 50’erne og frem til nu\, og der er naturligvis en præmie til vinderholdet. \nOBS! Det er vigtigt at tilmelde sig som hold inden arrangementet (max. 4 personer)\, så vi kender antal deltagere og kan overholde afstandskrav m.m. Tilmelding til Lars Ovesen (larov@naestved.dk).
URL:https://spildansk.dk/kalender/kurts-quiz-klub-spil-dansk-udgave/
LOCATION:Næstved Bibliotek\, Kvægtorvet 4-6\, Næstved\, 4700\, Danmark
CATEGORIES:Rock
ATTACH;FMTTYPE=image/jpeg:https://spildansk.dk/wp-content/uploads/2020/10/Kurts-Musik-Quiz.jpg
END:VEVENT
BEGIN:VEVENT
DTSTART;TZID=Europe/Copenhagen:20201026T190000
DTEND;TZID=Europe/Copenhagen:20201101T200000
DTSTAMP:20260422T142308
CREATED:20200929T072719Z
LAST-MODIFIED:20200929T073422Z
UID:25256-1603738800-1604260800@spildansk.dk
SUMMARY:HOM spiller Dansk Koncerter
DESCRIPTION:På Holbæk & Omegns Musikskole plejer vi at holde en FANTASTISK koncert med MASSER af glade elever\, som fyrer den af i bands\, som solister og i kor. \nI år har corona lukket og slukket for muligheden\, men det skal IKKE stoppe os! \nHOM´s fænomenale musiklærere har lavet optagelser af deres dygtige elever\, og disse videoer bliver lagt på facebook hver dag i uge 44. \nDet bliver forrygende og vi glæder os til at vise en anden måde at fejre Spil Dansk på. \nFølg os på facebook og oplev en anderledes koncert fra HOM;\nhttps://www.facebook.com/hommusikskole
URL:https://spildansk.dk/kalender/hom-spiller-dansk-koncerter/
LOCATION:Holbæk & Omegns Musikskole\, Krovejen 26\, Gundestrup\, Grevinge\, 4571\, Danmark
CATEGORIES:Koncert
ATTACH;FMTTYPE=image/jpeg:https://spildansk.dk/wp-content/uploads/2020/09/SPil-Dansk-2020-på-HOM.jpg
ORGANIZER;CN="Holb%C3%A6k &amp%3B Omegns Musikskole":MAILTO:hom@hom-musik.dk
END:VEVENT
BEGIN:VEVENT
DTSTART;TZID=Europe/Copenhagen:20201026T190000
DTEND;TZID=Europe/Copenhagen:20201101T200000
DTSTAMP:20260422T142308
CREATED:20200929T072926Z
LAST-MODIFIED:20200929T073142Z
UID:25259-1603738800-1604260800@spildansk.dk
SUMMARY:HOM spiller Dansk Koncerter
DESCRIPTION:På Holbæk & Omegns Musikskole plejer vi at holde en FANTASTISK koncert med MASSER af glade elever\, som fyrer den af i bands\, som solister og i kor. \nI år har corona lukket og slukket for muligheden\, men det skal IKKE stoppe os! \nHOM´s fænomenale musiklærere har lavet optagelser af deres dygtige elever\, og disse videoer bliver lagt på facebook hver dag i uge 44. \nDet bliver forrygende og vi glæder os til at vise en anden måde at fejre Spil Dansk på. \nFølg os på facebook og oplev en anderledes koncert fra HOM;\nhttps://www.facebook.com/hommusikskole
URL:https://spildansk.dk/kalender/hom-spiller-dansk-koncerter-2/
LOCATION:Holbæk & Omegns Musikskole\, Krovejen 26\, Gundestrup\, Grevinge\, 4571\, Danmark
CATEGORIES:Koncert
ATTACH;FMTTYPE=image/jpeg:https://spildansk.dk/wp-content/uploads/2020/09/SPil-Dansk-2020-på-HOM-1.jpg
ORGANIZER;CN="Holb%C3%A6k &amp%3B Omegns Musikskole":MAILTO:hom@hom-musik.dk
END:VEVENT
BEGIN:VEVENT
DTSTART;TZID=Europe/Copenhagen:20201026T193000
DTEND;TZID=Europe/Copenhagen:20201026T203000
DTSTAMP:20260422T142308
CREATED:20200902T083709Z
LAST-MODIFIED:20200928T080902Z
UID:24788-1603740600-1603744200@spildansk.dk
SUMMARY:Sankt Annæ Pigekor & Kira Skov i Roskilde Domkirke
DESCRIPTION:Sankt Annæ Pigekor og Kira Skov mødes i 20 års jubilæumssæsonen for ‘Spil Dansk’ og fortolker en række stærke sange af bl.a. Anne Linnet og C.V. Jørgensen. Repertoiret bindes sammen med Kira Skovs egne\, originale sange og komponist Rasmus Zwicki arrangerer musikken for hele ensemblet. Det består udover Kira Skov og Sankt Annæ Pigekor af et hold på fire musikere – med dirigent Anne Marie Granau i spidsen. \nUdover at skabe kunstnerisk indhold er Sankt Annæ Pigekor glade for med dette projekt at være medskaber af sammenhængskraften i dansk kultur og musikliv i en tid\, hvor den er ekstra vigtig. \nMedvirkende: \nSankt Annæ Pigekor \nKira Skov\, solist \nAmalie Staunæs\, cello \nSilas Tinglef\, guitar og percussion \nOliver Hoiness\, guitar og keys \nAnders Christensen\, bas \nAnne Marie Granau\, dirigent \nBilletter sælges på billetto.dk. Der sælges et begrænset antal billetter\, grundet COVID 19 pladshensyn.
URL:https://spildansk.dk/kalender/sankt-annae-pigekor-kira-skov-i-roskilde-domkirke/
LOCATION:Roskilde Domkirke\, Domkirkestræde 10\, Roskilde\, 4000\, Danmark
CATEGORIES:Koncert,Kor
ATTACH;FMTTYPE=image/png:https://spildansk.dk/wp-content/uploads/2020/09/SAG_KIRA_SPIL-DANSK.png
ORGANIZER;CN="Sankt Ann%C3%A6 Gymnasium%2C Sangskolen":MAILTO:jef@sag.dk
END:VEVENT
BEGIN:VEVENT
DTSTART;TZID=Europe/Copenhagen:20201026T193000
DTEND;TZID=Europe/Copenhagen:20201026T210000
DTSTAMP:20260422T142308
CREATED:20200930T080353Z
LAST-MODIFIED:20200930T080353Z
UID:25312-1603740600-1603746000@spildansk.dk
SUMMARY:koncert med SAGA Vokalensemble
DESCRIPTION:koncert
URL:https://spildansk.dk/kalender/koncert-med-saga-vokalensemble/
LOCATION:Søndbjerg Kirke\, Ballevej 3\, Hvidbjerg\, 7790
CATEGORIES:Koncert,Kor
END:VEVENT
END:VCALENDAR