BEGIN:VCALENDAR
VERSION:2.0
PRODID:-//Spil Dansk - ECPv6.5.0//NONSGML v1.0//EN
CALSCALE:GREGORIAN
METHOD:PUBLISH
X-WR-CALNAME:Spil Dansk
X-ORIGINAL-URL:https://spildansk.dk
X-WR-CALDESC:Events for Spil Dansk
REFRESH-INTERVAL;VALUE=DURATION:PT1H
X-Robots-Tag:noindex
X-PUBLISHED-TTL:PT1H
BEGIN:VTIMEZONE
TZID:Europe/Copenhagen
BEGIN:DAYLIGHT
TZOFFSETFROM:+0100
TZOFFSETTO:+0200
TZNAME:CEST
DTSTART:20190331T010000
END:DAYLIGHT
BEGIN:STANDARD
TZOFFSETFROM:+0200
TZOFFSETTO:+0100
TZNAME:CET
DTSTART:20191027T010000
END:STANDARD
END:VTIMEZONE
BEGIN:VEVENT
DTSTART;TZID=Europe/Copenhagen:20191029T100000
DTEND;TZID=Europe/Copenhagen:20191029T110000
DTSTAMP:20260421T132736
CREATED:20190902T115852Z
LAST-MODIFIED:20190902T115852Z
UID:19902-1572343200-1572346800@spildansk.dk
SUMMARY:Min Mormors Gebis - Dissing og Las synger Strid
DESCRIPTION:Den anmelderroste trio Dissing & Las har givet Jakob Martin Strids ny-klassiker ”Min mormors gebis” en lydside i tråd med bogens anarkistiske appel til både børn og voksne\, så nu kan Strids elskede børnerim nydes både på album og opleves live til familie-koncerter for børn og deres voksne – og det sker i Spil Dansk-ugen i Slagelse Musikhus!\nDer er frække numre\, eftertænksomme numre og numre spækket med detaljer og finurlige reallyde. Dissing & Las ”Min mormors gebis”\, er en musikalsk fortolkning af Jakob Martin Strids bestseller-børnebog af samme navn. En bog\, der har solgt 37.000 fysiske eksemplarer. Og fordi bogen sprudler\, gør trioen det samme og spænder fra folk og rock over reggae til rendyrket pop. \nJonas Dissing fortæller: “Kigger man på bogens tegninger\, bliver man let inspireret til at flippe ud i alle mulige retninger. Og vi har ladet os rive med. En del børneplader lyder lidt som om\, de er tilpasset at skulle køre i baggrunden uden at genere nogen. Men vi har ønsket at nå dertil\, hvor det blev en fælles oplevelse for børn og voksne\, ligesom bogen. Vi har tænkt: ’Hvad ville Jakob synes om det her?’ Sangene skulle have noget af hans anarki\, så det er blevet et børnealbum med lidt horn i panden”.\nSamarbejdets startede\, da Jakob Martin Strid over hals og hoved bad trioen om at sætte musik til en tekst i forbindelse med\, at han fik Kronprinsparrets Kulturpris. Dissing & Las lavede ’Grønlands is’\, og alle var så glade for resultatet\, at samarbejdet blev udvidet til at omfatte hele den bramfri bog om medisterminister Fister\, om et araberkomplot mod en rabarberkompot og om hvaler i Holmens Kanal.\n“Vi har alle sammen elsket Strid siden de flabede striber i Politiken. Og ’Min mormors gebis’ har vi en stærk relation til\, fordi vi hver især har siddet med den bog sammen med de mennesker\, vi elsker højest i verden”\, siger Rasmus Dissing.
URL:https://spildansk.dk/kalender/min-mormors-gebis-dissing-og-las-synger-strid/
LOCATION:Slagelse Musikhus\, Sdr. Stationsvej 3-5\, Slagelse\, Danmark
CATEGORIES:Musik til børn
ATTACH;FMTTYPE=image/jpeg:https://spildansk.dk/wp-content/uploads/2019/09/dissingoglas_prfoto_Børn.jpg
END:VEVENT
BEGIN:VEVENT
DTSTART;TZID=Europe/Copenhagen:20191029T100000
DTEND;TZID=Europe/Copenhagen:20191029T110000
DTSTAMP:20260421T132736
CREATED:20190923T132921Z
LAST-MODIFIED:20190924T080305Z
UID:20397-1572343200-1572346800@spildansk.dk
SUMMARY:Musik og sundhed
DESCRIPTION:Musik og fællesskab ved Tine Mynster på Lærkehuset.
URL:https://spildansk.dk/kalender/musik-og-sundhed/
LOCATION:Lærkehuset\, Voldgade 14\, Struer\, 7600
END:VEVENT
BEGIN:VEVENT
DTSTART;TZID=Europe/Copenhagen:20191029T100000
DTEND;TZID=Europe/Copenhagen:20191029T110000
DTSTAMP:20260421T132736
CREATED:20190925T114551Z
LAST-MODIFIED:20190925T114551Z
UID:20501-1572343200-1572346800@spildansk.dk
SUMMARY:GAKKEDE SANGE FRA ROSKILDE
DESCRIPTION:Musikkollektivet Tikke Takke afholder i løbet af efteråret workshops i sangskrivning og historiefortælling med børnehuse i Roskilde sammen med Roskilde Kulturskole. Børnene\, der selv er med til at skrive sangene\, gæsteoptræder med Tikke Takke orkesteret\, når de spiller koncert for børnehuse fra hele Roskilde. Koncerten er en del af Spil Dansk ugen og er støttet af KODA. \nTikke Takke er et samarbejde mellem musiker/komponist Andreas Ugorskij og historiefortæller Hans Laurens. Andreas og Hans har en fest\, når de digter sange og fortællinger med hundredevis af børn. Tikke Takke udgav i 2018 nodehæftet og albummet ‘Gakkede sange fra verdenshavet’ – sange skrevet i dialog med Amager børn. \nNu er turen kommet til Roskildes børn – og der bliver digtet om venskaber\, hverdag og de mærkelige voksne sammen med de to kunstnere i løbet af ugerne op til dagens koncert. \nBandet er et hold bestående af de sejeste professionelle musikere inden for jazz\, world og pop. \nLyt til Krabben Ken her. \nAndreas Ugorskij: guitar og vokal\, Hans Laurens: vokal\, Nana Schwartzlose: vokal\, Ole Reimer: trompet\, Hans Find Møller: bas\, Morten Ærø: Trommer
URL:https://spildansk.dk/kalender/gakkede-sange-fra-roskilde/
LOCATION:Gimle\, Roskilde\, Helligkorsvej 2\, Roskilde\, 4000\, Danmark
CATEGORIES:Musik til børn
ATTACH;FMTTYPE=image/jpeg:https://spildansk.dk/wp-content/uploads/2019/09/VGlra2UgVGFra2UgaW5rbC4gS09EQSBMb2dv_600x600-1.jpg
ORGANIZER;CN="Gimle":MAILTO:mail@gimle.dk
END:VEVENT
BEGIN:VEVENT
DTSTART;TZID=Europe/Copenhagen:20191029T100000
DTEND;TZID=Europe/Copenhagen:20191029T110000
DTSTAMP:20260421T132736
CREATED:20190926T071041Z
LAST-MODIFIED:20190926T071041Z
UID:20546-1572343200-1572346800@spildansk.dk
SUMMARY:Tikke Takke: Gakkede sange fra Roskilde
DESCRIPTION:Tikke Takke afholder i løbet af efteråret workshops i sangskrivning og historiefortælling med børnehuse i Roskilde sammen med Roskilde Kulturskole. Børnene\, der selv er med til at skrive sangene\, gæsteoptræder med Tikke Takke orkesteret\, når de spiller koncert for børnehuse fra hele Roskilde. \nTikke Takke er et samarbejde mellem musiker/komponist Andreas Ugorskij og historiefortæller Hans Laurens. Andreas og Hans har en fest\, når de digter sange og fortællinger med hundredevis af børn. Tikke Takke udgav i 2018 nodehæftet og albummet ‘Gakkede sange fra verdenshavet’ – sange skrevet i dialog med Amager børn. \nNu er turen kommet til Roskildes børn – og der bliver digtet om venskaber\, hverdag og de mærkelige voksne sammen med de to kunstnere i løbet af ugerne op til dagens koncert. \nBandet er et hold bestående af de sejeste professionelle musikere inden for jazz\, world og pop. \nLyt til Krabben Ken her. \nAndreas Ugorskij: guitar og vokal\, Hans Laurens: vokal\, Nana Schwartzlose: vokal\, Ole Reimer: trompet\, Hans Find Møller: bas\, Morten Ærø: Trommer
URL:https://spildansk.dk/kalender/tikke-takke-gakkede-sange-fra-roskilde/
LOCATION:Gimle\, Roskilde\, Helligkorsvej 2\, Roskilde\, 4000\, Danmark
CATEGORIES:Jazz,Viser
ATTACH;FMTTYPE=image/png:https://spildansk.dk/wp-content/uploads/2019/09/Skærmbillede-2019-09-02-kl.-11.44.39.png
ORGANIZER;CN="Roskilde Kulturskole":MAILTO:kulturskolen@roskilde.dk
END:VEVENT
BEGIN:VEVENT
DTSTART;TZID=Europe/Copenhagen:20191029T100000
DTEND;TZID=Europe/Copenhagen:20191029T110000
DTSTAMP:20260421T132736
CREATED:20191004T101525Z
LAST-MODIFIED:20191004T101525Z
UID:20888-1572343200-1572346800@spildansk.dk
SUMMARY:De små synger i kirken
DESCRIPTION:I anledningen af  Spil Dansk ugen besøger byens dagplejebørn og børnehavebørn Stillinge Kirke\, hvor de synger med og for hinanden og for alle\, der har lyst at kigge ind.
URL:https://spildansk.dk/kalender/de-smaa-synger-i-kirken-3/
LOCATION:Stillinge Kirke\, Stillingevej 55\, Slagelse\, 4200\, Danmark
CATEGORIES:Fællessang,Musik til børn
END:VEVENT
BEGIN:VEVENT
DTSTART;TZID=Europe/Copenhagen:20191029T100000
DTEND;TZID=Europe/Copenhagen:20191029T110000
DTSTAMP:20260421T132736
CREATED:20191021T195456Z
LAST-MODIFIED:20191021T195504Z
UID:22070-1572343200-1572346800@spildansk.dk
SUMMARY:Skolekoncert: Soluna Samay
DESCRIPTION:I forbindelse med Spil Dansk ugen sætter vi spot på kvindelige forbilleder og tilbyder dermed de lokale 9. klasser at komme gratis til koncert inkl. artist talk. \nSangerinden Soluna Samay har været at finde på den danske scene i en årrække. Hun har 3 albums bag sig\, over 4 millioner streams på Spotify og er for tiden aktuel med EP’en ‘Northern Wind’\, som er et stillbillede på den musikalske og personlige dannelsesrejse\, hun har gennemgået de seneste år. En EP\, som både har glimt i øjet\, overskud\, eftertænksomhed og afklaring.\n‘Northern Wind’ viser en mere folk’et side af den populære sangerinde. Hendes sange kredser om at føle en rodløshed og rastløshed\, men samtidig være bevidst om\, hvor man hører hjemme – temaer som udspringer fra den multifacetterede identitet\, man får\, når man vokser op i Guatemala og på Bornholm med en tysk far og en schweizisk mor. \n  \nKoncerten er et samarbejde med Viby Bibliotek\nog\nstøttet af Roskilde Kommune ifm. Spil Dansk
URL:https://spildansk.dk/kalender/skolekoncert-soluna-samay/
LOCATION:KulturCosmos\, Søndergade 13\, Viby Sj.\, 4130
ATTACH;FMTTYPE=image/jpeg:https://spildansk.dk/wp-content/uploads/2019/10/Soluna_Samay1-1417x700.jpg
ORGANIZER;CN="KulturCosmos":MAILTO:info@kulturcosmos.dk
END:VEVENT
BEGIN:VEVENT
DTSTART;TZID=Europe/Copenhagen:20191029T100000
DTEND;TZID=Europe/Copenhagen:20191029T110000
DTSTAMP:20260421T132736
CREATED:20191023T105008Z
LAST-MODIFIED:20191023T105008Z
UID:22511-1572343200-1572346800@spildansk.dk
SUMMARY:Hjertelys
DESCRIPTION:LMS-Familiekoncert i forbindelse med Spil Dansk Ugen 2019.
URL:https://spildansk.dk/kalender/hjertelys-5/
LOCATION:Kastrupgårdskolen\, Blåklokkevej 1\, Kastrup\, 2770\, Denmark
END:VEVENT
BEGIN:VEVENT
DTSTART;TZID=Europe/Copenhagen:20191029T100000
DTEND;TZID=Europe/Copenhagen:20191029T110000
DTSTAMP:20260421T132736
CREATED:20191028T093147Z
LAST-MODIFIED:20191028T093147Z
UID:22920-1572343200-1572346800@spildansk.dk
SUMMARY:Musik
DESCRIPTION:Sang og musik for demente borgere/brugere i Lærkehuset\, Svalegangen og Dagcenteret i Struer.
URL:https://spildansk.dk/kalender/musik/
LOCATION:Vestcenter Kilen\, Voldgade 14\, Struer\, 7600
CATEGORIES:Fællessang
END:VEVENT
BEGIN:VEVENT
DTSTART;TZID=Europe/Copenhagen:20191029T100000
DTEND;TZID=Europe/Copenhagen:20191029T113000
DTSTAMP:20260421T132736
CREATED:20191023T072003Z
LAST-MODIFIED:20191023T072003Z
UID:22357-1572343200-1572348600@spildansk.dk
SUMMARY:Fællestime
DESCRIPTION:Fællestime i skolens festsal. Der synges fællessange og skolens musikhold optræder
URL:https://spildansk.dk/kalender/faellestime/
LOCATION:Randers HF og VUC\, Nålemagervej 110\, Randers NV\, 8920
CATEGORIES:Koncert,Fællessang
END:VEVENT
BEGIN:VEVENT
DTSTART;TZID=Europe/Copenhagen:20191029T101000
DTEND;TZID=Europe/Copenhagen:20191029T111000
DTSTAMP:20260421T132736
CREATED:20191023T104952Z
LAST-MODIFIED:20191023T104952Z
UID:22509-1572343800-1572347400@spildansk.dk
SUMMARY:Krøyer & Winding
DESCRIPTION:LMS-Familiekoncert i forbindelse med Spil Dansk Ugen 2019.
URL:https://spildansk.dk/kalender/kroeyer-winding-2/
LOCATION:Karensmindeskole\, Mastrupvej 75\, Støvring\, 9530\, Denmark
END:VEVENT
BEGIN:VEVENT
DTSTART;TZID=Europe/Copenhagen:20191029T103000
DTEND;TZID=Europe/Copenhagen:20191029T113000
DTSTAMP:20260421T132736
CREATED:20190916T130044Z
LAST-MODIFIED:20190916T130044Z
UID:20277-1572345000-1572348600@spildansk.dk
SUMMARY:Ringsted Synger
DESCRIPTION:Lærerorkester fra Ringsted Musik & Kulturskole spiller\, synger og danser med alle 0. + 1. klasser Ringsted Kommune
URL:https://spildansk.dk/kalender/ringsted-synger-2/
LOCATION:Ringsted Kongrescenter\, Nørretorv 55\, Ringsted\, Danmark
CATEGORIES:Musik til børn
ATTACH;FMTTYPE=image/png:https://spildansk.dk/wp-content/uploads/2019/09/Ringsted_musik_logo_cmyk.png
END:VEVENT
BEGIN:VEVENT
DTSTART;TZID=Europe/Copenhagen:20191029T103000
DTEND;TZID=Europe/Copenhagen:20191029T113000
DTSTAMP:20260421T132736
CREATED:20191003T094806Z
LAST-MODIFIED:20191003T094806Z
UID:20797-1572345000-1572348600@spildansk.dk
SUMMARY:Spil Dansk på Carolineparken
DESCRIPTION:De Glade spillemænd underholder.\nKaffe kan købes.
URL:https://spildansk.dk/kalender/spil-dansk-paa-carolineparken/
LOCATION:Carolineparken\, Carolineparken 1a\, Varde\, 6800
CATEGORIES:Folk
ATTACH;FMTTYPE=image/png:https://spildansk.dk/wp-content/uploads/2019/10/grafik-facebook-banner-3.png
END:VEVENT
BEGIN:VEVENT
DTSTART;TZID=Europe/Copenhagen:20191029T103000
DTEND;TZID=Europe/Copenhagen:20191029T113000
DTSTAMP:20260421T132736
CREATED:20191021T111716Z
LAST-MODIFIED:20191021T111924Z
UID:21981-1572345000-1572348600@spildansk.dk
SUMMARY:Kom og Syng – og Leg med Rytmetrolden Ann
DESCRIPTION:Plejehjemsbeboere\, pårørende\, ansatte og Samsøs børn med deres voksne inviteres til sang og leg i fællesskab.
URL:https://spildansk.dk/kalender/kom-og-syng-og-leg-med-rytmetrolden-ann-2/
LOCATION:Plejecenter Kildemosen\, Kildemosen 7\, Tranebjerg\, Samsø\, 8305
CATEGORIES:Fællessang,Musik til børn,Workshop
END:VEVENT
BEGIN:VEVENT
DTSTART;TZID=Europe/Copenhagen:20191029T103000
DTEND;TZID=Europe/Copenhagen:20191029T113000
DTSTAMP:20260421T132736
CREATED:20191022T075000Z
LAST-MODIFIED:20191022T075000Z
UID:22159-1572345000-1572348600@spildansk.dk
SUMMARY:Drums Across
DESCRIPTION:Koncert for 3-4 klasser og familie fra Bjergmarken skole.
URL:https://spildansk.dk/kalender/drums-across-3/
LOCATION:Elværket – Holbæk\, Gasværksvej 9\, Holbæk\, 4300\, Danmark
CATEGORIES:Koncert
END:VEVENT
BEGIN:VEVENT
DTSTART;TZID=Europe/Copenhagen:20191029T103000
DTEND;TZID=Europe/Copenhagen:20191029T120000
DTSTAMP:20260421T132736
CREATED:20191014T065315Z
LAST-MODIFIED:20191014T065315Z
UID:21337-1572345000-1572350400@spildansk.dk
SUMMARY:Kom og syng - og leg med Rytmetrolden Ann
DESCRIPTION:Rytmetrolden Ann har pakket hulahopringe\, sjove instrumenter\, ærteposer og faldskærme og er klar til at skabe fest\, smil og glæde! Både for børn\, men også for dem\, der har været børn for længe siden… \nFor beboere\, pårørende\, børnehaverne og dagplejerne.
URL:https://spildansk.dk/kalender/kom-og-syng-og-leg-med-rytmetrolden-ann/
LOCATION:Plejecenter Kildemosen\, Kildemosen 7\, Tranebjerg\, Samsø\, 8305
CATEGORIES:Fællessang
END:VEVENT
BEGIN:VEVENT
DTSTART;TZID=Europe/Copenhagen:20191029T103000
DTEND;TZID=Europe/Copenhagen:20191029T123000
DTSTAMP:20260421T132736
CREATED:20190927T082408Z
LAST-MODIFIED:20190927T082408Z
UID:20611-1572345000-1572352200@spildansk.dk
SUMMARY:Spil Dansk: Rapolitics på Randers HF og VUC
DESCRIPTION:Med en workshop på Randers HF og VUC faciliterer rapcoaches en dialog med deltagere og underviser dem i at omsætte deres meninger til rap-tekster. Som afrunding får alle deltagere mulighed for at indtage “scenen” på egen hånd\, og performe deres raptekster over for de øvrige deltagere. \nTemaet for workshoppen er Hiphop og demokratisk mod – en rapworkshop om medborgerskab og demokratisk deltagelse gennem kunst og hiphopkultur. \nSpil Dansk er musiklivets festuge\, der altid foregår i uge 44. Siden 2001 har Spil Dansk været Danmarks største musikbegivenhed i al sin bredde og mangfoldighed af arrangementer. Turbinen\, Randers Bibliotek\, Randers Kommune og Randers Eventsekretariat er lokale arrangører. Det sker i samarbejde med blandt andre lokale bands\, musikkorps\, -ensembler og -kor. Målet er at skabe glæde og øge kendskabet til musik med dansk afsæt – herunder udfolde musikken i nye og anderledes rammer.
URL:https://spildansk.dk/kalender/spil-dansk-rapolitics-paa-randers-hf-og-vuc/
LOCATION:Randers HF og VUC\, Nålemagervej 110\, Randers NV\, 8920
CATEGORIES:Workshop
END:VEVENT
BEGIN:VEVENT
DTSTART;TZID=Europe/Copenhagen:20191029T103500
DTEND;TZID=Europe/Copenhagen:20191029T113500
DTSTAMP:20260421T132736
CREATED:20191023T105245Z
LAST-MODIFIED:20191023T105245Z
UID:22535-1572345300-1572348900@spildansk.dk
SUMMARY:Gospel Sisters
DESCRIPTION:LMS-Familiekoncert i forbindelse med Spil Dansk Ugen 2019.
URL:https://spildansk.dk/kalender/gospel-sisters-2/
LOCATION:Sct. Nicolai Skole\, H. C. Andersensgade\, Køge\, 4600\, Denmark
END:VEVENT
BEGIN:VEVENT
DTSTART;TZID=Europe/Copenhagen:20191029T104500
DTEND;TZID=Europe/Copenhagen:20191029T114500
DTSTAMP:20260421T132736
CREATED:20191023T105101Z
LAST-MODIFIED:20191023T105101Z
UID:22519-1572345900-1572349500@spildansk.dk
SUMMARY:Verdenssange med Vingefang
DESCRIPTION:LMS-Familiekoncert i forbindelse med Spil Dansk Ugen 2019.
URL:https://spildansk.dk/kalender/verdenssange-med-vingefang/
LOCATION:Nordbyskolen\, Nordby Allé 2\, Nykøbing F\, 4800\, Denmark
END:VEVENT
BEGIN:VEVENT
DTSTART;TZID=Europe/Copenhagen:20191029T110000
DTEND;TZID=Europe/Copenhagen:20191029T120000
DTSTAMP:20260421T132736
CREATED:20190816T084641Z
LAST-MODIFIED:20190816T084641Z
UID:19657-1572346800-1572350400@spildansk.dk
SUMMARY:Intimkoncert
DESCRIPTION:Intimkoncert med Anders Gantriis for ældrecenterets beboere.
URL:https://spildansk.dk/kalender/intimkoncert-2/
LOCATION:Ældrecenteret Havbakken\, Købstedvej 6\, Tornby\, 9850
CATEGORIES:Viser
END:VEVENT
BEGIN:VEVENT
DTSTART;TZID=Europe/Copenhagen:20191029T110000
DTEND;TZID=Europe/Copenhagen:20191029T120000
DTSTAMP:20260421T132736
CREATED:20191014T065545Z
LAST-MODIFIED:20191014T065545Z
UID:21341-1572346800-1572350400@spildansk.dk
SUMMARY:Musik og Sundhed
DESCRIPTION:Esben Just Solo gæster plejecenter Kildemosen
URL:https://spildansk.dk/kalender/musik-og-sundhed-2/
LOCATION:Plejecenter Kildemosen\, Kildemosen 7\, Tranebjerg\, Samsø\, 8305
CATEGORIES:Koncert
END:VEVENT
BEGIN:VEVENT
DTSTART;TZID=Europe/Copenhagen:20191029T110000
DTEND;TZID=Europe/Copenhagen:20191029T120000
DTSTAMP:20260421T132736
CREATED:20191015T115422Z
LAST-MODIFIED:20191015T115422Z
UID:21555-1572346800-1572350400@spildansk.dk
SUMMARY:Livekoncert
DESCRIPTION:Musik og sundhed
URL:https://spildansk.dk/kalender/livekoncert/
LOCATION:Ældrecenteret Havbakken\, Købstedvej 6\, Tornby\, 9850
CATEGORIES:Alternative
ORGANIZER;CN="Spil Dansk":MAILTO:info@spildansk.dk
END:VEVENT
BEGIN:VEVENT
DTSTART;TZID=Europe/Copenhagen:20191029T110000
DTEND;TZID=Europe/Copenhagen:20191029T120000
DTSTAMP:20260421T132736
CREATED:20191023T105025Z
LAST-MODIFIED:20191023T105025Z
UID:22513-1572346800-1572350400@spildansk.dk
SUMMARY:Mads Vinding & Øyvind Ougaard
DESCRIPTION:LMS-Familiekoncert i forbindelse med Spil Dansk Ugen 2019.
URL:https://spildansk.dk/kalender/mads-vinding-oeyvind-ougaard-8/
LOCATION:Kildebakkeskolen\, Soldalen 8\, Vildbjerg\, 7480\, Danmark
END:VEVENT
BEGIN:VEVENT
DTSTART;TZID=Europe/Copenhagen:20191029T120000
DTEND;TZID=Europe/Copenhagen:20191029T140000
DTSTAMP:20260421T132736
CREATED:20191016T101801Z
LAST-MODIFIED:20191016T102630Z
UID:21631-1572350400-1572357600@spildansk.dk
SUMMARY:’Spil dansk solisterier’  med Tove Hyldgaard & Henrik Krogsgaard
DESCRIPTION:UDSOLGT. Sangerinden Tove Hyldgaard og pianisten Henrik Krogsgaard præsenterer et alsangsprogram med danske sange under titlen ” Så syng da…..dansk “. Tove Hyldgaard synger solo\,  sammen med publikum og fortæller også om sangenes oprindelse. Til dette arrangement spiser vi sammen kl. 12.00 og menuen består af noget så dansk som frikadeller m. kartoffelsalat og dagens grønt\, rødgrød med fløde samt kaffe. Arrangementet er for brugerne af Aktivitetscentret i Glostrup Kommune\, som er et aktivt mødested for kommunens pensionister og efterlønnere. \nArrangementet er blevet til med støtte fra Glostrup Kommunes kulturpulje.
URL:https://spildansk.dk/kalender/spil-dansk-solisterier-med-tove-hyldgaard-henrik-krogsgaard/
LOCATION:Aktivitetscentret\, Sydvestvej\, Glostrup\, 2600
CATEGORIES:Koncert
ATTACH;FMTTYPE=image/jpeg:https://spildansk.dk/wp-content/uploads/2019/10/ToveHyldgaard_pressefoto3-e1558511957386.jpg
ORGANIZER;CN="Glostrup Musikskole":MAILTO:musikskolen@glostrup.dk
END:VEVENT
BEGIN:VEVENT
DTSTART;TZID=Europe/Copenhagen:20191029T120000
DTEND;TZID=Europe/Copenhagen:20191101T120000
DTSTAMP:20260421T132736
CREATED:20191014T070306Z
LAST-MODIFIED:20191014T070306Z
UID:21346-1572350400-1572609600@spildansk.dk
SUMMARY:Book en frokostsang
DESCRIPTION:Tirsdag til fredag i uge 44 kan I få besøg af en vaskeægte operasanger i det store skrud og hendes eminente pianist i jeres frokostpause. Vi varmer jer op\, laver sjove sangøvelser og synger et par danske sange og kanons sammen med jer. \nBooking: Lise Christensen – lise@soeholmopera.com eller telefon: 5239 5967
URL:https://spildansk.dk/kalender/book-en-frokostsang/
LOCATION:Samsø
CATEGORIES:Fællessang
END:VEVENT
BEGIN:VEVENT
DTSTART;TZID=Europe/Copenhagen:20191029T120500
DTEND;TZID=Europe/Copenhagen:20191029T130500
DTSTAMP:20260421T132736
CREATED:20191023T104818Z
LAST-MODIFIED:20191023T104818Z
UID:22495-1572350700-1572354300@spildansk.dk
SUMMARY:Wenzell & Bugge
DESCRIPTION:LMS-Familiekoncert i forbindelse med Spil Dansk Ugen 2019.
URL:https://spildansk.dk/kalender/wenzell-bugge/
LOCATION:Ejby Skole\, Ejby\, Middelfart\, Danmark
END:VEVENT
BEGIN:VEVENT
DTSTART;TZID=Europe/Copenhagen:20191029T121500
DTEND;TZID=Europe/Copenhagen:20191029T131500
DTSTAMP:20260421T132736
CREATED:20191023T105107Z
LAST-MODIFIED:20191023T105107Z
UID:22520-1572351300-1572354900@spildansk.dk
SUMMARY:Verdenssange med Vingefang
DESCRIPTION:LMS-Familiekoncert i forbindelse med Spil Dansk Ugen 2019.
URL:https://spildansk.dk/kalender/verdenssange-med-vingefang-2/
LOCATION:Nordbyskolen\, Nordby Allé 2\, Nykøbing F\, 4800\, Denmark
END:VEVENT
BEGIN:VEVENT
DTSTART;TZID=Europe/Copenhagen:20191029T123000
DTEND;TZID=Europe/Copenhagen:20191029T133000
DTSTAMP:20260421T132736
CREATED:20191023T105205Z
LAST-MODIFIED:20191023T105205Z
UID:22529-1572352200-1572355800@spildansk.dk
SUMMARY:Cirkeline og Coco rejser til Afrika
DESCRIPTION:LMS-Familiekoncert i forbindelse med Spil Dansk Ugen 2019.
URL:https://spildansk.dk/kalender/cirkeline-og-coco-rejser-til-afrika-5/
LOCATION:Rolighed Skolen\, Kastanievej 80\, Thisted\, 7700\, Denmark
END:VEVENT
BEGIN:VEVENT
DTSTART;TZID=Europe/Copenhagen:20191029T130000
DTEND;TZID=Europe/Copenhagen:20191029T140000
DTSTAMP:20260421T132736
CREATED:20191011T132457Z
LAST-MODIFIED:20191011T132457Z
UID:21292-1572354000-1572357600@spildansk.dk
SUMMARY:Spil Dansk-bussen på Næstved Bibliotek
DESCRIPTION:Musikskolens forskellige børnekor kører traditionen tro rundt i Næstved kommune og giver koncerter i Spil Dansk-ugen – også på Næstved Bibliotek\n\n\n\n\n\nMusikskolens dygtige\, sangglade elever optræder 5 forskellige steder og slutter af med en offentlig koncert på Næstved Bibliotek kl. 13. \nHer kan I opleve Voice Factory\, Rytmisk Børnekor\, Korskildekoret og Fridas Superkor under ledelse af Ulla Britt Simonsen\, Frida Fridriksdottir og Helle Møller. \nDer bliver masser af dansk musik og godt humør.
URL:https://spildansk.dk/kalender/spil-dansk-bussen-paa-naestved-bibliotek/
LOCATION:Næstved Bibliotek\, Kvægtorvet 4-6\, Næstved\, 4700\, Danmark
CATEGORIES:Koncert,Kor
ATTACH;FMTTYPE=image/jpeg:https://spildansk.dk/wp-content/uploads/2019/10/spil-dansk-bussen.jpg
END:VEVENT
BEGIN:VEVENT
DTSTART;TZID=Europe/Copenhagen:20191029T130000
DTEND;TZID=Europe/Copenhagen:20191029T140000
DTSTAMP:20260421T132736
CREATED:20191021T073912Z
LAST-MODIFIED:20191021T073912Z
UID:21916-1572354000-1572357600@spildansk.dk
SUMMARY:KULTURSKOLEN SKANDERBORG GIVER KONCERT PÅ BJEDSTRUP SKOLE
DESCRIPTION:Bjedstrup Skole får besøg af Kulturskolen Skanderborg\, hvor flere musiklærere og elever spiller gratis for Bjedstrup Skoles elever og personale. Der vil blive spillet meget forskelligt musik fra den danske sangskat\, og Bjedstrup Skoles elever skal selvfølgelig synge med.
URL:https://spildansk.dk/kalender/kulturskolen-skanderborg-giver-koncert-paa-bjedstrup-skole/
LOCATION:bjedstrup skole\, Bjedstrup Skole\, Bjedstrup
CATEGORIES:Koncert
ATTACH;FMTTYPE=image/jpeg:https://spildansk.dk/wp-content/uploads/2019/10/DSCF0992-1.jpg
END:VEVENT
BEGIN:VEVENT
DTSTART;TZID=Europe/Copenhagen:20191029T130000
DTEND;TZID=Europe/Copenhagen:20191029T150000
DTSTAMP:20260421T132736
CREATED:20191017T090845Z
LAST-MODIFIED:20191017T090845Z
UID:21718-1572354000-1572361200@spildansk.dk
SUMMARY:M.C. Hansen
DESCRIPTION:Under temaet “Musik og Sundhed” vil Richter til dette arrangement lægge hus til en beroligende intimkoncert for en udvalgt patientgruppe\, hvor musikken kan bidrage til lindring i et sygeforløb. Arrangementet tager udgangspunkt i musikkens sundhedsfremmende muligheder\, og varetages af den professionelle sanger og sangskriver M.C. Hansen\, der vil spille\, fortælle og underholde. \nDet er de gode historier med finurlige detaljer og øje for det store i det små\, der er i fokus\, når den prisvindende singer-songwriter og historiefortæller M.C. Hansen går på scenen. Den 25. maj 2019 udkom hans første dansksprogede album\, Alter ego//Ego alter\, et moderne visealbum. \nM.C. Hansen har vundet flere priser – blandt andet blev han Årets Sangskriver ved Danish Music Awards Folk 2017\, Årets musikalske iværksætter 2018 og komponistforeningen DPA tildelte ham i 2018 deres Påskønnelseslegat. Når han går på scenen med sin guitar og sin faste makker Jacob Chano på harmonium og klaver\, er nøgleorde nærvær\, historiefortælling og gode melodier. \nArrangementet er en del af Spil Dansk Ugen på Richter\, som præsenteres i samarbejde med Telefonfabrikken\, Gladsaxe Musik- og Billedskole\, Gladsaxe Bibliotekerne og UniG.
URL:https://spildansk.dk/kalender/m-c-hansen/
LOCATION:Richter\, Søborg\, Gladsaxe\, Danmark
CATEGORIES:Koncert,Singer-songwriter
ATTACH;FMTTYPE=image/jpeg:https://spildansk.dk/wp-content/uploads/2019/10/MC-med-logo.jpg
ORGANIZER;CN="Richter":MAILTO:info@richter-gladsaxe.dk
END:VEVENT
END:VCALENDAR