BEGIN:VCALENDAR
VERSION:2.0
PRODID:-//Spil Dansk - ECPv6.5.0//NONSGML v1.0//EN
CALSCALE:GREGORIAN
METHOD:PUBLISH
X-ORIGINAL-URL:https://spildansk.dk
X-WR-CALDESC:Events for Spil Dansk
REFRESH-INTERVAL;VALUE=DURATION:PT1H
X-Robots-Tag:noindex
X-PUBLISHED-TTL:PT1H
BEGIN:VTIMEZONE
TZID:Europe/Copenhagen
BEGIN:DAYLIGHT
TZOFFSETFROM:+0100
TZOFFSETTO:+0200
TZNAME:CEST
DTSTART:20200329T010000
END:DAYLIGHT
BEGIN:STANDARD
TZOFFSETFROM:+0200
TZOFFSETTO:+0100
TZNAME:CET
DTSTART:20201025T010000
END:STANDARD
END:VTIMEZONE
BEGIN:VEVENT
DTSTART;TZID=Europe/Copenhagen:20201026T080000
DTEND;TZID=Europe/Copenhagen:20201026T233000
DTSTAMP:20260422T045522
CREATED:20201023T193821Z
LAST-MODIFIED:20201023T193821Z
UID:26727-1603699200-1603755000@spildansk.dk
SUMMARY:Heidi Bisgaard og Rebecca Bruhn - Sydslesvig 2020
DESCRIPTION:Grundet Corona finder Spil Dansk Sydslesvig i dette år digitalt sted.\nHeidi Bisgaard er kandidat med speciale i sang\, korledelse og børnemusik. Heidi brænder for at give min glæde ved musikken videre\, uanset alder og erfaring. Ud over at være leder for flere kor og vokalgrupper\, lever Heidi af at synge gospel og lave musikalsk teambuilding for skoler\, firmaer\, til fester og andre arr. Workshops for børn\, kirker med eget musik samt gospelgenren er også en stor del af Heidis virke. Rebecca Bruhn er pianist og en yderst erfaren akkompagnatør og underviser. Hun er uddannet fra det jyske musikkonservatorium\, Aalborg og fast pianist i Aalborg Groovy Gospel samt freelancer i hele Danmark.
URL:https://spildansk.dk/kalender/heidi-bisgaard-og-rebecca-bruhn-sydslesvig-2020/
LOCATION:Digitalt\, -\, -\, -
CATEGORIES:Digital arrangement,Koncert
END:VEVENT
BEGIN:VEVENT
DTSTART;TZID=Europe/Copenhagen:20201026T080000
DTEND;TZID=Europe/Copenhagen:20201026T233000
DTSTAMP:20260422T045522
CREATED:20201023T194143Z
LAST-MODIFIED:20201023T194143Z
UID:26730-1603699200-1603755000@spildansk.dk
SUMMARY:Laursen Live Session - Sydslesvig 2020
DESCRIPTION:Grundet Corona finder Spil Dansk Sydslesvig i dette år digitalt sted. \nLAURSEN er original og prisvindende sangskriver\, der bevæger sig mellem folk og pop. D. 1. juni 2018 udgav han debutalbummet NUTIDSLEVN\, som vakte begejstring hos anmelderne og modtog rosende omtale i pressen\, mens flere af sangene fandt vej til P4 og P5. \nLaursen skriver skarpe\, relevante og farverige sange om samfundet og danskerne\, og lyrikken leder ofte tankerne hen på troubadourer som Jan Toftlund\, Niels Skousen og Allan Olsen. \nI starten af 2019 blev Laursen nomineret til hele to GAFFA-priser som ÅRETS NYE NAVN og ÅRETS SOLIST\, og i maj måned blev Laursen tildelt sangskriver-prisen ÅRETS HELGE 2019. \nI 2019 kan Laursen blandt andet opleves på Skagen Festival\, Tønder Festival\, Musik over Præstø Fjord og Kun For Forrykte Festival. \n”Et niveau\, som selv en Allan Olsen skulle have en virkelig god dag for at matche. Velkommen til Laursen som en af folkets nye stolte spillemænd.”
URL:https://spildansk.dk/kalender/laursen-live-session-sydslesvig-2020/
LOCATION:Digitalt\, -\, -\, -
CATEGORIES:Digital arrangement,Koncert
END:VEVENT
BEGIN:VEVENT
DTSTART;TZID=Europe/Copenhagen:20201026T083000
DTEND;TZID=Europe/Copenhagen:20201026T093000
DTSTAMP:20260422T045522
CREATED:20201009T114444Z
LAST-MODIFIED:20201009T114444Z
UID:25677-1603701000-1603704600@spildansk.dk
SUMMARY:Defecto
DESCRIPTION:LMS koncert
URL:https://spildansk.dk/kalender/defecto/
LOCATION:Paletten\, Vesterbrogade 10\, Viborg\, 8800\, Danmark
CATEGORIES:Musik til børn
END:VEVENT
BEGIN:VEVENT
DTSTART;TZID=Europe/Copenhagen:20201026T083000
DTEND;TZID=Europe/Copenhagen:20201026T093000
DTSTAMP:20260422T045522
CREATED:20201009T114454Z
LAST-MODIFIED:20201009T114454Z
UID:25678-1603701000-1603704600@spildansk.dk
SUMMARY:Goin' Back To New Orleans
DESCRIPTION:LMS koncert
URL:https://spildansk.dk/kalender/goin-back-to-new-orleans/
LOCATION:Antvorskov Skole\, Sejerøvej 1\, Slagelse\, 4200\, Danmark
CATEGORIES:Musik til børn
END:VEVENT
BEGIN:VEVENT
DTSTART;TZID=Europe/Copenhagen:20201026T083500
DTEND;TZID=Europe/Copenhagen:20201026T093500
DTSTAMP:20260422T045522
CREATED:20201009T114505Z
LAST-MODIFIED:20201009T114505Z
UID:25679-1603701300-1603704900@spildansk.dk
SUMMARY:Charanga Copenhagen
DESCRIPTION:LMS koncert
URL:https://spildansk.dk/kalender/charanga-copenhagen/
LOCATION:Fårevejle Skole\, Skolevej 6\, Fårevejle\, 4540\, Danmark
CATEGORIES:Musik til børn
END:VEVENT
BEGIN:VEVENT
DTSTART;TZID=Europe/Copenhagen:20201026T084500
DTEND;TZID=Europe/Copenhagen:20201026T094500
DTSTAMP:20260422T045522
CREATED:20201009T114514Z
LAST-MODIFIED:20201009T114514Z
UID:25680-1603701900-1603705500@spildansk.dk
SUMMARY:Asbjørn
DESCRIPTION:LMS koncert
URL:https://spildansk.dk/kalender/asbjoern/
LOCATION:Kobberbakkeskolen afd. Sct. Jørgen\, Manøvej 14\, Næstved\, 4700\, Danmark
CATEGORIES:Musik til børn
END:VEVENT
BEGIN:VEVENT
DTSTART;TZID=Europe/Copenhagen:20201026T084500
DTEND;TZID=Europe/Copenhagen:20201026T094500
DTSTAMP:20260422T045522
CREATED:20201009T114522Z
LAST-MODIFIED:20201009T114522Z
UID:25681-1603701900-1603705500@spildansk.dk
SUMMARY:HP Lange & Jarno Varsted
DESCRIPTION:LMS koncert
URL:https://spildansk.dk/kalender/hp-lange-jarno-varsted/
LOCATION:Nordre Skole\, Viborg\, Viborg\, Danmark
CATEGORIES:Musik til børn
END:VEVENT
BEGIN:VEVENT
DTSTART;TZID=Europe/Copenhagen:20201026T084500
DTEND;TZID=Europe/Copenhagen:20201026T094500
DTSTAMP:20260422T045522
CREATED:20201009T114536Z
LAST-MODIFIED:20201009T114536Z
UID:25682-1603701900-1603705500@spildansk.dk
SUMMARY:Martin Baltser
DESCRIPTION:LMS koncert
URL:https://spildansk.dk/kalender/martin-baltser/
LOCATION:Præstø Skole\, Skolevej 15\, Præstø\, 4720\, Danmark
CATEGORIES:Musik til børn
END:VEVENT
BEGIN:VEVENT
DTSTART;TZID=Europe/Copenhagen:20201026T085000
DTEND;TZID=Europe/Copenhagen:20201026T095000
DTSTAMP:20260422T045522
CREATED:20201009T114546Z
LAST-MODIFIED:20201009T114546Z
UID:25683-1603702200-1603705800@spildansk.dk
SUMMARY:Sisters of Jazz
DESCRIPTION:LMS koncert
URL:https://spildansk.dk/kalender/sisters-of-jazz/
LOCATION:Himmelev Skole\, Ollerupvej 5\, Roskilde\, 4000\, Danmark
CATEGORIES:Musik til børn
END:VEVENT
BEGIN:VEVENT
DTSTART;TZID=Europe/Copenhagen:20201026T090000
DTEND;TZID=Europe/Copenhagen:20201026T100000
DTSTAMP:20260422T045522
CREATED:20201009T114554Z
LAST-MODIFIED:20201009T114554Z
UID:25684-1603702800-1603706400@spildansk.dk
SUMMARY:Virelai
DESCRIPTION:LMS koncert
URL:https://spildansk.dk/kalender/virelai/
LOCATION:Nordregårdsskolen\, Tejn Alle 3\, Kastrup\, 2770\, Danmark
CATEGORIES:Musik til børn
END:VEVENT
BEGIN:VEVENT
DTSTART;TZID=Europe/Copenhagen:20201026T090000
DTEND;TZID=Europe/Copenhagen:20201026T100000
DTSTAMP:20260422T045522
CREATED:20201009T114602Z
LAST-MODIFIED:20201009T114602Z
UID:25685-1603702800-1603706400@spildansk.dk
SUMMARY:Eastwind
DESCRIPTION:LMS koncert
URL:https://spildansk.dk/kalender/eastwind/
LOCATION:Møn Skole afd. Fanefjord\, Fanefjordgade 145\, Askeby\, 4792\, Danmark
CATEGORIES:Musik til børn
END:VEVENT
BEGIN:VEVENT
DTSTART;TZID=Europe/Copenhagen:20201026T090000
DTEND;TZID=Europe/Copenhagen:20201026T100000
DTSTAMP:20260422T045522
CREATED:20201009T114609Z
LAST-MODIFIED:20201009T114609Z
UID:25686-1603702800-1603706400@spildansk.dk
SUMMARY:Bisse
DESCRIPTION:LMS koncert
URL:https://spildansk.dk/kalender/bisse/
LOCATION:Solbjergskolen\, Kærgårdsvej 4\, Solbjerg\, 8355\, Danmark
CATEGORIES:Musik til børn
END:VEVENT
BEGIN:VEVENT
DTSTART;TZID=Europe/Copenhagen:20201026T090000
DTEND;TZID=Europe/Copenhagen:20201026T100000
DTSTAMP:20260422T045522
CREATED:20201009T114618Z
LAST-MODIFIED:20201009T114618Z
UID:25687-1603702800-1603706400@spildansk.dk
SUMMARY:Moussa Diallo Trio
DESCRIPTION:LMS koncert
URL:https://spildansk.dk/kalender/moussa-diallo-trio/
LOCATION:v. Huset i Give v. Give Bibliotek\, Rådhusbakken 9\, Give\, 7323\, Danmark
CATEGORIES:Musik til børn
END:VEVENT
BEGIN:VEVENT
DTSTART;TZID=Europe/Copenhagen:20201026T090000
DTEND;TZID=Europe/Copenhagen:20201026T100000
DTSTAMP:20260422T045522
CREATED:20201009T114628Z
LAST-MODIFIED:20201009T114628Z
UID:25688-1603702800-1603706400@spildansk.dk
SUMMARY:APHYXION
DESCRIPTION:LMS koncert
URL:https://spildansk.dk/kalender/aphyxion/
LOCATION:Dybbøl-Skolen\, Gl. Åbenråvej 20\, Sønderborg\, 6400\, Danmark
CATEGORIES:Musik til børn
END:VEVENT
BEGIN:VEVENT
DTSTART;TZID=Europe/Copenhagen:20201026T090000
DTEND;TZID=Europe/Copenhagen:20201026T100000
DTSTAMP:20260422T045522
CREATED:20201009T114636Z
LAST-MODIFIED:20201009T114636Z
UID:25689-1603702800-1603706400@spildansk.dk
SUMMARY:Ea Philippa
DESCRIPTION:LMS koncert
URL:https://spildansk.dk/kalender/ea-philippa-2/
LOCATION:Vejlernes Naturfriskole\, Højstrupvej 110\, Vesløs\, 7742\, Danmark
CATEGORIES:Musik til børn
END:VEVENT
BEGIN:VEVENT
DTSTART;TZID=Europe/Copenhagen:20201026T090000
DTEND;TZID=Europe/Copenhagen:20201026T100000
DTSTAMP:20260422T045522
CREATED:20201009T114643Z
LAST-MODIFIED:20201009T114643Z
UID:25690-1603702800-1603706400@spildansk.dk
SUMMARY:Admiral Awesome
DESCRIPTION:LMS koncert
URL:https://spildansk.dk/kalender/admiral-awesome/
LOCATION:Augustenborg Skole\, Augustenborg\, Sønderborg\, Danmark
CATEGORIES:Musik til børn
END:VEVENT
BEGIN:VEVENT
DTSTART;TZID=Europe/Copenhagen:20201026T090000
DTEND;TZID=Europe/Copenhagen:20201026T130000
DTSTAMP:20260422T045522
CREATED:20201019T190719Z
LAST-MODIFIED:20201019T190719Z
UID:26059-1603702800-1603717200@spildansk.dk
SUMMARY:Sangskriver workshop fra Koda med Anders Graae
DESCRIPTION:4 timers workshop med Anders Graae\, der laver en sang med en gruppe elever fra Skovvangskolen i Hammel.
URL:https://spildansk.dk/kalender/sangskriver-workshop-fra-koda-med-anders-graae/
LOCATION:Skovvangskolen\, Minervavej 5\, Hammel\, 8450
CATEGORIES:Undervisning
ATTACH;FMTTYPE=image/jpeg:https://spildansk.dk/wp-content/uploads/2020/10/Anders-Graae-scaled.jpg
END:VEVENT
BEGIN:VEVENT
DTSTART;TZID=Europe/Copenhagen:20201026T090000
DTEND;TZID=Europe/Copenhagen:20201030T130000
DTSTAMP:20260422T045522
CREATED:20201020T213830Z
LAST-MODIFIED:20201020T214341Z
UID:26337-1603702800-1604062800@spildansk.dk
SUMMARY:Skolekoncerter – Horsens Musikskole
DESCRIPTION:Horsens Musikskoles musikpatrulje rykker ud og spiller 14 skolekoncerter i uge 44 for byens 4.klasser. Vi plejer at holde en stor sangfest med 800 elever i Forum Horsens. Det kan vi ikke i år – så vi kommer ud på skolerne og spiller i henhold til gældende retningslinjer. \nVi kommer ud på Bankagerskolen\, Brædstrupskole\, Nimskole\, Østbirkskole\, Stensballeskolen\, Dagnæsskolen\, Gedvedskolen\, Søvindskole og Lundskole.
URL:https://spildansk.dk/kalender/skolekoncerter-horsens-musikskole/
LOCATION:Horsens Musikskole\, Skolegade 5-7\, Horsens\, 8700\, Danmark
CATEGORIES:Koncert
ORGANIZER;CN="Horsens Musikskole":MAILTO:musiki@horsens.dk
END:VEVENT
BEGIN:VEVENT
DTSTART;TZID=Europe/Copenhagen:20201026T091500
DTEND;TZID=Europe/Copenhagen:20201026T101500
DTSTAMP:20260422T045522
CREATED:20201009T114651Z
LAST-MODIFIED:20201009T114651Z
UID:25691-1603703700-1603707300@spildansk.dk
SUMMARY:Johanna Juhola Trio
DESCRIPTION:LMS koncert
URL:https://spildansk.dk/kalender/johanna-juhola-trio/
LOCATION:Hadsund Skole\, Hadsund\, Mariagerfjord\, Danmark
CATEGORIES:Musik til børn
END:VEVENT
BEGIN:VEVENT
DTSTART;TZID=Europe/Copenhagen:20201026T093000
DTEND;TZID=Europe/Copenhagen:20201026T103000
DTSTAMP:20260422T045522
CREATED:20201009T114700Z
LAST-MODIFIED:20201009T114700Z
UID:25692-1603704600-1603708200@spildansk.dk
SUMMARY:Defecto
DESCRIPTION:LMS koncert
URL:https://spildansk.dk/kalender/defecto-2/
LOCATION:Paletten\, Vesterbrogade 10\, Viborg\, 8800\, Danmark
CATEGORIES:Musik til børn
END:VEVENT
BEGIN:VEVENT
DTSTART;TZID=Europe/Copenhagen:20201026T093000
DTEND;TZID=Europe/Copenhagen:20201026T103000
DTSTAMP:20260422T045522
CREATED:20201009T114710Z
LAST-MODIFIED:20201009T114710Z
UID:25693-1603704600-1603708200@spildansk.dk
SUMMARY:Rumlerim
DESCRIPTION:LMS koncert
URL:https://spildansk.dk/kalender/rumlerim/
LOCATION:Hjørring Bibliotek\, Østergade 30\,\, Hjørring\, 9800\, Danmark
CATEGORIES:Musik til børn
END:VEVENT
BEGIN:VEVENT
DTSTART;TZID=Europe/Copenhagen:20201026T093500
DTEND;TZID=Europe/Copenhagen:20201026T103500
DTSTAMP:20260422T045523
CREATED:20201009T114717Z
LAST-MODIFIED:20201009T114717Z
UID:25694-1603704900-1603708500@spildansk.dk
SUMMARY:HeartBeat Group
DESCRIPTION:LMS koncert
URL:https://spildansk.dk/kalender/heartbeat-group/
LOCATION:Arden Skole\, Arden\, Mariagerfjord\, Danmark
CATEGORIES:Musik til børn
END:VEVENT
BEGIN:VEVENT
DTSTART;TZID=Europe/Copenhagen:20201026T094500
DTEND;TZID=Europe/Copenhagen:20201026T104500
DTSTAMP:20260422T045523
CREATED:20201009T114725Z
LAST-MODIFIED:20201009T114725Z
UID:25695-1603705500-1603709100@spildansk.dk
SUMMARY:Goin' Back To New Orleans
DESCRIPTION:LMS koncert
URL:https://spildansk.dk/kalender/goin-back-to-new-orleans-2/
LOCATION:Antvorskov Skole\, Sejerøvej 1\, Slagelse\, 4200\, Danmark
CATEGORIES:Musik til børn
END:VEVENT
BEGIN:VEVENT
DTSTART;TZID=Europe/Copenhagen:20201026T100000
DTEND;TZID=Europe/Copenhagen:20201026T110000
DTSTAMP:20260422T045523
CREATED:20201009T114733Z
LAST-MODIFIED:20201009T114733Z
UID:25696-1603706400-1603710000@spildansk.dk
SUMMARY:Martin Baltser
DESCRIPTION:LMS koncert
URL:https://spildansk.dk/kalender/martin-baltser-2/
LOCATION:Præstø Skole\, Skolevej 15\, Præstø\, 4720\, Danmark
CATEGORIES:Musik til børn
END:VEVENT
BEGIN:VEVENT
DTSTART;TZID=Europe/Copenhagen:20201026T100000
DTEND;TZID=Europe/Copenhagen:20201026T110000
DTSTAMP:20260422T045523
CREATED:20201009T114741Z
LAST-MODIFIED:20201009T114741Z
UID:25697-1603706400-1603710000@spildansk.dk
SUMMARY:Johanna Juhola Trio
DESCRIPTION:LMS koncert
URL:https://spildansk.dk/kalender/johanna-juhola-trio-2/
LOCATION:Hadsund Skole\, Hadsund\, Mariagerfjord\, Danmark
CATEGORIES:Musik til børn
END:VEVENT
BEGIN:VEVENT
DTSTART;TZID=Europe/Copenhagen:20201026T100000
DTEND;TZID=Europe/Copenhagen:20201026T110000
DTSTAMP:20260422T045523
CREATED:20201009T114751Z
LAST-MODIFIED:20201009T114751Z
UID:25698-1603706400-1603710000@spildansk.dk
SUMMARY:HP Lange & Jarno Varsted
DESCRIPTION:LMS koncert
URL:https://spildansk.dk/kalender/hp-lange-jarno-varsted-2/
LOCATION:Nordre Skole\, Viborg\, Viborg\, Danmark
CATEGORIES:Musik til børn
END:VEVENT
BEGIN:VEVENT
DTSTART;TZID=Europe/Copenhagen:20201026T100000
DTEND;TZID=Europe/Copenhagen:20201026T110000
DTSTAMP:20260422T045523
CREATED:20201025T182624Z
LAST-MODIFIED:20201025T182624Z
UID:26753-1603706400-1603710000@spildansk.dk
SUMMARY:Anna Rosenkilde virtuelt på Duborg-Skolen
DESCRIPTION:Virtuelt arrangement på Duborg-Skolen med Anna Rosenkilde og musikprofilelever fra 12. og 13. årgang.
URL:https://spildansk.dk/kalender/anna-rosenkilde-virtuelt-paa-duborg-skolen/
LOCATION:Duborg-Skolen\, Ritterstrasse 27\, Flensborg
CATEGORIES:Digital arrangement
END:VEVENT
BEGIN:VEVENT
DTSTART;TZID=Europe/Copenhagen:20201026T101500
DTEND;TZID=Europe/Copenhagen:20201026T111500
DTSTAMP:20260422T045523
CREATED:20201009T114759Z
LAST-MODIFIED:20201009T114759Z
UID:25699-1603707300-1603710900@spildansk.dk
SUMMARY:Mzungu Kichaa
DESCRIPTION:LMS koncert
URL:https://spildansk.dk/kalender/mzungu-kichaa/
LOCATION:Hærvejsskolen\, Skovbrynet 2\, Rødekro\, 6230\, Danmark
CATEGORIES:Musik til børn
END:VEVENT
BEGIN:VEVENT
DTSTART;TZID=Europe/Copenhagen:20201026T103000
DTEND;TZID=Europe/Copenhagen:20201026T113000
DTSTAMP:20260422T045523
CREATED:20201009T114806Z
LAST-MODIFIED:20201009T114806Z
UID:25700-1603708200-1603711800@spildansk.dk
SUMMARY:HeartBeat Group
DESCRIPTION:LMS koncert
URL:https://spildansk.dk/kalender/heartbeat-group-2/
LOCATION:Arden Skole\, Arden\, Mariagerfjord\, Danmark
CATEGORIES:Musik til børn
END:VEVENT
BEGIN:VEVENT
DTSTART;TZID=Europe/Copenhagen:20201026T103000
DTEND;TZID=Europe/Copenhagen:20201026T113000
DTSTAMP:20260422T045523
CREATED:20201009T114814Z
LAST-MODIFIED:20201009T114814Z
UID:25701-1603708200-1603711800@spildansk.dk
SUMMARY:Defecto
DESCRIPTION:LMS koncert
URL:https://spildansk.dk/kalender/defecto-3/
LOCATION:Paletten\, Vesterbrogade 10\, Viborg\, 8800\, Danmark
CATEGORIES:Musik til børn
END:VEVENT
END:VCALENDAR