BEGIN:VCALENDAR
VERSION:2.0
PRODID:-//Spil Dansk - ECPv6.5.0//NONSGML v1.0//EN
CALSCALE:GREGORIAN
METHOD:PUBLISH
X-WR-CALNAME:Spil Dansk
X-ORIGINAL-URL:https://spildansk.dk
X-WR-CALDESC:Events for Spil Dansk
REFRESH-INTERVAL;VALUE=DURATION:PT1H
X-Robots-Tag:noindex
X-PUBLISHED-TTL:PT1H
BEGIN:VTIMEZONE
TZID:Europe/Copenhagen
BEGIN:DAYLIGHT
TZOFFSETFROM:+0100
TZOFFSETTO:+0200
TZNAME:CEST
DTSTART:20210328T010000
END:DAYLIGHT
BEGIN:STANDARD
TZOFFSETFROM:+0200
TZOFFSETTO:+0100
TZNAME:CET
DTSTART:20211031T010000
END:STANDARD
END:VTIMEZONE
BEGIN:VEVENT
DTSTART;TZID=Europe/Copenhagen:20211101T170000
DTEND;TZID=Europe/Copenhagen:20211101T180000
DTSTAMP:20260424T163605
CREATED:20211029T095426Z
LAST-MODIFIED:20211029T095426Z
UID:30115-1635786000-1635789600@spildansk.dk
SUMMARY:Egedal Showband holder workshopkoncert
DESCRIPTION:Egedal Musik- og Kulturskole fejrer SpilDansk-ugen og inviterer til en hyggelig aften med gode kager og endnu bedre grooves. Kom og hør os spille vores repertoire og oplev\, hvordan vi nørder for at få vores numre til at hænge godt sammen.
URL:https://spildansk.dk/kalender/egedal-showband-holder-workshopkoncert/
LOCATION:Stenløse Kulturhus\, Rådhustorvet 2\, Stenløse\, 3660\, Danmark
CATEGORIES:Koncert,Workshop
ATTACH;FMTTYPE=image/jpeg:https://spildansk.dk/wp-content/uploads/2021/10/DSC09585-scaled.jpg
ORGANIZER;CN="Egedal Musik- og Kulturskole":MAILTO:musikogkulturskolen@egekom.dk
END:VEVENT
BEGIN:VEVENT
DTSTART;TZID=Europe/Copenhagen:20211101T170000
DTEND;TZID=Europe/Copenhagen:20211101T173000
DTSTAMP:20260424T163605
CREATED:20211028T205234Z
LAST-MODIFIED:20211029T164847Z
UID:30074-1635786000-1635787800@spildansk.dk
SUMMARY:Pop Up koncert med Bleje Brunos Bluesband hos Meny i Holbæk
DESCRIPTION:I samarbejde med Holbæk Kulturskole og Holbæk Byforum byder Spiren – Holbæk Sangskriver og Komponistforening på\nPop Up koncert med Bleje Brunos Bluesband hos Meny i Holbæk. \nBleje Brunos Bluesband spiller egne danske folk/rock sange og melodier.
URL:https://spildansk.dk/kalender/pop-up-koncert-med-bleje-brunos-bluesband-hos-meny-i-holbaek/
LOCATION:Meny\, Holbæk\, Smedelundsgade 24\, 26\, Holbæk\, 4300
CATEGORIES:Koncert
ATTACH;FMTTYPE=image/jpeg:https://spildansk.dk/wp-content/uploads/2021/10/250130336_4717482808275119_4160566886327090923_n-1.jpg
ORGANIZER;CN="Spiren - Holb%C3%A6k Sangskriver og Komponistforening":MAILTO:words@spiren.eu
END:VEVENT
BEGIN:VEVENT
DTSTART;TZID=Europe/Copenhagen:20211101T170000
DTEND;TZID=Europe/Copenhagen:20211101T173000
DTSTAMP:20260424T163605
CREATED:20211028T203208Z
LAST-MODIFIED:20211028T203208Z
UID:30061-1635786000-1635787800@spildansk.dk
SUMMARY:Pop Up koncert med Kristian Madsen hos Verland Art i Holbæk
DESCRIPTION:I samarbejde med Holbæk Kulturskole og Holbæk Byforum byder Spiren – Holbæk Sangskriver og Komponistforening på Pop Up koncert med Kristian Madsen hos Verland Art i Holbæk \nKristian Madsen stille op med sin akustiske guitar og et minimalistisk setup og spiller nogle sange solo om nordlys\, knallerter\, supermåner\, bondemænd\, savn og andet godt!
URL:https://spildansk.dk/kalender/pop-up-koncert-med-kristian-madsen-hos-verland-art-i-holbaek/
LOCATION:Galleri Juel Verland Art\, Smedelundsgade 31A\, Holbæk\, 4300
CATEGORIES:Koncert
ATTACH;FMTTYPE=image/jpeg:https://spildansk.dk/wp-content/uploads/2021/10/kristian.jpg
ORGANIZER;CN="Spiren - Holb%C3%A6k Sangskriver og Komponistforening":MAILTO:words@spiren.eu
END:VEVENT
BEGIN:VEVENT
DTSTART;TZID=Europe/Copenhagen:20211101T170000
DTEND;TZID=Europe/Copenhagen:20211101T173000
DTSTAMP:20260424T163605
CREATED:20211028T195103Z
LAST-MODIFIED:20211028T213310Z
UID:30036-1635786000-1635787800@spildansk.dk
SUMMARY:Pop Up koncert med Claus og fluerne hos Føtex i Holbæk
DESCRIPTION:I samarbejde med Holbæk Kulturskole og Holbæk Byforum byder Spiren – Holbæk Sangskriver og Komponistforening på\nPop Up koncert med Claus og fluerne hos Føtex i Holbæk \nClaus og Fluerne skriver sange\, der bl.a. handler om livet og andre vigtige ting. \nDet startede med\, jeg fik en kalender med Storm P’s Fluer. \nJeg lavede et Dogme hvor\, jeg hver måned skulle vælge en Flue og skrive en sang\, inspireret af den valgte! \nClaus og Fluerne spiller til hjemmekoncerter\, på festivaller og i det taget for folk\, der gerne vil høre en sang!
URL:https://spildansk.dk/kalender/pop-up-koncert-med-claus-og-fluerne-hos-foetex-i-holbaek/
LOCATION:Føtex\, Holbæk\, Smedelundsgade 33\, Holbæk\, 4300
CATEGORIES:Koncert
ATTACH;FMTTYPE=image/jpeg:https://spildansk.dk/wp-content/uploads/2021/10/Billede1-3.jpg
ORGANIZER;CN="Spiren - Holb%C3%A6k Sangskriver og Komponistforening":MAILTO:words@spiren.eu
END:VEVENT
BEGIN:VEVENT
DTSTART;TZID=Europe/Copenhagen:20211101T163000
DTEND;TZID=Europe/Copenhagen:20211105T170000
DTSTAMP:20260424T163605
CREATED:20210930T141538Z
LAST-MODIFIED:20210930T142825Z
UID:28595-1635784200-1636131600@spildansk.dk
SUMMARY:Fyraftenssang i domkirken
DESCRIPTION:I anledning af Spil Dansk-ugen vil vi invitere børn og voksne i alle aldre til fællessang i domkirken. Vi kigger nærmere på den nye højskolesangbog og skal synge velkendte\, danske sange\, men vi vil også introducere nogle af de nye sange. Arrangementet ledes af kirkens to organister og kirke- og kulturmedarbejderen\, og vi får besøg af en række kor til at præsentere sangene og ledsage fællessangen. \nMandag d. 1. nov. kl. 16:30 \nFyraftenssang i domkirken. Kirkens spirekor og juniorkor medvirker \nTirsdag d. 2. nov. kl. 14:30 \nSangeftermiddag i sognegården. Dagens højskoleeftermiddag står i højskolesangbogens tegn. Der serveres kaffe og kage ved arrangementet. \nEntré: 50 kr. \nOnsdag d. 3. nov. kl. 16:30 \nFyraftenssang i domkirken. \nTorsdag d. 4. nov. kl. 16:30 \nFyraftenssang i domkirken. Kirkens ungdomskor medvirker \nFredag d. 5. nov. kl. 16:30 \nFyraftenssang i domkirken. Viborg kammerkor medvirker. Efter arrangementet er kirken vært for et lille traktement som afslutning på ugen. \n  \nTag din ven\, nabo\, familie eller kollega under armen og hjælp os med at fejre den nye højskolesangbog og vores dejlige\, danske sangskat. Har du selv den nye højskolesangbog\, så opfordrer vi til\, at du tager den med.
URL:https://spildansk.dk/kalender/fyraftenssang-i-domkirken/
LOCATION:Viborg Domkirke\, Sct. Mogensgade 4\, Viborg\, 8800\, Danmark
CATEGORIES:Fællessang,Kor
ATTACH;FMTTYPE=image/jpeg:https://spildansk.dk/wp-content/uploads/2021/09/20210628_090452-scaled.jpg
END:VEVENT
BEGIN:VEVENT
DTSTART;TZID=Europe/Copenhagen:20211101T163000
DTEND;TZID=Europe/Copenhagen:20211101T170000
DTSTAMP:20260424T163605
CREATED:20211013T072617Z
LAST-MODIFIED:20211013T072644Z
UID:29098-1635784200-1635786000@spildansk.dk
SUMMARY:Dobbeltkoncert med Focus LineUp og Musik Master Class
DESCRIPTION:Focus LineUp\nFocus LineUp består af elever fra musikskolens rytmiske fokuslinie. Fokuslinien er for de talentfulde elever\, som ønsker at fordybe sig i ekstra meget i musikken. De modtager udover undervisning på deres instrument også hørelære – og sammenspilsundervisning. Koncerten vil byde på bla. “Noget om Helte” og “Fortabt er jeg stadig”. \nMusik Master Class\nMusik Master Class er en gruppe elever fra Næstved Gymnasium & Hf som arbejder på at dygtiggøre sig inden for musikken. Det er et tilbud uden for normal skoletid og er kun for en mindre gruppe af de mest ambitiøse musikelever fra skolen. Bl.a. arbejdes der med bandledelse\, sammenspil og at bringe nyt liv i kendte numre gennem omarrangering. Til dagens koncert er der arbejdet med dansk musik hvor opgaven har været at gøre et ældre\, kendt nummer relevant for en yngre generation. \nMusik Master Class arbejder tæt sammen med musikskolen. \n 
URL:https://spildansk.dk/kalender/dobbeltkoncert-med-focus-lineup-og-musik-master-class/
LOCATION:Sydbank Arkaden\, Axeltorv 4\, Næstved\, 4700
CATEGORIES:Koncert
ATTACH;FMTTYPE=image/jpeg:https://spildansk.dk/wp-content/uploads/2021/10/Musik-Master-Class-2-scaled.jpg
ORGANIZER;CN="N%C3%A6stved Musikskole":MAILTO:musikskolen@naestved.dk
END:VEVENT
BEGIN:VEVENT
DTSTART;TZID=Europe/Copenhagen:20211101T160000
DTEND;TZID=Europe/Copenhagen:20211101T170000
DTSTAMP:20260424T163605
CREATED:20211025T150243Z
LAST-MODIFIED:20211025T150243Z
UID:29543-1635782400-1635786000@spildansk.dk
SUMMARY:Svøbsk
DESCRIPTION:Når man hører Maren Hallberg og Jørgen Dickmeiss spille\, fornemmer man det tætte forhold der er til stede\, når to mennesker er samlet om en fælles skæbne. Deres lyse og artikulerede musik er rodfæstet i den blomstrende arv af traditionel musik fra Danmark og de omkringliggende lande. De trækker på en stor bredde af musikalske udtryk som forenes med en dyb respekt for den danske tradition.
URL:https://spildansk.dk/kalender/svoebsk/
LOCATION:Ringsted Musik & Kulturskole\, Regimentet 3\, Ringsted\, 4100
CATEGORIES:Folk
ORGANIZER;CN="ringsted Musik &amp%3B Kulturskole":MAILTO:tba@ringsted
END:VEVENT
BEGIN:VEVENT
DTSTART;TZID=Europe/Copenhagen:20211101T153000
DTEND;TZID=Europe/Copenhagen:20211101T160000
DTSTAMP:20260424T163605
CREATED:20211028T194748Z
LAST-MODIFIED:20211028T213155Z
UID:30031-1635780600-1635782400@spildansk.dk
SUMMARY:Pop Up koncert med Claus og fluerne hos Café Isabella i Holbæk
DESCRIPTION:I samarbejde med Holbæk Kulturskole og Holbæk Byforum byder Spiren – Holbæk Sangskriver og Komponistforening på\nPop Up koncert med Claus og fluerne hos Café Isabella i Holbæk \nClaus og Fluerne skriver sange\, der bl.a. handler om livet og andre vigtige ting. \nDet startede med\, jeg fik en kalender med Storm P’s Fluer. \nJeg lavede et Dogme hvor\, jeg hver måned skulle vælge en Flue og skrive en sang\, inspireret af den valgte! \nClaus og Fluerne spiller til hjemmekoncerter\, på festivaller og i det taget for folk\, der gerne vil høre en sang!
URL:https://spildansk.dk/kalender/pop-up-koncert-med-claus-og-fluerne-hos-cafe-isabella-i-holbaek/
LOCATION:Café Isabella\, Ahlgade 30 G\, Holbæk\, 4300\, Danmark
CATEGORIES:Koncert
ATTACH;FMTTYPE=image/jpeg:https://spildansk.dk/wp-content/uploads/2021/10/Billede1-2.jpg
ORGANIZER;CN="Spiren - Holb%C3%A6k Sangskriver og Komponistforening":MAILTO:words@spiren.eu
END:VEVENT
BEGIN:VEVENT
DTSTART;TZID=Europe/Copenhagen:20211101T150000
DTEND;TZID=Europe/Copenhagen:20211101T160000
DTSTAMP:20260424T163605
CREATED:20211031T185100Z
LAST-MODIFIED:20211031T185835Z
UID:30146-1635778800-1635782400@spildansk.dk
SUMMARY:Spil Dansk Musik og Sundhed i Fjordglimt
DESCRIPTION:Intimkoncert i Fjordglimt med sangerinde Anna Kruse. En beroligende og lindrende koncert med fællessang for lokale patienter og plejehjemsbeboer. Lukket arrangement.  \nArrangementet er støttet af Roskilde Kommunes Spil Dansk Pulje.
URL:https://spildansk.dk/kalender/spil-dansk-musik-og-sundhed-i-fjordglimt/
LOCATION:Fjordglimt Café og Kulturhus\, Bygaden 28\, Jyllinge\, 4040
CATEGORIES:Koncert,Fællessang
ATTACH;FMTTYPE=image/jpeg:https://spildansk.dk/wp-content/uploads/2021/10/Anna-Kruse-0691-scaled-1.jpg
ORGANIZER;CN="Fjordglimt Caf%C3%A9 og Kulturhus":MAILTO:events@fjordglimt-jyllinge.dk
END:VEVENT
BEGIN:VEVENT
DTSTART;TZID=Europe/Copenhagen:20211101T140000
DTEND;TZID=Europe/Copenhagen:20211101T150000
DTSTAMP:20260424T163605
CREATED:20211027T103851Z
LAST-MODIFIED:20211027T104506Z
UID:29896-1635775200-1635778800@spildansk.dk
SUMMARY:Syng med Søren Westerholm
DESCRIPTION:Mandag den 1. november gæster Søren Westerholm  Værestedet Tofteparken til et syng-med-arrangement tilpasset beboerne\, og beboerne kan være med til at vælge sangene. \nArrangementet udvikles i et samarbejde mellem Center for Omsorg og Sundhed og Værestedet Tofteparken
URL:https://spildansk.dk/kalender/syng-med-soeren-westerholm/
LOCATION:Værestedet\, Tofteparken 3650 Ølstykke\, Tofteparken 15\, Ølstykke\, 3650
CATEGORIES:Dansktop,Fællessang
ORGANIZER;CN="Egedal Sundhedscenter og V%C3%A6restedet":MAILTO:ida.jakobsen@egekom.dk
END:VEVENT
BEGIN:VEVENT
DTSTART;TZID=Europe/Copenhagen:20211101T140000
DTEND;TZID=Europe/Copenhagen:20211101T143000
DTSTAMP:20260424T163605
CREATED:20211028T194403Z
LAST-MODIFIED:20211028T213107Z
UID:30026-1635775200-1635777000@spildansk.dk
SUMMARY:Pop Up koncert med Claus og fluerne hos SiffG i Holbæk
DESCRIPTION:I samarbejde med Holbæk Kulturskole og Holbæk Byforum byder Spiren – Holbæk Sangskriver og Komponistforening på\nPop Up koncert med Claus og fluerne hos SiffG i Holbæk \nClaus og Fluerne skriver sange\, der bl.a. handler om livet og andre vigtige ting. \nDet startede med\, jeg fik en kalender med Storm P’s Fluer. \nJeg lavede et Dogme hvor\, jeg hver måned skulle vælge en Flue og skrive en sang\, inspireret af den valgte! \nClaus og Fluerne spiller til hjemmekoncerter\, på festivaller og i det taget for folk\, der gerne vil høre en sang!
URL:https://spildansk.dk/kalender/pop-up-koncert-med-claus-og-fluerne-hos-siffg-i-holbaek/
LOCATION:SiffG\, Smedelundsgade 4\, Holbæk\, 4300\, Danmark
CATEGORIES:Koncert
ATTACH;FMTTYPE=image/jpeg:https://spildansk.dk/wp-content/uploads/2021/10/Billede1-1.jpg
ORGANIZER;CN="Spiren - Holb%C3%A6k Sangskriver og Komponistforening":MAILTO:words@spiren.eu
END:VEVENT
BEGIN:VEVENT
DTSTART;TZID=Europe/Copenhagen:20211101T130000
DTEND;TZID=Europe/Copenhagen:20211101T150000
DTSTAMP:20260424T163605
CREATED:20211011T094402Z
LAST-MODIFIED:20211011T095307Z
UID:28872-1635771600-1635778800@spildansk.dk
SUMMARY:Syng & Spil med Harmonika og Kor
DESCRIPTION:Kom og syng glade danske sange sammen med HOM Harmonikaerne og HOM Seniorkor.\nDet bliver overordentligt hyggeligt! Udover fællessang får du også et par værker fra det dygtige kor.\nGratis adgang og alle er velkommen.\nVi glæder os til at se dig 🙂\nv/ korleder Lina Zinglersen og harmonikalærer Jens Peter Jensen
URL:https://spildansk.dk/kalender/syng-spil-med-harmonika-og-kor/
LOCATION:HOM Krovejen 26\, Gundestrup\, 4571 Grevinge\, Krovejen 26\, Gundestrup\, Grevinge\, 4571
CATEGORIES:Koncert,Fællessang
ATTACH;FMTTYPE=image/jpeg:https://spildansk.dk/wp-content/uploads/2021/10/Spil-Dansk-Harmonikaer-og-Kor-scaled.jpg
END:VEVENT
BEGIN:VEVENT
DTSTART;TZID=Europe/Copenhagen:20211101T130000
DTEND;TZID=Europe/Copenhagen:20211101T133000
DTSTAMP:20260424T163605
CREATED:20211028T193924Z
LAST-MODIFIED:20211028T213006Z
UID:30016-1635771600-1635773400@spildansk.dk
SUMMARY:Pop Up koncert med Claus og fluerne hos BarberX i Holbæk
DESCRIPTION:I samarbejde med Holbæk Kulturskole  byder Spiren – Holbæk Sangskriver og Komponistforening på\nPop Up koncert med Claus og fluerne hos BarberX i Holbæk \nClaus og Fluerne skriver sange\, der bl.a. handler om livet og andre vigtige ting. \nDet startede med\, jeg fik en kalender med Storm P’s Fluer. \nJeg lavede et Dogme hvor\, jeg hver måned skulle vælge en Flue og skrive en sang\, inspireret af den valgte! \nClaus og Fluerne spiller til hjemmekoncerter\, på festivaller og i det taget for folk\, der gerne vil høre en sang!
URL:https://spildansk.dk/kalender/koncert-med-claus-og-fluerne-paa-barberx-i-holbaek/
LOCATION:BarberX\, Smedelundsgade 39B\, Holbæk\, 4300
CATEGORIES:Koncert
ATTACH;FMTTYPE=image/jpeg:https://spildansk.dk/wp-content/uploads/2021/10/Billede1.jpg
ORGANIZER;CN="Spiren - Holb%C3%A6k Sangskriver og Komponistforening":MAILTO:words@spiren.eu
END:VEVENT
BEGIN:VEVENT
DTSTART;TZID=Europe/Copenhagen:20211101T124500
DTEND;TZID=Europe/Copenhagen:20211101T124500
DTSTAMP:20260424T163605
CREATED:20211027T090118Z
LAST-MODIFIED:20211027T090118Z
UID:29753-1635770700-1635770700@spildansk.dk
SUMMARY:Sisters of Jazz - Jazzens Hemmelige Heltinder
DESCRIPTION:
URL:https://spildansk.dk/kalender/sisters-of-jazz-jazzens-hemmelige-heltinder-2/
LOCATION:Karup Skole\, Karup\, Viborg\, Danmark
END:VEVENT
BEGIN:VEVENT
DTSTART;TZID=Europe/Copenhagen:20211101T123500
DTEND;TZID=Europe/Copenhagen:20211101T123500
DTSTAMP:20260424T163605
CREATED:20211027T090117Z
LAST-MODIFIED:20211027T090117Z
UID:29752-1635770100-1635770100@spildansk.dk
SUMMARY:APHYXION - Heavy metal i hovedhøjde
DESCRIPTION:
URL:https://spildansk.dk/kalender/aphyxion-heavy-metal-i-hovedhoejde-2/
LOCATION:Muldbjergskolen\, Hjørring\, Hjørring\, Danmark
END:VEVENT
BEGIN:VEVENT
DTSTART;TZID=Europe/Copenhagen:20211101T123500
DTEND;TZID=Europe/Copenhagen:20211101T123500
DTSTAMP:20260424T163605
CREATED:20211027T090115Z
LAST-MODIFIED:20211027T090115Z
UID:29751-1635770100-1635770100@spildansk.dk
SUMMARY:Mads Vinding & Øyvind Ougaard - Mads Vinding & Øyvind Ougaard
DESCRIPTION:
URL:https://spildansk.dk/kalender/mads-vinding-oeyvind-ougaard-mads-vinding-oeyvind-ougaard-3/
LOCATION:Bylderup Skole\, Bylderup-Bov\, Aabenraa\, Danmark
END:VEVENT
BEGIN:VEVENT
DTSTART;TZID=Europe/Copenhagen:20211101T123000
DTEND;TZID=Europe/Copenhagen:20211101T153000
DTSTAMP:20260424T163605
CREATED:20211013T132811Z
LAST-MODIFIED:20211013T132811Z
UID:29193-1635769800-1635780600@spildansk.dk
SUMMARY:Lyden af Frihed med Gorm Askjær på Rønde skole
DESCRIPTION:Hvad er frihed for skolebørn i år 2021? Under nedlukningen af samfundet har alle danske skolebørn oplevet\, hvad det vil sige at være ufri\, at være hjemsendt uden vished for fremtiden.\nDette er temaet for denne workshop\, hvor klassen guides af en professionel komponist (Gorm Askjær) i at skabe deres egen “lyd” af frihedsfølelse.\n\nGorm Askjær er guitarist og komponist (f. 1980). Han har en baggrund i jazz og improviseret musik\, men arbejder aktuelt med både klassiske såvel som rytmiske musikere. Hans musik spilles af rytmiske bands\, klassiske ensembler\, crossoverprojekter og i tværkunstneriske projekter\, hvor helhedsoplevelsen er i fokus\, dvs. der arbejdes med lyd\, lys\, installationer\, bevægelse\, visuelle og performative elementer. Han har en fordomsfri tilgang til genrer og gør brug af varierende musikalske inspirationer. Musikken er eventyrlysten og skaber mange forskellige lydverdener\, dog altid med personligt fokus og tone. Hans musik er bl.a. blevet beskrevet således: “Askjær har både en fed lyd på guitaren og en fed tilgang til jazzen” og ”Gorm Askjær inviterer sit publikum ind i et spændende\, farverigt og personlig univers\, som sprudler af iderigdom\, humor og fortælleglæde”. UDVALGTE ORKESTRE. Gorm Askjær Trio\, Gorm Askjær Secret Safari\, Kejser Pingvin. UDVALGTE UDGIVELSER. Sammensurium feat. Michael Blake. Indianerne feat. Ed Thigpen. UDVALGTE VÆRKER og PROJEKTER. The story of a building: Vandtårnet. Swinging & SNAP! (til Århus Sinfonietta). Through-The Looking Glass. Drømmemaskinen (til Ensemblet Lydenskab). UDDANNELSE. Solistuddannelse og kandidat fra Det Jyske Musikkonservatorium (komposition\, guitar) – studeret ved bl.a. Uffe Steen\, Butch Lacy\, Django Bates\, Simon Steen-Andersen. Bachelor i musikvidenskab fra Aarhus universitet.
URL:https://spildansk.dk/kalender/lyden-af-frihed-med-gorm-askjaer-paa-roende-skole/
LOCATION:Rønde Skole\, Skrejrupvej 1\, Rønde\, 8410
CATEGORIES:Undervisning
ATTACH;FMTTYPE=image/jpeg:https://spildansk.dk/wp-content/uploads/2021/10/GormAskjaer2_PhotoHreinnGudlaugsson-4-scaled-1.jpg
END:VEVENT
BEGIN:VEVENT
DTSTART;TZID=Europe/Copenhagen:20211101T123000
DTEND;TZID=Europe/Copenhagen:20211101T123000
DTSTAMP:20260424T163605
CREATED:20211027T090113Z
LAST-MODIFIED:20211027T090113Z
UID:29750-1635769800-1635769800@spildansk.dk
SUMMARY:Jacob D solo/Maskinpark - Jacob D solo/Maskinpark
DESCRIPTION:
URL:https://spildansk.dk/kalender/jacob-d-solo-maskinpark-jacob-d-solo-maskinpark-2/
LOCATION:Stjernevejskolen\, Hedensted\, Hedensted\, Danmark
END:VEVENT
BEGIN:VEVENT
DTSTART;TZID=Europe/Copenhagen:20211101T123000
DTEND;TZID=Europe/Copenhagen:20211101T123000
DTSTAMP:20260424T163605
CREATED:20211027T090111Z
LAST-MODIFIED:20211027T090111Z
UID:29749-1635769800-1635769800@spildansk.dk
SUMMARY:Ayoe Angelica - ARV
DESCRIPTION:
URL:https://spildansk.dk/kalender/ayoe-angelica-arv-2/
LOCATION:Gudenåskolen\, Ry\, Skanderborg\, Danmark
END:VEVENT
BEGIN:VEVENT
DTSTART;TZID=Europe/Copenhagen:20211101T123000
DTEND;TZID=Europe/Copenhagen:20211101T123000
DTSTAMP:20260424T163605
CREATED:20211027T090110Z
LAST-MODIFIED:20211027T090110Z
UID:29748-1635769800-1635769800@spildansk.dk
SUMMARY:Bragr - Et BRAGR af en koncert!
DESCRIPTION:
URL:https://spildansk.dk/kalender/bragr-et-bragr-af-en-koncert-2/
LOCATION:Bøgeskovskolen\, Bjerringbro\, Viborg\, Danmark
END:VEVENT
BEGIN:VEVENT
DTSTART;TZID=Europe/Copenhagen:20211101T122000
DTEND;TZID=Europe/Copenhagen:20211101T122000
DTSTAMP:20260424T163605
CREATED:20211027T090109Z
LAST-MODIFIED:20211027T090109Z
UID:29747-1635769200-1635769200@spildansk.dk
SUMMARY:Defecto - Duality
DESCRIPTION:
URL:https://spildansk.dk/kalender/defecto-duality-2/
LOCATION:Højmarkskolen\, Holsted\, Vejen\, Danmark
END:VEVENT
BEGIN:VEVENT
DTSTART;TZID=Europe/Copenhagen:20211101T121500
DTEND;TZID=Europe/Copenhagen:20211101T121500
DTSTAMP:20260424T163605
CREATED:20211027T090107Z
LAST-MODIFIED:20211027T090107Z
UID:29746-1635768900-1635768900@spildansk.dk
SUMMARY:Baby Did a Bad Thing - Baby Did a Bad Thing
DESCRIPTION:
URL:https://spildansk.dk/kalender/baby-did-a-bad-thing-baby-did-a-bad-thing-3/
LOCATION:Musikhuset Posten\, Odense\, Odense\, Danmark
END:VEVENT
BEGIN:VEVENT
DTSTART;TZID=Europe/Copenhagen:20211101T121500
DTEND;TZID=Europe/Copenhagen:20211101T121500
DTSTAMP:20260424T163605
CREATED:20211027T090105Z
LAST-MODIFIED:20211027T090105Z
UID:29745-1635768900-1635768900@spildansk.dk
SUMMARY:HP Lange & Jarno Varsted - Roden til alt godt
DESCRIPTION:
URL:https://spildansk.dk/kalender/hp-lange-jarno-varsted-roden-til-alt-godt-2/
LOCATION:Nyrupskolen\, Kalundborg\, Kalundborg\, Danmark
END:VEVENT
BEGIN:VEVENT
DTSTART;TZID=Europe/Copenhagen:20211101T120000
DTEND;TZID=Europe/Copenhagen:20211101T120000
DTSTAMP:20260424T163605
CREATED:20211027T090103Z
LAST-MODIFIED:20211027T090103Z
UID:29744-1635768000-1635768000@spildansk.dk
SUMMARY:Drums Across - Hvo'n går det egentlig?
DESCRIPTION:
URL:https://spildansk.dk/kalender/drums-across-hvon-gaar-det-egentlig-2/
LOCATION:Eskilstrup Skole\, Eskilstrup\, Guldborgsund\, Danmark
END:VEVENT
BEGIN:VEVENT
DTSTART;TZID=Europe/Copenhagen:20211101T120000
DTEND;TZID=Europe/Copenhagen:20211101T120000
DTSTAMP:20260424T163605
CREATED:20211027T090102Z
LAST-MODIFIED:20211027T090102Z
UID:29743-1635768000-1635768000@spildansk.dk
SUMMARY:Ensemble Eiradís - KLASSISK
DESCRIPTION:
URL:https://spildansk.dk/kalender/ensemble-eiradis-klassisk-2/
LOCATION:Ådalskolen\, Skive\, Skive\, Danmark
END:VEVENT
BEGIN:VEVENT
DTSTART;TZID=Europe/Copenhagen:20211101T111000
DTEND;TZID=Europe/Copenhagen:20211101T111000
DTSTAMP:20260424T163605
CREATED:20211027T090100Z
LAST-MODIFIED:20211027T090100Z
UID:29742-1635765000-1635765000@spildansk.dk
SUMMARY:APHYXION - Heavy metal i hovedhøjde
DESCRIPTION:
URL:https://spildansk.dk/kalender/aphyxion-heavy-metal-i-hovedhoejde/
LOCATION:Muldbjergskolen\, Hjørring\, Hjørring\, Danmark
END:VEVENT
BEGIN:VEVENT
DTSTART;TZID=Europe/Copenhagen:20211101T104500
DTEND;TZID=Europe/Copenhagen:20211101T104500
DTSTAMP:20260424T163605
CREATED:20211027T090059Z
LAST-MODIFIED:20211027T090059Z
UID:29741-1635763500-1635763500@spildansk.dk
SUMMARY:Baby Did a Bad Thing - Baby Did a Bad Thing
DESCRIPTION:
URL:https://spildansk.dk/kalender/baby-did-a-bad-thing-baby-did-a-bad-thing-2/
LOCATION:Musikhuset Posten\, Odense\, Odense\, Danmark
END:VEVENT
BEGIN:VEVENT
DTSTART;TZID=Europe/Copenhagen:20211101T102000
DTEND;TZID=Europe/Copenhagen:20211101T102000
DTSTAMP:20260424T163605
CREATED:20211027T090056Z
LAST-MODIFIED:20211027T090056Z
UID:29740-1635762000-1635762000@spildansk.dk
SUMMARY:Den lille bitte opera - Opera for alle
DESCRIPTION:
URL:https://spildansk.dk/kalender/den-lille-bitte-opera-opera-for-alle-2/
LOCATION:Engstrandskolen\, Hvidovre\, Hvidovre\, Danmark
END:VEVENT
BEGIN:VEVENT
DTSTART;TZID=Europe/Copenhagen:20211101T101500
DTEND;TZID=Europe/Copenhagen:20211101T101500
DTSTAMP:20260424T163605
CREATED:20211027T090055Z
LAST-MODIFIED:20211027T090055Z
UID:29739-1635761700-1635761700@spildansk.dk
SUMMARY:Jacob D solo/Maskinpark - Jacob D solo/Maskinpark
DESCRIPTION:
URL:https://spildansk.dk/kalender/jacob-d-solo-maskinpark-jacob-d-solo-maskinpark/
LOCATION:Stjernevejskolen\, Hedensted\, Hedensted\, Danmark
END:VEVENT
BEGIN:VEVENT
DTSTART;TZID=Europe/Copenhagen:20211101T101500
DTEND;TZID=Europe/Copenhagen:20211101T101500
DTSTAMP:20260424T163605
CREATED:20211027T090054Z
LAST-MODIFIED:20211027T090054Z
UID:29738-1635761700-1635761700@spildansk.dk
SUMMARY:Mads Vinding & Øyvind Ougaard - Mads Vinding & Øyvind Ougaard
DESCRIPTION:
URL:https://spildansk.dk/kalender/mads-vinding-oeyvind-ougaard-mads-vinding-oeyvind-ougaard-2/
LOCATION:Kongehøjskolen (0.-3 kl.)\, Aabenraa\, Aabenraa\, Danmark
END:VEVENT
END:VCALENDAR