BEGIN:VCALENDAR
VERSION:2.0
PRODID:-//Spil Dansk - ECPv6.5.0//NONSGML v1.0//EN
CALSCALE:GREGORIAN
METHOD:PUBLISH
X-WR-CALNAME:Spil Dansk
X-ORIGINAL-URL:https://spildansk.dk
X-WR-CALDESC:Events for Spil Dansk
REFRESH-INTERVAL;VALUE=DURATION:PT1H
X-Robots-Tag:noindex
X-PUBLISHED-TTL:PT1H
BEGIN:VTIMEZONE
TZID:Europe/Copenhagen
BEGIN:DAYLIGHT
TZOFFSETFROM:+0100
TZOFFSETTO:+0200
TZNAME:CEST
DTSTART:20210328T010000
END:DAYLIGHT
BEGIN:STANDARD
TZOFFSETFROM:+0200
TZOFFSETTO:+0100
TZNAME:CET
DTSTART:20211031T010000
END:STANDARD
END:VTIMEZONE
BEGIN:VEVENT
DTSTART;TZID=Europe/Copenhagen:20211102T093500
DTEND;TZID=Europe/Copenhagen:20211102T093500
DTSTAMP:20260425T133201
CREATED:20211027T090221Z
LAST-MODIFIED:20211027T090221Z
UID:29779-1635845700-1635845700@spildansk.dk
SUMMARY:Baby Did a Bad Thing - Baby Did a Bad Thing
DESCRIPTION:
URL:https://spildansk.dk/kalender/baby-did-a-bad-thing-baby-did-a-bad-thing-4/
LOCATION:Arden Skole\, Arden\, Mariagerfjord\, Danmark
END:VEVENT
BEGIN:VEVENT
DTSTART;TZID=Europe/Copenhagen:20211102T093000
DTEND;TZID=Europe/Copenhagen:20211102T130000
DTSTAMP:20260425T133201
CREATED:20211028T194136Z
LAST-MODIFIED:20211028T194139Z
UID:30020-1635845400-1635858000@spildansk.dk
SUMMARY:Workshop med AndyOp
DESCRIPTION:Rapper AndyOp kommer og giver minikoncert og laver workshop med Viby Friskoles 8. klasse.
URL:https://spildansk.dk/kalender/workshop-med-andyop-2/
LOCATION:Viby Friskole\, Vibygårdsvej 50\, Viby Sjælland\, 4130
CATEGORIES:Undervisning
END:VEVENT
BEGIN:VEVENT
DTSTART;TZID=Europe/Copenhagen:20211102T093000
DTEND;TZID=Europe/Copenhagen:20211102T103000
DTSTAMP:20260425T133201
CREATED:20211028T170014Z
LAST-MODIFIED:20211028T170014Z
UID:30009-1635845400-1635849000@spildansk.dk
SUMMARY:Børne fest
DESCRIPTION:Ringsted Musik & Kulturskoles lærerorkester spiller og synger med 900 glade børn fra byens børnehaver og skoler.
URL:https://spildansk.dk/kalender/boerne-fest/
LOCATION:Springbrættet\, Garnisonen 46-48\, Garnisonen 46-48\, 4100
CATEGORIES:Koncert
ATTACH;FMTTYPE=image/jpeg:https://spildansk.dk/wp-content/uploads/2021/10/spil-dansk-orkester-221.jpg
ORGANIZER;CN="ringsted Musik &amp%3B Kulturskole":MAILTO:tba@ringsted
END:VEVENT
BEGIN:VEVENT
DTSTART;TZID=Europe/Copenhagen:20211102T093000
DTEND;TZID=Europe/Copenhagen:20211102T093000
DTSTAMP:20260425T133201
CREATED:20211027T090220Z
LAST-MODIFIED:20211027T090220Z
UID:29778-1635845400-1635845400@spildansk.dk
SUMMARY:APHYXION - Heavy metal i hovedhøjde
DESCRIPTION:
URL:https://spildansk.dk/kalender/aphyxion-heavy-metal-i-hovedhoejde-3/
LOCATION:Sindal Skole\, Sindal\, Hjørring\, Danmark
END:VEVENT
BEGIN:VEVENT
DTSTART;TZID=Europe/Copenhagen:20211102T092000
DTEND;TZID=Europe/Copenhagen:20211102T092000
DTSTAMP:20260425T133201
CREATED:20211027T090218Z
LAST-MODIFIED:20211027T090218Z
UID:29777-1635844800-1635844800@spildansk.dk
SUMMARY:Asbjørn - BOYISH
DESCRIPTION:
URL:https://spildansk.dk/kalender/asbjoern-boyish-4/
LOCATION:Hvidebækskolen\, Jerslev Sjælland\, Kalundborg\, Danmark
END:VEVENT
BEGIN:VEVENT
DTSTART;TZID=Europe/Copenhagen:20211102T091500
DTEND;TZID=Europe/Copenhagen:20211102T091500
DTSTAMP:20260425T133201
CREATED:20211027T090214Z
LAST-MODIFIED:20211027T090214Z
UID:29776-1635844500-1635844500@spildansk.dk
SUMMARY:Bjarke Falgren - Sigøjnerviolinens rejse
DESCRIPTION:
URL:https://spildansk.dk/kalender/bjarke-falgren-sigoejnerviolinens-rejse/
LOCATION:Vestskolen afd. Skovbakken\, Odder\, Odder\, Danmark
END:VEVENT
BEGIN:VEVENT
DTSTART;TZID=Europe/Copenhagen:20211102T091000
DTEND;TZID=Europe/Copenhagen:20211102T091000
DTSTAMP:20260425T133201
CREATED:20211027T090212Z
LAST-MODIFIED:20211027T090212Z
UID:29775-1635844200-1635844200@spildansk.dk
SUMMARY:HP Lange & Jarno Varsted - Roden til alt godt
DESCRIPTION:
URL:https://spildansk.dk/kalender/hp-lange-jarno-varsted-roden-til-alt-godt-3/
LOCATION:Højbo Friskole\, Føllenslev\, Kalundborg\, Danmark
END:VEVENT
BEGIN:VEVENT
DTSTART;TZID=Europe/Copenhagen:20211102T091000
DTEND;TZID=Europe/Copenhagen:20211102T091000
DTSTAMP:20260425T133201
CREATED:20211027T090211Z
LAST-MODIFIED:20211027T090211Z
UID:29774-1635844200-1635844200@spildansk.dk
SUMMARY:Mikael K - Musikalske fortællinger
DESCRIPTION:
URL:https://spildansk.dk/kalender/mikael-k-musikalske-fortaellinger-3/
LOCATION:Niels Ebbesen Skolen\, Skanderborg\, Skanderborg\, Danmark
END:VEVENT
BEGIN:VEVENT
DTSTART;TZID=Europe/Copenhagen:20211102T090000
DTEND;TZID=Europe/Copenhagen:20211102T093000
DTSTAMP:20260425T133201
CREATED:20211013T091834Z
LAST-MODIFIED:20211013T091834Z
UID:29127-1635843600-1635845400@spildansk.dk
SUMMARY:Spil dansk bussen på turné
DESCRIPTION:Spil Dansk Bussen ruller igen! \nTirsdag d. 2/11 kører Musikskolens Spil dansk-bus på turné i Næstved Kommune. Dygtige\, sangglade elever optræder på fire lokationer forskellige steder i kommunen og slutter med en offentlig koncert på Næstved Hovedbibliotek kl. 13.15. Her kan I opleve Voice Factory\, Rytmisk Børnekor\, Fridas Superkor og Fensmarks glade stemmer under ledelse af Ulla Britt Simonsen\, Frida Fridriksdottir og Helle Møller. Der bliver masser af dansk musik og godt humør.
URL:https://spildansk.dk/kalender/spil-dansk-bussen-paa-turne/
LOCATION:næstved rådhus\, Teatergade 8\, 4700\, Næstved
CATEGORIES:Koncert,Kor
ATTACH;FMTTYPE=image/jpeg:https://spildansk.dk/wp-content/uploads/2021/10/spil-dansk-bussen-2018-Glumsoe-1.jpg
ORGANIZER;CN="N%C3%A6stved Musikskole":MAILTO:musikskolen@naestved.dk
END:VEVENT
BEGIN:VEVENT
DTSTART;TZID=Europe/Copenhagen:20211102T090000
DTEND;TZID=Europe/Copenhagen:20211102T090000
DTSTAMP:20260425T133201
CREATED:20211027T090208Z
LAST-MODIFIED:20211027T090208Z
UID:29773-1635843600-1635843600@spildansk.dk
SUMMARY:Timeland - Lydenes Hemmelige Verden
DESCRIPTION:
URL:https://spildansk.dk/kalender/timeland-lydenes-hemmelige-verden-3/
LOCATION:Ålholm Skole\, København\, Københavns\, Danmark
END:VEVENT
BEGIN:VEVENT
DTSTART;TZID=Europe/Copenhagen:20211102T090000
DTEND;TZID=Europe/Copenhagen:20211102T090000
DTSTAMP:20260425T133201
CREATED:20211027T090205Z
LAST-MODIFIED:20211027T090205Z
UID:29772-1635843600-1635843600@spildansk.dk
SUMMARY:Snorre Kirk Trio - Swing Swing Swing
DESCRIPTION:
URL:https://spildansk.dk/kalender/snorre-kirk-trio-swing-swing-swing-3/
LOCATION:Nibøl Danske-Skole\, Niebüll\, Udenlandsk\, Danmark
END:VEVENT
BEGIN:VEVENT
DTSTART;TZID=Europe/Copenhagen:20211102T090000
DTEND;TZID=Europe/Copenhagen:20211102T090000
DTSTAMP:20260425T133201
CREATED:20211027T090157Z
LAST-MODIFIED:20211027T090157Z
UID:29771-1635843600-1635843600@spildansk.dk
SUMMARY:Mads Vinding & Øyvind Ougaard - Mads Vinding & Øyvind Ougaard
DESCRIPTION:
URL:https://spildansk.dk/kalender/mads-vinding-oeyvind-ougaard-mads-vinding-oeyvind-ougaard-4/
LOCATION:Frederiksborg Byskole\, Hillerød\, Hillerød\, Danmark
END:VEVENT
BEGIN:VEVENT
DTSTART;TZID=Europe/Copenhagen:20211102T090000
DTEND;TZID=Europe/Copenhagen:20211102T090000
DTSTAMP:20260425T133201
CREATED:20211027T090153Z
LAST-MODIFIED:20211027T090153Z
UID:29770-1635843600-1635843600@spildansk.dk
SUMMARY:Ayoe Angelica - ARV
DESCRIPTION:
URL:https://spildansk.dk/kalender/ayoe-angelica-arv-3/
LOCATION:Stilling Skole\, Skanderborg\, Skanderborg\, Danmark
END:VEVENT
BEGIN:VEVENT
DTSTART;TZID=Europe/Copenhagen:20211102T090000
DTEND;TZID=Europe/Copenhagen:20211102T090000
DTSTAMP:20260425T133201
CREATED:20211027T090150Z
LAST-MODIFIED:20211027T090150Z
UID:29768-1635843600-1635843600@spildansk.dk
SUMMARY:Ensemble Eiradís - KLASSISK
DESCRIPTION:
URL:https://spildansk.dk/kalender/ensemble-eiradis-klassisk-3/
LOCATION:Nr. Søby Skole\, Højslev\, Skive\, Danmark
END:VEVENT
BEGIN:VEVENT
DTSTART;TZID=Europe/Copenhagen:20211102T085500
DTEND;TZID=Europe/Copenhagen:20211102T085500
DTSTAMP:20260425T133201
CREATED:20211027T090148Z
LAST-MODIFIED:20211027T090148Z
UID:29766-1635843300-1635843300@spildansk.dk
SUMMARY:Defecto - Duality
DESCRIPTION:
URL:https://spildansk.dk/kalender/defecto-duality-3/
LOCATION:Østerhåbskolen\, afd. Torsted\, Horsens\, Horsens\, Danmark
END:VEVENT
BEGIN:VEVENT
DTSTART;TZID=Europe/Copenhagen:20211102T085000
DTEND;TZID=Europe/Copenhagen:20211102T085000
DTSTAMP:20260425T133201
CREATED:20211027T090145Z
LAST-MODIFIED:20211027T090145Z
UID:29764-1635843000-1635843000@spildansk.dk
SUMMARY:Lund/Jakobsen - Lund/Jakobsen
DESCRIPTION:
URL:https://spildansk.dk/kalender/lund-jakobsen-lund-jakobsen/
LOCATION:Engbjergskolen\, Herning\, Herning\, Danmark
END:VEVENT
BEGIN:VEVENT
DTSTART;TZID=Europe/Copenhagen:20211102T084500
DTEND;TZID=Europe/Copenhagen:20211102T084500
DTSTAMP:20260425T133201
CREATED:20211027T090137Z
LAST-MODIFIED:20211027T090137Z
UID:29763-1635842700-1635842700@spildansk.dk
SUMMARY:Bragr - Et BRAGR af en koncert!
DESCRIPTION:
URL:https://spildansk.dk/kalender/bragr-et-bragr-af-en-koncert-3/
LOCATION:Engdalskolen\, Brabrand\, Aarhus\, Danmark
END:VEVENT
BEGIN:VEVENT
DTSTART;TZID=Europe/Copenhagen:20211102T084500
DTEND;TZID=Europe/Copenhagen:20211102T084500
DTSTAMP:20260425T133201
CREATED:20211027T090134Z
LAST-MODIFIED:20211027T090134Z
UID:29762-1635842700-1635842700@spildansk.dk
SUMMARY:Moussa Diallo Trio - Cirkeline og Coco rejser til Afrika
DESCRIPTION:
URL:https://spildansk.dk/kalender/moussa-diallo-trio-cirkeline-og-coco-rejser-til-afrika-2/
LOCATION:Rønneskolen afd. Søndermark\, Rønne\, Bornholm\, Danmark
END:VEVENT
BEGIN:VEVENT
DTSTART;TZID=Europe/Copenhagen:20211102T084500
DTEND;TZID=Europe/Copenhagen:20211102T084500
DTSTAMP:20260425T133201
CREATED:20211027T090133Z
LAST-MODIFIED:20211027T090133Z
UID:29760-1635842700-1635842700@spildansk.dk
SUMMARY:Malene Kjærgård - Jorden Rundt
DESCRIPTION:
URL:https://spildansk.dk/kalender/malene-kjaergaard-jorden-rundt-3/
LOCATION:Østervangsskolen\, Roskilde\, Roskilde\, Danmark
END:VEVENT
BEGIN:VEVENT
DTSTART;TZID=Europe/Copenhagen:20211102T084500
DTEND;TZID=Europe/Copenhagen:20211102T084500
DTSTAMP:20260425T133201
CREATED:20211027T090130Z
LAST-MODIFIED:20211027T090130Z
UID:29759-1635842700-1635842700@spildansk.dk
SUMMARY:Drums Across - Hvo'n går det egentlig?
DESCRIPTION:
URL:https://spildansk.dk/kalender/drums-across-hvon-gaar-det-egentlig-3/
LOCATION:Sakskøbing Skole\, Sakskøbing\, Guldborgsund\, Danmark
END:VEVENT
BEGIN:VEVENT
DTSTART;TZID=Europe/Copenhagen:20211102T083000
DTEND;TZID=Europe/Copenhagen:20211102T083000
DTSTAMP:20260425T133201
CREATED:20211027T090127Z
LAST-MODIFIED:20211027T090127Z
UID:29758-1635841800-1635841800@spildansk.dk
SUMMARY:Jacob D solo/Maskinpark - Jacob D solo/Maskinpark
DESCRIPTION:
URL:https://spildansk.dk/kalender/jacob-d-solo-maskinpark-jacob-d-solo-maskinpark-3/
LOCATION:Tørring Skole\, Tørring\, Hedensted\, Danmark
END:VEVENT
BEGIN:VEVENT
DTSTART;TZID=Europe/Copenhagen:20211102T083000
DTEND;TZID=Europe/Copenhagen:20211102T083000
DTSTAMP:20260425T133201
CREATED:20211027T090121Z
LAST-MODIFIED:20211027T090121Z
UID:29756-1635841800-1635841800@spildansk.dk
SUMMARY:Asbjørn - BOYISH
DESCRIPTION:
URL:https://spildansk.dk/kalender/asbjoern-boyish-3/
LOCATION:Hvidebækskolen\, Jerslev Sjælland\, Kalundborg\, Danmark
END:VEVENT
BEGIN:VEVENT
DTSTART;TZID=Europe/Copenhagen:20211102T082000
DTEND;TZID=Europe/Copenhagen:20211102T082000
DTSTAMP:20260425T133201
CREATED:20211027T090120Z
LAST-MODIFIED:20211027T090120Z
UID:29754-1635841200-1635841200@spildansk.dk
SUMMARY:Sisters of Jazz - Jazzens Hemmelige Heltinder
DESCRIPTION:
URL:https://spildansk.dk/kalender/sisters-of-jazz-jazzens-hemmelige-heltinder-3/
LOCATION:Viborg Friskole\, Viborg\, Viborg\, Danmark
END:VEVENT
BEGIN:VEVENT
DTSTART;TZID=Europe/Copenhagen:20211102T000000
DTEND;TZID=Europe/Copenhagen:20211102T170000
DTSTAMP:20260425T133201
CREATED:20211012T085157Z
LAST-MODIFIED:20211012T085225Z
UID:28988-1635811200-1635872400@spildansk.dk
SUMMARY:VK skoler synger sammen
DESCRIPTION:Alle skoler i Varde Kommune er inviteret til fællessang med band fra Musik & Billedskolen. Skolerne deltager via livestreaming fra Horne Skole.
URL:https://spildansk.dk/kalender/vk-skoler-synger-sammen/
LOCATION:Horne Skole
CATEGORIES:Koncert,Fællessang
ATTACH;FMTTYPE=image/jpeg:https://spildansk.dk/wp-content/uploads/2021/10/SPIL-DANSK-UGEN-2021-Grafik-kvadrat-1-varde-kommune-4-scaled.jpg
ORGANIZER;CN="musik &amp%3B billedskolen Varde":MAILTO:vkm@varde.dk
END:VEVENT
BEGIN:VEVENT
DTSTART;TZID=Europe/Copenhagen:20211101T200000
DTEND;TZID=Europe/Copenhagen:20211107T203000
DTSTAMP:20260425T133201
CREATED:20211021T092241Z
LAST-MODIFIED:20211102T185528Z
UID:29448-1635796800-1636317000@spildansk.dk
SUMMARY:Ann & McBryan spil dansk på Youtube
DESCRIPTION:Ann & McBryan er en dansk duo bestående af Anne-Mette Nielsen (vokal) og Brian Stilling Nielsen (guitar og kor). I foråret 2021 påbegyndte de deres projekt “A Song A Day” hvor de spiller og uploader en sang hver dag på deres Youtube kanal i et helt år! Selvfølgelig bliver alle sangene i uge 44 danske sange/danske kunstnere. \nDagens sang har premiere hver aften kl. 20.00
URL:https://spildansk.dk/kalender/ann-mcbryan-spil-dansk-paa-youtube/
LOCATION:youtube.com
CATEGORIES:Koncert,Singer-songwriter
ATTACH;FMTTYPE=image/jpeg:https://spildansk.dk/wp-content/uploads/2021/10/287EAC74-CB6D-4A84-92A7-B3A0D60ADAA4.jpeg
END:VEVENT
BEGIN:VEVENT
DTSTART;TZID=Europe/Copenhagen:20211101T200000
DTEND;TZID=Europe/Copenhagen:20211101T210000
DTSTAMP:20260425T133201
CREATED:20211012T124357Z
LAST-MODIFIED:20211012T124357Z
UID:29056-1635796800-1635800400@spildansk.dk
SUMMARY:Jomfru Fanny Big Band & Talentelever
DESCRIPTION:Haderslev Musikskoles rytmiske talentelever spiller og synger endnu engang sammen med Jomfru Fanny Big Band. Det sker til en stor\, fælles koncert i aulaen på Haderslev Katedralskole.\nProjektet er resultatet af et godt samarbejde mellem det lokale orkester fra Aabenraa og musikskolerne i området. Det er af stor betydning for eleverne\, at de får mulighed for at prøve kræfter med så stort et ensemble.\nVi glæder os til at se jer til et brag af en koncert! Der er gratis adgang.
URL:https://spildansk.dk/kalender/jomfru-fanny-big-band-talentelever/
LOCATION:Haderslev Katedralskole\, Christiansfeldvej 31\, Haderslev\, 6100\, Danmark
CATEGORIES:Koncert,Jazz
ATTACH;FMTTYPE=image/jpeg:https://spildansk.dk/wp-content/uploads/2021/10/DSC_0237-2.jpg
ORGANIZER;CN="Haderslev Musikskole":MAILTO:node@haderslev.dk
END:VEVENT
BEGIN:VEVENT
DTSTART;TZID=Europe/Copenhagen:20211101T193000
DTEND;TZID=Europe/Copenhagen:20211101T220000
DTSTAMP:20260425T133201
CREATED:20211011T175100Z
LAST-MODIFIED:20211011T175100Z
UID:28955-1635795000-1635804000@spildansk.dk
SUMMARY:Gamle danske danse til spillemandsmusik
DESCRIPTION:Vi mødes i teatersalen kl 19.30 til 22.00 på Uddannelsescenter Nygaard\, Nykær 44\, 2605 Brøndby\, 5 minutters gang fra Brøndbyøster st. Det er tæt ved Vestbadet og Roskildevejen.\nDer vil vi fortsat mødes hver anden mandag i de lige uger.\nVi starter i september og slutter i april. Vi hygger os med bl.a. nye og gamle folkedanse og Les Lancier til levende musik. Der instrueres i dansene. (Vi danser ikke i dragter).\nDu er velkommen til at komme og være med et par gange\, før du melder dig ind. Kom bare selv om du ikke har en dansepartner. Det plejer at løse sig.\nDer bliver holdt en pause\, hvor vi synger et par sange og drikker kaffe og spiser kage\, som vi selv medbringer. \nDet koster for tiden 150 kr for hele sæsonen. Pengene bliver hovedsageligt brugt til traktementer ved diverse hyggearrangementer.\nSpillemænd deltager gratis.
URL:https://spildansk.dk/kalender/gamle-danske-danse-til-spillemandsmusik/
LOCATION:Uddannelsescenter Nygård\,\, Nykær 44\, Brøndby\, 2605
CATEGORIES:Folk
ATTACH;FMTTYPE=image/jpeg:https://spildansk.dk/wp-content/uploads/2021/10/BS.jpg
ORGANIZER;CN="Br%C3%B8ndby Spillemandslaug og Dansere":MAILTO:Vibe-Stig@duovisti.dk
END:VEVENT
BEGIN:VEVENT
DTSTART;TZID=Europe/Copenhagen:20211101T193000
DTEND;TZID=Europe/Copenhagen:20211101T213000
DTSTAMP:20260425T133201
CREATED:20210929T213835Z
LAST-MODIFIED:20210929T213835Z
UID:28548-1635795000-1635802200@spildansk.dk
SUMMARY:Syng dansk aften
DESCRIPTION:Vi synger sange fra den nye højskolesangbog. \nSangene bliver valgt og motiveret af Anne Fabiansen. \nVed klaveret – Bo Basbøll
URL:https://spildansk.dk/kalender/syng-dansk-aften-9/
LOCATION:Skarridsøsalen\, Skarridsøgade 37\, Jyderup\, 4450
CATEGORIES:Fællessang
END:VEVENT
BEGIN:VEVENT
DTSTART;TZID=Europe/Copenhagen:20211101T193000
DTEND;TZID=Europe/Copenhagen:20211101T203000
DTSTAMP:20260425T133201
CREATED:20211019T084404Z
LAST-MODIFIED:20211019T084404Z
UID:29401-1635795000-1635798600@spildansk.dk
SUMMARY:B-Joe & Band
DESCRIPTION:Gratis koncert!\nDen danske sanger/sangskriver B-Joe gæster Grønnegades Kaserne Kulturcenter – i forbindelse med åbningen af Spil Dansk Ugen i Næstved – med en samling helt nye sange på dansk. \n\nB-Joe er nok mest kendt i den brede offentlighed for sit mangeårige samarbejde med Michael Hardinger og de andre gamle “Shubber” i Hardinger Band\, hvor han fremstår som den karismatiske\, langhårede leadguitarist og sanger\, der knokler rundt på scenen\, tænder ild i guitaren og spiller med tænderne\, mens han får publikum helt op at køre med sine hæsblæsende rockversioner af klassikere som Vuffelivov. \nB-Joe har dog også en solokarriere kørende i de perioder\, hvor Hardinger Band ikke turnerer\, og det er gennem årene blevet til hele 7 engelsksprogede soloalbums\, som har fået masser af airplay på de landsdækkende radiokanaler og afstedkommet lange turneer i både ind- og udland. \nI øjeblikket er B-Joe og bandet i studiet for at indspille en ny plade med 10 helt nye\, stærke sange – denne gang på dansk – og det er de numre\, som kan opleves ved en snigpremiere i Næstved d. 1. november. \nMed sig har han et stjernehold af kendte og rutinerede musikere fra den danske rockscene\, så der er lagt op til et brag af en koncert: \nFlemming Olsen på trommer \nKnut Henriksen på bas \nMC Hansen på guitar \nOg B-Joe selv på vokal og leadguitar \nStilen er blevet sammenlignet med både CV Jørgensen og Bjørn Afzelius\, men er samtidig umiskendeligt B-Joe’s egen. Tekster med både dybde og bid\, som ikke er bange for at være hverken følsomme\, bidske\, kærlige og … ind imellem sågar politiske – tilsat iørefaldende melodier\, som der både kan synges med på og rockes godt ud til. \n\nVarighed: 1 time\nObs: du skal indløse en gratis billet!
URL:https://spildansk.dk/kalender/b-joe-band/
LOCATION:Ny Ridehus\, Grønnegades Kaserne Kulturcenter\, Grønnegade 10\, Næstved\, 4700\, Danmark
ATTACH;FMTTYPE=image/jpeg:https://spildansk.dk/wp-content/uploads/2021/10/B-Joe_1_Web.jpg
ORGANIZER;CN="Gr%C3%B8nnegades Kaserne Kulturcenter":MAILTO:kulturcenteret@naestved.dk
END:VEVENT
BEGIN:VEVENT
DTSTART;TZID=Europe/Copenhagen:20211101T193000
DTEND;TZID=Europe/Copenhagen:20211101T203000
DTSTAMP:20260425T133201
CREATED:20211012T084946Z
LAST-MODIFIED:20211012T084946Z
UID:28982-1635795000-1635798600@spildansk.dk
SUMMARY:Jazz at the museum
DESCRIPTION:“Drømte mig en drøm”\nBo Stief er en legende indenfor den rytmiske musik med et dansk sind\, temperament og grundlyd. Med solokoncerten “Drømte mig en drøm” kommer vi tættere på hinanden bla. med publikums deltagelse. Det blive en speciel solo-koncert\, da bassen her får en bærende rolle på alle planer. Der satses på empati og stemning og forunderlig musik for alle.\nMandag d. 1/11 kl. 19.30-20.30 på Frello Museet\,\nKirkepladsen 1\, Varde\nArr. Spil Dansk Styregruppen og Varde Museerne
URL:https://spildansk.dk/kalender/jazz-at-the-museum-11/
LOCATION:Museum Frello
CATEGORIES:Jazz
ATTACH;FMTTYPE=image/jpeg:https://spildansk.dk/wp-content/uploads/2021/10/SPIL-DANSK-UGEN-2021-Grafik-kvadrat-1-varde-kommune-3-scaled.jpg
ORGANIZER;CN="Spil Dansk Styregruppen Varde Kommune":MAILTO:pvoo@varde.dk
END:VEVENT
END:VCALENDAR