BEGIN:VCALENDAR
VERSION:2.0
PRODID:-//Spil Dansk - ECPv6.5.0//NONSGML v1.0//EN
CALSCALE:GREGORIAN
METHOD:PUBLISH
X-WR-CALNAME:Spil Dansk
X-ORIGINAL-URL:https://spildansk.dk
X-WR-CALDESC:Events for Spil Dansk
REFRESH-INTERVAL;VALUE=DURATION:PT1H
X-Robots-Tag:noindex
X-PUBLISHED-TTL:PT1H
BEGIN:VTIMEZONE
TZID:Europe/Copenhagen
BEGIN:DAYLIGHT
TZOFFSETFROM:+0100
TZOFFSETTO:+0200
TZNAME:CEST
DTSTART:20210328T010000
END:DAYLIGHT
BEGIN:STANDARD
TZOFFSETFROM:+0200
TZOFFSETTO:+0100
TZNAME:CET
DTSTART:20211031T010000
END:STANDARD
END:VTIMEZONE
BEGIN:VEVENT
DTSTART;TZID=Europe/Copenhagen:20211102T110000
DTEND;TZID=Europe/Copenhagen:20211102T123000
DTSTAMP:20260423T011857
CREATED:20211027T111657Z
LAST-MODIFIED:20211027T111657Z
UID:29908-1635850800-1635856200@spildansk.dk
SUMMARY:En kærlig OPSANG ved Sara Futtrup og Anna Kruse
DESCRIPTION:Avedøre Bibliotek og Kulturhus’ musikalske matine byder i Spil Dansk-ugen på en berigende og opløftende OPSANG med Sara Futtrup og Anna Kruse.\nDe to musikere har samlet mennesker til udendørs fællessang under coronanedlukningen\, som det er tradition at gøre under krisetider. \nFoto Kaja Gullberg
URL:https://spildansk.dk/kalender/en-kaerlig-opsang-ved-sara-futtrup-og-anna-kruse/
LOCATION:Avedøre Bibliotek og Kulturhus\, Hovedstien 14\, 2650\, Hvidovre
CATEGORIES:Fællessang
ATTACH;FMTTYPE=image/jpeg:https://spildansk.dk/wp-content/uploads/2021/10/kaja_gullberg_900x900.jpg
END:VEVENT
BEGIN:VEVENT
DTSTART;TZID=Europe/Copenhagen:20211102T103000
DTEND;TZID=Europe/Copenhagen:20211102T113000
DTSTAMP:20260423T011857
CREATED:20211101T095853Z
LAST-MODIFIED:20211101T095853Z
UID:30174-1635849000-1635852600@spildansk.dk
SUMMARY:Tikke Takke Trio Band
DESCRIPTION:Tikke Takke inviterer børn og voksne ud på et ocean af sprudlende vilde sange om havets forunderlige dyr!\nHer kan du møde Edderkoppen Bobby\, der elsker at flashe sine otte svømmefødder – men i virkeligheden ryster hans ben når han skal i vandet. Hvad skal til for at kurere hans vandskræk?\nKuglefisken Kalle Klovn er så klodset og nærsynet at han er blevet helt træt af sig selv. En dag tager han på tur i det store ocean\, for måske kan han finde sig en ven? \nKen\, den frækkeste af alle krabber i hele verden! Nips nips nips\, han elsker bare at bide i tæerne på hele familien.\nDer venter et hav af eventyr\, når du skal til koncert med Tikke Takke Trio! \nFor børn fra 3-9 år og deres voksne. \n  \nPris: Hent en gratis billet på roskildebib.dk/detsker
URL:https://spildansk.dk/kalender/tikke-takke-trio-band-2/
LOCATION:KulturCosmos\, Søndergade 11\, Viby Sjælland\, 4000
CATEGORIES:Koncert,Musik til børn
ATTACH;FMTTYPE=image/jpeg:https://spildansk.dk/wp-content/uploads/2021/11/Tikke-Takke-Trio-scaled.jpg
ORGANIZER;CN="Roskilde Bibliotekerne":MAILTO:mellemreolerne@roskilde.dk
END:VEVENT
BEGIN:VEVENT
DTSTART;TZID=Europe/Copenhagen:20211102T103000
DTEND;TZID=Europe/Copenhagen:20211102T113000
DTSTAMP:20260423T011857
CREATED:20211008T090956Z
LAST-MODIFIED:20211008T090956Z
UID:28796-1635849000-1635852600@spildansk.dk
SUMMARY:Spil Dansk Solisterier med Bjarne Lisby
DESCRIPTION:Spil dansk – Bjarne Lisbys 50 års kunstnerjubilæum\n\n\n\n\n\nVær med til at fejre Bjarne Lisbys 50 års kunstnerjubilæum\, når han i forbindelse med Spil Dansk ugen afholder Solokoncert på Skakbrættet på Viborg Hovedbibliotek. \nHan vil med humør og glæde fejre den danske musik. \nBjarne Lisby vil ved denne koncert synge  sange\, som har haft stor betydning for hans karriere og liv – og fortælle anekdoter omkring sit liv som kunstner og entertainer. \nBjarne Lisby har udgivet 20 album og en sangbog\, som bære titlen ”På syngende grund”. Han har gennem sit virke fået adskillige priser som fx Spil Dansk Dagens ildsjælepris i 2010.
URL:https://spildansk.dk/kalender/spil-dansk-solisterier-med-bjarne-lisby/
LOCATION:viborg bibliotekerne\, Vesterbrogade 15\, viborg\, 8800
CATEGORIES:Koncert
ATTACH;FMTTYPE=image/jpeg:https://spildansk.dk/wp-content/uploads/2021/10/Bjarne-Lisby_Spil-Dansk.jpg
ORGANIZER;CN="Viborg Bibliotekerne":MAILTO:kv@viborg.dk
END:VEVENT
BEGIN:VEVENT
DTSTART;TZID=Europe/Copenhagen:20211102T103000
DTEND;TZID=Europe/Copenhagen:20211102T113000
DTSTAMP:20260423T011857
CREATED:20211005T064744Z
LAST-MODIFIED:20211005T071151Z
UID:28712-1635849000-1635852600@spildansk.dk
SUMMARY:Tikke Takke Trio-Band
DESCRIPTION:Tikke Takke inviterer børn og voksne ud på et ocean af sprudlende vilde sange om havets forunderlige dyr!\nHer kan du møde Edderkoppen Bobby\, der elsker at flashe sine otte svømmefødder – men i virkeligheden ryster hans ben når han skal i vandet. Hvad skal til for at kurere hans vandskræk?\nKuglefisken Kalle Klovn er så klodset og nærsynet at han er blevet helt træt af sig selv. En dag tager han på tur i det store ocean\, for måske kan han finde sig en ven? \nKen\, den frækkeste af alle krabber i hele verden! Nips nips nips\, han elsker bare at bide i tæerne på hele familien.\nDer venter et hav af eventyr\, når du skal til koncert med Tikke Takke Trio! \nFor børn fra 3-9 år og deres voksne. \nAndreas Ugorskij: guitar og vokal\, Hans FInd Møller: Bas\,  Morten Ærø: Trommer \nHent billetter her: Tikke Takke Trio | Roskilde Bibliotekerne 
URL:https://spildansk.dk/kalender/tikke-takke-trio-band/
LOCATION:KulturCosmos\, Søndergade 11\, Viby Sj\, 4130
CATEGORIES:Jazz,Musik til børn
ATTACH;FMTTYPE=image/jpeg:https://spildansk.dk/wp-content/uploads/2021/10/Tikke-Takke-Trio-scaled.jpg
ORGANIZER;CN="Roskilde Bibliotekerne":MAILTO:mellemreolerne@roskilde.dk
END:VEVENT
BEGIN:VEVENT
DTSTART;TZID=Europe/Copenhagen:20211102T103000
DTEND;TZID=Europe/Copenhagen:20211102T110000
DTSTAMP:20260423T011857
CREATED:20211028T170344Z
LAST-MODIFIED:20211028T170344Z
UID:30012-1635849000-1635850800@spildansk.dk
SUMMARY:Børne fest 2
DESCRIPTION:Ringsted Musik & Kulturskoles lærerorkester spiller og synger for byens yngste skolebørn.
URL:https://spildansk.dk/kalender/boerne-fest-2/
LOCATION:Springbrættet\, Garnisonen 46-48\, Garnisonen 46-48\, 4100
CATEGORIES:Koncert
ATTACH;FMTTYPE=image/jpeg:https://spildansk.dk/wp-content/uploads/2021/10/spil-dansk-orkester-221-1.jpg
ORGANIZER;CN="ringsted Musik &amp%3B Kulturskole":MAILTO:tba@ringsted
END:VEVENT
BEGIN:VEVENT
DTSTART;TZID=Europe/Copenhagen:20211102T103000
DTEND;TZID=Europe/Copenhagen:20211102T110000
DTSTAMP:20260423T011857
CREATED:20211013T092203Z
LAST-MODIFIED:20211013T092203Z
UID:29132-1635849000-1635850800@spildansk.dk
SUMMARY:Spil dansk bussen på turné
DESCRIPTION:Spil Dansk Bussen ruller igen! \nTirsdag d. 2/11 kører Musikskolens Spil dansk-bus på turné i Næstved Kommune. Dygtige\, sangglade elever optræder på fire lokationer forskellige steder i kommunen og slutter med en offentlig koncert på Næstved Hovedbibliotek kl. 13.15. Her kan I opleve Voice Factory\, Rytmisk Børnekor\, Fridas Superkor og Fensmarks glade stemmer under ledelse af Ulla Britt Simonsen\, Frida Fridriksdottir og Helle Møller. Der bliver masser af dansk musik og godt humør.
URL:https://spildansk.dk/kalender/spil-dansk-bussen-paa-turne-2/
LOCATION:Hindholm Privatskole\, Hindholmvej 21D\, Fuglebjerg\, 4250
CATEGORIES:Koncert,Kor
ATTACH;FMTTYPE=image/jpeg:https://spildansk.dk/wp-content/uploads/2021/10/spil-dansk-bussen-2018-Glumsoe-2.jpg
ORGANIZER;CN="N%C3%A6stved Musikskole":MAILTO:musikskolen@naestved.dk
END:VEVENT
BEGIN:VEVENT
DTSTART;TZID=Europe/Copenhagen:20211102T102000
DTEND;TZID=Europe/Copenhagen:20211102T102000
DTSTAMP:20260423T011857
CREATED:20211027T090237Z
LAST-MODIFIED:20211027T090237Z
UID:29788-1635848400-1635848400@spildansk.dk
SUMMARY:Ayoe Angelica - ARV
DESCRIPTION:
URL:https://spildansk.dk/kalender/ayoe-angelica-arv-4/
LOCATION:Stilling Skole\, Skanderborg\, Skanderborg\, Danmark
END:VEVENT
BEGIN:VEVENT
DTSTART;TZID=Europe/Copenhagen:20211102T101500
DTEND;TZID=Europe/Copenhagen:20211102T101500
DTSTAMP:20260423T011857
CREATED:20211027T090235Z
LAST-MODIFIED:20211027T090235Z
UID:29787-1635848100-1635848100@spildansk.dk
SUMMARY:Mikael K - Musikalske fortællinger
DESCRIPTION:
URL:https://spildansk.dk/kalender/mikael-k-musikalske-fortaellinger-4/
LOCATION:Niels Ebbesen Skolen\, Skanderborg\, Skanderborg\, Danmark
END:VEVENT
BEGIN:VEVENT
DTSTART;TZID=Europe/Copenhagen:20211102T101000
DTEND;TZID=Europe/Copenhagen:20211102T101000
DTSTAMP:20260423T011857
CREATED:20211027T090233Z
LAST-MODIFIED:20211027T090233Z
UID:29786-1635847800-1635847800@spildansk.dk
SUMMARY:Defecto - Duality
DESCRIPTION:
URL:https://spildansk.dk/kalender/defecto-duality-4/
LOCATION:Østerhåbskolen\, afd. Torsted\, Horsens\, Horsens\, Danmark
END:VEVENT
BEGIN:VEVENT
DTSTART;TZID=Europe/Copenhagen:20211102T100000
DTEND;TZID=Europe/Copenhagen:20211102T140000
DTSTAMP:20260423T011857
CREATED:20211025T091956Z
LAST-MODIFIED:20211025T091956Z
UID:29480-1635847200-1635861600@spildansk.dk
SUMMARY:Sangskriver Workshop fra KODA
DESCRIPTION:Koda afholder en sangskriver-workshop hos VGT
URL:https://spildansk.dk/kalender/sangskriver-workshop-fra-koda-5/
LOCATION:VGT\, Skolegade 15\, Tarm\, 6880
ORGANIZER;CN="Vestjyska Gymnasium Tarm":MAILTO:km@vgt.dk
END:VEVENT
BEGIN:VEVENT
DTSTART;TZID=Europe/Copenhagen:20211102T100000
DTEND;TZID=Europe/Copenhagen:20211102T120000
DTSTAMP:20260423T011857
CREATED:20210909T070110Z
LAST-MODIFIED:20210909T070110Z
UID:28211-1635847200-1635854400@spildansk.dk
SUMMARY:Sundhedsbal med Svøbsk Trio
DESCRIPTION:Svøbsk Trio gæster sammen med en danseinstruktør Aktivitetscenter Odensevej\, og afholder et Sundhedsbal sammen med beboerne og deres pårørende.
URL:https://spildansk.dk/kalender/sundhedsbal-med-svoebsk-trio/
LOCATION:Aktivitetscenter Odensevej 2\, Odensevej 2\, Assens\, 5610
CATEGORIES:Undervisning,Folk
ATTACH;FMTTYPE=image/jpeg:https://spildansk.dk/wp-content/uploads/2021/09/svoebsk-kvartet.jpg
END:VEVENT
BEGIN:VEVENT
DTSTART;TZID=Europe/Copenhagen:20211102T100000
DTEND;TZID=Europe/Copenhagen:20211102T113000
DTSTAMP:20260423T011857
CREATED:20211010T072814Z
LAST-MODIFIED:20211010T072814Z
UID:28828-1635847200-1635852600@spildansk.dk
SUMMARY:En:1 på Anlægget
DESCRIPTION:Musik for de demensramte borger på anlægget.
URL:https://spildansk.dk/kalender/en1-paa-anlaegget/
LOCATION:plejecenter Anlægget\, Anlægsvej 50\, Ulstrup\, 8860
CATEGORIES:Koncert
ORGANIZER;CN="Anl%C3%A6gget":MAILTO:jomo@favrskov.dk
END:VEVENT
BEGIN:VEVENT
DTSTART;TZID=Europe/Copenhagen:20211102T100000
DTEND;TZID=Europe/Copenhagen:20211102T110000
DTSTAMP:20260423T011857
CREATED:20211017T151249Z
LAST-MODIFIED:20211017T151249Z
UID:29362-1635847200-1635850800@spildansk.dk
SUMMARY:De små synger i kirken
DESCRIPTION:Børn fra Askehavegård Børnehus besøger kirken i SPIL DANSK ugen og synger med og for hinanden og for alle\, der har lyst at lytte.
URL:https://spildansk.dk/kalender/de-smaa-synger-i-kirken-5/
LOCATION:Stillinge Kirke\, Stillingevej 55\, Slagelse\, 4200\, Danmark
CATEGORIES:Musik til børn
END:VEVENT
BEGIN:VEVENT
DTSTART;TZID=Europe/Copenhagen:20211102T100000
DTEND;TZID=Europe/Copenhagen:20211102T110000
DTSTAMP:20260423T011857
CREATED:20211016T151857Z
LAST-MODIFIED:20211016T151857Z
UID:29338-1635847200-1635850800@spildansk.dk
SUMMARY:Små fødder og sangstemmer i Jakobskirken
DESCRIPTION:Børnehaven Vognmandsparken i Roskilde prioriterer musik\, rytme og bevægelse i dagligdagen. I SpilDanskUgen besøger de ældste børn den lokale sognekirke. ‘Mester Jakob’ må jo synges\, når kirken hedder Jakobskirken – og hvordan lyder det som kanon? Kan vi kalde solen frem\, når vi laver fagter til ‘I østen stiger solen op?’ Kan vi trampe og hoppe og danse os ind i nye landskaber sammen med sognepræsten Mogens\, når vi synger ‘Jeg gik mig over sø og land’? Og hvordan lyder orglet\, når Henrik spiller på det? Det skal alt sammen prøves af!
URL:https://spildansk.dk/kalender/smaa-foedder-og-sangstemmer-i-jakobskirken/
LOCATION:Jakobskirken\, Astersvej 11\, Roskilde\, 4000\, Danmark
CATEGORIES:Fællessang,Musik til børn
ORGANIZER;CN="Jakobskirken":MAILTO:info@jakobskirken.dk
END:VEVENT
BEGIN:VEVENT
DTSTART;TZID=Europe/Copenhagen:20211102T100000
DTEND;TZID=Europe/Copenhagen:20211102T110000
DTSTAMP:20260423T011857
CREATED:20211013T124727Z
LAST-MODIFIED:20211013T124727Z
UID:29153-1635847200-1635850800@spildansk.dk
SUMMARY:LMS Familiekoncert på Midtpunktet
DESCRIPTION:Bjørnetjenesten afholder koncert på Midtpunktet Thyholm
URL:https://spildansk.dk/kalender/lms-familiekoncert-paa-midtpunktet/
LOCATION:Midtpunktet Thyholm\, Rughavevej 5\, Thyholm\, 7790
END:VEVENT
BEGIN:VEVENT
DTSTART;TZID=Europe/Copenhagen:20211102T100000
DTEND;TZID=Europe/Copenhagen:20211102T110000
DTSTAMP:20260423T011857
CREATED:20211012T111135Z
LAST-MODIFIED:20211012T111135Z
UID:29026-1635847200-1635850800@spildansk.dk
SUMMARY:Familiekoncert i Midtpunktet Thyholm
DESCRIPTION:Gratis familiekoncert for indskolingen og alle andre interesserede i Midtpunktet med musikgruppen Bjørnetjenesten.
URL:https://spildansk.dk/kalender/familiekoncert-i-midtpunktet-thyholm/
LOCATION:Midtpunktet Thyholm\, Rughavevej\, Thyholm\, 7790\, Danmark
CATEGORIES:Musik til børn
ATTACH;FMTTYPE=image/jpeg:https://spildansk.dk/wp-content/uploads/2021/10/Bjoernetjenesten.jpg
END:VEVENT
BEGIN:VEVENT
DTSTART;TZID=Europe/Copenhagen:20211102T100000
DTEND;TZID=Europe/Copenhagen:20211102T100000
DTSTAMP:20260423T011857
CREATED:20211027T090231Z
LAST-MODIFIED:20211027T090231Z
UID:29785-1635847200-1635847200@spildansk.dk
SUMMARY:Bjørnetjenesten - Ord Smitter
DESCRIPTION:
URL:https://spildansk.dk/kalender/bjoernetjenesten-ord-smitter-2/
LOCATION:Midtpunktet\, Thyholm\, Struer\, Danmark
END:VEVENT
BEGIN:VEVENT
DTSTART;TZID=Europe/Copenhagen:20211102T100000
DTEND;TZID=Europe/Copenhagen:20211102T100000
DTSTAMP:20260423T011857
CREATED:20211027T090230Z
LAST-MODIFIED:20211027T090230Z
UID:29784-1635847200-1635847200@spildansk.dk
SUMMARY:Snorre Kirk Trio - Swing Swing Swing
DESCRIPTION:
URL:https://spildansk.dk/kalender/snorre-kirk-trio-swing-swing-swing-4/
LOCATION:Nibøl Danske-Skole\, Niebüll\, Udenlandsk\, Danmark
END:VEVENT
BEGIN:VEVENT
DTSTART;TZID=Europe/Copenhagen:20211102T100000
DTEND;TZID=Europe/Copenhagen:20211102T100000
DTSTAMP:20260423T011857
CREATED:20211027T090229Z
LAST-MODIFIED:20211027T090229Z
UID:29783-1635847200-1635847200@spildansk.dk
SUMMARY:Mads Vinding & Øyvind Ougaard - Mads Vinding & Øyvind Ougaard
DESCRIPTION:
URL:https://spildansk.dk/kalender/mads-vinding-oeyvind-ougaard-mads-vinding-oeyvind-ougaard-5/
LOCATION:Frederiksborg Byskole\, Hillerød\, Hillerød\, Danmark
END:VEVENT
BEGIN:VEVENT
DTSTART;TZID=Europe/Copenhagen:20211102T095500
DTEND;TZID=Europe/Copenhagen:20211102T095500
DTSTAMP:20260423T011857
CREATED:20211027T090227Z
LAST-MODIFIED:20211027T090227Z
UID:29782-1635846900-1635846900@spildansk.dk
SUMMARY:Bragr - Et BRAGR af en koncert!
DESCRIPTION:
URL:https://spildansk.dk/kalender/bragr-et-bragr-af-en-koncert-4/
LOCATION:Engdalskolen\, Brabrand\, Aarhus\, Danmark
END:VEVENT
BEGIN:VEVENT
DTSTART;TZID=Europe/Copenhagen:20211102T095000
DTEND;TZID=Europe/Copenhagen:20211102T095000
DTSTAMP:20260423T011857
CREATED:20211027T090225Z
LAST-MODIFIED:20211027T090225Z
UID:29781-1635846600-1635846600@spildansk.dk
SUMMARY:Malene Kjærgård - Jorden Rundt
DESCRIPTION:
URL:https://spildansk.dk/kalender/malene-kjaergaard-jorden-rundt-4/
LOCATION:Østervangsskolen\, Roskilde\, Roskilde\, Danmark
END:VEVENT
BEGIN:VEVENT
DTSTART;TZID=Europe/Copenhagen:20211102T094500
DTEND;TZID=Europe/Copenhagen:20211102T094500
DTSTAMP:20260423T011857
CREATED:20211027T090223Z
LAST-MODIFIED:20211027T090223Z
UID:29780-1635846300-1635846300@spildansk.dk
SUMMARY:Gospel Sisters - Gospelkoncert og -workshop
DESCRIPTION:
URL:https://spildansk.dk/kalender/gospel-sisters-gospelkoncert-og-workshop/
LOCATION:Vallensbæk Skole\, Vallensbæk\, Vallensbæk\, Danmark
END:VEVENT
BEGIN:VEVENT
DTSTART;TZID=Europe/Copenhagen:20211102T093500
DTEND;TZID=Europe/Copenhagen:20211102T093500
DTSTAMP:20260423T011857
CREATED:20211027T090221Z
LAST-MODIFIED:20211027T090221Z
UID:29779-1635845700-1635845700@spildansk.dk
SUMMARY:Baby Did a Bad Thing - Baby Did a Bad Thing
DESCRIPTION:
URL:https://spildansk.dk/kalender/baby-did-a-bad-thing-baby-did-a-bad-thing-4/
LOCATION:Arden Skole\, Arden\, Mariagerfjord\, Danmark
END:VEVENT
BEGIN:VEVENT
DTSTART;TZID=Europe/Copenhagen:20211102T093000
DTEND;TZID=Europe/Copenhagen:20211102T130000
DTSTAMP:20260423T011857
CREATED:20211028T194136Z
LAST-MODIFIED:20211028T194139Z
UID:30020-1635845400-1635858000@spildansk.dk
SUMMARY:Workshop med AndyOp
DESCRIPTION:Rapper AndyOp kommer og giver minikoncert og laver workshop med Viby Friskoles 8. klasse.
URL:https://spildansk.dk/kalender/workshop-med-andyop-2/
LOCATION:Viby Friskole\, Vibygårdsvej 50\, Viby Sjælland\, 4130
CATEGORIES:Undervisning
END:VEVENT
BEGIN:VEVENT
DTSTART;TZID=Europe/Copenhagen:20211102T093000
DTEND;TZID=Europe/Copenhagen:20211102T103000
DTSTAMP:20260423T011857
CREATED:20211028T170014Z
LAST-MODIFIED:20211028T170014Z
UID:30009-1635845400-1635849000@spildansk.dk
SUMMARY:Børne fest
DESCRIPTION:Ringsted Musik & Kulturskoles lærerorkester spiller og synger med 900 glade børn fra byens børnehaver og skoler.
URL:https://spildansk.dk/kalender/boerne-fest/
LOCATION:Springbrættet\, Garnisonen 46-48\, Garnisonen 46-48\, 4100
CATEGORIES:Koncert
ATTACH;FMTTYPE=image/jpeg:https://spildansk.dk/wp-content/uploads/2021/10/spil-dansk-orkester-221.jpg
ORGANIZER;CN="ringsted Musik &amp%3B Kulturskole":MAILTO:tba@ringsted
END:VEVENT
BEGIN:VEVENT
DTSTART;TZID=Europe/Copenhagen:20211102T093000
DTEND;TZID=Europe/Copenhagen:20211102T093000
DTSTAMP:20260423T011857
CREATED:20211027T090220Z
LAST-MODIFIED:20211027T090220Z
UID:29778-1635845400-1635845400@spildansk.dk
SUMMARY:APHYXION - Heavy metal i hovedhøjde
DESCRIPTION:
URL:https://spildansk.dk/kalender/aphyxion-heavy-metal-i-hovedhoejde-3/
LOCATION:Sindal Skole\, Sindal\, Hjørring\, Danmark
END:VEVENT
BEGIN:VEVENT
DTSTART;TZID=Europe/Copenhagen:20211102T092000
DTEND;TZID=Europe/Copenhagen:20211102T092000
DTSTAMP:20260423T011857
CREATED:20211027T090218Z
LAST-MODIFIED:20211027T090218Z
UID:29777-1635844800-1635844800@spildansk.dk
SUMMARY:Asbjørn - BOYISH
DESCRIPTION:
URL:https://spildansk.dk/kalender/asbjoern-boyish-4/
LOCATION:Hvidebækskolen\, Jerslev Sjælland\, Kalundborg\, Danmark
END:VEVENT
BEGIN:VEVENT
DTSTART;TZID=Europe/Copenhagen:20211102T091500
DTEND;TZID=Europe/Copenhagen:20211102T091500
DTSTAMP:20260423T011857
CREATED:20211027T090214Z
LAST-MODIFIED:20211027T090214Z
UID:29776-1635844500-1635844500@spildansk.dk
SUMMARY:Bjarke Falgren - Sigøjnerviolinens rejse
DESCRIPTION:
URL:https://spildansk.dk/kalender/bjarke-falgren-sigoejnerviolinens-rejse/
LOCATION:Vestskolen afd. Skovbakken\, Odder\, Odder\, Danmark
END:VEVENT
BEGIN:VEVENT
DTSTART;TZID=Europe/Copenhagen:20211102T091000
DTEND;TZID=Europe/Copenhagen:20211102T091000
DTSTAMP:20260423T011857
CREATED:20211027T090212Z
LAST-MODIFIED:20211027T090212Z
UID:29775-1635844200-1635844200@spildansk.dk
SUMMARY:HP Lange & Jarno Varsted - Roden til alt godt
DESCRIPTION:
URL:https://spildansk.dk/kalender/hp-lange-jarno-varsted-roden-til-alt-godt-3/
LOCATION:Højbo Friskole\, Føllenslev\, Kalundborg\, Danmark
END:VEVENT
BEGIN:VEVENT
DTSTART;TZID=Europe/Copenhagen:20211102T091000
DTEND;TZID=Europe/Copenhagen:20211102T091000
DTSTAMP:20260423T011857
CREATED:20211027T090211Z
LAST-MODIFIED:20211027T090211Z
UID:29774-1635844200-1635844200@spildansk.dk
SUMMARY:Mikael K - Musikalske fortællinger
DESCRIPTION:
URL:https://spildansk.dk/kalender/mikael-k-musikalske-fortaellinger-3/
LOCATION:Niels Ebbesen Skolen\, Skanderborg\, Skanderborg\, Danmark
END:VEVENT
END:VCALENDAR