BEGIN:VCALENDAR
VERSION:2.0
PRODID:-//Spil Dansk - ECPv6.5.0//NONSGML v1.0//EN
CALSCALE:GREGORIAN
METHOD:PUBLISH
X-WR-CALNAME:Spil Dansk
X-ORIGINAL-URL:https://spildansk.dk
X-WR-CALDESC:Events for Spil Dansk
REFRESH-INTERVAL;VALUE=DURATION:PT1H
X-Robots-Tag:noindex
X-PUBLISHED-TTL:PT1H
BEGIN:VTIMEZONE
TZID:Europe/Copenhagen
BEGIN:DAYLIGHT
TZOFFSETFROM:+0100
TZOFFSETTO:+0200
TZNAME:CEST
DTSTART:20210328T010000
END:DAYLIGHT
BEGIN:STANDARD
TZOFFSETFROM:+0200
TZOFFSETTO:+0100
TZNAME:CET
DTSTART:20211031T010000
END:STANDARD
END:VTIMEZONE
BEGIN:VEVENT
DTSTART;TZID=Europe/Copenhagen:20211101T090000
DTEND;TZID=Europe/Copenhagen:20211101T090000
DTSTAMP:20260424T123355
CREATED:20211027T090029Z
LAST-MODIFIED:20211027T090029Z
UID:29725-1635757200-1635757200@spildansk.dk
SUMMARY:HP Lange & Jarno Varsted - Roden til alt godt
DESCRIPTION:
URL:https://spildansk.dk/kalender/hp-lange-jarno-varsted-roden-til-alt-godt/
LOCATION:Tømmerup Fri- Og Efterskole\, Kalundborg\, Kalundborg\, Danmark
END:VEVENT
BEGIN:VEVENT
DTSTART;TZID=Europe/Copenhagen:20211101T090500
DTEND;TZID=Europe/Copenhagen:20211101T090500
DTSTAMP:20260424T123355
CREATED:20211027T090031Z
LAST-MODIFIED:20211027T090031Z
UID:29726-1635757500-1635757500@spildansk.dk
SUMMARY:Asbjørn - BOYISH
DESCRIPTION:
URL:https://spildansk.dk/kalender/asbjoern-boyish/
LOCATION:Skolen på Herredsåsen\, Kalundborg\, Kalundborg\, Danmark
END:VEVENT
BEGIN:VEVENT
DTSTART;TZID=Europe/Copenhagen:20211101T091000
DTEND;TZID=Europe/Copenhagen:20211101T091000
DTSTAMP:20260424T123355
CREATED:20211027T090033Z
LAST-MODIFIED:20211027T090033Z
UID:29727-1635757800-1635757800@spildansk.dk
SUMMARY:Defecto - Duality
DESCRIPTION:
URL:https://spildansk.dk/kalender/defecto-duality/
LOCATION:Østerbyskolen\, Vejen\, Vejen\, Danmark
END:VEVENT
BEGIN:VEVENT
DTSTART;TZID=Europe/Copenhagen:20211101T091500
DTEND;TZID=Europe/Copenhagen:20211101T091500
DTSTAMP:20260424T123355
CREATED:20211027T090035Z
LAST-MODIFIED:20211027T090035Z
UID:29728-1635758100-1635758100@spildansk.dk
SUMMARY:Den lille bitte opera - Opera for alle
DESCRIPTION:
URL:https://spildansk.dk/kalender/den-lille-bitte-opera-opera-for-alle/
LOCATION:Engstrandskolen\, Hvidovre\, Hvidovre\, Danmark
END:VEVENT
BEGIN:VEVENT
DTSTART;TZID=Europe/Copenhagen:20211101T093000
DTEND;TZID=Europe/Copenhagen:20211101T093000
DTSTAMP:20260424T123355
CREATED:20211027T090036Z
LAST-MODIFIED:20211027T090036Z
UID:29729-1635759000-1635759000@spildansk.dk
SUMMARY:Baby Did a Bad Thing - Baby Did a Bad Thing
DESCRIPTION:
URL:https://spildansk.dk/kalender/baby-did-a-bad-thing-baby-did-a-bad-thing/
LOCATION:Musikhuset Posten\, Odense\, Odense\, Danmark
END:VEVENT
BEGIN:VEVENT
DTSTART;TZID=Europe/Copenhagen:20211101T093000
DTEND;TZID=Europe/Copenhagen:20211101T100000
DTSTAMP:20260424T123355
CREATED:20210930T104704Z
LAST-MODIFIED:20210930T104704Z
UID:28590-1635759000-1635760800@spildansk.dk
SUMMARY:Fællessang i indskolingen
DESCRIPTION:Alle børn og voksne i Skægkærskolens indskolingsafsnit mødes og synger sange\, der appellerer til både fantasi og bevægelse.
URL:https://spildansk.dk/kalender/faellessang-i-indskolingen/
LOCATION:Skægkærskolen\, Sindingvej 15\, Silkeborg\, 8600
CATEGORIES:Fællessang
END:VEVENT
BEGIN:VEVENT
DTSTART;TZID=Europe/Copenhagen:20211101T093000
DTEND;TZID=Europe/Copenhagen:20211105T110000
DTSTAMP:20260424T123355
CREATED:20211028T063003Z
LAST-MODIFIED:20211028T063003Z
UID:29948-1635759000-1636110000@spildansk.dk
SUMMARY:Dansk sang\, dans og musik i Regnbuen.
DESCRIPTION:I børnehaven Regnbuen i Bramming\, på GUL stue\, vil vi i Spil dansk ugen synge danske børnesange\, danse gamle danske danse og lytte til meget forskelligt dansk og færøsk musik.
URL:https://spildansk.dk/kalender/dansk-sang-dans-og-musik-i-regnbuen/
LOCATION:Børnehaven Regnbuen\, Bakkevejen 11\, Bramming\, 6740
CATEGORIES:Musik til børn
END:VEVENT
BEGIN:VEVENT
DTSTART;TZID=Europe/Copenhagen:20211101T095000
DTEND;TZID=Europe/Copenhagen:20211101T095000
DTSTAMP:20260424T123355
CREATED:20211027T090038Z
LAST-MODIFIED:20211027T090038Z
UID:29730-1635760200-1635760200@spildansk.dk
SUMMARY:Ayoe Angelica - ARV
DESCRIPTION:
URL:https://spildansk.dk/kalender/ayoe-angelica-arv/
LOCATION:Låsby Skole\, Låsby\, Skanderborg\, Danmark
END:VEVENT
BEGIN:VEVENT
DTSTART;TZID=Europe/Copenhagen:20211101T095000
DTEND;TZID=Europe/Copenhagen:20211101T095000
DTSTAMP:20260424T123355
CREATED:20211027T090041Z
LAST-MODIFIED:20211027T090041Z
UID:29731-1635760200-1635760200@spildansk.dk
SUMMARY:Timeland - Lydenes Hemmelige Verden
DESCRIPTION:
URL:https://spildansk.dk/kalender/timeland-lydenes-hemmelige-verden-2/
LOCATION:Lynghøjskolen\, Roskilde\, Roskilde\, Danmark
END:VEVENT
BEGIN:VEVENT
DTSTART;TZID=Europe/Copenhagen:20211101T095500
DTEND;TZID=Europe/Copenhagen:20211101T095500
DTSTAMP:20260424T123355
CREATED:20211027T090043Z
LAST-MODIFIED:20211027T090043Z
UID:29732-1635760500-1635760500@spildansk.dk
SUMMARY:Malene Kjærgård - Jorden Rundt
DESCRIPTION:
URL:https://spildansk.dk/kalender/malene-kjaergaard-jorden-rundt-2/
LOCATION:Nordskolen afd. Jyllinge Skole\, Jyllinge\, Roskilde\, Danmark
END:VEVENT
BEGIN:VEVENT
DTSTART;TZID=Europe/Copenhagen:20211101T100000
DTEND;TZID=Europe/Copenhagen:20211101T100000
DTSTAMP:20260424T123355
CREATED:20211027T090044Z
LAST-MODIFIED:20211027T090044Z
UID:29733-1635760800-1635760800@spildansk.dk
SUMMARY:Mikael K - Musikalske fortællinger
DESCRIPTION:
URL:https://spildansk.dk/kalender/mikael-k-musikalske-fortaellinger-2/
LOCATION:Løsning Skole\, Løsning\, Hedensted\, Danmark
END:VEVENT
BEGIN:VEVENT
DTSTART;TZID=Europe/Copenhagen:20211101T100000
DTEND;TZID=Europe/Copenhagen:20211101T100000
DTSTAMP:20260424T123355
CREATED:20211027T090046Z
LAST-MODIFIED:20211027T090046Z
UID:29734-1635760800-1635760800@spildansk.dk
SUMMARY:Snorre Kirk Trio - Swing Swing Swing
DESCRIPTION:
URL:https://spildansk.dk/kalender/snorre-kirk-trio-swing-swing-swing-2/
LOCATION:Husum Danske Skole\, Husum\, Udenlandsk\, Danmark
END:VEVENT
BEGIN:VEVENT
DTSTART;TZID=Europe/Copenhagen:20211101T100000
DTEND;TZID=Europe/Copenhagen:20211101T100000
DTSTAMP:20260424T123355
CREATED:20211027T090048Z
LAST-MODIFIED:20211027T090048Z
UID:29735-1635760800-1635760800@spildansk.dk
SUMMARY:Moussa Diallo Trio - Cirkeline og Coco rejser til Afrika
DESCRIPTION:
URL:https://spildansk.dk/kalender/moussa-diallo-trio-cirkeline-og-coco-rejser-til-afrika/
LOCATION:Tårnbygårdsskolen (specialskole)\, Kastrup\, Tårnby\, Danmark
END:VEVENT
BEGIN:VEVENT
DTSTART;TZID=Europe/Copenhagen:20211101T100000
DTEND;TZID=Europe/Copenhagen:20211101T100000
DTSTAMP:20260424T123355
CREATED:20211027T090051Z
LAST-MODIFIED:20211027T090051Z
UID:29736-1635760800-1635760800@spildansk.dk
SUMMARY:Bjørnetjenesten - Ord Smitter
DESCRIPTION:
URL:https://spildansk.dk/kalender/bjoernetjenesten-ord-smitter/
LOCATION:Tobaksgaarden – Kulturhuset i Assens\, Assens\, Assens\, Danmark
END:VEVENT
BEGIN:VEVENT
DTSTART;TZID=Europe/Copenhagen:20211101T100000
DTEND;TZID=Europe/Copenhagen:20211101T110000
DTSTAMP:20260424T123355
CREATED:20211005T120631Z
LAST-MODIFIED:20211005T120856Z
UID:28723-1635760800-1635764400@spildansk.dk
SUMMARY:BJØRNETJENESTEN
DESCRIPTION:I anledning af SPIL DANSK ugen byder vi på endnu en familiekoncert – denne gang med Bjørnetjenesten\, der skaber musikalske tidsrejser ind i sprogets magiske verden. \nGennem poetiske sange tages eleverne med tilbage til dengang bjørnetjenester var en tjeneste man ikke ønskede sig at få. Gamle ordsprog vendes på hovedet gennem fortælling og musik\, og trækker tråde frem til børnenes egen hverdag. \nDet skaber rum for refleksion omkring musikkens virkemidler samt sprogets udvikling og betydning. Sangene handler om bl.a. mobning\, at positive Ord Smitter og fantasifulde narrestreger\, vi selv lærte af som børn. Musikken er et miks af folkemusik og elektronisk fikumdik. \nBjørnetjenesten består af sanger og sangskriver Betina Følleslev sang\, troubadour\, folkemusiker og sangskriver Søren Korshøj violin\, guitar og sang\, jazz- og beatmusiker og komponist Mikael Fleron saxofon\, human beatbox\, mundbas og percussion. \nBetina Følleslev: DMA Folk Nomineret sanger og sangskriver\, bl.a. i duoen Strawberry Blonde (2 udgivelser) og Solsort (1 udgivelse). \nMikael Fleron: Musiker\, producer og komponist. Spiller bl.a. i duoen Megafon med flere albumudgivelser bag sig\, samt i flere forskellige sammenhænge som jazzmusiker. \nSøren Korshøj: Visesanger\, folkemusiker\, historiefortæller\, sangskriver. Bl.a. været en del af Kætter Kvartet (3 udgivelser) og Instinkt (2 udgivelser)\, samt violinist i Grassolin. Har udgivet 5 albums i eget navn\, modtaget 3 DMA FOLK priser samt spillet flere skolekoncerter. \nMålgruppen er 4-11 år (og deres voksne) \nArrangementet er gratis – men tilmedling er nødvendig og gøres på 64 71 20 31 eller post@tobaksgaarden.dk \n\n 
URL:https://spildansk.dk/kalender/bjoernetjenesten/
LOCATION:Tobaksgaarden\, Tobaksgården 7\, Assens\, 5610
CATEGORIES:Koncert
ATTACH;FMTTYPE=image/jpeg:https://spildansk.dk/wp-content/uploads/2021/10/AllCopyrights-CamillaLundbye.com-1760.jpg
ORGANIZER;CN="Tobaksgaarden":MAILTO:post@tobaksgaarden.dk
END:VEVENT
BEGIN:VEVENT
DTSTART;TZID=Europe/Copenhagen:20211101T100000
DTEND;TZID=Europe/Copenhagen:20211101T133000
DTSTAMP:20260424T123355
CREATED:20210917T083444Z
LAST-MODIFIED:20210917T083444Z
UID:28365-1635760800-1635773400@spildansk.dk
SUMMARY:Komponistbesøg i 4a Tønder Grundskole
DESCRIPTION:4.a får besøg af komponist Jeppe Just Christensen
URL:https://spildansk.dk/kalender/komponistbesoeg-i-4a-toender-grundskole/
LOCATION:Tønder Grundskole\, Tønder\, Tønder\, Danmark
CATEGORIES:Undervisning
END:VEVENT
BEGIN:VEVENT
DTSTART;TZID=Europe/Copenhagen:20211101T101000
DTEND;TZID=Europe/Copenhagen:20211101T101000
DTSTAMP:20260424T123355
CREATED:20211027T090052Z
LAST-MODIFIED:20211027T090052Z
UID:29737-1635761400-1635761400@spildansk.dk
SUMMARY:Asbjørn - BOYISH
DESCRIPTION:
URL:https://spildansk.dk/kalender/asbjoern-boyish-2/
LOCATION:Skolen på Herredsåsen\, Kalundborg\, Kalundborg\, Danmark
END:VEVENT
BEGIN:VEVENT
DTSTART;TZID=Europe/Copenhagen:20211101T101500
DTEND;TZID=Europe/Copenhagen:20211101T101500
DTSTAMP:20260424T123355
CREATED:20211027T090054Z
LAST-MODIFIED:20211027T090054Z
UID:29738-1635761700-1635761700@spildansk.dk
SUMMARY:Mads Vinding & Øyvind Ougaard - Mads Vinding & Øyvind Ougaard
DESCRIPTION:
URL:https://spildansk.dk/kalender/mads-vinding-oeyvind-ougaard-mads-vinding-oeyvind-ougaard-2/
LOCATION:Kongehøjskolen (0.-3 kl.)\, Aabenraa\, Aabenraa\, Danmark
END:VEVENT
BEGIN:VEVENT
DTSTART;TZID=Europe/Copenhagen:20211101T101500
DTEND;TZID=Europe/Copenhagen:20211101T101500
DTSTAMP:20260424T123355
CREATED:20211027T090055Z
LAST-MODIFIED:20211027T090055Z
UID:29739-1635761700-1635761700@spildansk.dk
SUMMARY:Jacob D solo/Maskinpark - Jacob D solo/Maskinpark
DESCRIPTION:
URL:https://spildansk.dk/kalender/jacob-d-solo-maskinpark-jacob-d-solo-maskinpark/
LOCATION:Stjernevejskolen\, Hedensted\, Hedensted\, Danmark
END:VEVENT
BEGIN:VEVENT
DTSTART;TZID=Europe/Copenhagen:20211101T102000
DTEND;TZID=Europe/Copenhagen:20211101T102000
DTSTAMP:20260424T123355
CREATED:20211027T090056Z
LAST-MODIFIED:20211027T090056Z
UID:29740-1635762000-1635762000@spildansk.dk
SUMMARY:Den lille bitte opera - Opera for alle
DESCRIPTION:
URL:https://spildansk.dk/kalender/den-lille-bitte-opera-opera-for-alle-2/
LOCATION:Engstrandskolen\, Hvidovre\, Hvidovre\, Danmark
END:VEVENT
BEGIN:VEVENT
DTSTART;TZID=Europe/Copenhagen:20211101T104500
DTEND;TZID=Europe/Copenhagen:20211101T104500
DTSTAMP:20260424T123355
CREATED:20211027T090059Z
LAST-MODIFIED:20211027T090059Z
UID:29741-1635763500-1635763500@spildansk.dk
SUMMARY:Baby Did a Bad Thing - Baby Did a Bad Thing
DESCRIPTION:
URL:https://spildansk.dk/kalender/baby-did-a-bad-thing-baby-did-a-bad-thing-2/
LOCATION:Musikhuset Posten\, Odense\, Odense\, Danmark
END:VEVENT
BEGIN:VEVENT
DTSTART;TZID=Europe/Copenhagen:20211101T111000
DTEND;TZID=Europe/Copenhagen:20211101T111000
DTSTAMP:20260424T123355
CREATED:20211027T090100Z
LAST-MODIFIED:20211027T090100Z
UID:29742-1635765000-1635765000@spildansk.dk
SUMMARY:APHYXION - Heavy metal i hovedhøjde
DESCRIPTION:
URL:https://spildansk.dk/kalender/aphyxion-heavy-metal-i-hovedhoejde/
LOCATION:Muldbjergskolen\, Hjørring\, Hjørring\, Danmark
END:VEVENT
BEGIN:VEVENT
DTSTART;TZID=Europe/Copenhagen:20211101T120000
DTEND;TZID=Europe/Copenhagen:20211101T120000
DTSTAMP:20260424T123355
CREATED:20211027T090102Z
LAST-MODIFIED:20211027T090102Z
UID:29743-1635768000-1635768000@spildansk.dk
SUMMARY:Ensemble Eiradís - KLASSISK
DESCRIPTION:
URL:https://spildansk.dk/kalender/ensemble-eiradis-klassisk-2/
LOCATION:Ådalskolen\, Skive\, Skive\, Danmark
END:VEVENT
BEGIN:VEVENT
DTSTART;TZID=Europe/Copenhagen:20211101T120000
DTEND;TZID=Europe/Copenhagen:20211101T120000
DTSTAMP:20260424T123355
CREATED:20211027T090103Z
LAST-MODIFIED:20211027T090103Z
UID:29744-1635768000-1635768000@spildansk.dk
SUMMARY:Drums Across - Hvo'n går det egentlig?
DESCRIPTION:
URL:https://spildansk.dk/kalender/drums-across-hvon-gaar-det-egentlig-2/
LOCATION:Eskilstrup Skole\, Eskilstrup\, Guldborgsund\, Danmark
END:VEVENT
BEGIN:VEVENT
DTSTART;TZID=Europe/Copenhagen:20211101T121500
DTEND;TZID=Europe/Copenhagen:20211101T121500
DTSTAMP:20260424T123355
CREATED:20211027T090105Z
LAST-MODIFIED:20211027T090105Z
UID:29745-1635768900-1635768900@spildansk.dk
SUMMARY:HP Lange & Jarno Varsted - Roden til alt godt
DESCRIPTION:
URL:https://spildansk.dk/kalender/hp-lange-jarno-varsted-roden-til-alt-godt-2/
LOCATION:Nyrupskolen\, Kalundborg\, Kalundborg\, Danmark
END:VEVENT
BEGIN:VEVENT
DTSTART;TZID=Europe/Copenhagen:20211101T121500
DTEND;TZID=Europe/Copenhagen:20211101T121500
DTSTAMP:20260424T123355
CREATED:20211027T090107Z
LAST-MODIFIED:20211027T090107Z
UID:29746-1635768900-1635768900@spildansk.dk
SUMMARY:Baby Did a Bad Thing - Baby Did a Bad Thing
DESCRIPTION:
URL:https://spildansk.dk/kalender/baby-did-a-bad-thing-baby-did-a-bad-thing-3/
LOCATION:Musikhuset Posten\, Odense\, Odense\, Danmark
END:VEVENT
BEGIN:VEVENT
DTSTART;TZID=Europe/Copenhagen:20211101T122000
DTEND;TZID=Europe/Copenhagen:20211101T122000
DTSTAMP:20260424T123355
CREATED:20211027T090109Z
LAST-MODIFIED:20211027T090109Z
UID:29747-1635769200-1635769200@spildansk.dk
SUMMARY:Defecto - Duality
DESCRIPTION:
URL:https://spildansk.dk/kalender/defecto-duality-2/
LOCATION:Højmarkskolen\, Holsted\, Vejen\, Danmark
END:VEVENT
BEGIN:VEVENT
DTSTART;TZID=Europe/Copenhagen:20211101T123000
DTEND;TZID=Europe/Copenhagen:20211101T123000
DTSTAMP:20260424T123355
CREATED:20211027T090110Z
LAST-MODIFIED:20211027T090110Z
UID:29748-1635769800-1635769800@spildansk.dk
SUMMARY:Bragr - Et BRAGR af en koncert!
DESCRIPTION:
URL:https://spildansk.dk/kalender/bragr-et-bragr-af-en-koncert-2/
LOCATION:Bøgeskovskolen\, Bjerringbro\, Viborg\, Danmark
END:VEVENT
BEGIN:VEVENT
DTSTART;TZID=Europe/Copenhagen:20211101T123000
DTEND;TZID=Europe/Copenhagen:20211101T123000
DTSTAMP:20260424T123355
CREATED:20211027T090111Z
LAST-MODIFIED:20211027T090111Z
UID:29749-1635769800-1635769800@spildansk.dk
SUMMARY:Ayoe Angelica - ARV
DESCRIPTION:
URL:https://spildansk.dk/kalender/ayoe-angelica-arv-2/
LOCATION:Gudenåskolen\, Ry\, Skanderborg\, Danmark
END:VEVENT
BEGIN:VEVENT
DTSTART;TZID=Europe/Copenhagen:20211101T123000
DTEND;TZID=Europe/Copenhagen:20211101T123000
DTSTAMP:20260424T123355
CREATED:20211027T090113Z
LAST-MODIFIED:20211027T090113Z
UID:29750-1635769800-1635769800@spildansk.dk
SUMMARY:Jacob D solo/Maskinpark - Jacob D solo/Maskinpark
DESCRIPTION:
URL:https://spildansk.dk/kalender/jacob-d-solo-maskinpark-jacob-d-solo-maskinpark-2/
LOCATION:Stjernevejskolen\, Hedensted\, Hedensted\, Danmark
END:VEVENT
END:VCALENDAR