BEGIN:VCALENDAR
VERSION:2.0
PRODID:-//Spil Dansk - ECPv6.5.0//NONSGML v1.0//EN
CALSCALE:GREGORIAN
METHOD:PUBLISH
X-WR-CALNAME:Spil Dansk
X-ORIGINAL-URL:https://spildansk.dk
X-WR-CALDESC:Events for Spil Dansk
REFRESH-INTERVAL;VALUE=DURATION:PT1H
X-Robots-Tag:noindex
X-PUBLISHED-TTL:PT1H
BEGIN:VTIMEZONE
TZID:Europe/Copenhagen
BEGIN:DAYLIGHT
TZOFFSETFROM:+0100
TZOFFSETTO:+0200
TZNAME:CEST
DTSTART:20210328T010000
END:DAYLIGHT
BEGIN:STANDARD
TZOFFSETFROM:+0200
TZOFFSETTO:+0100
TZNAME:CET
DTSTART:20211031T010000
END:STANDARD
END:VTIMEZONE
BEGIN:VEVENT
DTSTART;TZID=Europe/Copenhagen:20211103T100000
DTEND;TZID=Europe/Copenhagen:20211103T100000
DTSTAMP:20260422T181411
CREATED:20211027T090333Z
LAST-MODIFIED:20211027T090333Z
UID:29823-1635933600-1635933600@spildansk.dk
SUMMARY:Defecto - Duality
DESCRIPTION:
URL:https://spildansk.dk/kalender/defecto-duality-6/
LOCATION:Løsning Skole\, Løsning\, Hedensted\, Danmark
END:VEVENT
BEGIN:VEVENT
DTSTART;TZID=Europe/Copenhagen:20211103T100000
DTEND;TZID=Europe/Copenhagen:20211103T100000
DTSTAMP:20260422T181411
CREATED:20211027T090332Z
LAST-MODIFIED:20211027T090332Z
UID:29822-1635933600-1635933600@spildansk.dk
SUMMARY:Asbjørn - BOYISH
DESCRIPTION:
URL:https://spildansk.dk/kalender/asbjoern-boyish-7/
LOCATION:Borup Skole\, Borup\, Køge\, Danmark
END:VEVENT
BEGIN:VEVENT
DTSTART;TZID=Europe/Copenhagen:20211103T100000
DTEND;TZID=Europe/Copenhagen:20211103T100000
DTSTAMP:20260422T181411
CREATED:20211027T090329Z
LAST-MODIFIED:20211027T090329Z
UID:29821-1635933600-1635933600@spildansk.dk
SUMMARY:Bjarke Falgren - Sigøjnerviolinens rejse
DESCRIPTION:
URL:https://spildansk.dk/kalender/bjarke-falgren-sigoejnerviolinens-rejse-4/
LOCATION:Hjallerup Skole\, Hjallerup\, Brønderslev\, Danmark
END:VEVENT
BEGIN:VEVENT
DTSTART;TZID=Europe/Copenhagen:20211103T091500
DTEND;TZID=Europe/Copenhagen:20211103T091500
DTSTAMP:20260422T181411
CREATED:20211027T090328Z
LAST-MODIFIED:20211027T090328Z
UID:29820-1635930900-1635930900@spildansk.dk
SUMMARY:Andreas Tophøj & Rune Barslund - Trails & Traces
DESCRIPTION:
URL:https://spildansk.dk/kalender/andreas-tophoej-rune-barslund-trails-traces/
LOCATION:Bavnebakken\, Støvring\, Rebild\, Danmark
END:VEVENT
BEGIN:VEVENT
DTSTART;TZID=Europe/Copenhagen:20211103T090500
DTEND;TZID=Europe/Copenhagen:20211103T090500
DTSTAMP:20260422T181411
CREATED:20211027T090327Z
LAST-MODIFIED:20211027T090327Z
UID:29819-1635930300-1635930300@spildansk.dk
SUMMARY:Baby Did a Bad Thing - Baby Did a Bad Thing
DESCRIPTION:
URL:https://spildansk.dk/kalender/baby-did-a-bad-thing-baby-did-a-bad-thing-7/
LOCATION:Kibæk skole\, Kibæk\, Herning\, Danmark
END:VEVENT
BEGIN:VEVENT
DTSTART;TZID=Europe/Copenhagen:20211103T090000
DTEND;TZID=Europe/Copenhagen:20211103T140000
DTSTAMP:20260422T181411
CREATED:20211026T141936Z
LAST-MODIFIED:20211026T141936Z
UID:29597-1635930000-1635948000@spildansk.dk
SUMMARY:Livsfortællinger   Kristian Frost Ulrichsen
DESCRIPTION:I serien af Livsfortælllinger i Sognegården i Hinnerup er det den gamle Vitten Spillemand  \nKristian Frost Ulrichsen\, der fortæller om sit liv og sin interesse for at komponere spillemandsmusik. \nHan udgav i 2011 i en alder af 76 år\,  sin første CD og i 2014 kom CD nr. 2. \nSiden er det endnu ikke blevet til nye udgivelser\, selv om han vist stadig har flere på lager. \nKristian Frost Ulrichsen bliver interviewet af Mette Mejlgaard\, fra Kirken i Hinnerup\, og der bliver nok lejlighed til at høre Kristian i samspil med Rita Jaque\,  der har være hans medspiller i årevis. \n Der bliver nok også anledning til at høre nogen af de indspillede numre. Kristian er kendt for sit slagfærdige  lune\, der også giver sig udtryk i nogle af de titler hans melodier har fået. \nSkulle man få lyst til at høre mere  kan Kristian Frost Ulrichsens melodier findes på  YouTube ved at søge på Kristian Ulrichsen. \nTilmelding  senest fredag den 29.10.  https://www.kirkenihinnerup.dk     der serveres gammeldaws middag.
URL:https://spildansk.dk/kalender/livsfortaellinger-kristian-frost-ulrichsen/
LOCATION:Sognegården hinnerup\, Aadalsvej 10\, Hinnerup\, 8382
ATTACH;FMTTYPE=image/jpeg:https://spildansk.dk/wp-content/uploads/2021/10/Kristian-Ulrichsen-b.jpeg
ORGANIZER;CN="Kirken i Hinnerup":MAILTO:tp@kirkenihinnerup.net
END:VEVENT
BEGIN:VEVENT
DTSTART;TZID=Europe/Copenhagen:20211103T090000
DTEND;TZID=Europe/Copenhagen:20211103T120000
DTSTAMP:20260422T181411
CREATED:20211025T095924Z
LAST-MODIFIED:20211025T095924Z
UID:29486-1635930000-1635940800@spildansk.dk
SUMMARY:Lyden af Frihed
DESCRIPTION:6. klasse på Løgumkloster Distriktsskole får besøg af musiker Mathias Lilholt\, som vil lave en lydworkshop med klassen. Her skal de forholde sig til begrebet frihed og omsætte det til en komposition i lyd. Workshoppen er et lukket arrangement for klassen.
URL:https://spildansk.dk/kalender/lyden-af-frihed-5/
LOCATION:Løgumkloster Distriktsskole\, Grønnevej 1\, Løgumkloster\, 6240
CATEGORIES:Undervisning
END:VEVENT
BEGIN:VEVENT
DTSTART;TZID=Europe/Copenhagen:20211103T090000
DTEND;TZID=Europe/Copenhagen:20211103T120000
DTSTAMP:20260422T181411
CREATED:20210825T091122Z
LAST-MODIFIED:20210825T091122Z
UID:28068-1635930000-1635940800@spildansk.dk
SUMMARY:Lyden af Frihed
DESCRIPTION:Musiker og komponist Mathias Lilholt gæster Løgumkloster Distriktsskole med workshoppen Lyden af Frihed. Det bliver 6. klasse\, der får glæde af undervisningen denne dag.  Her skal de forholde sig til begrebet Frihed – og komponere deres egen sang.
URL:https://spildansk.dk/kalender/lyden-af-frihed/
LOCATION:Løgumkloster Distriktsskole\, Grønnevej 1\, Løgumkloster\, 6240
CATEGORIES:Undervisning
END:VEVENT
BEGIN:VEVENT
DTSTART;TZID=Europe/Copenhagen:20211103T090000
DTEND;TZID=Europe/Copenhagen:20211103T090000
DTSTAMP:20260422T181411
CREATED:20211027T090325Z
LAST-MODIFIED:20211027T090325Z
UID:29818-1635930000-1635930000@spildansk.dk
SUMMARY:Bjarke Falgren - Sigøjnerviolinens rejse
DESCRIPTION:
URL:https://spildansk.dk/kalender/bjarke-falgren-sigoejnerviolinens-rejse-3/
LOCATION:Hjallerup Skole\, Hjallerup\, Brønderslev\, Danmark
END:VEVENT
BEGIN:VEVENT
DTSTART;TZID=Europe/Copenhagen:20211103T090000
DTEND;TZID=Europe/Copenhagen:20211103T090000
DTSTAMP:20260422T181411
CREATED:20211027T090324Z
LAST-MODIFIED:20211027T090324Z
UID:29817-1635930000-1635930000@spildansk.dk
SUMMARY:HP Lange & Jarno Varsted - Roden til alt godt
DESCRIPTION:
URL:https://spildansk.dk/kalender/hp-lange-jarno-varsted-roden-til-alt-godt-5/
LOCATION:Østre Skole / Søren Kanne Skolen\, Grenaa\, Norddjurs\, Danmark
END:VEVENT
BEGIN:VEVENT
DTSTART;TZID=Europe/Copenhagen:20211103T090000
DTEND;TZID=Europe/Copenhagen:20211103T090000
DTSTAMP:20260422T181411
CREATED:20211027T090321Z
LAST-MODIFIED:20211027T090321Z
UID:29816-1635930000-1635930000@spildansk.dk
SUMMARY:Mads Vinding & Øyvind Ougaard - Mads Vinding & Øyvind Ougaard
DESCRIPTION:
URL:https://spildansk.dk/kalender/mads-vinding-oeyvind-ougaard-mads-vinding-oeyvind-ougaard-6/
LOCATION:Kulsbjerg Skole\, afd. Nyråd (Vintersbølle)\, Vordingborg\, Vordingborg\, Danmark
END:VEVENT
BEGIN:VEVENT
DTSTART;TZID=Europe/Copenhagen:20211103T090000
DTEND;TZID=Europe/Copenhagen:20211103T090000
DTSTAMP:20260422T181411
CREATED:20211027T090320Z
LAST-MODIFIED:20211027T090320Z
UID:29815-1635930000-1635930000@spildansk.dk
SUMMARY:Jacob D solo/Maskinpark - Jacob D solo/Maskinpark
DESCRIPTION:
URL:https://spildansk.dk/kalender/jacob-d-solo-maskinpark-jacob-d-solo-maskinpark-5/
LOCATION:Mønsted Skole/Sparkær Skole\, Viborg\, Viborg\, Danmark
END:VEVENT
BEGIN:VEVENT
DTSTART;TZID=Europe/Copenhagen:20211103T090000
DTEND;TZID=Europe/Copenhagen:20211103T090000
DTSTAMP:20260422T181411
CREATED:20211027T090318Z
LAST-MODIFIED:20211027T090318Z
UID:29814-1635930000-1635930000@spildansk.dk
SUMMARY:Ayoe Angelica - ARV
DESCRIPTION:
URL:https://spildansk.dk/kalender/ayoe-angelica-arv-6/
LOCATION:Nydamskolen\, Sønderborg\, Sønderborg\, Danmark
END:VEVENT
BEGIN:VEVENT
DTSTART;TZID=Europe/Copenhagen:20211103T090000
DTEND;TZID=Europe/Copenhagen:20211103T090000
DTSTAMP:20260422T181411
CREATED:20211027T090317Z
LAST-MODIFIED:20211027T090317Z
UID:29813-1635930000-1635930000@spildansk.dk
SUMMARY:Snorre Kirk Trio - Swing Swing Swing
DESCRIPTION:
URL:https://spildansk.dk/kalender/snorre-kirk-trio-swing-swing-swing-5/
LOCATION:Jes Kruse-Skolen\, Eckerförde\, Udenlandsk\, Danmark
END:VEVENT
BEGIN:VEVENT
DTSTART;TZID=Europe/Copenhagen:20211103T090000
DTEND;TZID=Europe/Copenhagen:20211103T090000
DTSTAMP:20260422T181411
CREATED:20211027T090316Z
LAST-MODIFIED:20211027T090316Z
UID:29812-1635930000-1635930000@spildansk.dk
SUMMARY:Vi finder på - Vi finder på
DESCRIPTION:
URL:https://spildansk.dk/kalender/vi-finder-paa-vi-finder-paa/
LOCATION:Præstemoseskolen\, Hvidovre\, Hvidovre\, Danmark
END:VEVENT
BEGIN:VEVENT
DTSTART;TZID=Europe/Copenhagen:20211103T085500
DTEND;TZID=Europe/Copenhagen:20211103T085500
DTSTAMP:20260422T181411
CREATED:20211027T090313Z
LAST-MODIFIED:20211027T090313Z
UID:29811-1635929700-1635929700@spildansk.dk
SUMMARY:Mikael K - Musikalske fortællinger
DESCRIPTION:
URL:https://spildansk.dk/kalender/mikael-k-musikalske-fortaellinger-6/
LOCATION:Østbirk Skole\, Østbirk\, Horsens\, Danmark
END:VEVENT
BEGIN:VEVENT
DTSTART;TZID=Europe/Copenhagen:20211103T085500
DTEND;TZID=Europe/Copenhagen:20211103T085500
DTSTAMP:20260422T181411
CREATED:20211027T090312Z
LAST-MODIFIED:20211027T090312Z
UID:29810-1635929700-1635929700@spildansk.dk
SUMMARY:Bragr - Et BRAGR af en koncert!
DESCRIPTION:
URL:https://spildansk.dk/kalender/bragr-et-bragr-af-en-koncert-5/
LOCATION:Skjoldhøjskolen\, Tilst\, Aarhus\, Danmark
END:VEVENT
BEGIN:VEVENT
DTSTART;TZID=Europe/Copenhagen:20211103T084500
DTEND;TZID=Europe/Copenhagen:20211103T084500
DTSTAMP:20260422T181411
CREATED:20211027T090310Z
LAST-MODIFIED:20211027T090310Z
UID:29809-1635929100-1635929100@spildansk.dk
SUMMARY:Ensemble Eiradís - KLASSISK
DESCRIPTION:
URL:https://spildansk.dk/kalender/ensemble-eiradis-klassisk-5/
LOCATION:Frederiksbjerg Skole\, Aarhus C\, Aarhus\, Danmark
END:VEVENT
BEGIN:VEVENT
DTSTART;TZID=Europe/Copenhagen:20211103T084500
DTEND;TZID=Europe/Copenhagen:20211103T084500
DTSTAMP:20260422T181411
CREATED:20211027T090309Z
LAST-MODIFIED:20211027T090309Z
UID:29808-1635929100-1635929100@spildansk.dk
SUMMARY:Asbjørn - BOYISH
DESCRIPTION:
URL:https://spildansk.dk/kalender/asbjoern-boyish-6/
LOCATION:Borup Skole\, Borup\, Køge\, Danmark
END:VEVENT
BEGIN:VEVENT
DTSTART;TZID=Europe/Copenhagen:20211103T084500
DTEND;TZID=Europe/Copenhagen:20211103T084500
DTSTAMP:20260422T181411
CREATED:20211027T090308Z
LAST-MODIFIED:20211027T090308Z
UID:29807-1635929100-1635929100@spildansk.dk
SUMMARY:APHYXION - Heavy metal i hovedhøjde
DESCRIPTION:
URL:https://spildansk.dk/kalender/aphyxion-heavy-metal-i-hovedhoejde-5/
LOCATION:Resen Skole\, Skive\, Skive\, Danmark
END:VEVENT
BEGIN:VEVENT
DTSTART;TZID=Europe/Copenhagen:20211103T084500
DTEND;TZID=Europe/Copenhagen:20211103T084500
DTSTAMP:20260422T181411
CREATED:20211027T090305Z
LAST-MODIFIED:20211027T090305Z
UID:29806-1635929100-1635929100@spildansk.dk
SUMMARY:Moussa Diallo Trio - Cirkeline og Coco rejser til Afrika
DESCRIPTION:
URL:https://spildansk.dk/kalender/moussa-diallo-trio-cirkeline-og-coco-rejser-til-afrika-4/
LOCATION:Svartingedalskolen\, Hasle\, Bornholm\, Danmark
END:VEVENT
BEGIN:VEVENT
DTSTART;TZID=Europe/Copenhagen:20211103T000000
DTEND;TZID=Europe/Copenhagen:20211103T170000
DTSTAMP:20260422T181411
CREATED:20211012T085549Z
LAST-MODIFIED:20211012T085549Z
UID:28996-1635897600-1635958800@spildansk.dk
SUMMARY:Trommerum Express – en rejse med trommer
DESCRIPTION:Trommerum Express er en anderledes koncert\, der tager børnene med ud i verden. Med udgangspunkt i trommer og percussion tages de på en rejse til de lande\, instrumenterne kommer fra. På trods af afstande\, sprogbarrierer og kulturkløfter oplever børnene\, at musik og rytmer er universelt og kan være med til at binde os sammen. \nOnsdag d. 3/11 på Blåbjergskolen\, Nr. Nebel
URL:https://spildansk.dk/kalender/trommerum-express-en-rejse-med-trommer/
LOCATION:Blåbjerg Skole\, Nr. Nebel
CATEGORIES:Koncert,Musik til børn
ATTACH;FMTTYPE=image/jpeg:https://spildansk.dk/wp-content/uploads/2021/10/SPIL-DANSK-UGEN-2021-Grafik-kvadrat-1-varde-kommune-6-scaled.jpg
END:VEVENT
BEGIN:VEVENT
DTSTART;TZID=Europe/Copenhagen:20211103T000000
DTEND;TZID=Europe/Copenhagen:20211103T170000
DTSTAMP:20260422T181411
CREATED:20211012T085349Z
LAST-MODIFIED:20211012T085349Z
UID:28993-1635897600-1635958800@spildansk.dk
SUMMARY:VK skoler synger sammen
DESCRIPTION:Alle skoler i Varde Kommune er inviteret til fællessang med band fra Musik & Billedskolen. Skolerne deltager via livestreaming fra Outrup Skole.\nArr. Musik & Billedskolen\nOnsdag d. 3/11 på Outrup Skole – lukket arrangement
URL:https://spildansk.dk/kalender/vk-skoler-synger-sammen-2/
LOCATION:Outrup Skole\, Varde Kommune\, Storegade 59\, Outrup\, 6855\, Danmark
CATEGORIES:Koncert,Fællessang
ATTACH;FMTTYPE=image/jpeg:https://spildansk.dk/wp-content/uploads/2021/10/SPIL-DANSK-UGEN-2021-Grafik-kvadrat-1-varde-kommune-5-scaled.jpg
ORGANIZER;CN="musik &amp%3B billedskolen Varde":MAILTO:vkm@varde.dk
END:VEVENT
BEGIN:VEVENT
DTSTART;TZID=Europe/Copenhagen:20211102T193000
DTEND;TZID=Europe/Copenhagen:20211102T213000
DTSTAMP:20260422T181411
CREATED:20211016T184600Z
LAST-MODIFIED:20211016T184600Z
UID:29351-1635881400-1635888600@spildansk.dk
SUMMARY:Højskolesangbogen
DESCRIPTION:Sogneaften med Bo Holten. \nVi hører om højskolesangbogens tilblivelse og historie. Om hvordan højskolesangbogen afspejler den musikalske smag i forskellige perioder.\nOm nyeste udgaves nyheder og hvordan den bærer traditionen videre. \nDørene åbner kl.19.00 og der er gratis adgang.
URL:https://spildansk.dk/kalender/hoejskolesangbogen/
LOCATION:Sankt Jørgensbjerg Sognegård\, Møllehusvej 120\, Roskilde\, 4000
CATEGORIES:Foredrag
ATTACH;FMTTYPE=image/jpeg:https://spildansk.dk/wp-content/uploads/2021/10/boholten.jpg
END:VEVENT
BEGIN:VEVENT
DTSTART;TZID=Europe/Copenhagen:20211102T193000
DTEND;TZID=Europe/Copenhagen:20211102T210000
DTSTAMP:20260422T181411
CREATED:20211029T092222Z
LAST-MODIFIED:20211029T092222Z
UID:30111-1635881400-1635886800@spildansk.dk
SUMMARY:Ensemble Pluma - Alverdens danse
DESCRIPTION:I lighed med sidste år har vi besøg af de fremadstormende kræfter i Ensemble Pluma i forbindelse med Spil Dansk-ugen. Ensemblet er centreret omkring Det Jyske Musikkonservatorium og leverer musikoplevelser af høj\, høj kvalitet. \nÅrets program tager udgangspunkt i dansemusik med særskilt fokus på\, hvad det i koncertsammenhæng vil sige at lytte til toner\, der egentlig er skabt til bevægelse. \nKoncerten i Kulturhusets sal er gratis\, men tilmelding er nødvendig. Book din billet her.
URL:https://spildansk.dk/kalender/ensemble-pluma-alverdens-danse/
LOCATION:Kulturhusets Sal\, Stemannsgade 2\, Randers C\, 8900
CATEGORIES:Koncert,Klassisk
ATTACH;FMTTYPE=image/jpeg:https://spildansk.dk/wp-content/uploads/2021/10/Ensemble-Pluma-904.jpg
ORGANIZER;CN="Randers Bibliotek":MAILTO:mk@randersbib.dk
END:VEVENT
BEGIN:VEVENT
DTSTART;TZID=Europe/Copenhagen:20211102T193000
DTEND;TZID=Europe/Copenhagen:20211102T210000
DTSTAMP:20260422T181411
CREATED:20211013T131910Z
LAST-MODIFIED:20211013T131910Z
UID:29177-1635881400-1635886800@spildansk.dk
SUMMARY:SPIL DANSK KONCERT MED MGK & DTA
DESCRIPTION:Hvad sker der\, når man inviterer kreative unge i alderen mellem 16 og 25 år fra forskellige kunstarter til en \ntværfaglig kompositions-workshop\, hvor målet er at ende ud med 8 – 10 nyskabte værker\, der skal fremføres \ntil Spil Dansk-koncert på en af Holstebros mest unikke scener? \nVi ved det faktisk ikke\, for det er første gang\, vi iværksætter et samarbejde og inviterer elever fra MGK MidtVest og\nDansk Talentakademi til en sjov og kreativ samskabelsesproces\, hvor de originale produktioner på rekordtid skal være\nfærdige til den offentlige performance for publikum. \nMGK MidtVest har gennem en årrække haft succes med konceptet\, hvor eleverne sammensat i små hold på tværs af\nMGK-linjerne Klassisk\, Rytmisk og Produktion i et mini-workshopforløb på kun 2 mødegange har skabt helt nye\nmusikalske værker til den årlige Spil Dansk-koncert i Holstebro. \nI år bliver de nyproducerede værker endnu mere uforudsigelige og spændende\, da elever fra Dansk Talentakademis\nlinjer\, som dækker flere kunstdiscipliner\, også er inviteret med til den musikalske kompositions-workshop med mentor\nMaria Guttesen fra Holstebro Musikskole. \n”Der er så mange muligheder for at tænke de kunstneriske fagligheder ind i de enkelte musikværker. \nF.eks. kan Forfatter-eleverne bidrage med noget nyt til sangskrivningen\, Musical & Teater-eleverne kan måske \niscenesætte en helt anderledes performance og så er der jo de vildeste muligheder for en visuel skabelse til de nye \nlydværker i samarbejde med elever fra Dans\, Kunst & Design og Film. Jeg glæder mig så meget til koncerten i de rå \nog fede rammer i slagterihallen hos Subhuset.”\n– Maria Guttesen\, Workshopholder\, deltagermentor og arrangør til Spil Dansk-koncerten med MGK og DTA i Subhuset på Slagteriet \n 
URL:https://spildansk.dk/kalender/spil-dansk-koncert-med-mgk-dta/
LOCATION:Subhuset\, Vendersgade 14\, Holstebro\, 7500
CATEGORIES:Koncert,Singer-songwriter
ATTACH;FMTTYPE=image/jpeg:https://spildansk.dk/wp-content/uploads/2021/10/Spil-dansk-poster-scaled.jpg
END:VEVENT
BEGIN:VEVENT
DTSTART;TZID=Europe/Copenhagen:20211102T193000
DTEND;TZID=Europe/Copenhagen:20211102T203000
DTSTAMP:20260422T181411
CREATED:20211029T101828Z
LAST-MODIFIED:20211029T101828Z
UID:30130-1635881400-1635885000@spildansk.dk
SUMMARY:'Sagde pigen i kor' ny dansk musik af Louise Alenius - København
DESCRIPTION:I Spil Dansk-ugen op præsenterer Sankt Annæ Pigekors Kammerkor en koncert bygget op omkring Louise Alenius’ nye værk ‘Sagde pigen i kor’. \nVed koncerten medvirker strygekvartetterne Halvcirkel og Taïga\, der begge har markeret sig stærkt i dansk musikliv de senere år\, samt strygere fra Sankt Annæ Gymnasiums MGK. \nLouise Alenius’ værk er baseret på Sankt Annæ Pigekors sangeres besvarelser af fem åbne spørgsmål fra komponisten. Spørgsmålene har givet et bredt og umiddelbart indblik i sangernes tanker om ‘for-\, nu- og ‘fremtid’. De mange personlige\, smukke\, voldsomme og sårbare udsagn har været grundlaget for værket som i tekst og musik danner en bue henover et helt liv – set med en ung piges øjne. Dele af værket er bygget op\, så sangerne kun skal synge de ord\, de spejler sig i netop den dag\, værket opføres. Den samme passage vil derfor lyde forskellige fra gang til gang. \nMedvirkende: \nSankt Annæ Pigekors Kammerkor \nHalvcirkel / Taïga / Strygere fra Sankt Annæ MGK \nAnne Marie Granau\, dirigent
URL:https://spildansk.dk/kalender/sagde-pigen-i-kor-ny-dansk-musik-af-louise-alenius-koebenhavn/
LOCATION:Helligaandskirken\, Niels Hemmingsens Gade 5\, København K\, 1153
CATEGORIES:Klassisk,Kor
ATTACH;FMTTYPE=image/jpeg:https://spildansk.dk/wp-content/uploads/2021/10/Plakat_udsnit_FB-scaled.jpg
END:VEVENT
BEGIN:VEVENT
DTSTART;TZID=Europe/Copenhagen:20211102T193000
DTEND;TZID=Europe/Copenhagen:20211102T203000
DTSTAMP:20260422T181411
CREATED:20211013T125158Z
LAST-MODIFIED:20211013T125158Z
UID:29159-1635881400-1635885000@spildansk.dk
SUMMARY:Jazz at the Museum
DESCRIPTION:Koncert med Alex Jønsson på Struer Museum
URL:https://spildansk.dk/kalender/jazz-at-the-museum-12/
LOCATION:Struer Museum\, Søndergade 23\, Struer\, 7600
CATEGORIES:Jazz
END:VEVENT
BEGIN:VEVENT
DTSTART;TZID=Europe/Copenhagen:20211102T190000
DTEND;TZID=Europe/Copenhagen:20211102T230000
DTSTAMP:20260422T181411
CREATED:20211011T115049Z
LAST-MODIFIED:20211011T115049Z
UID:28901-1635879600-1635894000@spildansk.dk
SUMMARY:Mads Westfall i Tybjerghus
DESCRIPTION:Der er lagt op til en hyggelig aften når der blændes op for en dejlig koncert med\ntroubadour og solosangskriver\nMads Westfall\nMads Westfall har som solosangskriver været vidt omkring\, siden han udgav sit første album i 2009.\nFra P3-succesen med den rockede &quot;Forstadspoeten&quot;\, via den Tue West-producerede opfølger med\nP4-klassikere som &quot;Klassefesten&quot; og &quot;Grå&quot;\, over visesuccesen på P5 med det selvspillede album\n&quot;Spor&quot;\, og &quot;Alle de dage&quot;\, som blev produceret af Jan Rørdam under medvirken af nogle af landets\nbedste studiemusikere\, omkring &quot;Den tid der er gået&quot; med efterfølgeren til Søren Kragh-Jacobsens\nhistorie om Mona og Jesper Ravn i &quot;Kender du dejavu?&quot;\, og til det seneste udspil &quot;Westfalls Viser&quot;\,\nmed en blanding af egne sange og fortolkninger af danske og nordiske klassikere.\nSenest har han under corona-nedlukningen gjort sig bemærket med facebook-projektet DER MÅ\nVÆRE EN KANT\, hvor han en gang om ugen har sendt live\, når han spillede en nyskrevet sang med\nkant for første gang. De bedste af de 24 sange\, der kom ud af det\, har allerede fundet vej til hans\nlive-repertoire\, og måske kommer de til at udgøre kernen i en kommende udgivelse.\nHele vejen igennem har han holdt fast i en kerne af stærke historier\, sproglig elegance og filosofisk\ndybde\, og formidlet det hele via smukke og varierede melodier. Og først og fremmest har han gjort\nsig bemærket som en fremragende sanger\, guitarist og entertainer\, der live foran publikum kan\nskabe et intenst nærvær\, krydret med begavet humor og fællesskabsfølelse.\nO B S – O B S – O B S\nDørene åbnes en halv time før koncerten hvor der serveres en velkomstdrink samt lidt til maven i\nform af let Hors d’oeuvre (pindemadder). Så kom i god tid.\nI baren kan der købes øl\, vin\, vand og snacks.\nBilletpris pakke kr. 75\,- som dækker koncert – velkomstdrink og forplejning \nBilletbestilling og forudbetaling nødvendig.\nDette gøres ved at sende mail til: event.tybjerghus@gmail.com med navn og antal billetter der\nønskes og samtidig overføre beløbet via Mobile Pay 23533 eller foreningens konto: Merkur Bank\nreg.- og kontonr. 8401 – 1139502\nHUSK OGSÅ AT ANFØRE NAVN VED BETALING
URL:https://spildansk.dk/kalender/mads-westfall-i-tybjerghus-2/
LOCATION:Tybjerghus\, Smedebakken 32\, Tybjerglille Bakker\, Herlufmagle\, 4160
CATEGORIES:Koncert,Viser
ATTACH;FMTTYPE=image/jpeg:https://spildansk.dk/wp-content/uploads/2021/10/Westfall-1-2-scaled.jpg
ORGANIZER;CN="Foreningen Tybjerghus":MAILTO:tybjerghus@gmail.com
END:VEVENT
BEGIN:VEVENT
DTSTART;TZID=Europe/Copenhagen:20211102T190000
DTEND;TZID=Europe/Copenhagen:20211102T230000
DTSTAMP:20260422T181412
CREATED:20211011T114606Z
LAST-MODIFIED:20211011T114606Z
UID:28896-1635879600-1635894000@spildansk.dk
SUMMARY:Mads Westfall i Tybjerghus
DESCRIPTION:Der er lagt op til en hyggelig aften når der blændes op for en dejlig koncert med\ntroubadour og solosangskriver\nMads Westfall \nMads Westfall har som solosangskriver været vidt omkring\, siden han udgav sit første album i 2009.\nFra P3-succesen med den rockede &quot;Forstadspoeten&quot;\, via den Tue West-producerede opfølger med\nP4-klassikere som &quot;Klassefesten&quot; og &quot;Grå&quot;\, over visesuccesen på P5 med det selvspillede album\n&quot;Spor&quot;\, og &quot;Alle de dage&quot;\, som blev produceret af Jan Rørdam under medvirken af nogle af landets\nbedste studiemusikere\, omkring &quot;Den tid der er gået&quot; med efterfølgeren til Søren Kragh-Jacobsens\nhistorie om Mona og Jesper Ravn i &quot;Kender du dejavu?&quot;\, og til det seneste udspil &quot;Westfalls Viser&quot;\,\nmed en blanding af egne sange og fortolkninger af danske og nordiske klassikere.\nSenest har han under corona-nedlukningen gjort sig bemærket med facebook-projektet DER MÅ\nVÆRE EN KANT\, hvor han en gang om ugen har sendt live\, når han spillede en nyskrevet sang med\nkant for første gang. De bedste af de 24 sange\, der kom ud af det\, har allerede fundet vej til hans\nlive-repertoire\, og måske kommer de til at udgøre kernen i en kommende udgivelse.\nHele vejen igennem har han holdt fast i en kerne af stærke historier\, sproglig elegance og filosofisk\ndybde\, og formidlet det hele via smukke og varierede melodier. Og først og fremmest har han gjort\nsig bemærket som en fremragende sanger\, guitarist og entertainer\, der live foran publikum kan\nskabe et intenst nærvær\, krydret med begavet humor og fællesskabsfølelse.\nO B S – O B S – O B S\nDørene åbnes en halv time før koncerten hvor der serveres en velkomstdrink samt lidt til maven i\nform af let Hors d’oeuvre (pindemadder). Så kom i god tid.\nI baren kan der købes øl\, vin\, vand og snacks.\nBilletpris pakke kr. 75\,- som dækker koncert – velkomstdrink og forplejning \nBilletbestilling og forudbetaling nødvendig.\nDette gøres ved at sende mail til: event.tybjerghus@gmail.com med navn og antal billetter der\nønskes og samtidig overføre beløbet via Mobile Pay 23533 eller foreningens konto: Merkur Bank\nreg.- og kontonr. 8401 – 1139502\nHUSK OGSÅ AT ANFØRE NAVN VED BETALING
URL:https://spildansk.dk/kalender/mads-westfall-i-tybjerghus/
LOCATION:Tybjerghus\, Smedebakken 32\, Tybjerglille Bakker\, Herlufmagle\, 4160
CATEGORIES:Koncert,Viser
ATTACH;FMTTYPE=image/jpeg:https://spildansk.dk/wp-content/uploads/2021/10/Westfall-1-1-scaled.jpg
ORGANIZER;CN="Foreningen Tybjerghus":MAILTO:tybjerghus@gmail.com
END:VEVENT
END:VCALENDAR