BEGIN:VCALENDAR
VERSION:2.0
PRODID:-//Spil Dansk - ECPv6.5.0//NONSGML v1.0//EN
CALSCALE:GREGORIAN
METHOD:PUBLISH
X-ORIGINAL-URL:https://spildansk.dk
X-WR-CALDESC:Events for Spil Dansk
REFRESH-INTERVAL;VALUE=DURATION:PT1H
X-Robots-Tag:noindex
X-PUBLISHED-TTL:PT1H
BEGIN:VTIMEZONE
TZID:Europe/Copenhagen
BEGIN:DAYLIGHT
TZOFFSETFROM:+0100
TZOFFSETTO:+0200
TZNAME:CEST
DTSTART:20190331T010000
END:DAYLIGHT
BEGIN:STANDARD
TZOFFSETFROM:+0200
TZOFFSETTO:+0100
TZNAME:CET
DTSTART:20191027T010000
END:STANDARD
BEGIN:DAYLIGHT
TZOFFSETFROM:+0100
TZOFFSETTO:+0200
TZNAME:CEST
DTSTART:20200329T010000
END:DAYLIGHT
BEGIN:STANDARD
TZOFFSETFROM:+0200
TZOFFSETTO:+0100
TZNAME:CET
DTSTART:20201025T010000
END:STANDARD
END:VTIMEZONE
BEGIN:VEVENT
DTSTART;TZID=Europe/Copenhagen:20191128T094500
DTEND;TZID=Europe/Copenhagen:20191128T124500
DTSTAMP:20260421T235714
CREATED:20190910T114501Z
LAST-MODIFIED:20190910T114501Z
UID:20116-1574934300-1574945100@spildansk.dk
SUMMARY:Komponist i klassen på Marstal Skole
DESCRIPTION:Ane Østergaard laver en ‘Komponist i Klassen’ workshop for sjetteklasserne på Marstal Skole.
URL:https://spildansk.dk/kalender/komponist-i-klassen-paa-marstal-skole/
LOCATION:Marstal Skole\, Halvejen 24\, Marstal\, 5960\, Danmark
CATEGORIES:Workshop
ORGANIZER;CN="%C3%86r%C3%B8 Folkebibliotek":MAILTO:marstal@arrebib.dk
END:VEVENT
BEGIN:VEVENT
DTSTART;TZID=Europe/Copenhagen:20191129T081500
DTEND;TZID=Europe/Copenhagen:20191129T141500
DTSTAMP:20260421T235714
CREATED:20191025T064514Z
LAST-MODIFIED:20191025T064514Z
UID:22805-1575015300-1575036900@spildansk.dk
SUMMARY:Lydkunst skattejagt
DESCRIPTION:Professionelle lydkunstnere/komponister fra Dansk Komponist Forening tager skoleelever med på en legende lydskattejagt i det 20. århundredes lydhistorie.\nDer vil være masser af øvelser i selv at skabe lyde og opdage og optage lyde omkring skolen samt at høre eksempler fra det det 20. århundredes lydhistorie\, der sætter lyden i perspektiv.\nDer sluttes af med en lydskattejagt\, hvor eleverne går på opdagelse i deres egne og kammeraternes optagelser og bagefter reflekterer over hvad de har oplevet. \nDet hele foregår i appen SOUNDMAP.DK\, hvor eleverne kan optage\, redigere og lave et landkort af lyde. Besøg projektets hjemmeside her – SOUNDMAP.\nLydkunst er ikke svært og det er sjovt at være med.
URL:https://spildansk.dk/kalender/lydkunst-skattejagt-10/
LOCATION:Område Katrinedal Svinninge skole\, Hovedgaden 76F\, Svinninge\, 4520
CATEGORIES:Undervisning
ATTACH;FMTTYPE=image/png:https://spildansk.dk/wp-content/uploads/2019/10/download-1.png
END:VEVENT
BEGIN:VEVENT
DTSTART;TZID=Europe/Copenhagen:20191130T080000
DTEND;TZID=Europe/Copenhagen:20191231T170000
DTSTAMP:20260421T235714
CREATED:20191021T095046Z
LAST-MODIFIED:20191021T100355Z
UID:21958-1575100800-1577811600@spildansk.dk
SUMMARY:Musikpraktik med Mike Andersen
DESCRIPTION:Amalie\, fra Kulturskolen Syddjurs’ talentlinje\, Shanghai Akademiet\, er blevet udvalgt til et særligt praktikforløb inden for musikbranchen. Amalie har fået mulighed for at følge den professionelle sangskriver\, Mike Andersen\, henover 1 uge\, hvor hun har  deltaget i alt lige fra koncert\, til sessions i studiet/øvelokalet\, møder med musikselskaber\, forlag og brancheforeninger samt et tæt indblik i sangskrivningprocessen. \n  \nOm Mike Andersen: \nJeg har udgivet 7 albums i eget navn og spillet mere end 1200 koncerter herunder stort set samtlige danske festivaler og venues\, samt DR’s Koncertsal og Glassalen i Tivoli\, samt flere hundrede koncerter uden for Danmark\, herunder festivaler og venues i Tyskland\, England\, USA\, Holland\, Belgien\, Frankrig\, Sverige\, Norge\, Finland\, Dubai\, etc.. \n2017: Nomineret til ”Carl Prisen” for ”Årets Danske Roots Udgivelse”\n2016: Indspiller 7. Album som bl.a. indeholder duet med den engelske soul stjerne\, Joss Stone\n2015: Vinder DMA for årets Blues Udgivelse\n2015. Nomineret til ”Carl Prisen” for ”Årets Danske Roots Udgivelse”\n2012/13: To Danish Music Awards nomineringer – nomineres til ”Årets Mandlige Kunster” af Gaffa prisen\n2010/11: -Tre DMA nomineringer\, Ugens Album – DR\, P4\, 5 “hjerter” i Politiken\n2007: Coco Montoya indspiller Mike Andersen’s sang “How Do you Sleep At Night” på sit album “Dirty Deal” som udkommer på det legendariske Alligator Records\n2006: Sangen “Same Damn Time” vinder stor konkurrence i Finland\n2005: Vinder SONG OF THE YEAR i INDEPENDENT MUSIC AWARDS og får en 3. plads i ”INTERNATIONAL SONGWRITING COMPETITION”\n2003: Kåres som Årets Danske Bluesnavn\n2003 Albummet ”My Love For The Blues” bliver ”Ugens Album” – DR\, P4
URL:https://spildansk.dk/kalender/musikpraktik-med-mike-andersen/
LOCATION:KulturHotellet i Rønde\, Hovedgaden 10\, Rønde\, 8410
CATEGORIES:Alternative,Singer-songwriter
ATTACH;FMTTYPE=image/jpeg:https://spildansk.dk/wp-content/uploads/2019/10/IMG_4401.jpg
END:VEVENT
BEGIN:VEVENT
DTSTART;TZID=Europe/Copenhagen:20191202T080000
DTEND;TZID=Europe/Copenhagen:20191202T140000
DTSTAMP:20260421T235714
CREATED:20190912T112052Z
LAST-MODIFIED:20190912T112052Z
UID:20218-1575273600-1575295200@spildansk.dk
SUMMARY:Lydkunst Skattejagt
DESCRIPTION:Lilleåskolens 6. klasse får besøg af Peter Jørgensen. Eleverne skal selv lave en masse lyde og skal til sidst gå på opdagelse i hinandens lyde.
URL:https://spildansk.dk/kalender/lydkunst-skattejagt-4/
LOCATION:Lilleåskolen\, Skolevej 2\, Laurbjerg\, 8870\, Danmark
CATEGORIES:Workshop
ORGANIZER;CN="Spil Dansk":MAILTO:info@spildansk.dk
END:VEVENT
BEGIN:VEVENT
DTSTART;TZID=Europe/Copenhagen:20191203T133000
DTEND;TZID=Europe/Copenhagen:20191203T173000
DTSTAMP:20260421T235714
CREATED:20190930T075551Z
LAST-MODIFIED:20190930T075551Z
UID:20629-1575379800-1575394200@spildansk.dk
SUMMARY:Sangskriver workshop på Salling Efterskole
DESCRIPTION:Besøg af Anders Graae.
URL:https://spildansk.dk/kalender/sangskriver-workshop-paa-salling-efterskole/
LOCATION:Salling Efterskole\, Nørreallé 1\, Roslev\, 7870\, Danmark
CATEGORIES:Workshop
END:VEVENT
BEGIN:VEVENT
DTSTART;TZID=Europe/Copenhagen:20191213T080000
DTEND;TZID=Europe/Copenhagen:20191213T140000
DTSTAMP:20260421T235714
CREATED:20191002T212317Z
LAST-MODIFIED:20191002T212317Z
UID:20782-1576224000-1576245600@spildansk.dk
SUMMARY:Lydkunst Skattejagt med Toke Brorson Odin
DESCRIPTION:Toke Brorson Odin fra Dansk Komponist Forening tager skoleelever med på en legende lydskattejagt i det 20. århundredes lydhistorie. Der vil være masser af øvelser i selv at skabe lyde og opdage og optage lyde omkring skolen samt at høre eksempler fra det det 20. århundredes lydhistorie\, der sætter lyden i perspektiv. Der sluttes af med en lydskattejagt\, hvor eleverne går på opdagelse i deres egne og kammeraternes optagelser og bagefter reflekterer over hvad de har oplevet.  Det hele foregår i appen SOUNDMAP.DK\, hvor eleverne kan optage\, redigere og lave et landkort af lyde. Besøg projektets hjemmeside her – SOUNDMAP.
URL:https://spildansk.dk/kalender/lydkunst-skattejagt-med-toke-brorson-odin/
LOCATION:Tønder Grundskole\, Tønder\, Tønder\, Danmark
CATEGORIES:Workshop
END:VEVENT
BEGIN:VEVENT
DTSTART;TZID=Europe/Copenhagen:20191216T080000
DTEND;TZID=Europe/Copenhagen:20191217T170000
DTSTAMP:20260421T235714
CREATED:20191014T095737Z
LAST-MODIFIED:20191014T115954Z
UID:21392-1576483200-1576602000@spildansk.dk
SUMMARY:Lydkunstskattejagt
DESCRIPTION:Den professionelle lydkunstner og komponist Mette Nielsen tager to af Egedals 5. klasser med på en legende lydskattejagt i det 20. århundredes lydhistorie. Læse mere om Mette Nielsen her
URL:https://spildansk.dk/kalender/lydkunstskattejagt-3/
LOCATION:Hampelandskolen\, Hampelandvej 7A\, Ølstykke\, 3650
CATEGORIES:Musik til børn
ATTACH;FMTTYPE=image/jpeg:https://spildansk.dk/wp-content/uploads/2019/10/MetteNielsen1-1440x700.jpg
END:VEVENT
BEGIN:VEVENT
DTSTART;TZID=Europe/Copenhagen:20191218T080000
DTEND;TZID=Europe/Copenhagen:20191218T140000
DTSTAMP:20260421T235714
CREATED:20190825T184131Z
LAST-MODIFIED:20190825T193125Z
UID:19722-1576656000-1576677600@spildansk.dk
SUMMARY:Lydkunst Skattejagt
DESCRIPTION:Henrik Budde tager skoleelever med på en legende lydskattejagt i det 20. århundredes lydhistorie. Der vil være masser af øvelser i selv at skabe lyde og opdage og optage lyde omkring skolen samt at høre eksempler fra det det 20. århundredes lydhistorie\, der sætter lyden i perspektiv. Der sluttes af med en lydskattejagt\, hvor eleverne går på opdagelse i deres egne og kammeraternes optagelser og bagefter reflekterer over hvad de har oplevet. 
URL:https://spildansk.dk/kalender/lydkunst-skattejagt-3/
LOCATION:Brylle skole\, Tobovej 43\, Tommerup\, 5690
CATEGORIES:Workshop
ATTACH;FMTTYPE=image/jpeg:https://spildansk.dk/wp-content/uploads/2019/08/henrik-budde.jpeg
END:VEVENT
BEGIN:VEVENT
DTSTART;TZID=Europe/Copenhagen:20200110T080000
DTEND;TZID=Europe/Copenhagen:20200110T170000
DTSTAMP:20260421T235714
CREATED:20200110T095810Z
LAST-MODIFIED:20200110T095810Z
UID:23562-1578643200-1578675600@spildansk.dk
SUMMARY:Maratonsang
DESCRIPTION:Vi synger efter Højskolesangbogen fra kl. 10 til kl. 18 \nForskellige sangvælgere præsenterer og begrunder deres sangvalg og sammen synger vi sangene.
URL:https://spildansk.dk/kalender/maratonsang-2/
LOCATION:Hjørring Bibliotek\, Østergade 30\,\, Hjørring\, 9800\, Danmark
END:VEVENT
BEGIN:VEVENT
DTSTART;TZID=Europe/Copenhagen:20200118T100000
DTEND;TZID=Europe/Copenhagen:20200118T110000
DTSTAMP:20260421T235714
CREATED:20191014T111049Z
LAST-MODIFIED:20191022T104332Z
UID:21436-1579341600-1579345200@spildansk.dk
SUMMARY:Tigertræning – Energifyldt legekoncert
DESCRIPTION:Tigertræning gæster Åben Hal kl. 10 lørdag 18. januar\, kl. 10:00-11:00 i Stenløse Hallen \nTigertræning er en energifyldt Legekoncert\, 60 minutter\, hvor børn og voksne er aktive deltagere\, bevæger sig\, får sved på panden\, grinet og leget sammen. \nLæs mere om Tigertræning her og se en film her https://m.youtube.com/watch?v=u5DZ1ElLcQQ \nÅben Hal fortsætter efter tigertræning\, og varer frem til kl. 14 \nRigtig god fornøjelse!
URL:https://spildansk.dk/kalender/tigertraening-energifyldt-legekoncert/
LOCATION:Stenløse hallen\, Præstegårdsvej 20\, Stenløse\, 3660
CATEGORIES:Musik til børn
ATTACH;FMTTYPE=image/jpeg:https://spildansk.dk/wp-content/uploads/2019/10/Tigertræning-pressebillede-trio-2019-1440x700.jpg
ORGANIZER;CN="Stenl%C3%B8se Hallen":MAILTO:stenloseIdraetsanlaeg@egekom.dk
END:VEVENT
BEGIN:VEVENT
DTSTART;TZID=Europe/Copenhagen:20200122T095500
DTEND;TZID=Europe/Copenhagen:20200122T101000
DTSTAMP:20260421T235714
CREATED:20191014T103212Z
LAST-MODIFIED:20191025T104530Z
UID:21412-1579686900-1579687800@spildansk.dk
SUMMARY:Fællessang på Gribskov Gymnasium
DESCRIPTION:Som en del af Spil Dansk ugen har også Gribskov Gymnasium valgt at sætte fokus på Spil Dansk. Derfor vil de hylde dette på deres ugentlige morgensang. Det er dog først lykkedes at finde en dag i kalenderen sidst i januar måned. Så SPIL DANSK lever hele året 🙂
URL:https://spildansk.dk/kalender/faellessang-paa-gribskov-gymnasium/
LOCATION:Gribskov Gymnasium\, Østergade 52\, Helsinge\, 3200\, Danmark
CATEGORIES:Fællessang
ATTACH;FMTTYPE=image/png:https://spildansk.dk/wp-content/uploads/2019/10/logo-1.png
ORGANIZER;CN="Kulturskolen Gribskov":MAILTO:musikskolen@gribskov.dk
END:VEVENT
BEGIN:VEVENT
DTSTART;TZID=Europe/Copenhagen:20200207T090000
DTEND;TZID=Europe/Copenhagen:20200207T093000
DTSTAMP:20260421T235714
CREATED:20200110T102925Z
LAST-MODIFIED:20200110T102925Z
UID:23564-1581066000-1581067800@spildansk.dk
SUMMARY:Morgensang
DESCRIPTION:Som opvarmning til det store Alsangsarrangement i Skt. Knuds Kilde\, synger vi morgensang. Sangene er udvalgt af Jens-Christian\, Vendsyssel Historiske Museum\, der også fortæller om sangene.
URL:https://spildansk.dk/kalender/morgensang-15/
LOCATION:Hjørring Bibliotek\, Østergade 30\,\, Hjørring\, 9800\, Danmark
END:VEVENT
BEGIN:VEVENT
DTSTART;TZID=Europe/Copenhagen:20200221T080000
DTEND;TZID=Europe/Copenhagen:20200221T170000
DTSTAMP:20260421T235714
CREATED:20200221T112546Z
LAST-MODIFIED:20200221T112603Z
UID:23667-1582272000-1582304400@spildansk.dk
SUMMARY:Møllevinger i vinden
DESCRIPTION:Alsang på Herluflille Mølle\nVi har lavet en sang om besættelsestiden og udvalgte danske møller. På dagen stiller vi tre kor op på møllens omgang. Her præsenterer vi sangen for publikum. Senere går alle i det store telt\, hvor der lægges op til alsang på baggrund af et sanghæfte\, som blev brugt i Næstved i begyndelsen af 1940’erne.
URL:https://spildansk.dk/kalender/moellevinger-i-vinden/
LOCATION:Herluflille Mølle\, Suså Landevej 68\, Herlufmagle\, 4160
END:VEVENT
BEGIN:VEVENT
DTSTART;TZID=Europe/Copenhagen:20200318T190000
DTEND;TZID=Europe/Copenhagen:20200318T210000
DTSTAMP:20260421T235714
CREATED:20200219T101347Z
LAST-MODIFIED:20200219T101347Z
UID:23646-1584558000-1584565200@spildansk.dk
SUMMARY:Sangaften - aftensalmer
DESCRIPTION:Salmebogen er fuld af dejlige aftensalmer\, som desværre sjældent bliver sunget hos os.\nDet gør vi noget ved denne aften.\nOrganist Troels Hansen\, korleder Dorte Johansen og præst Peter Senbergs har sammensat et program af deres favoritter\, så vi kommer omkring mange forskellige aftenstemninger.\nMellem salmerne fortæller Peter Senbergs små annekdoter. \nSøborg Kirkes voksenkor “Søborggaardkoret” synger med\, så vi har nogen at læne os op ad. Koret bidrager også med koncertbidder. \nDet er gratis at deltage.\nUndervejs holder vi en pause\, hvor der serveres kaffe.
URL:https://spildansk.dk/kalender/sangaften-aftensalmer/
LOCATION:Søborg Kirke Gladsaxe\, Frødings Allé 2\, Søborg\, 2860\, Danmark
CATEGORIES:Koncert,Fællessang
ORGANIZER;CN="S%C3%B8borg Kirke Gladsaxe":MAILTO:soeborggaard.sogn@km.dk
END:VEVENT
BEGIN:VEVENT
DTSTART;TZID=Europe/Copenhagen:20200801T080000
DTEND;TZID=Europe/Copenhagen:20200801T170000
DTSTAMP:20260421T235714
CREATED:20201021T110313Z
LAST-MODIFIED:20201021T110313Z
UID:26422-1596268800-1596301200@spildansk.dk
SUMMARY:wer wer
DESCRIPTION:wer wer
URL:https://spildansk.dk/kalender/wer-wer/
LOCATION:Endrupskolen\, Endrupvej 32\, Fredensborg\, 3480\, Denmark
CATEGORIES:Alternative
END:VEVENT
BEGIN:VEVENT
DTSTART;TZID=Europe/Copenhagen:20200827T080000
DTEND;TZID=Europe/Copenhagen:20200827T170000
DTSTAMP:20260421T235714
CREATED:20200827T105546Z
LAST-MODIFIED:20200827T105546Z
UID:24724-1598515200-1598547600@spildansk.dk
SUMMARY:Requiem
DESCRIPTION:Sct. Mortens Kirke\, Vester Kirkestræde 7\, Randers C \nRandes Kammerorkester og Sct. Pauls Cantori opfører Bo Gunges Requiem for kor\, orkester og to vokalsolister. David Riddell dirigerer\, og som solosangere medvirker Berit Barfred Christensen og William Pedersen.. \n  \nDet handler om livet og døden\, når Randers Kammerorkester og Sct. Pauls Cantori opfører Bo Gunges Requiem for kor og orkester med Berit Barfred Christensen og William Pedersen som vokalsolister. David Riddell dirigerer. \n  \nGennem århundreder har komponister fortolket den katolske dødsmesse\, for intet menneske lever et liv uden bevidstheden om\, at det også har en afslutning. Gunge opfatter denne bevidsthed som indgangen til et større nærvær\, en åbning for nye tanker og som muligheden for en sjælelig rørelse og intensitet. Oprindelige latinske tekster sammen med udvalgte passager fra Biblen på dansk optræder i en musikalsk stil inspireret af både Bach og popmusik. \n  \nFra sit udgangspunkt i det flade marsklandskab omkring Ribe har Bo Gunge været huskomponist hos Sønderjyllands Symfoniorkester\, og han har samarbejdet med bl.a. DR SymfoniOrkestret\, Den Jyske Opera og Aarhus Symfoniorkester. \n  \nDer er gratis adgang for medlemmer af Randers Philharmoniske Selskab. Medlemsbillet kan afhentes i Værkets billetsalg mod forevisning af gyldigt medlemskort. \n  \nPROGRAM: \n  \nBo Gunge: Requiem
URL:https://spildansk.dk/kalender/requiem-2/
LOCATION:Sct Mortens kirke\, Vester Kirkestræde 7\, Randers\, 8900
ATTACH;FMTTYPE=image/jpeg:https://spildansk.dk/wp-content/uploads/2020/08/Randers-Kammerorkester-1-scaled.jpg
END:VEVENT
BEGIN:VEVENT
DTSTART;TZID=Europe/Copenhagen:20200831T160000
DTEND;TZID=Europe/Copenhagen:20200831T170000
DTSTAMP:20260421T235714
CREATED:20200831T105316Z
LAST-MODIFIED:20200831T105316Z
UID:24765-1598889600-1598893200@spildansk.dk
SUMMARY:Spil Dansk på Aabenraa Bibliotek
DESCRIPTION:Elever fra Aabenraa Musikskole spiller og synger dansk musik
URL:https://spildansk.dk/kalender/spil-dansk-paa-aabenraa-bibliotek/
LOCATION:Aabenraa  Bibliotek\, Haderslevvej 3\, Aabenraa\, 6200
CATEGORIES:Koncert
ORGANIZER;CN="Aabenraa bibliotekerne":MAILTO:aabernaabib@aabenraa.dk
END:VEVENT
BEGIN:VEVENT
DTSTART;TZID=Europe/Copenhagen:20200915T180000
DTEND;TZID=Europe/Copenhagen:20201031T200000
DTSTAMP:20260421T235714
CREATED:20200915T090211Z
LAST-MODIFIED:20200915T090211Z
UID:24895-1600192800-1604174400@spildansk.dk
SUMMARY:Copenhagen Drummers: The Grand Tour
DESCRIPTION:I 2020 har Copenhagen Drummers 10 års jubilæum\, og i den forbindelse er de erfarne københavnske\ntrommeslagere klar med et nyt og skræddersyet trommeshow\, som bliver en gigantisk fejring af jubilæet\npå Bremen Teater den 31. oktober 2020. \n30.000 mennesker har de seneste år købt billetter til deres shows\, som både anmeldere og publikum har\ntaget fantastisk godt imod med ord som ‘energifyldt\, medrivende\, overraskende\, fabelagtigt og imponerende’. Copenhagen Drummers er kendt for at levere et trommeshow uden sidestykke\, og med deres nyeste show THE GRAND TOUR\, er der lagt op til et brag af en fest\, når publikum i løbet af 90 minutter tages med ind i drengenes fantasifulde univers. Et univers skabt ud fra deres originalitet samt passion for musik og koreografi. \nDu kan forvente et fascinerende lysshow samt innovativt og unikt trommespil krydret med visuelle effekter som ild og vand. Alt sammen tilsat drengenes smittende energi\, vildskab og humor. Glæd dig til en oplevelse i verdensklasse\, når Copenhagen Drummers’ THE GRAND TOUR rammer Bremen Teater i København. \nCopenhagen Drummers blev for alvor sat på verdenskortet\, da de for 10 år siden vandt TALENT 2010 på DR1. Siden dengang har de spillet mere end tusind shows i både ind- og udland\, og i 2013 kulminerede det\, da de sammen med Emmelie De Forest vandt Det Internationale Melodi Grand Prix. Grundstenene til Copenhagen Drummers blev lagt under deres tid som konstabler i Den Kongelige Livgardes Tambourkorps. I en verden bygget op om traditioner og historie\, og en firkantet hverdag fyldt med regler for\, hvordan trommespil skulle udføres\, opstod et kreativt behov. Det var her Copenhagen Drummers blev skabt som et fristed for skæve idéer og tanker omkring\, hvordan trommespil også kunne udføres. Kombinationen af disciplin\, præcision\, talent og lysten til at udforske alle facetter trommespillet\, er blevet opskriften på deres succes. \nGennem de seneste 5 år har drengene turneret Danmark tyndt med deres 2 shows ELEMENTS TOUR og LIGHTS ON. De har desuden optrådt i forbindelse med flere store tv-begivenheder\, såsom DR’s Store Juleshow\, Hjertegalla og senest HKH Kronpris Frederiks’s 50 års fødselsdag\, som fandt sted i et fyldt Royal Arena. Det er tydeligt\, at Copenhagen Drummers siden begyndelsen kun har haft én ting for øje\, nemlig at gøre\noplevelsen endnu mere fascinerende og spændende for deres publikum!
URL:https://spildansk.dk/kalender/copenhagen-drummers-the-grand-tour-2/
LOCATION:Bremen Teater\, Nyropsgade 39-41\, Kbh. K\, 1602
CATEGORIES:Koncert
ATTACH;FMTTYPE=image/jpeg:https://spildansk.dk/wp-content/uploads/2020/09/copenhagen_drummers_the_grand_tour_presse_billede-1-scaled.jpg
END:VEVENT
BEGIN:VEVENT
DTSTART;TZID=Europe/Copenhagen:20200917T080000
DTEND;TZID=Europe/Copenhagen:20200917T170000
DTSTAMP:20260421T235714
CREATED:20200917T105436Z
LAST-MODIFIED:20200917T105436Z
UID:24985-1600329600-1600362000@spildansk.dk
SUMMARY:Henne med Venner
DESCRIPTION:Henne med venner koncert\n\n\n\n\nKom og oplev Randers Visesangerne – Henne med Venner. De spiller kendte sange fra en bred vifte af kunstnere som Kim Larsen\, Evert Taube\, Thomas Kjellerup m.fl.. \nTilmelding senest 20.10 på ældresagen.dk/randers og på kontoret Odinsgade 14A (man 15-17\, tir og tor 10-12) samt i Badmintonhallen man\, tir\, fre 9.30-11.30.\nKontakt: Yvonne Petersen\, 21 56 10 39 eller Ebba Offebach\, 21 27 17 9 \n\n\n\nArrangør: Ældre Sagen Randers-Nørhald-Langå
URL:https://spildansk.dk/kalender/henne-med-venner-2/
LOCATION:Randers Fritidscenter\, Vestergade 15\, Randers C\, 8900
END:VEVENT
BEGIN:VEVENT
DTSTART;TZID=Europe/Copenhagen:20200917T080000
DTEND;TZID=Europe/Copenhagen:20200917T170000
DTSTAMP:20260421T235714
CREATED:20200917T111906Z
LAST-MODIFIED:20200917T111906Z
UID:24993-1600329600-1600362000@spildansk.dk
SUMMARY:Kyla Brox Band
DESCRIPTION:Kyla Brox Band\n\n\n\nFor første gang i Danmark: Vinder af European Blues Challenge 2019\, engelske Kyla Brox Band.. \nVinderen af European Blues Challenge 2019\, den britiske soul-blues sanger KYLA BROX gæster Bluesnight med sit engelske band. Europa faldt pladask for Kyla Brox med den store stemme\, og nu skal så Danmark og Randers opleve\, hvordan årets bedste europæiske bluesband lyder – kåret på Azorerne i april 2019. \nBilletter i forsalg koster kr. 180\, og ved døren kr. 230. Husk\, at det er en kontant fordel at være medlem. \nUnge under 25 år har gratis adgang. \nBluesnight iværksæer nødvendige Covid-19-restriktioner \n\n\nArrangør: Bluesnight Randers
URL:https://spildansk.dk/kalender/kyla-brox-band/
LOCATION:Underværket\, Stemannsgade 9C\, Randers C\, 8900
END:VEVENT
BEGIN:VEVENT
DTSTART;TZID=Europe/Copenhagen:20200917T080000
DTEND;TZID=Europe/Copenhagen:20200917T170000
DTSTAMP:20260421T235714
CREATED:20200917T114555Z
LAST-MODIFIED:20200917T114555Z
UID:25007-1600329600-1600362000@spildansk.dk
SUMMARY:Outlandish
DESCRIPTION:Outlandish\n\n\nTurbinen kl. 21.00 Varighed 2 x 40 min Stående koncert Foto\, video\, audioudstyr og drikkevarer må ikke medtages Dørene åbnes kl. 20.00..
URL:https://spildansk.dk/kalender/outlandish/
LOCATION:Værket Randers\, Sven Dalsgaards Plads 1\, Randers C\, 8900\, Danmark
CATEGORIES:Koncert
END:VEVENT
BEGIN:VEVENT
DTSTART;TZID=Europe/Copenhagen:20200923T180000
DTEND;TZID=Europe/Copenhagen:20200923T190000
DTSTAMP:20260421T235714
CREATED:20201023T113559Z
LAST-MODIFIED:20201112T110129Z
UID:26657-1600884000-1600887600@spildansk.dk
SUMMARY:Syng\, spis og snak med Lasse Skovgaard
DESCRIPTION:Syng\, spis og snak (AFLYST). Arrangementet er støttet af Københavns Kommune.
URL:https://spildansk.dk/kalender/syng-spis-og-snak-med-lasse-skovgaard/
LOCATION:VerdensBørn Grundskole\, Emdrupvej 115A\, København NV\, 2400\, Danmark
CATEGORIES:Koncert
END:VEVENT
BEGIN:VEVENT
DTSTART;TZID=Europe/Copenhagen:20200928T080000
DTEND;TZID=Europe/Copenhagen:20200928T170000
DTSTAMP:20260421T235714
CREATED:20200928T123652Z
LAST-MODIFIED:20200928T123652Z
UID:25211-1601280000-1601312400@spildansk.dk
SUMMARY:SAGA Vokalensemble
DESCRIPTION:Synger i Søndbjerg Kirke
URL:https://spildansk.dk/kalender/saga-vokalensemble/
LOCATION:Søndbjerg Kirke\, Ballevej 3\, Hvidbjerg\, 7790
CATEGORIES:Kor
END:VEVENT
BEGIN:VEVENT
DTSTART;TZID=Europe/Copenhagen:20200929T190000
DTEND;TZID=Europe/Copenhagen:20200929T200000
DTSTAMP:20260421T235714
CREATED:20200929T113436Z
LAST-MODIFIED:20200929T113436Z
UID:25274-1601406000-1601409600@spildansk.dk
SUMMARY:Spil Dansk Koncert
DESCRIPTION:Solister\, kor og bands fra Næstved Musikskole underholder med et varieret dansk program
URL:https://spildansk.dk/kalender/spil-dansk-koncert-25/
LOCATION:Søjlesalen\, Skellet 29\, Næstved\, Skellet 29\, Næstved\, 4700
CATEGORIES:Koncert
ORGANIZER;CN="N%C3%A6stved Musikskole":MAILTO:musikskolen@naestved.dk
END:VEVENT
BEGIN:VEVENT
DTSTART;TZID=Europe/Copenhagen:20201001T083000
DTEND;TZID=Europe/Copenhagen:20201001T083000
DTSTAMP:20260421T235714
CREATED:20200929T151541Z
LAST-MODIFIED:20200929T151541Z
UID:25305-1601541000-1601541000@spildansk.dk
SUMMARY:Lydkunst skattejagt
DESCRIPTION:Vi skal rundt omkring på skolens arealer og lede efter ‘lyd’  og optage det\, for derefter at redigere det i Soundmap.
URL:https://spildansk.dk/kalender/lydkunst-skattejagt-14/
LOCATION:Skivehus Skole\, Skive\, Skive\, Danmark
END:VEVENT
BEGIN:VEVENT
DTSTART;TZID=Europe/Copenhagen:20201007T080000
DTEND;TZID=Europe/Copenhagen:20201007T170000
DTSTAMP:20260421T235714
CREATED:20201007T150239Z
LAST-MODIFIED:20201007T150239Z
UID:25465-1602057600-1602090000@spildansk.dk
SUMMARY:Fællessang
DESCRIPTION:Kom og syng sammen med andre sangglade i Teatersalen\, Farum Kulturhus. Vi sørger for at holde afstand.
URL:https://spildansk.dk/kalender/faellessang-38/
LOCATION:Farum Kulturhus\, Stavnsholtvej 3\, Farum\, 3520\, Danmark
CATEGORIES:Fællessang
END:VEVENT
BEGIN:VEVENT
DTSTART;TZID=Europe/Copenhagen:20201012T190000
DTEND;TZID=Europe/Copenhagen:20201012T220000
DTSTAMP:20260421T235714
CREATED:20201008T193524Z
LAST-MODIFIED:20201012T101521Z
UID:25554-1602529200-1602540000@spildansk.dk
SUMMARY:Spil Dansk Dag I Egtved
DESCRIPTION:Kulturelt Samvirke I Gl. Egtved Kommune Arrangere. \nSpil Dansk Dag i Roberthus i Egtved. \nI år kommer Kathrine & Bent Juncker og underholder med dejlig sang og musik. \nSå mød op til en dejlig aften. \nGRATIS ADGANG \n  \nVi overholder alle Covid 19 Regler.
URL:https://spildansk.dk/kalender/spil-dansk-dag-i-egtved/
LOCATION:Roberthus i Egtved\, Tybovej 2\, Egtved\, 6040\, Danmark
CATEGORIES:Koncert
ATTACH;FMTTYPE=image/jpeg:https://spildansk.dk/wp-content/uploads/2020/10/1.-SPIL-DANSK-DAG-2020.jpg
END:VEVENT
BEGIN:VEVENT
DTSTART;TZID=Europe/Copenhagen:20201019T080000
DTEND;TZID=Europe/Copenhagen:20201019T110000
DTSTAMP:20260421T235714
CREATED:20200825T122730Z
LAST-MODIFIED:20200825T122913Z
UID:24656-1603094400-1603105200@spildansk.dk
SUMMARY:Komponist i klassen
DESCRIPTION:Workshop med udgangspunkt i det gratis online-læringsmateriale Fem spor i ny dansk musik\, hvor elever fra Salbrovadskolen på Vestfyn får besøg af én af de 10 komponister\, der har lavet materialet\, Tine Louise Kortermand. \n  \nElever fra Salbrovadskolen
URL:https://spildansk.dk/kalender/komponist-i-klassen-3/
LOCATION:salbrovadskolen\, Salbrovad 28\, Assens\, 5610
ATTACH;FMTTYPE=image/jpeg:https://spildansk.dk/wp-content/uploads/2020/08/tine.jpg
END:VEVENT
BEGIN:VEVENT
DTSTART;TZID=Europe/Copenhagen:20201020T080000
DTEND;TZID=Europe/Copenhagen:20201020T170000
DTSTAMP:20260421T235714
CREATED:20201020T202821Z
LAST-MODIFIED:20201020T202821Z
UID:26330-1603180800-1603213200@spildansk.dk
SUMMARY:Koncert: Dan Rose
DESCRIPTION:25 minutters koncert med EP aktuelle indiefolk soloartist Dan Rose. Singlerne ‘Copenhagen Eats Itself’ og ‘Descend Into Darkness’ viser en rå og ærlig side fra den karakteristiske singer/songwriter.
URL:https://spildansk.dk/kalender/koncert-dan-rose/
LOCATION:Spisebar 20\, Rantzausgade 20\, København\, 2200
CATEGORIES:Indie,Singer-songwriter
ATTACH;FMTTYPE=image/jpeg:https://spildansk.dk/wp-content/uploads/2020/10/Dan-Rose.jpeg
END:VEVENT
BEGIN:VEVENT
DTSTART;TZID=Europe/Copenhagen:20201020T190000
DTEND;TZID=Europe/Copenhagen:20201020T220000
DTSTAMP:20260421T235714
CREATED:20201020T143609Z
LAST-MODIFIED:20201020T144134Z
UID:26315-1603220400-1603231200@spildansk.dk
SUMMARY:Søren Manscher – VærelZe313
DESCRIPTION:!!GRATIS!! Men husk at bestil billet 😉 \nEn usædvanlig skarpsindig ung sangskriver med rost debutalbum i bagagen fra 2019\, hvor vi også havde ham forbi til en skøn koncert her på Kulturhotellet. \nI anledningen af spil-dansk ugen har vi inviteret han forbi igen! \nStilen er en art hverdagspoesi om emner som blafferture fra Aarhus Havn\, skraldeture i Gentofte og en undren over naboernes ikke-eksisterende sexliv. \nKom forbi og hør den guitarspillende Søren Manscher kl 20.00!\nCaféen åbner som sædvanlig kl 19.00
URL:https://spildansk.dk/kalender/soeren-manscher-vaerelze313/
LOCATION:KulturHotellet i Rønde\, Hovedgaden 10\, Rønde\, 8410
CATEGORIES:Koncert,Folk,Indie
ATTACH;FMTTYPE=image/jpeg:https://spildansk.dk/wp-content/uploads/2020/10/E7620B01-1734-41D2-8CEB-3FF8BE4AADD8.jpeg
END:VEVENT
END:VCALENDAR