BEGIN:VCALENDAR
VERSION:2.0
PRODID:-//Spil Dansk - ECPv6.5.0//NONSGML v1.0//EN
CALSCALE:GREGORIAN
METHOD:PUBLISH
X-WR-CALNAME:Spil Dansk
X-ORIGINAL-URL:https://spildansk.dk
X-WR-CALDESC:Events for Spil Dansk
REFRESH-INTERVAL;VALUE=DURATION:PT1H
X-Robots-Tag:noindex
X-PUBLISHED-TTL:PT1H
BEGIN:VTIMEZONE
TZID:Europe/Copenhagen
BEGIN:DAYLIGHT
TZOFFSETFROM:+0100
TZOFFSETTO:+0200
TZNAME:CEST
DTSTART:20180325T010000
END:DAYLIGHT
BEGIN:STANDARD
TZOFFSETFROM:+0200
TZOFFSETTO:+0100
TZNAME:CET
DTSTART:20181028T010000
END:STANDARD
BEGIN:DAYLIGHT
TZOFFSETFROM:+0100
TZOFFSETTO:+0200
TZNAME:CEST
DTSTART:20190331T010000
END:DAYLIGHT
BEGIN:STANDARD
TZOFFSETFROM:+0200
TZOFFSETTO:+0100
TZNAME:CET
DTSTART:20191027T010000
END:STANDARD
END:VTIMEZONE
BEGIN:VEVENT
DTSTART;TZID=Europe/Copenhagen:20191016T100000
DTEND;TZID=Europe/Copenhagen:20191016T100000
DTSTAMP:20260421T235714
CREATED:20191016T113826Z
LAST-MODIFIED:20191016T114128Z
UID:21658-1571220000-1571220000@spildansk.dk
SUMMARY:Trolle og Tormod Solrød
DESCRIPTION:De to herrer Trolle og Tormod fyrer den af med koncert og fællessang i forbindelse med Spil Dansk ugen i Solrød. Det bliver for Uglegårdsskolens 1. årgang + 3 mindre specialklasser. Koncerten skal spilles i skolens dramatiske værksted med plads til 150 mennesker. 
URL:https://spildansk.dk/kalender/trolle-og-tormod-solroed/
LOCATION:uglegårdsskolen\, Tingsryds alle 25\, Solrød Strand\, 2680
CATEGORIES:Koncert
ATTACH;FMTTYPE=image/jpeg:https://spildansk.dk/wp-content/uploads/2019/10/1D383F0B-111D-46DB-BD51-ECF21F18B58A.jpeg
ORGANIZER;CN="Solr%C3%B8d Bibliotek":MAILTO:rfi@solrod.dk
END:VEVENT
BEGIN:VEVENT
DTSTART;TZID=Europe/Copenhagen:20191010T083000
DTEND;TZID=Europe/Copenhagen:20191010T113000
DTSTAMP:20260421T235714
CREATED:20191022T071614Z
LAST-MODIFIED:20191108T084203Z
UID:22133-1570696200-1570707000@spildansk.dk
SUMMARY:Mentorsession Rytmisk med Linette Damsted
DESCRIPTION:Mentorsession Rytmisk med Linette Damsted. \nDette arrangement er støttet af Københavns Kommune.
URL:https://spildansk.dk/kalender/mentorsession-rytmisk-med-linette-damsted/
LOCATION:Privatadresse\, Rådhuspladsen 1\, København\, 2100
CATEGORIES:Undervisning
ATTACH;FMTTYPE=image/jpeg:https://spildansk.dk/wp-content/uploads/2019/10/linettedamsted-1.jpg
ORGANIZER;CN="Spil Dansk":MAILTO:info@spildansk.dk
END:VEVENT
BEGIN:VEVENT
DTSTART;TZID=Europe/Copenhagen:20191009T000000
DTEND;TZID=Europe/Copenhagen:20191009T233000
DTSTAMP:20260421T235714
CREATED:20191014T094910Z
LAST-MODIFIED:20191014T095044Z
UID:21385-1570579200-1570663800@spildansk.dk
SUMMARY:Kor Care
DESCRIPTION:Koret ”Med På Noderne”\, der holder til i Smørum\, får besøg af den professionelle korsanger\,  -komponist og -dirigent Poul Emborg\, som afholder en workshop med koret den 9. oktober.
URL:https://spildansk.dk/kalender/kor-care-9/
LOCATION:Konfirmandhuset Smørum\, Flodvej 73 E\, Smørum\, 2765\, Danmark
CATEGORIES:Workshop
ATTACH;FMTTYPE=image/jpeg:https://spildansk.dk/wp-content/uploads/2019/10/Poul-Emborg.jpg
END:VEVENT
BEGIN:VEVENT
DTSTART;TZID=Europe/Copenhagen:20191007T190000
DTEND;TZID=Europe/Copenhagen:20191007T200000
DTSTAMP:20260421T235714
CREATED:20190920T095253Z
LAST-MODIFIED:20190920T095253Z
UID:20353-1570474800-1570478400@spildansk.dk
SUMMARY:Svøbsk på neurologisk genoptrænings afsnit ved Viborg Sygehus.
DESCRIPTION:Svøbsk spiller koncert for patienter og pårørende ved neurologisk genoptræningsafsnit.
URL:https://spildansk.dk/kalender/svoebsk-paa-neurologisk-genoptraenings-afsnit-ved-viborg-sygehus/
LOCATION:neurologisk genoptræningsafsnit ved Viborg Sygehus\, Heibergs Alle 5A\, viborg\, 8800
CATEGORIES:Folk
ATTACH;FMTTYPE=image/jpeg:https://spildansk.dk/wp-content/uploads/2019/09/160831_Svoebsk_0044_2048px_klip-986x7001.jpg
ORGANIZER;CN="Viborg Bibliotekerne":MAILTO:kv@viborg.dk
END:VEVENT
BEGIN:VEVENT
DTSTART;TZID=Europe/Copenhagen:20190926T190000
DTEND;TZID=Europe/Copenhagen:20190926T210000
DTSTAMP:20260421T235714
CREATED:20190910T081126Z
LAST-MODIFIED:20190910T081126Z
UID:20085-1569524400-1569531600@spildansk.dk
SUMMARY:Aftensang
DESCRIPTION:Vi skal synge nogle af de dejlige sange fra Højskolesangbogen\, som er en del af Danmarks fællessang. Der vil også være mulighed for at ønske sine favoritter. Som vi har skrevet: ikke en masse snak – bare syng!  Og i pausen er der kaffe/te og lidt mundgodt.
URL:https://spildansk.dk/kalender/aftensang-5/
LOCATION:Kirkehuset i Mejrup\, Mejrup kirkevej 4\, Holstebro\, 7500
CATEGORIES:Fællessang
ORGANIZER;CN="Mejrup Kirke":MAILTO:organist@mejrupkirke.dk
END:VEVENT
BEGIN:VEVENT
DTSTART;TZID=Europe/Copenhagen:20190923T080000
DTEND;TZID=Europe/Copenhagen:20190923T170000
DTSTAMP:20260421T235714
CREATED:20190923T131720Z
LAST-MODIFIED:20190923T131720Z
UID:20386-1569225600-1569258000@spildansk.dk
SUMMARY:Foredrag Marcus Winther-John
DESCRIPTION:Foredrag på Struer Statsgymnasium for gymnasieelever.
URL:https://spildansk.dk/kalender/foredrag-marcus-winther-john/
LOCATION:Struer Statsgymnasiun\, Jyllandsgade 2\, Struer\, 7600
END:VEVENT
BEGIN:VEVENT
DTSTART;TZID=Europe/Copenhagen:20190911T160000
DTEND;TZID=Europe/Copenhagen:20190911T170000
DTSTAMP:20260421T235714
CREATED:20190911T075518Z
LAST-MODIFIED:20190911T082130Z
UID:20158-1568217600-1568221200@spildansk.dk
SUMMARY:Vi Finder På
DESCRIPTION:“Vi finder på” består af Kirsten\nJuul Seidenfaden og Anna\nKruse\, som de seneste år\nhar lavet et populært show\nhvor de komponerer en syv\nmeter lang sang – sammen\nmed børn og publikum i LMS\nregi. Kirsten har mange års erfaring\nog mange bogudgivelser\nsamt CD-produktioner på sin samvittighed. Sammen\nmed bl.a. “Lige i øret” er det blevet til en masse musik\npå forlaget Dansk Sang. Kirsten underviser til daglig på\nAlmen musiklærer på Det Kongelige Danske Musikkonserva-\ntorium. Anna har de seneste år komponeret en\nmasse musik til den finlandssvenske poet Edith Södergran\nog har høstet en masse anmeldelser for sin trilogi. \nGratis adgang – Ingen plads garanti
URL:https://spildansk.dk/kalender/vi-finder-paa/
LOCATION:Ejderhuset\, Brandtstr. 29-31\, Büdelsdorf
CATEGORIES:Folk,Musik til børn
ATTACH;FMTTYPE=image/jpeg:https://spildansk.dk/wp-content/uploads/2019/09/Anna-og-Kirsten-10-of-10-1440x700.jpg
END:VEVENT
BEGIN:VEVENT
DTSTART;TZID=Europe/Copenhagen:20190911T080000
DTEND;TZID=Europe/Copenhagen:20190911T170000
DTSTAMP:20260421T235714
CREATED:20190911T092453Z
LAST-MODIFIED:20190911T092453Z
UID:20184-1568188800-1568221200@spildansk.dk
SUMMARY:Spil Dansk Sakskøbings skoler
DESCRIPTION:800 elever\, 100 ansatte + det løse synges og spiller i byens Hal
URL:https://spildansk.dk/kalender/spil-dansk-sakskoebings-skoler/
LOCATION:Sakskøbing\, Ellekildevej 1\, Sakskøbing\, 4990
END:VEVENT
BEGIN:VEVENT
DTSTART;TZID=Europe/Copenhagen:20190910T080000
DTEND;TZID=Europe/Copenhagen:20190910T170000
DTSTAMP:20260421T235714
CREATED:20190910T105507Z
LAST-MODIFIED:20190910T105507Z
UID:20105-1568102400-1568134800@spildansk.dk
SUMMARY:Nordkraft Big Band med stort skolekor fra Gl.lindholm skole
DESCRIPTION:“Nordkraft Big Band” fra Aalborg giver koncert med eleverne fra mellemtrin og specialklasser Gl.Lindholm Skole
URL:https://spildansk.dk/kalender/nordkraft-big-band-med-stort-skolekor-fra-gl-lindholm-skole/
LOCATION:løvvangskolens hal i Nørresundby\, løvbakken\, Nørresundby\, 9400\, Danmark
CATEGORIES:Jazz
END:VEVENT
BEGIN:VEVENT
DTSTART;TZID=Europe/Copenhagen:20190829T080000
DTEND;TZID=Europe/Copenhagen:20190829T170000
DTSTAMP:20260421T235714
CREATED:20190829T124328Z
LAST-MODIFIED:20190829T124328Z
UID:19871-1567065600-1567098000@spildansk.dk
SUMMARY:Kvindelige Forbilleder
DESCRIPTION:Vores 2.g og 3.g danskhold får besøg af Nana Jacobi\, der spiller for eleverne og fortæller hendes personlige musiske historie.
URL:https://spildansk.dk/kalender/kvindelige-forbilleder-3/
LOCATION:Skanderborg Gymnasium\, Højvangens Torv 6\, Skanderborg\, 8660
CATEGORIES:Foredrag
END:VEVENT
BEGIN:VEVENT
DTSTART;TZID=Europe/Copenhagen:20190829T080000
DTEND;TZID=Europe/Copenhagen:20190829T170000
DTSTAMP:20260421T235714
CREATED:20190829T105920Z
LAST-MODIFIED:20190829T110729Z
UID:19867-1567065600-1567098000@spildansk.dk
SUMMARY:Spil Dansk Café
DESCRIPTION:Næstved Musikskoles elever synger og spiller dansk musik. Kor\, solister og bands deltager. Fællessange.
URL:https://spildansk.dk/kalender/spil-dansk-cafe-7/
LOCATION:Søjlesalen\, Skellet 29\, Næstved\, Skellet 29\, Næstved\, 4700
CATEGORIES:Fællessang,Klassisk,Kor,Viser
ATTACH;FMTTYPE=image/jpeg:https://spildansk.dk/wp-content/uploads/2019/08/P1010921.jpg
ORGANIZER;CN="N%C3%A6stved Musikskole":MAILTO:musikskolen@naestved.dk
END:VEVENT
BEGIN:VEVENT
DTSTART;TZID=Europe/Copenhagen:20190827T080000
DTEND;TZID=Europe/Copenhagen:20190827T170000
DTSTAMP:20260421T235714
CREATED:20190827T102106Z
LAST-MODIFIED:20190827T102106Z
UID:19797-1566892800-1566925200@spildansk.dk
SUMMARY:Release af single fra Hvem er Alf?
DESCRIPTION:Vi er stolte og glade for at spille i det dansk syngende band Hvem er Alf? Vi har valgt at udkomme med vores single “ Eventyret” onsdag d. 30 oktober midt i spil dansk ugen 🎶 🙂
URL:https://spildansk.dk/kalender/release-af-single-fra-hvem-er-alf/
LOCATION:Cyberspace\, Ryesgade 12\, Horsens\, 8700
CATEGORIES:Pop,Rock
ATTACH;FMTTYPE=image/jpeg:https://spildansk.dk/wp-content/uploads/2019/08/181267D6-36F5-4068-8109-F8D8AD95011E.jpeg
END:VEVENT
BEGIN:VEVENT
DTSTART;TZID=Europe/Copenhagen:20190823T200000
DTEND;TZID=Europe/Copenhagen:20190823T204500
DTSTAMP:20260421T235714
CREATED:20190822T143936Z
LAST-MODIFIED:20190822T145825Z
UID:19703-1566590400-1566593100@spildansk.dk
SUMMARY:Alsang med Michael Bojesen
DESCRIPTION:Michael Bojesen er sangvært til dette store alsang / fællessang arrangement på Folkescenen. \nSanghæfter uddeles i forbindelse med arrangementet. \nMusikalsk akkompagnement ved pianist Rasmus Skov Borring og sangerinde Mona Britt Nykjær. \nArrangementet er skab på initiativ af Alsang 2020 & Spil Dansk i samarbejde med Højskolerne og Kulturmødet\, med støtte fra Nordea-fonden.
URL:https://spildansk.dk/kalender/alsang-med-kasper-holten/
LOCATION:Kulturmødet\, Holmen 7c\, Nykøbing Mors\, 7900
CATEGORIES:Fællessang
ATTACH;FMTTYPE=image/png:https://spildansk.dk/wp-content/uploads/2019/08/Skærmbillede-2019-08-22-kl.-16.40.52-3.png
END:VEVENT
BEGIN:VEVENT
DTSTART;TZID=Europe/Copenhagen:20190411T190000
DTEND;TZID=Europe/Copenhagen:20190411T200000
DTSTAMP:20260421T235714
CREATED:20190409T190627Z
LAST-MODIFIED:20190409T190627Z
UID:18704-1555009200-1555012800@spildansk.dk
SUMMARY:Fællessang på Fårevejle Kirkebo
DESCRIPTION:Torsdag 11. april 19.00 mindes vi Kim Larsen – en stor spillemand\, komponist og historiefortæller. Kom og syng sammen med beboere\, pårørende og medarbejdere på Fårevejle Kirkebo. \nFårevejle Kirkebo er et bo- og udviklingshus for unge mennesker med udviklingshæmning og/eller fysisk handicap. Vi synger morgensang sammen hver dag\, og bruger i det hele taget musik\, sang og historiefortælling i vores hverdagsliv. \nSkal vi ikke synge sammen ? Vi glæder os til at se mange nye og gamle venner af huset.
URL:https://spildansk.dk/kalender/faellessang-paa-faarevejle-kirkebo/
LOCATION:Fårevejle Kirkebo\, Fårevejle Kirkevej 1\, Fårevejle\, 4540
CATEGORIES:Fællessang
END:VEVENT
BEGIN:VEVENT
DTSTART;TZID=Europe/Copenhagen:20190201T090000
DTEND;TZID=Europe/Copenhagen:20190201T113000
DTSTAMP:20260421T235714
CREATED:20181101T113337Z
LAST-MODIFIED:20181101T113337Z
UID:17905-1549011600-1549020600@spildansk.dk
SUMMARY:Sangglad
DESCRIPTION:Børnehaven i Fjelstervang får besøg fra Spil Dansk
URL:https://spildansk.dk/kalender/sangglad-2/
LOCATION:Fjelstervang Børnehave\, Nørrevangen 33\, Kibæk\, 6933
CATEGORIES:Fællessang
END:VEVENT
BEGIN:VEVENT
DTSTART;TZID=Europe/Copenhagen:20181213T200000
DTEND;TZID=Europe/Copenhagen:20181213T210000
DTSTAMP:20260421T235714
CREATED:20180913T124802Z
LAST-MODIFIED:20190305T135228Z
UID:15208-1544731200-1544734800@spildansk.dk
SUMMARY:JUL I DEN GAMLE KØBMANDSGAARD
DESCRIPTION:Pianisten Allan Dahl Hansen akkompagnerer Birgitte Mosegaard Pedersen og Trygve Bjerkø i juleforestillingen JUL I DEN GAMLE KØBMANDSGAARD på Thy Teater.
URL:https://spildansk.dk/kalender/jul-i-den-gamle-koebmandsgaard-2/
LOCATION:Thy Teater\, Frederiksgade 5\, Thisted\, 7700\, Danmark
CATEGORIES:Viser
ATTACH;FMTTYPE=image/jpeg:https://spildansk.dk/wp-content/uploads/2018/09/Jul-i-den-gamle-1.jpg
ORGANIZER;CN="Thy Teater":MAILTO:billet@thyteater.dk
END:VEVENT
BEGIN:VEVENT
DTSTART;TZID=Europe/Copenhagen:20181212T200000
DTEND;TZID=Europe/Copenhagen:20181212T210000
DTSTAMP:20260421T235714
CREATED:20180913T124610Z
LAST-MODIFIED:20180913T124610Z
UID:15205-1544644800-1544648400@spildansk.dk
SUMMARY:JUL I DEN GAMLE KØBMANDSGAARD
DESCRIPTION:Pianisten Allan Dahl Hansen akkompagnerer Birgitte Mosegaard Pedersen og Trygve Bjerkø i juleforestillingen JUL I DEN GAMLE KØBMANDSGAARD på Thy Teater.
URL:https://spildansk.dk/kalender/jul-i-den-gamle-koebmandsgaard/
LOCATION:Thy Teater\, Frederiksgade 5\, Thisted\, 7700\, Danmark
CATEGORIES:Viser
ATTACH;FMTTYPE=image/jpeg:https://spildansk.dk/wp-content/uploads/2018/09/Jul-i-den-gamle.jpg
ORGANIZER;CN="Thy Teater":MAILTO:billet@thyteater.dk
END:VEVENT
BEGIN:VEVENT
DTSTART;TZID=Europe/Copenhagen:20181212T093000
DTEND;TZID=Europe/Copenhagen:20181212T093000
DTSTAMP:20260421T235714
CREATED:20180910T082219Z
LAST-MODIFIED:20181025T085539Z
UID:14712-1544607000-1544607000@spildansk.dk
SUMMARY:Menneskerettighederne fylder 70
DESCRIPTION:Samtalesalon & workshop i sangskrivning\, hvor Amnesty International og sangskriveren M.C. Hansen står for en dialog om menneskerettighederne\, deres baggrund og betydning & skriver en sang inspireret af deltagernes egne ord og betragtninger. \nM.C. Hansen er professionel sangskriver og musiker og har udgivet plader i eget navn og med sit band the Sentimentals. Han har medvirket som studiemusiker på omkring tyve plader med hovedsageligt amerikanske artister. M.C. Hansen spiller guitar\, banjo og synger. Han skriver sange på både dansk og engelsk og spiller typisk omkring 100 koncerter om året\ni Nordeuropa og USA. M.C. Hansen har modtaget Danish Music Award i 2017. \nFri entré. Begrænset deltagerantal. \nTilmelding til ll@dcbib.dk senest 1. december 2018.
URL:https://spildansk.dk/kalender/menneskerettighederne-fylder-70-2/
LOCATION:Dansk Centralbibliotek for Sydslesvig\, Norderstraße 59\, Flensborg\, 24939\, Danmark
CATEGORIES:Foredrag,Workshop
ATTACH;FMTTYPE=image/jpeg:https://spildansk.dk/wp-content/uploads/2018/09/Amnesty_logo.jpg
ORGANIZER;CN="SSF":MAILTO:info@syfo.de
END:VEVENT
BEGIN:VEVENT
DTSTART;TZID=Europe/Copenhagen:20181211T200000
DTEND;TZID=Europe/Copenhagen:20181211T210000
DTSTAMP:20260421T235714
CREATED:20180913T125306Z
LAST-MODIFIED:20180913T130421Z
UID:15211-1544558400-1544562000@spildansk.dk
SUMMARY:VICTORIAS JUL
DESCRIPTION:Pianisten Christian Vestergaard Wennerlin akkompagnerer Thomas Rewes og Kirsten Stokholm Jørgensen i juleforestillingen VICTORIAS JUL på Thy Teater.
URL:https://spildansk.dk/kalender/victorias-jul/
LOCATION:Thy Teater\, Frederiksgade 5\, Thisted\, 7700\, Danmark
CATEGORIES:Viser
ATTACH;FMTTYPE=image/jpeg:https://spildansk.dk/wp-content/uploads/2018/09/Jul.jpg
ORGANIZER;CN="Thy Teater":MAILTO:billet@thyteater.dk
END:VEVENT
BEGIN:VEVENT
DTSTART;TZID=Europe/Copenhagen:20181210T120000
DTEND;TZID=Europe/Copenhagen:20181210T154000
DTSTAMP:20260421T235714
CREATED:20180918T075922Z
LAST-MODIFIED:20180918T075922Z
UID:15333-1544443200-1544456400@spildansk.dk
SUMMARY:Rapolitics-workshop på hf i Nr. Nissum
DESCRIPTION:De to rapcoaches faciliterer en dialog med deltagerne og underviser dem i at omsætte deres meninger til rap-tekster.\nSom afrunding får alle deltagere mulighed for at indtage “scenen” på egen hånd\, og performe deres raptekster over for de øvrige deltagere.
URL:https://spildansk.dk/kalender/rapolitics-workshop-paa-hf-i-nr-nissum/
LOCATION:VIA University College Nr. Nissum\, Svinget 5\, Lemvig\, 7620
CATEGORIES:Workshop
ATTACH;FMTTYPE=image/png:https://spildansk.dk/wp-content/uploads/2018/09/Rapolitics_logo_2.png
END:VEVENT
BEGIN:VEVENT
DTSTART;TZID=Europe/Copenhagen:20181206T080000
DTEND;TZID=Europe/Copenhagen:20181206T113000
DTSTAMP:20260421T235714
CREATED:20181107T102157Z
LAST-MODIFIED:20181107T102157Z
UID:17947-1544083200-1544095800@spildansk.dk
SUMMARY:Komponist i klassen
DESCRIPTION:Tine Louise Kortermand arbejder med en 6.klasse og deres indre komponist. eleverne skriver sannge og tekster med inspiration fra den virkelige verden.
URL:https://spildansk.dk/kalender/komponist-i-klassen/
LOCATION:Absalons Skole\, Absalonsgade 2\, Roskilde\, 4000
CATEGORIES:Workshop
END:VEVENT
BEGIN:VEVENT
DTSTART;TZID=Europe/Copenhagen:20181205T130000
DTEND;TZID=Europe/Copenhagen:20181205T170000
DTSTAMP:20260421T235714
CREATED:20181010T080738Z
LAST-MODIFIED:20181010T080738Z
UID:16442-1544014800-1544029200@spildansk.dk
SUMMARY:Rapolitics
DESCRIPTION:Shahin og Pelle holder workshop i at rappe samfundskritisk.
URL:https://spildansk.dk/kalender/rapolitics/
LOCATION:Mellerup Efterskole\, Almisbakken 19\, Randers NØ\, 8930
CATEGORIES:Hiphop
ATTACH;FMTTYPE=image/png:https://spildansk.dk/wp-content/uploads/2018/10/logomini.png
ORGANIZER;CN="Mellerup Efterskole":MAILTO:kontor@mellerupefterskole.dk
END:VEVENT
BEGIN:VEVENT
DTSTART;TZID=Europe/Copenhagen:20181129T200000
DTEND;TZID=Europe/Copenhagen:20181129T220000
DTSTAMP:20260421T235714
CREATED:20180911T131133Z
LAST-MODIFIED:20180911T131408Z
UID:14909-1543521600-1543528800@spildansk.dk
SUMMARY:ANDENS VERDENSKRIG – LIVA PÅ JUL
DESCRIPTION:Musikerne Jacob Morild\, Karsten Jansfort\, Thomas Pakula og Morten Wedendahl spiller og synger i forestillingen ANDENS VERDENSKRIG – LIVA PÅ JUL på Thy Teater.
URL:https://spildansk.dk/kalender/andens-verdenskrig-liva-paa-jul/
LOCATION:Thy Teater\, Frederiksgade 5\, Thisted\, 7700\, Danmark
CATEGORIES:Viser
ATTACH;FMTTYPE=image/jpeg:https://spildansk.dk/wp-content/uploads/2018/09/Liva.jpg
ORGANIZER;CN="Thy Teater":MAILTO:billet@thyteater.dk
END:VEVENT
BEGIN:VEVENT
DTSTART;TZID=Europe/Copenhagen:20181129T193000
DTEND;TZID=Europe/Copenhagen:20181129T203000
DTSTAMP:20260421T235714
CREATED:20181023T130213Z
LAST-MODIFIED:20181023T130213Z
UID:17270-1543519800-1543523400@spildansk.dk
SUMMARY:Komponisten kommer til byen
DESCRIPTION:Torsdag d. 29. November får MUSIK OG KULTURSKOLEN Kerteminde Kommune besøg af Louise Alenius. Louise er klassisk komponist. Kom og hør hende fortælle om hendes måde at arbejde på med musikken\, kompositioner mv. \nLouise Alenius hacker formaterne\, forstyrrer sine musikere\, udfordrer tilskuerne\, dissekerer koncertens form. Hendes karriere som partiturkomponist for klassiske ensembler begyndte i 2008 med ny musik til den 2. akt af August Bournonvilles ballet Napoli med urpremiere på Det Kongelige Teater i 2009. \nI 2011 komponerede hun musik til Constantine Baechers ballet Palimpsest og i 2013 til Cathy Marstons ballet Elefantmanden\, med Alexander Kølpin. I strygerduetten Rouge fra 2016 fikseres en cellist og bratschist – under deres opførelse af værket – til deres stole med gaffatape af komponisten selv. Hvorefter hun begynder at rive hårdt i deres hud. \nSiden 2014 har Alenius 350 gange opført seks udgaver af Porøset på det Kongelige Teater\, et række sceniske værker for kun én tilskuer ad gangen. Og i 2016 havde hun urpremiere på værket Prequiem for én terminalpatient ad gangen. \nHun har også leveret dramatiske vejrlig og melankolske vingesus til en lang række reklamefilm\, herunder for Peugeot (2011)\, Turkcell (2014) og Interflora (2015). \nLouise Alenius er desuden sanger\, og har indspillet 3 album bla. Cours Lapin fra 2009\, og modtaget Carl Prisens Talentpris i 2014 udpeget af Bent Fabritius-Bjerre. Arbejder i øjeblikket på Porøset 7 og kammeroperaen Silence Zone – begge med premiere i 2017.
URL:https://spildansk.dk/kalender/komponisten-kommer-til-byen/
LOCATION:Musik og Kulturskolen Kerteminde Kommune\, Regnar Langesvej 1\, Kerteminde\, 5300
CATEGORIES:Klassisk
END:VEVENT
BEGIN:VEVENT
DTSTART;TZID=Europe/Copenhagen:20181129T190000
DTEND;TZID=Europe/Copenhagen:20181129T210000
DTSTAMP:20260421T235714
CREATED:20181026T095425Z
LAST-MODIFIED:20181026T104709Z
UID:17642-1543518000-1543525200@spildansk.dk
SUMMARY:Menneskerettighederne fylder 70
DESCRIPTION:Samtalesalon & workshop i sangskrivning i samarbejde med Mads Westfall og Amnesty International. \nHør om baggrunden for menneskerettighederne og hjælp med at skrive en fællessang. \nArrangementet er gratis. Tilmelding nødvendig på:  kontakt@vbkf.dk pga. begrænset deltagerantal \nDer kan købes kaffe/te & kage\, øl & vand
URL:https://spildansk.dk/kalender/menneskerettighederne-fylder-70-5/
LOCATION:Vissenbjerghus\, Vestergade 4\, Vissenbjerg\, 5492
CATEGORIES:Workshop
ORGANIZER;CN="Vissenbjerg Borger- og Kulturforening &amp%3B AssensBibliotekerne":MAILTO:kontakt@vbkf.dk
END:VEVENT
BEGIN:VEVENT
DTSTART;TZID=Europe/Copenhagen:20181128T190000
DTEND;TZID=Europe/Copenhagen:20181128T210000
DTSTAMP:20260421T235714
CREATED:20180913T115625Z
LAST-MODIFIED:20180913T115625Z
UID:15201-1543431600-1543438800@spildansk.dk
SUMMARY:Spil Dansk Koncert
DESCRIPTION:Rytmisk koncert med elever fra Nyborg Musikskole. Sang – og instrumentalsolister og – ensembler.
URL:https://spildansk.dk/kalender/spil-dansk-koncert-8/
LOCATION:Bastionen Nyborg\, Nørrevoldgade 63\, Nyborg\, 5800\, Danmark
CATEGORIES:Jazz,Rock
ORGANIZER;CN="Nyborg Musikskole":MAILTO:musikskolen@nyborg.dk
END:VEVENT
BEGIN:VEVENT
DTSTART;TZID=Europe/Copenhagen:20181127T193000
DTEND;TZID=Europe/Copenhagen:20181127T210000
DTSTAMP:20260421T235714
CREATED:20181023T120306Z
LAST-MODIFIED:20181023T120915Z
UID:17260-1543347000-1543352400@spildansk.dk
SUMMARY:Menneskerettighederne fylder 70
DESCRIPTION:Samtalesalon og workshop i anledning af 70-året for FN´s Verdenserklæring om Menneskerettigheder. \nEn repræsentant fra Amnesty International vil samarbejde med en professionel sangskriver omkring facilitering en dialog om menneskerettighedernes betydning mv. Samt efterfølgende at lave en sang i samarbejde med deltagerne. \nDenne aften er det Stine Liebman (Liebliga) som er sangskriveren \n 
URL:https://spildansk.dk/kalender/menneskerettighederne-fylder-70-4/
LOCATION:Samlingsstuen\, Andresens Købmandsgård 4\, Kerteminde\, 5300
CATEGORIES:Foredrag
END:VEVENT
BEGIN:VEVENT
DTSTART;TZID=Europe/Copenhagen:20181127T163000
DTEND;TZID=Europe/Copenhagen:20181127T173000
DTSTAMP:20260421T235714
CREATED:20181024T134638Z
LAST-MODIFIED:20181024T135105Z
UID:17555-1543336200-1543339800@spildansk.dk
SUMMARY:Skolen Synger Dansk
DESCRIPTION:På Højelse Skole er der et “Åben Skole” arrangement\, hvor alle i lokalsamfundet er velkomne til at komme og synge. \nEleverne i 1. til 4.klasse har øvet dansk komponerede sange\, som et lokalt aftenskole-band spiller til. \nFølgende sange bliver spillet og sunget: Joanna.(Kim Larsen).Mægtige træ.(Ruben Engelhardt)Forventning(Hans Holm). Flying(Nice Little Pinguins). Kald det kærlighed(Lars Lilholt)Op al den ting(Tekst: Brorson\, Ny melodi: R. Engelhardt)Kvinde min(Kim Larsen). \n 
URL:https://spildansk.dk/kalender/skolen-synger-dansk/
LOCATION:Højelse Skole\, Baunebjergvej 1\, Højelse\, 4623 Lille Skensved
CATEGORIES:Fællessang
END:VEVENT
BEGIN:VEVENT
DTSTART;TZID=Europe/Copenhagen:20181126T100000
DTEND;TZID=Europe/Copenhagen:20181126T150000
DTSTAMP:20260421T235714
CREATED:20181009T095130Z
LAST-MODIFIED:20181011T133539Z
UID:16169-1543226400-1543244400@spildansk.dk
SUMMARY:Workshop med Andreas Seebach
DESCRIPTION:Rapperen Andreas Seebach holder en lille koncert i skolens hjerte og giver workshop i rap-musik for skolens musikvalghold.
URL:https://spildansk.dk/kalender/workshop-med-andreas-seebach/
LOCATION:Søagerskolen\, Råbrovej 20\, Smørum\, 2765
CATEGORIES:Workshop
END:VEVENT
BEGIN:VEVENT
DTSTART;TZID=Europe/Copenhagen:20181123T080000
DTEND;TZID=Europe/Copenhagen:20181123T140000
DTSTAMP:20260421T235714
CREATED:20181115T173934Z
LAST-MODIFIED:20181115T173934Z
UID:17981-1542960000-1542981600@spildansk.dk
SUMMARY:Lydkunstskattejagt
DESCRIPTION:Henrik Budde fra Dansk Komponist Forening kommer og laver Lydkunstskattejagt med 5.A fra Strandskolen.
URL:https://spildansk.dk/kalender/lydkunstskattejagt-2/
LOCATION:Strandskolen\, Kongens Enge 40\, Karlslunde\, 2690
CATEGORIES:Musik til børn
END:VEVENT
END:VCALENDAR