BEGIN:VCALENDAR
VERSION:2.0
PRODID:-//Spil Dansk - ECPv6.5.0//NONSGML v1.0//EN
CALSCALE:GREGORIAN
METHOD:PUBLISH
X-WR-CALNAME:Spil Dansk
X-ORIGINAL-URL:https://spildansk.dk
X-WR-CALDESC:Events for Spil Dansk
REFRESH-INTERVAL;VALUE=DURATION:PT1H
X-Robots-Tag:noindex
X-PUBLISHED-TTL:PT1H
BEGIN:VTIMEZONE
TZID:Europe/Copenhagen
BEGIN:DAYLIGHT
TZOFFSETFROM:+0100
TZOFFSETTO:+0200
TZNAME:CEST
DTSTART:20180325T010000
END:DAYLIGHT
BEGIN:STANDARD
TZOFFSETFROM:+0200
TZOFFSETTO:+0100
TZNAME:CET
DTSTART:20181028T010000
END:STANDARD
END:VTIMEZONE
BEGIN:VEVENT
DTSTART;TZID=Europe/Copenhagen:20181115T190000
DTEND;TZID=Europe/Copenhagen:20181115T220000
DTSTAMP:20260422T131335
CREATED:20181024T093243Z
LAST-MODIFIED:20181024T093243Z
UID:17510-1542308400-1542319200@spildansk.dk
SUMMARY:Mentorsession
DESCRIPTION:Bandet Blank skal have en mentorsession sammen med musiker og sangskriver Esben Kronborg.
URL:https://spildansk.dk/kalender/mentorsession/
LOCATION:Favrskov Musikskole\, Evald Tangs Allé 45\, Hadsten\, 8370\, Danmark
CATEGORIES:Pop
ATTACH;FMTTYPE=image/jpeg:https://spildansk.dk/wp-content/uploads/2018/10/DSC0374-kopi.jpg
ORGANIZER;CN="Favrskov Musikskole":MAILTO:musikskole@favrskov.dk
END:VEVENT
BEGIN:VEVENT
DTSTART;TZID=Europe/Copenhagen:20181115T160000
DTEND;TZID=Europe/Copenhagen:20181115T180000
DTSTAMP:20260422T131335
CREATED:20181002T090412Z
LAST-MODIFIED:20181002T090412Z
UID:15842-1542297600-1542304800@spildansk.dk
SUMMARY:Kor Care
DESCRIPTION:Pernille Stolting-Madsen kommer og arbejder med Samsø Kirkekor.
URL:https://spildansk.dk/kalender/kor-care-6/
LOCATION:Tranebjerg Kirke\, Tingvej 2\, Samsø\, 8305
CATEGORIES:Kor
ORGANIZER;CN="Spil Dansk Sams%C3%B8":MAILTO:aumbm@samsoe.dk
END:VEVENT
BEGIN:VEVENT
DTSTART;TZID=Europe/Copenhagen:20181115T101500
DTEND;TZID=Europe/Copenhagen:20181115T114500
DTSTAMP:20260422T131335
CREATED:20181009T113240Z
LAST-MODIFIED:20181009T113240Z
UID:16322-1542276900-1542282300@spildansk.dk
SUMMARY:Menneskerettigheder 70 år
DESCRIPTION:Lysår\, alias for Thomas Ulrik Larsen\, har udgivet tre album: Spåndigter (2009) Frontfigur på orlov (2013) Teknisk knockout (2015) samt albummet “Live” (2011) sammen med The Lake og Pistol. Lysår-albummene har modtaget fremragende anmeldelser i så forskellige medier som BT\, Arbejderen\, Gaffa og anerkendte musikblogs. Thomas’ koncerter under Lysår-navnet har bragt ham rundt i hele landet\, både som solist og med større og mindre besætninger. \nSammen med en repræsentant fra Amnesty International drager Thomas Ulrik Larsen til 9.C på Allerslev Skole for at lave en workshop om menneskerettigheder. \nLæs mere om Lysår/Thomas Ulrik Larsen her https://spildansk.dk/kunstnere/thomas-ulrik-larsen/. Læs mere om Menneskerettigheder fylder 70 her https://spildansk.dk/kommunepakke/menneskerettighederne-fylder-70/.
URL:https://spildansk.dk/kalender/menneskerettigheder-70-aar/
LOCATION:Allerslev Skole\, Bispegårdsvej 2\, Lejre\, 4320
CATEGORIES:Foredrag,Workshop
END:VEVENT
BEGIN:VEVENT
DTSTART;TZID=Europe/Copenhagen:20181115T083000
DTEND;TZID=Europe/Copenhagen:20181115T140000
DTSTAMP:20260422T131335
CREATED:20180910T134943Z
LAST-MODIFIED:20181030T101805Z
UID:14817-1542270600-1542290400@spildansk.dk
SUMMARY:Skattejagt på Arden Skole
DESCRIPTION:Andreas Busk tager 5.a fra Arden Skole med på Lydkunst Skattejagt. \nAndreas er blevet musikalsk formet i mange forskellige miljøer fra blokfløjtebarn til heavy- og jazzguitarist\, før han uddannede sig til elektronisk komponist. I dag laver han bl.a musik til film\, teater\, opera og kunstværker. Samtidig brænder han for at undervise og har mange års erfaring med det.
URL:https://spildansk.dk/kalender/skattejagt-paa-arden-skole/
LOCATION:Arden Skole\, Arden\, Mariagerfjord\, Danmark
CATEGORIES:Elektronisk
END:VEVENT
BEGIN:VEVENT
DTSTART;TZID=Europe/Copenhagen:20181114T080000
DTEND;TZID=Europe/Copenhagen:20181114T120000
DTSTAMP:20260422T131335
CREATED:20181023T132418Z
LAST-MODIFIED:20181023T132418Z
UID:17324-1542182400-1542196800@spildansk.dk
SUMMARY:"Sangglad"
DESCRIPTION:Mette Thue fra “Sangens Hus” kommer forbi børnehaven og synger med os!
URL:https://spildansk.dk/kalender/sangglad/
LOCATION:Fjelstervang Børnehave\, Nørrevangen 33\, Kibæk\, 6933
CATEGORIES:Workshop
END:VEVENT
BEGIN:VEVENT
DTSTART;TZID=Europe/Copenhagen:20181113T190000
DTEND;TZID=Europe/Copenhagen:20181113T210000
DTSTAMP:20260422T131335
CREATED:20181105T204718Z
LAST-MODIFIED:20181105T205100Z
UID:17941-1542135600-1542142800@spildansk.dk
SUMMARY:KorCare
DESCRIPTION:Tenor Jens Olav Heckmann giver sangteknisk råd og vejledning til Musikværkets Kor og korleder Thomas Olesen.
URL:https://spildansk.dk/kalender/korcare/
LOCATION:Musikværket\, Nykøbing Mors\, Gasværksvej 60\, Nykøbing\, 7900\, Danmark
CATEGORIES:Klassisk,Kor
END:VEVENT
BEGIN:VEVENT
DTSTART;TZID=Europe/Copenhagen:20181113T130000
DTEND;TZID=Europe/Copenhagen:20181113T163000
DTSTAMP:20260422T131335
CREATED:20181002T085606Z
LAST-MODIFIED:20181002T085606Z
UID:15836-1542114000-1542126600@spildansk.dk
SUMMARY:Rapolitics workshop
DESCRIPTION:Rapolitics workshop med Fabeldyret & Rune Rim for elever på Samsø Efterskole
URL:https://spildansk.dk/kalender/rapolitics-workshop/
LOCATION:Samsø Efterskole\, Besser Kirkevej 30\, Samsø\, 8305
CATEGORIES:Workshop
ORGANIZER;CN="Spil Dansk Sams%C3%B8":MAILTO:aumbm@samsoe.dk
END:VEVENT
BEGIN:VEVENT
DTSTART;TZID=Europe/Copenhagen:20181113T090000
DTEND;TZID=Europe/Copenhagen:20181113T130000
DTSTAMP:20260422T131335
CREATED:20181026T110948Z
LAST-MODIFIED:20181026T110948Z
UID:17651-1542099600-1542114000@spildansk.dk
SUMMARY:Rapolitics workshop - hip hop og demokratisk mod. Rapworkshop om medborgerskab og demokratisk dannelse gennem kunst og hiphopkultur
DESCRIPTION:HIPHOP & DEMOKRATISK MOD – Rapworkshop om medborgerskab og demokratisk deltagelse gennem kunst og hiphopkultur (4 timer): \n\nUndervisningsforløbet udvider elevernes forståelse af\, hvad demokratisk og politisk engagement kan være og kommer med eksempler på\, hvordan hiphopkulturen er og bliver brugt som talerør for unge.\n\n\nTo rap-coaches faciliterer dialog\, rim og rytme øvelser samt en skriveproces\, hvor eleverne opfordres til at sætte dagsordenen gennem raptekster og optræden. Der kan hentes inspiration inden workshoppen i Rapolitics’ Hiphopsamling\, hvor unge fra hele landet har udvalgt de fem vigtigste temaer at diskutere for unge i dag og derefter fundet frem til hiphopværker\, der forholder sig til disse temaer.
URL:https://spildansk.dk/kalender/rapolitics-workshop-hip-hop-og-demokratisk-mod-rapworkshop-om-medborgerskab-og-demokratisk-dannelse-gennem-kunst-og-hiphopkultur/
LOCATION:Ragnarock – museet for pop\, rock og ungdomskultur\, Rabalderstræde 1\, Roskilde\, 4000
CATEGORIES:Hiphop,Workshop
END:VEVENT
BEGIN:VEVENT
DTSTART;TZID=Europe/Copenhagen:20181112T190000
DTEND;TZID=Europe/Copenhagen:20181112T210000
DTSTAMP:20260422T131335
CREATED:20180913T115136Z
LAST-MODIFIED:20180913T115136Z
UID:15200-1542049200-1542056400@spildansk.dk
SUMMARY:Spil Dansk Koncert
DESCRIPTION:Akustisk koncert med elever fra Nyborg Musikskole. Sang – og instrumentalsolister og – ensembler.
URL:https://spildansk.dk/kalender/spil-dansk-koncert-7/
LOCATION:Bastionen Nyborg\, Nørrevoldgade 63\, Nyborg\, 5800\, Danmark
CATEGORIES:Folk,Klassisk
ORGANIZER;CN="Nyborg Musikskole":MAILTO:musikskolen@nyborg.dk
END:VEVENT
BEGIN:VEVENT
DTSTART;TZID=Europe/Copenhagen:20181112T120000
DTEND;TZID=Europe/Copenhagen:20181112T160000
DTSTAMP:20260422T131335
CREATED:20181023T130451Z
LAST-MODIFIED:20181023T131426Z
UID:17289-1542024000-1542038400@spildansk.dk
SUMMARY:Mentorsession Rytmisk – går til Jakob Emil Green Toft forsanger i TING
DESCRIPTION:Jakob Emil Green Toft\, 19 år\, forsanger og cellist i Ting får Mentorsessionen. 12. nov. 12-16 af Rune Lohse. \nRune Lohse­­- komponist\, trommeslager\, sangskriver\, sanger i og stifter af bandet New Kids. Hvor fokus er på lyd over popformer\, og tekster der fokuserer på drømme om samfund og kærlighed og fusionerer med lyden af at improvisere.
URL:https://spildansk.dk/kalender/du-hoerte-dem-foerst-her-koncert-paa-huset-m-ting-og-pailet/
LOCATION:Esbjerg Kulturskole\, Islandsgade 50\, Esbjerg\, 6700
CATEGORIES:Workshop
ATTACH;FMTTYPE=image/jpeg:https://spildansk.dk/wp-content/uploads/2018/10/Udklip-Jakob.jpg
ORGANIZER;CN="Esbjerg Kulturskole":MAILTO:Kulturskolen@esbjergkommune.dk
END:VEVENT
BEGIN:VEVENT
DTSTART;TZID=Europe/Copenhagen:20181112T080000
DTEND;TZID=Europe/Copenhagen:20181116T170000
DTSTAMP:20260422T131335
CREATED:20181009T085918Z
LAST-MODIFIED:20181009T085918Z
UID:16214-1542009600-1542387600@spildansk.dk
SUMMARY:Musikpraktik
DESCRIPTION:Musikerpraktik
URL:https://spildansk.dk/kalender/musikpraktik/
LOCATION:København
CATEGORIES:Pop
ORGANIZER;CN="Spil Dansk":MAILTO:info@spildansk.dk
END:VEVENT
BEGIN:VEVENT
DTSTART;TZID=Europe/Copenhagen:20181110T203000
DTEND;TZID=Europe/Copenhagen:20181110T213000
DTSTAMP:20260422T131335
CREATED:20181026T111934Z
LAST-MODIFIED:20181026T111934Z
UID:17653-1541881800-1541885400@spildansk.dk
SUMMARY:Hit med Sangskriveren - Sémmane
DESCRIPTION:Koncert og foredrag om hendes rejse fra Melodigrandprix vinder til at finde sin musiske identitet og dermed hendes glæde og indre succes.
URL:https://spildansk.dk/kalender/hit-med-sangskriveren-semmane/
LOCATION:Rosmus Skole\, Bispemosevej 5\, Balle\, 8444
CATEGORIES:Elektronisk,Pop,RnB
END:VEVENT
BEGIN:VEVENT
DTSTART;TZID=Europe/Copenhagen:20181110T140000
DTEND;TZID=Europe/Copenhagen:20181110T233000
DTSTAMP:20260422T131335
CREATED:20180911T162801Z
LAST-MODIFIED:20180911T162836Z
UID:14957-1541858400-1541892600@spildansk.dk
SUMMARY:Thy kommer til København: Musik\, dans og gastronomi fra Thy
DESCRIPTION:For fem år siden døde Thys store spillemand Karl Skaarup\, og vi hylder ham ved at vise filmen om ham\, og ved at spille hans musik. \nProgram for dagen og aftenen: \n14:00 – 17:00\nÅbent hus m. besøg af Thy Turistforening v/Ole Riis\n– smagsprøver delikatesser\n– Fortællinger om Thy \n15:00 – 17:00\nWorkshop i Thymusik til koncert og bal v/Mette Kathrine Jensen Stærk\, Kristian Bugge & Morten Alfred Høirup\, som alle har spillet med Karl Skaarup. \n17:00\nFilmen ‘Spillemanden’\, et portræt af Karl Skaarup \n18:00\nAftensmad: Delikatesser fra Thy (Det kulinariske Thy) \n19:30 – 20:00\nKoncert \n20:00 – 23:00 (24:00)\nBal \nPriser: \nÅbent Hus 14:00 – 17:00: Gratis\nWorkshop 15:00 – 17:00: Deltager gebyr\nAftensmad (Det kulinariske Thy): Mod betaling\nKoncert/Bal 19:30 – 23:00: 150 kr. \nArrangeret af Jakob Oschlag i samarbejde med Bartof Station og Jensen\, Bugge & Høirup \nYderligere info: oschlag@post.tele.dk og mortenalfred@gmail.com \nwww.dktrio.dk\nwww.jensen-bugge.dk \nDel gerne 🙂
URL:https://spildansk.dk/kalender/thy-kommer-til-koebenhavn-musik-dans-og-gastronomi-fra-thy/
LOCATION:Bartof Station\, Solbjergvej 3\, kl\, Frederiksberg\, 2000
CATEGORIES:Folk
END:VEVENT
BEGIN:VEVENT
DTSTART;TZID=Europe/Copenhagen:20181110T113000
DTEND;TZID=Europe/Copenhagen:20181110T130000
DTSTAMP:20260422T131335
CREATED:20180910T085047Z
LAST-MODIFIED:20180910T085047Z
UID:14726-1541849400-1541854800@spildansk.dk
SUMMARY:Københavner-musikken 1943 Jazzens Guldalder
DESCRIPTION:Begrebet “dansk guldalderjazz” er uløseligt forbundet med perioden 1940-1945 under 2. verdenskrig\, hvor Danmark var besat af tyske tropper. Periodens mest populære orkester blev ledet af pianisten Leo Mathisen\, og med hans sekstet spillede han næsten uafbrudt i  restaurant “München” indtil befrielsen. \nFarum Kulturhus bliver for en stund omdannet til spillestedet “München” med lærere fra Furesø Musikskole. \nFri entre.
URL:https://spildansk.dk/kalender/koebenhavner-musikken-1943-jazzens-guldalder/
LOCATION:Farum Kulturhus\, Stavnsholtvej 3\, Farum\, 3520\, Danmark
CATEGORIES:Jazz
END:VEVENT
BEGIN:VEVENT
DTSTART;TZID=Europe/Copenhagen:20181109T193000
DTEND;TZID=Europe/Copenhagen:20181109T230000
DTSTAMP:20260422T131335
CREATED:20180911T162322Z
LAST-MODIFIED:20180911T162419Z
UID:14954-1541791800-1541804400@spildansk.dk
SUMMARY:Jensen\, Bugge & Høirup på Broby gl. skole (bal)
DESCRIPTION:Jensen\, Bugge & Høirup spiller både traditionel og kontemporær dansk folkemusik til bal \nMette Kathrine Jensen Stærk\, Kristian Bugge & Morten Alfred Høirup dyrker den danske traditionelle folkemusik og de historier\, den fortæller om samvær\, nærhed\, dans og livets gang i øvrigt. \nFå har som dem besøgt så mange af de små øer og andre egne af Danmark\, hvor folkemusikken stadig overleveres fra generation til generation.\nDet har gjort dem til specialister i mange af de forskellige musikalske dialekter\, der findes indenfor den danske folkemusik. \nAlle tre har modtaget adskillige Danish Music Award-priser for deres nytolkninger af den traditionelle musik\, og de har turneret over det meste af verden i utallige konstellationer. \nI sommeren 2015 udgav de deres første trio-cd med titlen “Slid din tid”!\n2 af trioens medlemmer er desuden rigsspillemænd
URL:https://spildansk.dk/kalender/jensen-bugge-hoeirup-paa-broby-gl-skole-bal/
LOCATION:Broby gl. skole\, Suserupvej 55\, Sorø\, 4180
CATEGORIES:Folk
END:VEVENT
BEGIN:VEVENT
DTSTART;TZID=Europe/Copenhagen:20181109T125000
DTEND;TZID=Europe/Copenhagen:20181109T135000
DTSTAMP:20260422T131335
CREATED:20180917T071939Z
LAST-MODIFIED:20180917T071939Z
UID:15264-1541767800-1541771400@spildansk.dk
SUMMARY:Fyraftenskoncert/fælles musiktime
DESCRIPTION:Kom og vær med til at fejre Spil dansk 2018. Sammen synger vi et udpluk af de 18 sange og nogle af børnene spiller til. Som afslutning på “Musik i Hverdagen” – samarbejde m. musikskolen – viser 4. og 5. kl.\, hvad de har arbejdet med.
URL:https://spildansk.dk/kalender/fyraftenskoncert-faelles-musiktime/
LOCATION:Bedsted Skole\, Thy\, Skolegade 1\, Bedsted\, Thy\, 7755\, Danmark
CATEGORIES:Fællessang
END:VEVENT
BEGIN:VEVENT
DTSTART;TZID=Europe/Copenhagen:20181109T115500
DTEND;TZID=Europe/Copenhagen:20181109T124000
DTSTAMP:20260422T131335
CREATED:20181106T102148Z
LAST-MODIFIED:20181106T102148Z
UID:17943-1541764500-1541767200@spildansk.dk
SUMMARY:Jazzkaravanen
DESCRIPTION:Møde med jazzpianisten Nikolaj Hess. \nKoncert og dialog med kunstneren.
URL:https://spildansk.dk/kalender/jazzkaravanen/
LOCATION:Lemvig Gymnasium\, Studietorvet\, Romvej 30\, Lemvig\, 7620\, Danmark
CATEGORIES:Jazz
ATTACH;FMTTYPE=image/jpeg:https://spildansk.dk/wp-content/uploads/2018/11/Nikolaj-Hess.jpg
ORGANIZER;CN="Spil Dansk gruppen%2C Lemvig":MAILTO:jb@lemvig-gym.dk
END:VEVENT
BEGIN:VEVENT
DTSTART;TZID=Europe/Copenhagen:20181108T193000
DTEND;TZID=Europe/Copenhagen:20181108T223000
DTSTAMP:20260422T131335
CREATED:20181009T153053Z
LAST-MODIFIED:20181009T153053Z
UID:16395-1541705400-1541716200@spildansk.dk
SUMMARY:Løvfaldskoncert
DESCRIPTION:Med M.C.Hansen som vært arrangers en koncert med Jacob Chano\, Mikael Klondyke\, PeterViskinde og Nikolaj Rysager. \nDe optræder på scenen hver for sig og sammen.
URL:https://spildansk.dk/kalender/loevfaldskoncert/
LOCATION:Gimle\, Roskilde\, Helligkorsvej 2\, Roskilde\, 4000\, Danmark
CATEGORIES:Folk
ATTACH;FMTTYPE=image/jpeg:https://spildansk.dk/wp-content/uploads/2018/10/MCHANSEN_WITH_JACOBCHANO_2016.jpg
ORGANIZER;CN="folk roskilde":MAILTO:info@folkroskilde.dk ; lebuchha@webspeed.dk
END:VEVENT
BEGIN:VEVENT
DTSTART;TZID=Europe/Copenhagen:20181108T193000
DTEND;TZID=Europe/Copenhagen:20181108T220000
DTSTAMP:20260422T131335
CREATED:20180911T161009Z
LAST-MODIFIED:20180911T161009Z
UID:14947-1541705400-1541714400@spildansk.dk
SUMMARY:Jensen\, Bugge & Høirup i Egtved Forsamlingshus
DESCRIPTION:Jensen\, Bugge & Høirup spiller både traditionel og kontemporær dansk folkemusik \nMette Kathrine Jensen Stærk\, Kristian Bugge & Morten Alfred Høirup dyrker den danske traditionelle folkemusik og de historier\, den fortæller om samvær\, nærhed\, dans og livets gang i øvrigt. \nFå har som dem besøgt så mange af de små øer og andre egne af Danmark\, hvor folkemusikken stadig overleveres fra generation til generation.\nDet har gjort dem til specialister i mange af de forskellige musikalske dialekter\, der findes indenfor den danske folkemusik. \nAlle tre har modtaget adskillige Danish Music Award-priser for deres nytolkninger af den traditionelle musik\, og de har turneret over det meste af verden i utallige konstellationer. \nI sommeren 2015 udgav de deres første trio-cd med titlen “Slid din tid”!\n2 af trioens medlemmer er desuden rigsspillemænd
URL:https://spildansk.dk/kalender/jensen-bugge-hoeirup-i-egtved-forsamlingshus/
LOCATION:Egtved Forsamlingshus\, Kirkevej 2\, Egtved\, 6040
CATEGORIES:Folk
ATTACH;FMTTYPE=image/jpeg:https://spildansk.dk/wp-content/uploads/2018/09/JensenBugge14-1.jpg
END:VEVENT
BEGIN:VEVENT
DTSTART;TZID=Europe/Copenhagen:20181108T193000
DTEND;TZID=Europe/Copenhagen:20181108T220000
DTSTAMP:20260422T131335
CREATED:20180911T122502Z
LAST-MODIFIED:20180911T122502Z
UID:14880-1541705400-1541714400@spildansk.dk
SUMMARY:Syng Dansk - Syng Med
DESCRIPTION:Helle Solvang\, fra P2 “Vis mig din sang\, skat” og leder af Syngesalonen leder an i fællessang fra Højskolesangbogen.
URL:https://spildansk.dk/kalender/syng-dansk-syng-med/
LOCATION:Hendriksholm Kirke\, Damhus Boulevard 70\, Rødovre\, 2610\, Danmark
CATEGORIES:Fællessang
ATTACH;FMTTYPE=image/jpeg:https://spildansk.dk/wp-content/uploads/2018/09/helle-solvang.jpg
END:VEVENT
BEGIN:VEVENT
DTSTART;TZID=Europe/Copenhagen:20181108T193000
DTEND;TZID=Europe/Copenhagen:20181108T203000
DTSTAMP:20260422T131335
CREATED:20181012T145214Z
LAST-MODIFIED:20181012T145214Z
UID:16684-1541705400-1541709000@spildansk.dk
SUMMARY:Mød filmkomponisten Nicklas Schmidt
DESCRIPTION:Foredrag/Artist-talk med Nicklas Schmidt\, som har skrevet musik til et dusin spillefilm\, flere tv-serier\, ballet og teater. Han er Robertnomineret og modtager af Carl Prisen 2017 for musikken til Flaskepost fra P. \nGratis adgang – billet ikke nødvendig.
URL:https://spildansk.dk/kalender/moed-filmkomponisten-nicklas-schmidt/
LOCATION:Stenløse Kulturhus\, Rådhustorvet 2\, Stenløse\, 3660\, Danmark
CATEGORIES:Foredrag
ATTACH;FMTTYPE=image/jpeg:https://spildansk.dk/wp-content/uploads/2018/10/Presse05.jpg
END:VEVENT
BEGIN:VEVENT
DTSTART;TZID=Europe/Copenhagen:20181108T160000
DTEND;TZID=Europe/Copenhagen:20181108T180000
DTSTAMP:20260422T131335
CREATED:20181002T085953Z
LAST-MODIFIED:20181023T102431Z
UID:15839-1541692800-1541700000@spildansk.dk
SUMMARY:Menneskerettighederne fylder 70 år
DESCRIPTION:En helt særlig samtalesalon & workshop i anledning af 70-året for FN’s Verdenserklæring om Menneskerettigheder (vedtaget og offentliggjort af FNs tredje generalforsamling den 10. december 1948).\nEn repræsentant fra Amnesty International vil i samarbejde med den professionelle sangskriver Tine Refsgaard facilitere en dialog om Menneskerettighederne\, deres baggrund og betydning\, og skrive en sang inspireret af deltagernes egne ord og betragtninger.
URL:https://spildansk.dk/kalender/menneskerettighederne-fylder-70-aar/
LOCATION:Samsø Museum\, Museumsvej 10\, Samsø\, 8305
CATEGORIES:Workshop
ORGANIZER;CN="Spil Dansk Sams%C3%B8":MAILTO:aumbm@samsoe.dk
END:VEVENT
BEGIN:VEVENT
DTSTART;TZID=Europe/Copenhagen:20181107T200000
DTEND;TZID=Europe/Copenhagen:20181107T221500
DTSTAMP:20260422T131335
CREATED:20181031T175155Z
LAST-MODIFIED:20181031T175155Z
UID:17899-1541620800-1541628900@spildansk.dk
SUMMARY:EN KOMIKERS TRAGISKE BEKENDELSER
DESCRIPTION:Pianisten Tommy Kenter spiller og synger i forestillingen EN KOMIKERS TRAGISKE BEKENDELSER på Thy Teater.
URL:https://spildansk.dk/kalender/en-komikers-tragiske-bekendelser/
LOCATION:Thy Teater\, Frederiksgade 5\, Thisted\, 7700\, Danmark
CATEGORIES:Jazz
ATTACH;FMTTYPE=image/jpeg:https://spildansk.dk/wp-content/uploads/2018/10/Tommy.jpg
ORGANIZER;CN="Thy Teater":MAILTO:billet@thyteater.dk
END:VEVENT
BEGIN:VEVENT
DTSTART;TZID=Europe/Copenhagen:20181107T200000
DTEND;TZID=Europe/Copenhagen:20181107T220000
DTSTAMP:20260422T131335
CREATED:20180925T124122Z
LAST-MODIFIED:20180925T124122Z
UID:15612-1541620800-1541628000@spildansk.dk
SUMMARY:Lars Lilholt Band (Akustisk)
DESCRIPTION:STORYTELLER ”Kapitel 3” 2018 \nLars Lilholt ́s Storyteller-koncerter blev i sin tid startet som en mulighed for at høre hans sange i akustiske\, intime\, indendørs og afdæmpede versioner med de dertil hørende historier. For sangene er ikke grebet ud af den blå luft. De har alle tilknyttede underfundige fortællinger fra Lilholts efterhånden lange liv. \nI storytellerkonceptet er grundstammen fra Lilholt Band med i et intenst og stilfærdigt sammenspil. hvor der bliver givet plads til at lade instrumenterne tale i en skrøbelig balancegang mellem enkelhed og kompleksitet: \nGert Vincent på el- og akustisk guitar\nTom Bilde på bas\, banjo og mandolin Kristian Fogh trakterer allehånde tangenter Eddi Jarl på slagtøj.\nAlle synger desuden fremragende kor. \nRepertoiret bliver fra hele bagkataloget samt fra det nye album ”Drømmefanger”\nsom udkommer i maj 2018.\nLars Lilholt er en dansk kunstner\, der i årevis har kunnet samle alle generationer over hele landet. En erfaren sangskriver med et kæmpe stort talent for at bruge det danske sprog og en evne til at kommunikere gennem enkle melodier med et rodnet dybt nede i både folkemusikken\, rockmusikken og den klassiske musik.\nLars Lilholt\, der har solgt over 2 millioner albums\, har man kunnet høre på de danske scener i en menneskealder. I halvfjerdserne med folkrock-legenderne Kræn Bysteds\, siden 1983 på spillesteder og festivaller med De Lyse Nætters Orkester\, Lars Lilholt Band\, samt med Johnny Madsen og Allan Olsen i Dalton. \nLilholt har også i årevis optrådt som solist og for nylig i duosammenhæng med Shaka Loveless. \nAnmelderne skrev fra sidste Storyteller turné i foråret 2017:\nDet var ganske enkelt fremragende – stor sangskrivning\, sprudlende spillemandskunst og horisontudvidende historiefortælling. Fem stjerner. (Gaffa) \nMan kan diskutere\, om han er blevet smukkere med alderen\, men han er en fremragende sangskriver og en distinkt sanger\, der omgivet af dygtige musikere til fulde fortjener fem stjerner. ( Fyns Stiftstidende) \n\n\n\nMiddagen er kl. 17.30\, koncerten starter kl. 20.00. Dørene åbnes kl. 19.30.
URL:https://spildansk.dk/kalender/lars-lilholt-band-akustisk/
LOCATION:fuglsøcentret\, Dragsmurvej 6\, Knebel\, 8420\, Danmark
CATEGORIES:Folk,Rock
ATTACH;FMTTYPE=image/jpeg:https://spildansk.dk/wp-content/uploads/2018/09/Lars-Lilholt.jpg
END:VEVENT
BEGIN:VEVENT
DTSTART;TZID=Europe/Copenhagen:20181107T193000
DTEND;TZID=Europe/Copenhagen:20181107T220000
DTSTAMP:20260422T131335
CREATED:20180911T161427Z
LAST-MODIFIED:20180911T161427Z
UID:14951-1541619000-1541628000@spildansk.dk
SUMMARY:Jensen\, Bugge & Høirup på Skarrildhus
DESCRIPTION:Jensen\, Bugge & Høirup spiller både traditionel og kontemporær dansk folkemusik \nMette Kathrine Jensen Stærk\, Kristian Bugge & Morten Alfred Høirup dyrker den danske traditionelle folkemusik og de historier\, den fortæller om samvær\, nærhed\, dans og livets gang i øvrigt. \nFå har som dem besøgt så mange af de små øer og andre egne af Danmark\, hvor folkemusikken stadig overleveres fra generation til generation.\nDet har gjort dem til specialister i mange af de forskellige musikalske dialekter\, der findes indenfor den danske folkemusik. \nAlle tre har modtaget adskillige Danish Music Award-priser for deres nytolkninger af den traditionelle musik\, og de har turneret over det meste af verden i utallige konstellationer. \nI sommeren 2015 udgav de deres første trio-cd med titlen “Slid din tid”!\n2 af trioens medlemmer er desuden rigsspillemænd
URL:https://spildansk.dk/kalender/jensen-bugge-hoeirup-paa-skarrildhus/
LOCATION:Skarrildhus\, Sdr. Ommevej 4\, Kibæk\, 6933
CATEGORIES:Folk
END:VEVENT
BEGIN:VEVENT
DTSTART;TZID=Europe/Copenhagen:20181107T190000
DTEND;TZID=Europe/Copenhagen:20181107T210000
DTSTAMP:20260422T131335
CREATED:20181018T132709Z
LAST-MODIFIED:20181018T132709Z
UID:17007-1541617200-1541624400@spildansk.dk
SUMMARY:Der er noget galt i Danmark - musikalsk foredrag om John Mogensen
DESCRIPTION:John Mogensen-ekspert Kurt Andreasen fortæller om den folkekære sanger med de karakteristiske seler og den store vom. Vi guides gennem John Mogensens karriere. Hans tekster og melodier\, hans liv frem til det store gennembrud på Dansktoppen i 1971 med “Der er noget galt i Danmark”\, og hans kæmpe musikalske succes i den korte tid frem til hans alt for tidlige død i 1978. Foredraget ledsages af en masse gode musikeksempler og alle opfordres til at synge med. Vi lover\, at der bliver “Fut i fejemøjet”! \nBilletter købes på www.solbib.dk
URL:https://spildansk.dk/kalender/der-er-noget-galt-i-danmark-musikalsk-foredrag-om-john-mogensen/
LOCATION:Solrød Bibliotek\, Solrød Center 8\, Solrød Strand
CATEGORIES:Fællessang,Foredrag
ORGANIZER;CN="Solr%C3%B8d Bibliotek":MAILTO:rfi@solrod.dk
END:VEVENT
BEGIN:VEVENT
DTSTART;TZID=Europe/Copenhagen:20181107T180000
DTEND;TZID=Europe/Copenhagen:20181107T200000
DTSTAMP:20260422T131335
CREATED:20181025T092814Z
LAST-MODIFIED:20181025T092814Z
UID:17584-1541613600-1541620800@spildansk.dk
SUMMARY:Strøm til børn
DESCRIPTION:Elever fra 5. og 6. klasse på Brylle Skole komponerer og indspiller hver deres egen personlige sang ved hjælp af iPad. \nDette sker i samarbejde med “Strøm til børn”. \nSangene kan aflyttes om aftenen den 7. november til skolefesten på Brylle Skole. \n 
URL:https://spildansk.dk/kalender/stroem-til-boern/
LOCATION:Brylle Skole
CATEGORIES:Workshop
END:VEVENT
BEGIN:VEVENT
DTSTART;TZID=Europe/Copenhagen:20181107T160000
DTEND;TZID=Europe/Copenhagen:20181107T170000
DTSTAMP:20260422T131335
CREATED:20181008T083242Z
LAST-MODIFIED:20181008T083242Z
UID:16126-1541606400-1541610000@spildansk.dk
SUMMARY:ElsborgMaribo  - Play it forward
DESCRIPTION:På mindre end 2 år er ElsborgMaribo stormet frem på den danske musikscene og har markeret sig som en duo\, der ikke er til at komme udenom. \nDuoen indspiller\, skriver og udgiver selv deres musik og med en aldersforskel på mere end 30 år\, udgør Mette Elsborg og Erik Maribos duo en unik og spændende konstellation\, der resulterer i musik med rødder i alt fra country og folkemusik til viser\, blues og rock ’n’ roll. Selv kalder de det musik fra hjerte til hjerte\, efter en kommentar fra en hospice patient.\nElsborgMaribo er i denne sæson at finde rundt på flere af landets store scener\, hvor de bl.a. optræder til Sommersang i Mariehaven (Hjemsted for Helge Engelbrecht og Neighbours) og Sommersang på Sjælland med navne som Birthe Kjær\, Brødrene Olsen og Stig Rossen. \nUltimo 2016 kunne ElsborgMaribo opleves på turné med Peter Vesth\, hvor de turnerede landet rundt med juleshowet ”Jul med Peter Vesth og venner” i slutningen af 2016. \nDe knap 3000 fans på Facebook\, er ikke i tvivl om duoens musikalske kvaliteter og ElsborgMaribo modtager dagligt positive henvendelser fra folk i hele landet\, der også gerne rejser langt for at høre duoen optræde.
URL:https://spildansk.dk/kalender/elsborgmaribo-play-it-forward/
LOCATION:Botilbuddet Lindebjerg\, Lindebjerg Allé 18\, Aarup\, 5560
CATEGORIES:Folk
ATTACH;FMTTYPE=image/jpeg:https://spildansk.dk/wp-content/uploads/2018/10/els.jpg
END:VEVENT
BEGIN:VEVENT
DTSTART;TZID=Europe/Copenhagen:20181107T143000
DTEND;TZID=Europe/Copenhagen:20181107T153000
DTSTAMP:20260422T131335
CREATED:20181004T203158Z
LAST-MODIFIED:20181004T203158Z
UID:16052-1541601000-1541604600@spildansk.dk
SUMMARY:Gamle danske sange
DESCRIPTION:Kirkesanger Merete Brautsch Sand vil synge for på en række gamle sange med organist Christian Dreyer ved klaveret. Arrangementet foregår i Caféen. \nBeboere\, pårørende og andre inviteres til at synge med på sange af bl.a. PH\, Børge Müller og Klaus Rifbjerg med melodier af Sven Gyldmark\, Aage Stentoft\, Kai Norman Andersen og Bent Fabricius-Bjerre.
URL:https://spildansk.dk/kalender/gamle-danske-sange/
LOCATION:Plejecenter Porsebakken\, Nybøllevej 11\, Smørum\, 2765
CATEGORIES:Fællessang,Viser
ATTACH;FMTTYPE=image/jpeg:https://spildansk.dk/wp-content/uploads/2018/10/49037August-29-2017-Mads-Strømme-360-1-1.jpg
ORGANIZER;CN="Led%C3%B8je og Sm%C3%B8rum Kirker":MAILTO:kirkekontor@lskirker.dk
END:VEVENT
BEGIN:VEVENT
DTSTART;TZID=Europe/Copenhagen:20181107T100000
DTEND;TZID=Europe/Copenhagen:20181107T130000
DTSTAMP:20260422T131335
CREATED:20181010T092649Z
LAST-MODIFIED:20181030T174810Z
UID:16467-1541584800-1541595600@spildansk.dk
SUMMARY:Rytmisk mentorsession
DESCRIPTION:Josephine Kjærulf Sommer\, som er sangskriver og elev på Næstved Musikskole besøger komponisten Anna Kruse på Vesterbro. Her får hun en mentorsession i rytmisk sangskrivning.
URL:https://spildansk.dk/kalender/rytmisk-mentorsession/
LOCATION:Vesterbro\, xxx\, xxx\, xxx
CATEGORIES:Jazz
ATTACH;FMTTYPE=image/jpeg:https://spildansk.dk/wp-content/uploads/2018/10/Anna-Kruse-1.jpg
ORGANIZER;CN="N%C3%A6stved Musikskole":MAILTO:musikskolen@naestved.dk
END:VEVENT
END:VCALENDAR