BEGIN:VCALENDAR
VERSION:2.0
PRODID:-//Spil Dansk - ECPv6.5.0//NONSGML v1.0//EN
CALSCALE:GREGORIAN
METHOD:PUBLISH
X-WR-CALNAME:Spil Dansk
X-ORIGINAL-URL:https://spildansk.dk
X-WR-CALDESC:Events for Spil Dansk
REFRESH-INTERVAL;VALUE=DURATION:PT1H
X-Robots-Tag:noindex
X-PUBLISHED-TTL:PT1H
BEGIN:VTIMEZONE
TZID:Europe/Copenhagen
BEGIN:DAYLIGHT
TZOFFSETFROM:+0100
TZOFFSETTO:+0200
TZNAME:CEST
DTSTART:20210328T010000
END:DAYLIGHT
BEGIN:STANDARD
TZOFFSETFROM:+0200
TZOFFSETTO:+0100
TZNAME:CET
DTSTART:20211031T010000
END:STANDARD
END:VTIMEZONE
BEGIN:VEVENT
DTSTART;TZID=Europe/Copenhagen:20211104T093000
DTEND;TZID=Europe/Copenhagen:20211104T113000
DTSTAMP:20260423T221637
CREATED:20210913T080308Z
LAST-MODIFIED:20210913T080308Z
UID:28294-1636018200-1636025400@spildansk.dk
SUMMARY:Spil Dansk - Syng\, Spis og Snak
DESCRIPTION:Kom og syng danske sange sammen med vores elever. Vær med i hyggeligt samvær med kaffebord og tid til en god snak.
URL:https://spildansk.dk/kalender/spil-dansk-syng-spis-og-snak/
LOCATION:Boddum-Ydby Friskole og Børnehus\, Ydbyvej 193\, Ydby v/Hurup Thy\, 7760\, Danmark
CATEGORIES:Fællessang
ATTACH;FMTTYPE=image/jpeg:https://spildansk.dk/wp-content/uploads/2021/09/Nyt-logo-1.jpg
ORGANIZER;CN="Boddum-Ydby Friskole og B%C3%B8rnehus":MAILTO:skolen@boddum-ydby-friskole.dk
END:VEVENT
BEGIN:VEVENT
DTSTART;TZID=Europe/Copenhagen:20211104T093000
DTEND;TZID=Europe/Copenhagen:20211104T093000
DTSTAMP:20260423T221637
CREATED:20211027T090414Z
LAST-MODIFIED:20211027T090414Z
UID:29847-1636018200-1636018200@spildansk.dk
SUMMARY:Andreas Tophøj & Rune Barslund - Trails & Traces
DESCRIPTION:
URL:https://spildansk.dk/kalender/andreas-tophoej-rune-barslund-trails-traces-3/
LOCATION:Skærbæk Distriktsskole\, Skærbæk\, Sdr J\, Tønder\, Danmark
END:VEVENT
BEGIN:VEVENT
DTSTART;TZID=Europe/Copenhagen:20211104T091500
DTEND;TZID=Europe/Copenhagen:20211104T091500
DTSTAMP:20260423T221637
CREATED:20211027T090411Z
LAST-MODIFIED:20211027T090411Z
UID:29846-1636017300-1636017300@spildansk.dk
SUMMARY:Bragr - Et BRAGR af en koncert!
DESCRIPTION:
URL:https://spildansk.dk/kalender/bragr-et-bragr-af-en-koncert-6/
LOCATION:Tønder Grundskole\, Tønder\, Tønder\, Danmark
END:VEVENT
BEGIN:VEVENT
DTSTART;TZID=Europe/Copenhagen:20211104T091500
DTEND;TZID=Europe/Copenhagen:20211104T091500
DTSTAMP:20260423T221637
CREATED:20211027T090409Z
LAST-MODIFIED:20211027T090409Z
UID:29845-1636017300-1636017300@spildansk.dk
SUMMARY:Defecto - Duality
DESCRIPTION:
URL:https://spildansk.dk/kalender/defecto-duality-8/
LOCATION:Rask Mølle skole\, Rask Mølle\, Hedensted\, Danmark
END:VEVENT
BEGIN:VEVENT
DTSTART;TZID=Europe/Copenhagen:20211104T091000
DTEND;TZID=Europe/Copenhagen:20211104T091000
DTSTAMP:20260423T221637
CREATED:20211027T090408Z
LAST-MODIFIED:20211027T090408Z
UID:29844-1636017000-1636017000@spildansk.dk
SUMMARY:Lund/Jakobsen - Lund/Jakobsen
DESCRIPTION:
URL:https://spildansk.dk/kalender/lund-jakobsen-lund-jakobsen-3/
LOCATION:Hovedgård Skole\, Hovedgård\, Horsens\, Danmark
END:VEVENT
BEGIN:VEVENT
DTSTART;TZID=Europe/Copenhagen:20211104T090000
DTEND;TZID=Europe/Copenhagen:20211104T090000
DTSTAMP:20260423T221637
CREATED:20211027T090406Z
LAST-MODIFIED:20211027T090406Z
UID:29843-1636016400-1636016400@spildansk.dk
SUMMARY:Moussa Diallo Trio - Cirkeline og Coco rejser til Afrika
DESCRIPTION:
URL:https://spildansk.dk/kalender/moussa-diallo-trio-cirkeline-og-coco-rejser-til-afrika-6/
LOCATION:Skolen ved Skoven (Specialskole)\, Hillerød\, Hillerød\, Danmark
END:VEVENT
BEGIN:VEVENT
DTSTART;TZID=Europe/Copenhagen:20211104T090000
DTEND;TZID=Europe/Copenhagen:20211104T090000
DTSTAMP:20260423T221637
CREATED:20211027T090405Z
LAST-MODIFIED:20211027T090405Z
UID:29842-1636016400-1636016400@spildansk.dk
SUMMARY:APHYXION - Heavy metal i hovedhøjde
DESCRIPTION:
URL:https://spildansk.dk/kalender/aphyxion-heavy-metal-i-hovedhoejde-7/
LOCATION:Skivehus Skole\, Skive\, Skive\, Danmark
END:VEVENT
BEGIN:VEVENT
DTSTART;TZID=Europe/Copenhagen:20211104T085500
DTEND;TZID=Europe/Copenhagen:20211104T085500
DTSTAMP:20260423T221637
CREATED:20211027T090403Z
LAST-MODIFIED:20211027T090403Z
UID:29841-1636016100-1636016100@spildansk.dk
SUMMARY:Asbjørn - BOYISH
DESCRIPTION:
URL:https://spildansk.dk/kalender/asbjoern-boyish-8/
LOCATION:The International School Of Billund\, Billund\, Billund\, Danmark
END:VEVENT
BEGIN:VEVENT
DTSTART;TZID=Europe/Copenhagen:20211104T084500
DTEND;TZID=Europe/Copenhagen:20211104T084500
DTSTAMP:20260423T221637
CREATED:20211027T090401Z
LAST-MODIFIED:20211027T090401Z
UID:29840-1636015500-1636015500@spildansk.dk
SUMMARY:Ensemble Eiradís - KLASSISK
DESCRIPTION:
URL:https://spildansk.dk/kalender/ensemble-eiradis-klassisk-8/
LOCATION:Skødstrup Skole\, Skødstrup\, Aarhus\, Danmark
END:VEVENT
BEGIN:VEVENT
DTSTART;TZID=Europe/Copenhagen:20211104T084500
DTEND;TZID=Europe/Copenhagen:20211104T084500
DTSTAMP:20260423T221637
CREATED:20211027T090400Z
LAST-MODIFIED:20211027T090400Z
UID:29839-1636015500-1636015500@spildansk.dk
SUMMARY:Mads Vinding & Øyvind Ougaard - Mads Vinding & Øyvind Ougaard
DESCRIPTION:
URL:https://spildansk.dk/kalender/mads-vinding-oeyvind-ougaard-mads-vinding-oeyvind-ougaard-8/
LOCATION:Kalvehave Skole og Børnehus (Specialskole)\, Kalvehave\, Vordingborg\, Danmark
END:VEVENT
BEGIN:VEVENT
DTSTART;TZID=Europe/Copenhagen:20211104T083000
DTEND;TZID=Europe/Copenhagen:20211104T083000
DTSTAMP:20260423T221637
CREATED:20211027T090358Z
LAST-MODIFIED:20211027T090358Z
UID:29838-1636014600-1636014600@spildansk.dk
SUMMARY:Mikael K - Musikalske fortællinger
DESCRIPTION:
URL:https://spildansk.dk/kalender/mikael-k-musikalske-fortaellinger-8/
LOCATION:Vejlefjordskolen\, Daugård\, Hedensted\, Danmark
END:VEVENT
BEGIN:VEVENT
DTSTART;TZID=Europe/Copenhagen:20211104T080000
DTEND;TZID=Europe/Copenhagen:20211104T120000
DTSTAMP:20260423T221637
CREATED:20211006T085749Z
LAST-MODIFIED:20211006T085749Z
UID:28728-1636012800-1636027200@spildansk.dk
SUMMARY:Spil Dansk på Mou Skole
DESCRIPTION:Igen i år vil vi skabe en fantastisk stemning i den store aula\, når skolens elever og personaler bryder ud i sang og spil.
URL:https://spildansk.dk/kalender/spil-dansk-paa-mou-skole-4/
LOCATION:Mou skole\, Ny Høstemarkvej 7\, Storvorde\, 9280
CATEGORIES:Koncert
END:VEVENT
BEGIN:VEVENT
DTSTART;TZID=Europe/Copenhagen:20211104T080000
DTEND;TZID=Europe/Copenhagen:20211104T083000
DTSTAMP:20260423T221637
CREATED:20210922T130403Z
LAST-MODIFIED:20210922T130403Z
UID:28427-1636012800-1636014600@spildansk.dk
SUMMARY:Syng dansk morgensang på Trunderup Friskole
DESCRIPTION:Udvidet morgensang med danske sange\, som eleverne har øvet op til.
URL:https://spildansk.dk/kalender/syng-dansk-morgensang-paa-trunderup-friskole-2/
LOCATION:Trunderup Friskole og Børnehave\, Trunderup Gade 5\, Kværndrup\, 5772
CATEGORIES:Fællessang
END:VEVENT
BEGIN:VEVENT
DTSTART;TZID=Europe/Copenhagen:20211104T073000
DTEND;TZID=Europe/Copenhagen:20211104T083000
DTSTAMP:20260423T221637
CREATED:20211025T100859Z
LAST-MODIFIED:20211025T100956Z
UID:29488-1636011000-1636014600@spildansk.dk
SUMMARY:Spil Dansk morgen i Haldum Kirke
DESCRIPTION:I Spil Dansk ugen afholder vi morgensang med danske salmer. Kom og vær med\, der er rundstykker og kaffe efter arrangementet.
URL:https://spildansk.dk/kalender/spil-dansk-morgen-i-haldum-kirke/
LOCATION:Haldum Kirke\, Haldumvej 11\, Hinnerup\, 8382
CATEGORIES:Fællessang
ATTACH;FMTTYPE=image/jpeg:https://spildansk.dk/wp-content/uploads/2021/10/IMG_1882-scaled.jpg
END:VEVENT
BEGIN:VEVENT
DTSTART;TZID=Europe/Copenhagen:20211103T203000
DTEND;TZID=Europe/Copenhagen:20211104T010000
DTSTAMP:20260423T221637
CREATED:20211013T122131Z
LAST-MODIFIED:20211013T122131Z
UID:29150-1635971400-1635987600@spildansk.dk
SUMMARY:Lazy Queen (NO) + Music By Idiots
DESCRIPTION:Grunge\, slacker-rock og power-pop-genialiteter er blot nogle af ingredienserne i norske Lazy Queens iørefaldende alt-rock\, og med deres seneste ugivelse\, Get Home or Die Trying\, har de i dén grad manifesteret sig som et af de absolut mest spændende bands på den norske rockscene lige nu. Fang dem på Loppen d. 3. november sammen med de danske avant-art-rockere i Music By Idiots.​ \nLazy Queen was born in Brooklyn\, raised in Oslo\, and will never die. Join the wreckage. \nLazy Queen fløj ind på den norske musikscene med de friske rockvinde fra New York\, hvor norsk-colombianske Henrik García Søberg fik idéen til bandet\, og gennem deres højenergiske og levende live-shows har det Oslo-baserede femkløver lagt sig allerforrest i førerfeltet på den norske indierock-scene. \nLyden fra de rige DIY-traditioner i Brooklyn er tydelig at høre på Lazy Queens ambitiøse og sprudlende udgivelser\, hvor bandet ubesværet blander harmoniske og støjende elementer med et godt øre for punk-pop-hooks og melodier\, der på fineste vis formidler García Søbergs personlige og relaterbare historier. \nI april demonstrerede bandet igen deres overlegne kvaliteter på EP’en\, Get Home or Die Trying\, som har fået rockkritikere til at spidse øre verden over. Bl.a. skrev det engelske musikmagasin\, Louder Than War: \n“Raw and melancholic bubblegum punk done wonderfully. Norway’s Lazy Queen are one of the best bands coming out of the country right now” \nDu kan altså roligt glæde dig til at opleve et band i topform\, når Lazy Queen indtager Loppen d. 3. november og fremviser det bedste fra en spirende\, norsk indierock-scene. Samme aften kan du også opleve de danske avant-art-rockband\, Music By Idiots. \nMusic By Idiots er et nutidig og relevant bud på dansk musik fra nu og i fremtid\, og koncerten på Loppen bliver bandets første siden den store nedlukning. Til koncerten vil bandet overvejende spille materiale fra deres kommende debutalbum\, Tiden Lyver – et dansksproget album med sang titler som “Brutal Ungdom (Borderlinien)”\, “Alle har deres eget helvede\, skat” og “Kom du her”. Sange\, der handler om at leve i denne verden med tynd og hullet hud. \nPå Tiden Lyver møder du et dybt personligt og vedrørende dansk tekstunivers fra følelsernes overdrev af lyst\, kærlighed\, desperation og længsel. Musikalsk er Tiden Lyver et snublende kaos\, såvel som den store popsang. Fandenivolsk og uden filter i ord og lyd. Glæd dig!
URL:https://spildansk.dk/kalender/lazy-queen-no-music-by-idiots/
LOCATION:Loppen\, Sydområdet 4B\, 1.\, København K\, 1440\, Danmark
CATEGORIES:Koncert,Rock
ATTACH;FMTTYPE=image/jpeg:https://spildansk.dk/wp-content/uploads/2021/10/Photo-Credit_-Fabian-Framdal-Fjeldvik-1-scaled.jpg
ORGANIZER;CN="Loppen":MAILTO:loppen@loppen.dk
END:VEVENT
BEGIN:VEVENT
DTSTART;TZID=Europe/Copenhagen:20211103T200000
DTEND;TZID=Europe/Copenhagen:20211103T220000
DTSTAMP:20260423T221637
CREATED:20211012T085854Z
LAST-MODIFIED:20211012T085854Z
UID:28999-1635969600-1635976800@spildansk.dk
SUMMARY:The Swinging Sisters i Smedeværkstedet
DESCRIPTION:Oplev en aften med close-harmony vokaler på de amerikanske evergreens à la de legendariske The Andrew Sisters. Finurlige arrangementer af gamle danske sange og et nordisk ‘take’ på vores smukke hjemlige sange/salmer flankeret af flerstemmig sang. \nDet bliver en alsidig oplevelse i godt selskab med nogle af landets bedste musikere og sangere: Signe Juhl\, Inger Juhl\, Janne Hagen Therkildsen – vokal Bo Møller – guitar\, Niels Kvist – bas og Casper Mikkelsen – trommer.\nEntre kr. 150.- inkl. let tapas anretning.\nTilmelding senest 1/11 er nødvendig på www.musikogbilledskolen.dk/spildansk
URL:https://spildansk.dk/kalender/the-swinging-sisters-i-smedevaerkstedet-2/
LOCATION:Smedeværkstedet\, Vestervold 11\, Varde\, 6800\, Danmark
CATEGORIES:Jazz
ATTACH;FMTTYPE=image/jpeg:https://spildansk.dk/wp-content/uploads/2021/10/the-swinging-sister-web.jpg
ORGANIZER;CN="Spil Dansk Styregruppen Varde Kommune":MAILTO:pvoo@varde.dk
END:VEVENT
BEGIN:VEVENT
DTSTART;TZID=Europe/Copenhagen:20211103T200000
DTEND;TZID=Europe/Copenhagen:20211103T200000
DTSTAMP:20260423T221637
CREATED:20210918T124451Z
LAST-MODIFIED:20210918T125109Z
UID:28372-1635969600-1635969600@spildansk.dk
SUMMARY:MICHAEL FALCH & DÉT BAND
DESCRIPTION:Inden længe kan Michael Falch opleves LIVE på Tobaksgaarden igen. Det sker onsdag 3. november 2021 og det bliver i selskab med et af landets allerstærkeste rockbands\, DÉT BAND – som til lejligheden forstærket med Signe Svendsen på vokal og guitar\, og som altid med brødrene Skjærbæk på hhv. bas og guitar\, Peter Dombernowsky på trommer og Mikkel Reumert Damgaard på keyboards. \nDet nye album fra Michael Falch\, ‘Forår i brystet’\, har høstet mange roser hos anmelderne\, der er enige om\, at Falchen bare bliver ved med at udvikle sig som sanger og sangskriver med producer Lars Skjærbæk ved sin side og et band\, der konstant udforsker nyt land. \nNu tager holdet ud for at forvandle gråt 2020 til sitrende efterår med et sæt\, der byder på de stærkeste og smukkeste sange fra Falchens karriere\, der begyndte i MALURT for over 40 år siden – fra ‘Mød mig i mørket’ til ‘Juble igen som fugle’. \nMichael Falch udgiver i 2021 sin nye erindringsbog\, ‘Over stregen’\, før han igen stiller om til rock. Falch har aldrig været bedre\, lyder det alle steder fra\, og nu får publikum langt om længe mulighed for at opleve ham sammen med DÉT BAND. Der er dømt gnistrende intensitet og nærvær i særklasse på ‘Forår i brystet’-turen sidst på året. \n 
URL:https://spildansk.dk/kalender/michael-falch-det-band/
LOCATION:Tobaksgaarden\, Tobaksgården 7\, Assens\, 5610
CATEGORIES:Koncert
ATTACH;FMTTYPE=image/jpeg:https://spildansk.dk/wp-content/uploads/2021/09/M6R8692-_high_pass_copy-2-kopi-2.jpg
ORGANIZER;CN="Tobaksgaarden":MAILTO:post@tobaksgaarden.dk
END:VEVENT
BEGIN:VEVENT
DTSTART;TZID=Europe/Copenhagen:20211103T193000
DTEND;TZID=Europe/Copenhagen:20211103T220000
DTSTAMP:20260423T221637
CREATED:20211013T101514Z
LAST-MODIFIED:20211013T101514Z
UID:29141-1635967800-1635976800@spildansk.dk
SUMMARY:Band koncert med Gry Harrit
DESCRIPTION:Gry Harrit har igennem en årrække været vokalist for forskellige danske kunstnere som blandt andet Sebastian og Poul Krebs.\n\n\n\n\n\nI 2015 debuterede hun som solist og har igen i 2020 udgivet et album med stemningsfulde numre\, der bevæger sig inden for soul\, rock\, blues og pop universet. \nGry Harrits sange behandler ofte temaer i menneskelivet\, som er præget af opbrud og bevægelse.\nDer hvor livet slår krøller og hvor det til tider gør ondt. \nDet giver hendes sange kant og historierne bag sangene folder hun gerne ud ved denne koncert – en stemningsfyldt aften med dansk musik på Paletten. \nDer er fri entré til arrangementet\, men tilmelding er nødvendig af hensyn til begrænset antal pladser.
URL:https://spildansk.dk/kalender/band-koncert-med-gry-harrit/
LOCATION:Paletten\, Tingvej 20\, Viborg\, 8800
CATEGORIES:Koncert
ATTACH;FMTTYPE=image/jpeg:https://spildansk.dk/wp-content/uploads/2021/10/Gry-Harrit_Spil-Dansk.jpg
ORGANIZER;CN="Paletten":MAILTO:paletten@paletten.dk
END:VEVENT
BEGIN:VEVENT
DTSTART;TZID=Europe/Copenhagen:20211103T193000
DTEND;TZID=Europe/Copenhagen:20211103T210000
DTSTAMP:20260423T221637
CREATED:20211006T093155Z
LAST-MODIFIED:20211006T093302Z
UID:28732-1635967800-1635973200@spildansk.dk
SUMMARY:Spil dansk – Sangaften
DESCRIPTION:I forbindelse med Spil Dansk ugen fra 1.-7. november afholder vi i Nr. Felding og Tvis sogne en fællessangsaften d. 3. november. \nArrangementet afholdes i Nr. Felding Menighedshus\, Sørvadvej 12\, 7500 Holstebro. \nSangønsker m. en lille forklaring/historie om ønsket sendes til Organist Birgitta Wiklund senest 2. november kl. 12.00.\nSangene skal være danske eller have dansk komponist/forfatter.
URL:https://spildansk.dk/kalender/spil-dansk-sangaften/
LOCATION:Menighedshuset\, Nr. Felding\, Sørvadvej 12\, Holstebro\, 7500
CATEGORIES:Fællessang,Kor
END:VEVENT
BEGIN:VEVENT
DTSTART;TZID=Europe/Copenhagen:20211103T193000
DTEND;TZID=Europe/Copenhagen:20211103T203000
DTSTAMP:20260423T221637
CREATED:20211029T102447Z
LAST-MODIFIED:20211029T102447Z
UID:30133-1635967800-1635971400@spildansk.dk
SUMMARY:'Sagde pigen i kor' ny dansk musik af Louise Alenius - Odense
DESCRIPTION:I Spil Dansk-ugen op præsenterer Sankt Annæ Pigekors Kammerkor en koncert bygget op omkring Louise Alenius’ nye værk ‘Sagde pigen i kor’. \nVed koncerten medvirker strygekvartetterne Halvcirkel og Taïga\, der begge har markeret sig stærkt i dansk musikliv de senere år\, samt strygere fra Sankt Annæ Gymnasiums MGK. \nLouise Alenius’ værk er baseret på Sankt Annæ Pigekors sangeres besvarelser af fem åbne spørgsmål fra komponisten. Spørgsmålene har givet et bredt og umiddelbart indblik i sangernes tanker om ‘for-\, nu- og ‘fremtid’. De mange personlige\, smukke\, voldsomme og sårbare udsagn har været grundlaget for værket som i tekst og musik danner en bue henover et helt liv – set med en ung piges øjne. Dele af værket er bygget op\, så sangerne kun skal synge de ord\, de spejler sig i netop den dag\, værket opføres. Den samme passage vil derfor lyde forskellige fra gang til gang. \nMedvirkende: \nSankt Annæ Pigekors Kammerkor \nHalvcirkel / Taïga / Strygere fra Sankt Annæ MGK \nAnne Marie Granau\, dirigent
URL:https://spildansk.dk/kalender/sagde-pigen-i-kor-ny-dansk-musik-af-louise-alenius-odense/
LOCATION:Sankt Hans Kirke\, Sankt Hans Plads 1\, Odense C\, 5000
CATEGORIES:Klassisk,Kor
ATTACH;FMTTYPE=image/jpeg:https://spildansk.dk/wp-content/uploads/2021/10/Plakat_udsnit_FB-1-scaled.jpg
END:VEVENT
BEGIN:VEVENT
DTSTART;TZID=Europe/Copenhagen:20211103T193000
DTEND;TZID=Europe/Copenhagen:20211103T193000
DTSTAMP:20260423T221637
CREATED:20211028T082121Z
LAST-MODIFIED:20211028T082121Z
UID:29967-1635967800-1635967800@spildansk.dk
SUMMARY:Spil og syng på dansk
DESCRIPTION:Kom og vær med til en forrygende og festlig aften i musikkens tegn!\nKirstine og Claus fra Kulturskolen Hedensted vil føre os igennem en hyggelig times tid\, der vil indeholde fællessang\, fortællinger om musikken vi skal synge\, indslag fra Kulturskolens talentelever og violinelever samt et par numre med Kirstine og Claus på henholdsvis violin og klaver.
URL:https://spildansk.dk/kalender/spil-og-syng-paa-dansk/
LOCATION:Hedensted Bibliotek\, Østerbrogade 26\, Hedensted\, 8722
CATEGORIES:Koncert,Fællessang
END:VEVENT
BEGIN:VEVENT
DTSTART;TZID=Europe/Copenhagen:20211103T190000
DTEND;TZID=Europe/Copenhagen:20211103T220000
DTSTAMP:20260423T221637
CREATED:20211018T090522Z
LAST-MODIFIED:20211018T090829Z
UID:29364-1635966000-1635976800@spildansk.dk
SUMMARY:Spil Dansk Dag Med Bent & Kathrine Junker
DESCRIPTION:Kom Til Spil Dansk Dag i Roberthus i Egtved. \nONSDAG DEN 3-11-2021 \nKulturelt Samvirke i Gl. Egtved Kommune Arrangere Spil Dansk Dag med Bent & Kathrine Junker. \nKom og syng med på en masse dejlige danske sange som man kender. \nog i pausen er der en lille forfriskning. \nGRATIS ADGANG \n  \n  \n  \n 
URL:https://spildansk.dk/kalender/spil-dansk-dag-med-bent-kathrine-junker/
LOCATION:Roberthus i Egtved\, Tybovej 2\, Egtved\, 6040\, Danmark
ATTACH;FMTTYPE=image/jpeg:https://spildansk.dk/wp-content/uploads/2021/10/Bent_og_Kathrine_Junker.jpg
END:VEVENT
BEGIN:VEVENT
DTSTART;TZID=Europe/Copenhagen:20211103T190000
DTEND;TZID=Europe/Copenhagen:20211103T210000
DTSTAMP:20260423T221637
CREATED:20211026T085818Z
LAST-MODIFIED:20211026T085818Z
UID:29562-1635966000-1635973200@spildansk.dk
SUMMARY:Syng Dansk Aften
DESCRIPTION:I Søborg Kirke fejre vi SPIL DANSK med Syng Dansk.\nVi finder højskolesangbogen frem og synger sammen\, af lyst\, til glæde.\nKirkens voksenkor synger for\, og byder på indslag undervejs. \nVi byder på en kop kaffe til at smøre stemmebåndet.
URL:https://spildansk.dk/kalender/syng-dansk-aften-10/
LOCATION:Søborg Kirke Gladsaxe\, Frødings Allé 2\, Søborg\, 2860\, Danmark
CATEGORIES:Fællessang,Kor,Viser
ATTACH;FMTTYPE=image/jpeg:https://spildansk.dk/wp-content/uploads/2021/10/sangaften-scaled.jpg
ORGANIZER;CN="S%C3%B8borg Kirke Gladsaxe":MAILTO:soeborggaard.sogn@km.dk
END:VEVENT
BEGIN:VEVENT
DTSTART;TZID=Europe/Copenhagen:20211103T190000
DTEND;TZID=Europe/Copenhagen:20211103T210000
DTSTAMP:20260423T221637
CREATED:20211007T124456Z
LAST-MODIFIED:20211007T124456Z
UID:28781-1635966000-1635973200@spildansk.dk
SUMMARY:Musiklytteklub på Næstved Bibliotek
DESCRIPTION:Musiklytteklubben er et initiativ drevet af frivillige\, og de inviterer alle\, som har lyst til at lytte og snakke om musik\, til at melde sig under fanerne. \nMød op med dine danske yndlingsalbums på enten vinyl eller CD og snak med de andre deltagere i lytteklubben om\, hvorfor du godt kan lide lige netop den musik. \nDeltagelse er gratis\, men der ønskes forudgående tilmelding på mail til Richard Hansen på riccie41@yahoo.dk.
URL:https://spildansk.dk/kalender/musiklytteklub-paa-naestved-bibliotek/
LOCATION:Næstved Bibliotek\, Kvægtorvet 4-6\, Næstved\, 4700\, Danmark
CATEGORIES:Workshop
ATTACH;FMTTYPE=image/jpeg:https://spildansk.dk/wp-content/uploads/2021/10/Pladespiller-lytteklub-scaled.jpg
END:VEVENT
BEGIN:VEVENT
DTSTART;TZID=Europe/Copenhagen:20211103T190000
DTEND;TZID=Europe/Copenhagen:20211103T203000
DTSTAMP:20260423T221637
CREATED:20211016T152701Z
LAST-MODIFIED:20211016T152701Z
UID:29340-1635966000-1635971400@spildansk.dk
SUMMARY:Højskolesangbogen A-Å
DESCRIPTION:Det er tilfældigt\, at en af de sidste etaper på en lang rejse gennem Højskolesangbogen lige rammer ned i SpilDanskUgen. Men hvorfor ikke? I fire år har fællessangen banet sig vej frem gennem ‘den gamle’ højskolesangbog – og til maj 2022 er vi fremme og kan begynde at synge efter den nye! Corona spændte lige ben undervejs og forsinkede projektet. Til hver aften er der valgt 15 sange og vi er mellem 60 og 90\, som synger med\, muntert guidet af organist Henrik Bjørnum og tidl. kirketjener Johannes Andreassen i Jakobskirken. \n 
URL:https://spildansk.dk/kalender/hoejskolesangbogen-a-aa-2/
LOCATION:Jakobskirken\, Astersvej 11\, Roskilde\, 4000\, Danmark
CATEGORIES:Fællessang
ATTACH;FMTTYPE=image/jpeg:https://spildansk.dk/wp-content/uploads/2021/10/20190904_HoejskolesangbogenAAA_sang_DortheNielsen-scaled.jpg
ORGANIZER;CN="Jakobskirken":MAILTO:info@jakobskirken.dk
END:VEVENT
BEGIN:VEVENT
DTSTART;TZID=Europe/Copenhagen:20211103T190000
DTEND;TZID=Europe/Copenhagen:20211103T200000
DTSTAMP:20260423T221637
CREATED:20211013T071836Z
LAST-MODIFIED:20211013T071836Z
UID:29095-1635966000-1635969600@spildansk.dk
SUMMARY:Musikskolens spil dansk cafékoncert i Mogenstrup
DESCRIPTION:Igen i år byder musikskolen indenfor til spil dansk fejring. Eleverne underholder med dansk musik og sang\, og selvfølgelig skal vi også synge sammen.
URL:https://spildansk.dk/kalender/musikskolens-spil-dansk-cafekoncert-i-mogenstrup/
LOCATION:Fladsåskolen afd. Mogenstrup\, Mogenstrup Parkvej 10A\, Næstved\, 4700
CATEGORIES:Koncert,Fællessang
ATTACH;FMTTYPE=image/jpeg:https://spildansk.dk/wp-content/uploads/2021/10/Foto-fra-cafekoncert.jpg
ORGANIZER;CN="N%C3%A6stved Musikskole":MAILTO:musikskolen@naestved.dk
END:VEVENT
BEGIN:VEVENT
DTSTART;TZID=Europe/Copenhagen:20211103T190000
DTEND;TZID=Europe/Copenhagen:20211103T200000
DTSTAMP:20260423T221637
CREATED:20211011T141635Z
LAST-MODIFIED:20211011T141635Z
UID:28938-1635966000-1635969600@spildansk.dk
SUMMARY:Peter Vesth og Kristian Rusbjerg
DESCRIPTION:Intim-koncert med Peter Vesth og Kristian Rusbjerg i Holeby Medborgerhus. Dørene åbnes kl. 18. Billetter som koster kr. 25\,- inkl. 1 øl\, vand eller 1 glas vin købes i Dagli’brugsen og Coma eller på mobilepay 27435 – husk “Spil Dansk” i kommentarfeltet.
URL:https://spildansk.dk/kalender/peter-vesth-og-kristian-rusbjerg/
LOCATION:Holeby Medborgerhus\, Maribovej 1\, Holeby\, 4960
CATEGORIES:Koncert
END:VEVENT
BEGIN:VEVENT
DTSTART;TZID=Europe/Copenhagen:20211103T180000
DTEND;TZID=Europe/Copenhagen:20211103T193000
DTSTAMP:20260423T221637
CREATED:20211018T112302Z
LAST-MODIFIED:20211018T112302Z
UID:29379-1635962400-1635967800@spildansk.dk
SUMMARY:Jazz at the Museum med Mikkel Ploug - Balcony Lullabies
DESCRIPTION:“Mesterguitarist fortolker sangskatten\, så tåren triller”. 5 hjerter – Politiken \nDen internationalt anderkendte danske guitarist Mikkel Ploug spillede under\nDanmarks nedlukning 28 aftener i træk fra sin altan for naboer og onlinepublikum fra hele\nverden. Aftensangene blev set over 35.000 gange\, og Mikkel crowdfundede penge til at skabe\nsologuitaralbummet Balcony Lullabies\, der kom på TOP 40 over bedst solgte vinyler i\nDanmark. Albummet blev udvalgt af avisen Morningstar i England til “Best Jazz Album of\n2020” og fik anbefaling fra Rolling Stone Magazine. Historien blev bragt i et af USA’s største guitarmagaziner Fretboard Journal og blev dækket af både DR og TV2\, hvor Mikkel optrådte live i programmet “Det blir bedre igen”. Repertoiret tæller danske sange som Solen er så rød\, mor\, Vårvise samt danske sommersange som Du danske sommer jeg elsker dig og klassikere som Somewhere Over The Rainbow\, spillet i nye forunderlige sologuitararrangementer\, der har begejstret den internationale anmelderskare. \nMikkel Ploug har med turnéer i over 24 lande\, 14 udgivelser på velrenommerede\ninternationale pladeselskaber og over 2 millioner streams på Spotify slået sig fast på den\ninternationale jazzscene. Mikkel’s album “Faroe” blev udtaget til første runde af de\namerikanske Grammy Awards i kategorien “Best Instrumental Jazz Album” i 2018.\nHans virke spænder vidt fra solist med Den Kongelige Ballet og med DR Big Band og samarbejder med en række store musikere i ind- og udland\, blandt andre den\namerikanske saxofonist Mark Turner og den tysk-amerikanske koreograf og danser Tilman\nO’Donnell. \nBilletter: ssf-billetten.de\, +49 461 14408 125\, SSFs sekretariater\, Aktivitetshuset\, sh:z Ticketcenter\, Nikolaistr. 7 FL\, Reisebüro Peelwatt\, Marie-Curie-Ring 39 FL\, www.eventim.de\, www.ticketmaster.de og ved indgangen
URL:https://spildansk.dk/kalender/jazz-at-the-museum-med-mikkel-ploug-balcony-lullabies/
LOCATION:Industrimuseum Kobbermølle\, Messinghof 3\, Harrislee\, 24955\, Germany
CATEGORIES:Jazz
ATTACH;FMTTYPE=image/png:https://spildansk.dk/wp-content/uploads/2021/10/jazz-at-the-museum_468x260px.png
END:VEVENT
BEGIN:VEVENT
DTSTART;TZID=Europe/Copenhagen:20211103T170000
DTEND;TZID=Europe/Copenhagen:20211103T173000
DTSTAMP:20260423T221637
CREATED:20211016T184104Z
LAST-MODIFIED:20211016T184104Z
UID:29347-1635958800-1635960600@spildansk.dk
SUMMARY:Aftensang i Sankt Jørgensbjerg Kirke
DESCRIPTION:Lad dagen gå til hvile med blide toner i kirkens himmelrum.
URL:https://spildansk.dk/kalender/aftensang-i-sankt-joergensbjerg-kirke/
LOCATION:Sankt Jørgensbjerg Kirke\, Kirkegade 26\, 4000\, Roskilde
CATEGORIES:Fællessang
ATTACH;FMTTYPE=image/jpeg:https://spildansk.dk/wp-content/uploads/2021/10/kirkenindeni.jpg
END:VEVENT
BEGIN:VEVENT
DTSTART;TZID=Europe/Copenhagen:20211103T163000
DTEND;TZID=Europe/Copenhagen:20211103T173000
DTSTAMP:20260423T221637
CREATED:20211029T095811Z
LAST-MODIFIED:20211029T095811Z
UID:30124-1635957000-1635960600@spildansk.dk
SUMMARY:Klaverkoncerter på Plejecenter Egeparken
DESCRIPTION:Klavermusikken rykker ind på Plejecenter Egeparken til glæde for plejecentrets borgere i anledning af SpilDansk. Egedal Musik- og Kulturskole afholder koncerten\, der byder på klavermusik i mange afskygninger under ledelse af klaverlærerne Anna Tomczak og Anders Monrad.
URL:https://spildansk.dk/kalender/klaverkoncerter-paa-plejecenter-egeparken/
LOCATION:Plejecenter Egeparken\, Rådhusstrædet 4\, Ølstykke\, 3650
CATEGORIES:Koncert
ATTACH;FMTTYPE=image/jpeg:https://spildansk.dk/wp-content/uploads/2021/10/piano.jpg
ORGANIZER;CN="Egedal Musik- og Kulturskole":MAILTO:musikogkulturskolen@egekom.dk
END:VEVENT
END:VCALENDAR