BEGIN:VCALENDAR
VERSION:2.0
PRODID:-//Spil Dansk - ECPv6.5.0//NONSGML v1.0//EN
CALSCALE:GREGORIAN
METHOD:PUBLISH
X-WR-CALNAME:Spil Dansk
X-ORIGINAL-URL:https://spildansk.dk
X-WR-CALDESC:Events for Spil Dansk
REFRESH-INTERVAL;VALUE=DURATION:PT1H
X-Robots-Tag:noindex
X-PUBLISHED-TTL:PT1H
BEGIN:VTIMEZONE
TZID:Europe/Copenhagen
BEGIN:DAYLIGHT
TZOFFSETFROM:+0100
TZOFFSETTO:+0200
TZNAME:CEST
DTSTART:20210328T010000
END:DAYLIGHT
BEGIN:STANDARD
TZOFFSETFROM:+0200
TZOFFSETTO:+0100
TZNAME:CET
DTSTART:20211031T010000
END:STANDARD
END:VTIMEZONE
BEGIN:VEVENT
DTSTART;TZID=Europe/Copenhagen:20211104T110000
DTEND;TZID=Europe/Copenhagen:20211104T120000
DTSTAMP:20260422T133509
CREATED:20210928T092723Z
LAST-MODIFIED:20210928T092723Z
UID:28475-1636023600-1636027200@spildansk.dk
SUMMARY:Koncert med Søren Westerholm på dagcenter Søkilden
DESCRIPTION:Søren Westerholm giver koncert  torsdag den 4. november kl. 11-12 på Dagcenter Søkilden \, Sygehusvejen 22 \, 5970 Ærøskøbing.
URL:https://spildansk.dk/kalender/koncert-med-soeren-westerholm-paa-dagcenter-soekilden/
LOCATION:Demenscentret Søkilden\, Sygehusvejen 22\, Ærøskøbing\, 5970\, Danmark
CATEGORIES:Koncert
ORGANIZER;CN="%C3%86r%C3%B8 Folkebibliotek":MAILTO:marstal@arrebib.dk
END:VEVENT
BEGIN:VEVENT
DTSTART;TZID=Europe/Copenhagen:20211104T110000
DTEND;TZID=Europe/Copenhagen:20211104T113000
DTSTAMP:20260422T133509
CREATED:20210922T114819Z
LAST-MODIFIED:20210922T114819Z
UID:28421-1636023600-1636025400@spildansk.dk
SUMMARY:Fællessang på Sejergaardsskolen
DESCRIPTION:Sejergaardsskolens musikelevråd har udvalgt 10 danskproducerede sange til dette års Spil Dansk-fællessang\, der bliver akkompagneret af et veloplagt lærerband.
URL:https://spildansk.dk/kalender/faellessang-paa-sejergaardsskolen-5/
LOCATION:Sejergårdsskolen\, Tølløse\, Holbæk\, Danmark
CATEGORIES:Fællessang
ATTACH;FMTTYPE=image/jpeg:https://spildansk.dk/wp-content/uploads/2021/09/Spil-dansk.jpg
ORGANIZER;CN="Sejergaardsskolens Privatskole":MAILTO:ho@sejergaardsskolen.dk
END:VEVENT
BEGIN:VEVENT
DTSTART;TZID=Europe/Copenhagen:20211104T104500
DTEND;TZID=Europe/Copenhagen:20211104T104500
DTSTAMP:20260422T133509
CREATED:20211027T090428Z
LAST-MODIFIED:20211027T090428Z
UID:29856-1636022700-1636022700@spildansk.dk
SUMMARY:Mads Vinding & Øyvind Ougaard - Mads Vinding & Øyvind Ougaard
DESCRIPTION:
URL:https://spildansk.dk/kalender/mads-vinding-oeyvind-ougaard-mads-vinding-oeyvind-ougaard-9/
LOCATION:Møn Skole afd. Stege\, Stege\, Vordingborg\, Danmark
END:VEVENT
BEGIN:VEVENT
DTSTART;TZID=Europe/Copenhagen:20211104T104000
DTEND;TZID=Europe/Copenhagen:20211104T104000
DTSTAMP:20260422T133509
CREATED:20211027T090426Z
LAST-MODIFIED:20211027T090426Z
UID:29855-1636022400-1636022400@spildansk.dk
SUMMARY:Baby Did a Bad Thing - Baby Did a Bad Thing
DESCRIPTION:
URL:https://spildansk.dk/kalender/baby-did-a-bad-thing-baby-did-a-bad-thing-9/
LOCATION:Nordre Skole\, Viborg\, Viborg\, Danmark
END:VEVENT
BEGIN:VEVENT
DTSTART;TZID=Europe/Copenhagen:20211104T103000
DTEND;TZID=Europe/Copenhagen:20211104T111500
DTSTAMP:20260422T133509
CREATED:20211001T155442Z
LAST-MODIFIED:20211001T155442Z
UID:28637-1636021800-1636024500@spildansk.dk
SUMMARY:Spil Dansk Fællessang
DESCRIPTION:Deltag sammen med resten af landet i fejringen af dansk musik og sang på den årlige Spil Dansk Dag. Vi synger sammen i den hyggelige café i Farum Kulturhus og synger både velkendte og nye sange. Mød bare op med din helt personlige sangstemme og kast dig ud i sangen sammen med de andre sangglade. Det er lysten og samværet\, der tæller\, og vi håber\, at vi igen i dette efterår kan synge fællessang SAMMEN og ikke hver for sig. \nSanglærer Marianne C. Eriksen fra Furesø Musikskole styrer friskt og inspirerende fællessangen.
URL:https://spildansk.dk/kalender/spil-dansk-faellessang-7/
LOCATION:Farum Kulturhus\, Stavnsholtvej 3\, Farum\, 3520
CATEGORIES:Fællessang
END:VEVENT
BEGIN:VEVENT
DTSTART;TZID=Europe/Copenhagen:20211104T103000
DTEND;TZID=Europe/Copenhagen:20211104T111000
DTSTAMP:20260422T133509
CREATED:20211102T193108Z
LAST-MODIFIED:20211102T195005Z
UID:30215-1636021800-1636024200@spildansk.dk
SUMMARY:Tikke Takke: Gakkede sange fra verdenshavet på Den Blå Planet
DESCRIPTION:Børn og voksne inviteres ud på et ocean af sprudlende vilde fortællinger om havets forunderlige dyr. \nTikke Takkes ”gakke sange fra verdenshavet” er kommet til verden i dialog med hundredvis af Amagerbørn. Børnekulturhus Ama’r lagde i en periode hus til Tikke Takkes workshops i historiefortælling og sangskrivning for de omkringliggende skoler og institutioner. \nEfterfølgende har Andreas og Hans arbejdet videre med børnenes skæve ideer\, og det er blevet til ti skøre sange\, der alle har havet og de fantastiske dyr\, der lever der som bærende tema. \nDet er derfor en stor fornøjelse at give musikken tilbage til børnene på Amager. \nTikke Takke er opstået som et samarbejde mellem musiker/komponist Andreas Ugorskij og historiefortæller Hans Laurens\, der begge har mange års erfaring med formidling af musik til børn. Bandet er et hold bestående af de sejeste professionelle musikere inden for jazz\, world og pop. \nForlaget Dansk Sang har udgivet Tikke Takkes sanghæfte Gakkede sange fra Verdenshavet\, der består af ti skøre sange. Hæfte og album udkom i 2018. Målgruppen er børn fra 3-9 år og deres forældre/voksne. \nKoncerten er finansieret af Koda.
URL:https://spildansk.dk/kalender/tikke-takke-gakkede-sange-fra-verdenshavet-paa-den-blaa-planet-2/
LOCATION:den blå planet\, Jacob Fortlingsvej 1\, Kastrup\, 2770
CATEGORIES:Musik til børn
ATTACH;FMTTYPE=image/png:https://spildansk.dk/wp-content/uploads/2021/11/Tikke-Takke-logo-1.png
END:VEVENT
BEGIN:VEVENT
DTSTART;TZID=Europe/Copenhagen:20211104T103000
DTEND;TZID=Europe/Copenhagen:20211104T103000
DTSTAMP:20260422T133509
CREATED:20211027T090425Z
LAST-MODIFIED:20211027T090425Z
UID:29854-1636021800-1636021800@spildansk.dk
SUMMARY:Andreas Tophøj & Rune Barslund - Trails & Traces
DESCRIPTION:
URL:https://spildansk.dk/kalender/andreas-tophoej-rune-barslund-trails-traces-4/
LOCATION:Skærbæk Distriktsskole\, Skærbæk\, Sdr J\, Tønder\, Danmark
END:VEVENT
BEGIN:VEVENT
DTSTART;TZID=Europe/Copenhagen:20211104T102500
DTEND;TZID=Europe/Copenhagen:20211104T102500
DTSTAMP:20260422T133509
CREATED:20211027T090423Z
LAST-MODIFIED:20211027T090423Z
UID:29853-1636021500-1636021500@spildansk.dk
SUMMARY:Lund/Jakobsen - Lund/Jakobsen
DESCRIPTION:
URL:https://spildansk.dk/kalender/lund-jakobsen-lund-jakobsen-4/
LOCATION:Hovedgård Skole\, Hovedgård\, Horsens\, Danmark
END:VEVENT
BEGIN:VEVENT
DTSTART;TZID=Europe/Copenhagen:20211104T102000
DTEND;TZID=Europe/Copenhagen:20211104T102000
DTSTAMP:20260422T133509
CREATED:20211027T090422Z
LAST-MODIFIED:20211027T090422Z
UID:29852-1636021200-1636021200@spildansk.dk
SUMMARY:Bragr - Et BRAGR af en koncert!
DESCRIPTION:
URL:https://spildansk.dk/kalender/bragr-et-bragr-af-en-koncert-7/
LOCATION:Tønder Grundskole\, Tønder\, Tønder\, Danmark
END:VEVENT
BEGIN:VEVENT
DTSTART;TZID=Europe/Copenhagen:20211104T101500
DTEND;TZID=Europe/Copenhagen:20211104T101500
DTSTAMP:20260422T133509
CREATED:20211027T090419Z
LAST-MODIFIED:20211027T090419Z
UID:29851-1636020900-1636020900@spildansk.dk
SUMMARY:Ayoe Angelica - ARV
DESCRIPTION:
URL:https://spildansk.dk/kalender/ayoe-angelica-arv-8/
LOCATION:Gråsten Skole\, Gråsten\, Sønderborg\, Danmark
END:VEVENT
BEGIN:VEVENT
DTSTART;TZID=Europe/Copenhagen:20211104T100500
DTEND;TZID=Europe/Copenhagen:20211104T100500
DTSTAMP:20260422T133509
CREATED:20211027T090418Z
LAST-MODIFIED:20211027T090418Z
UID:29850-1636020300-1636020300@spildansk.dk
SUMMARY:Ensemble Eiradís - KLASSISK
DESCRIPTION:
URL:https://spildansk.dk/kalender/ensemble-eiradis-klassisk-9/
LOCATION:Skødstrup Skole\, Skødstrup\, Aarhus\, Danmark
END:VEVENT
BEGIN:VEVENT
DTSTART;TZID=Europe/Copenhagen:20211104T100000
DTEND;TZID=Europe/Copenhagen:20211104T113000
DTSTAMP:20260422T133509
CREATED:20211012T070839Z
LAST-MODIFIED:20211012T070839Z
UID:28961-1636020000-1636025400@spildansk.dk
SUMMARY:SPIL DANSK 2021 PÅ RANDERS HF
DESCRIPTION:Skolens musikhold spiller i festsalen og der bliver sunget fællessange
URL:https://spildansk.dk/kalender/spil-dansk-2021-paa-randers-hf/
LOCATION:Randers HF og VUC\, Nålemagervej 110\, Randers NV\, 8920
CATEGORIES:Koncert,Fællessang
END:VEVENT
BEGIN:VEVENT
DTSTART;TZID=Europe/Copenhagen:20211104T100000
DTEND;TZID=Europe/Copenhagen:20211104T110000
DTSTAMP:20260422T133509
CREATED:20211018T112900Z
LAST-MODIFIED:20211018T112900Z
UID:29383-1636020000-1636023600@spildansk.dk
SUMMARY:Fællessang på torvet i Harreslev med alle danske institutioner og foreninger
DESCRIPTION:Kom og vær med til at synge på torvet i Harreslev den 4. november 2021\, når det hedder SPIL DANSK 2021!
URL:https://spildansk.dk/kalender/faellessang-paa-torvet-i-harreslev-med-alle-danske-institutioner-og-foreninger/
LOCATION:Torvet\, Harreslev\, Harrislee\, 24955\, Germany
END:VEVENT
BEGIN:VEVENT
DTSTART;TZID=Europe/Copenhagen:20211104T100000
DTEND;TZID=Europe/Copenhagen:20211104T110000
DTSTAMP:20260422T133509
CREATED:20211013T134944Z
LAST-MODIFIED:20211013T135146Z
UID:29207-1636020000-1636023600@spildansk.dk
SUMMARY:Fællessang i Kolind+ for folkeskolerne i Syddjurs
DESCRIPTION:D. 4. nov. 2021 inviteres sangglade skoleelever i Syddjurs til at være med til at synge en masse sange i fællesskab i Kolind+ sammen med de dygtige musikere: Vibe\, Andreas\, Susanne og Rebecca fra Kulturskolen Syddjurs\, der sørger for både klaver\, fløjte\, tromme og vokal til at akkompagnere de mange stemmer.
URL:https://spildansk.dk/kalender/faellessang-i-kolind-for-folkeskolerne-i-syddjurs/
LOCATION:Kolind+\, Bugtrupvej 33\, Kolind\, 8560\, Danmark
CATEGORIES:Fællessang
ATTACH;FMTTYPE=image/png:https://spildansk.dk/wp-content/uploads/2021/10/Udklip.png
ORGANIZER;CN="Kulturafdelingen%2C Syddjurs Kommune":MAILTO:ligl@syddjurs.dk
END:VEVENT
BEGIN:VEVENT
DTSTART;TZID=Europe/Copenhagen:20211104T100000
DTEND;TZID=Europe/Copenhagen:20211104T110000
DTSTAMP:20260422T133509
CREATED:20211011T143029Z
LAST-MODIFIED:20211011T143029Z
UID:28942-1636020000-1636023600@spildansk.dk
SUMMARY:Fællessang på Torvet
DESCRIPTION:Vi mødes for at synge fællessange på markedspladsen i Harrislee fra kl. 10.00 – kl. 11.00
URL:https://spildansk.dk/kalender/faellessang-paa-torvet/
LOCATION:Harreslev Danske Skole\, Süderstr. 90\, Harrislee\, D-24955\, Danmark
CATEGORIES:Fællessang
ORGANIZER;CN="SSFHarreslev Distrikt":MAILTO:kirsten@kanan.dk
END:VEVENT
BEGIN:VEVENT
DTSTART;TZID=Europe/Copenhagen:20211104T100000
DTEND;TZID=Europe/Copenhagen:20211104T100000
DTSTAMP:20260422T133509
CREATED:20211027T090417Z
LAST-MODIFIED:20211027T090417Z
UID:29849-1636020000-1636020000@spildansk.dk
SUMMARY:Jacob D solo/Maskinpark - Jacob D solo/Maskinpark
DESCRIPTION:
URL:https://spildansk.dk/kalender/jacob-d-solo-maskinpark-jacob-d-solo-maskinpark-7/
LOCATION:Søndre Skole\, Viborg\, Viborg\, Danmark
END:VEVENT
BEGIN:VEVENT
DTSTART;TZID=Europe/Copenhagen:20211104T100000
DTEND;TZID=Europe/Copenhagen:20211104T100000
DTSTAMP:20260422T133509
CREATED:20211027T090415Z
LAST-MODIFIED:20211027T090415Z
UID:29848-1636020000-1636020000@spildansk.dk
SUMMARY:HP Lange & Jarno Varsted - Roden til alt godt
DESCRIPTION:
URL:https://spildansk.dk/kalender/hp-lange-jarno-varsted-roden-til-alt-godt-7/
LOCATION:Hadsund Skole\, Hadsund\, Mariagerfjord\, Danmark
END:VEVENT
BEGIN:VEVENT
DTSTART;TZID=Europe/Copenhagen:20211104T093000
DTEND;TZID=Europe/Copenhagen:20211104T213000
DTSTAMP:20260422T133509
CREATED:20210926T102143Z
LAST-MODIFIED:20210926T102143Z
UID:28458-1636018200-1636061400@spildansk.dk
SUMMARY:Spil dansk i kirke og lade
DESCRIPTION:Kl. 9.30: Morgensang i Fuglebjerg Kirke med Birgitte Johannesen (præst) og Anders Juhl (organist) \nKl. 10.00: Morgenkaffe og fællessang i Kulturladen\, Korsørvej 2\, 4250 Fuglebjerg \nKl. 19.30: Koncert i Fuglebjerg Kirke med guitarist Søren Bødker Madsen
URL:https://spildansk.dk/kalender/spil-dansk-i-kirke-og-lade/
LOCATION:Kulturladen Fuglebjerg\, Korsørvej 2\, Fuglebjerg\, 4250
CATEGORIES:Koncert,Fællessang
ATTACH;FMTTYPE=image/jpeg:https://spildansk.dk/wp-content/uploads/2021/09/soren-madsen-2400pix-kopi-e1491556344610.jpg
END:VEVENT
BEGIN:VEVENT
DTSTART;TZID=Europe/Copenhagen:20211104T093000
DTEND;TZID=Europe/Copenhagen:20211104T113000
DTSTAMP:20260422T133509
CREATED:20210913T080308Z
LAST-MODIFIED:20210913T080308Z
UID:28294-1636018200-1636025400@spildansk.dk
SUMMARY:Spil Dansk - Syng\, Spis og Snak
DESCRIPTION:Kom og syng danske sange sammen med vores elever. Vær med i hyggeligt samvær med kaffebord og tid til en god snak.
URL:https://spildansk.dk/kalender/spil-dansk-syng-spis-og-snak/
LOCATION:Boddum-Ydby Friskole og Børnehus\, Ydbyvej 193\, Ydby v/Hurup Thy\, 7760\, Danmark
CATEGORIES:Fællessang
ATTACH;FMTTYPE=image/jpeg:https://spildansk.dk/wp-content/uploads/2021/09/Nyt-logo-1.jpg
ORGANIZER;CN="Boddum-Ydby Friskole og B%C3%B8rnehus":MAILTO:skolen@boddum-ydby-friskole.dk
END:VEVENT
BEGIN:VEVENT
DTSTART;TZID=Europe/Copenhagen:20211104T093000
DTEND;TZID=Europe/Copenhagen:20211104T093000
DTSTAMP:20260422T133509
CREATED:20211027T090414Z
LAST-MODIFIED:20211027T090414Z
UID:29847-1636018200-1636018200@spildansk.dk
SUMMARY:Andreas Tophøj & Rune Barslund - Trails & Traces
DESCRIPTION:
URL:https://spildansk.dk/kalender/andreas-tophoej-rune-barslund-trails-traces-3/
LOCATION:Skærbæk Distriktsskole\, Skærbæk\, Sdr J\, Tønder\, Danmark
END:VEVENT
BEGIN:VEVENT
DTSTART;TZID=Europe/Copenhagen:20211104T091500
DTEND;TZID=Europe/Copenhagen:20211104T091500
DTSTAMP:20260422T133509
CREATED:20211027T090411Z
LAST-MODIFIED:20211027T090411Z
UID:29846-1636017300-1636017300@spildansk.dk
SUMMARY:Bragr - Et BRAGR af en koncert!
DESCRIPTION:
URL:https://spildansk.dk/kalender/bragr-et-bragr-af-en-koncert-6/
LOCATION:Tønder Grundskole\, Tønder\, Tønder\, Danmark
END:VEVENT
BEGIN:VEVENT
DTSTART;TZID=Europe/Copenhagen:20211104T091500
DTEND;TZID=Europe/Copenhagen:20211104T091500
DTSTAMP:20260422T133509
CREATED:20211027T090409Z
LAST-MODIFIED:20211027T090409Z
UID:29845-1636017300-1636017300@spildansk.dk
SUMMARY:Defecto - Duality
DESCRIPTION:
URL:https://spildansk.dk/kalender/defecto-duality-8/
LOCATION:Rask Mølle skole\, Rask Mølle\, Hedensted\, Danmark
END:VEVENT
BEGIN:VEVENT
DTSTART;TZID=Europe/Copenhagen:20211104T091000
DTEND;TZID=Europe/Copenhagen:20211104T091000
DTSTAMP:20260422T133509
CREATED:20211027T090408Z
LAST-MODIFIED:20211027T090408Z
UID:29844-1636017000-1636017000@spildansk.dk
SUMMARY:Lund/Jakobsen - Lund/Jakobsen
DESCRIPTION:
URL:https://spildansk.dk/kalender/lund-jakobsen-lund-jakobsen-3/
LOCATION:Hovedgård Skole\, Hovedgård\, Horsens\, Danmark
END:VEVENT
BEGIN:VEVENT
DTSTART;TZID=Europe/Copenhagen:20211104T090000
DTEND;TZID=Europe/Copenhagen:20211104T090000
DTSTAMP:20260422T133509
CREATED:20211027T090406Z
LAST-MODIFIED:20211027T090406Z
UID:29843-1636016400-1636016400@spildansk.dk
SUMMARY:Moussa Diallo Trio - Cirkeline og Coco rejser til Afrika
DESCRIPTION:
URL:https://spildansk.dk/kalender/moussa-diallo-trio-cirkeline-og-coco-rejser-til-afrika-6/
LOCATION:Skolen ved Skoven (Specialskole)\, Hillerød\, Hillerød\, Danmark
END:VEVENT
BEGIN:VEVENT
DTSTART;TZID=Europe/Copenhagen:20211104T090000
DTEND;TZID=Europe/Copenhagen:20211104T090000
DTSTAMP:20260422T133509
CREATED:20211027T090405Z
LAST-MODIFIED:20211027T090405Z
UID:29842-1636016400-1636016400@spildansk.dk
SUMMARY:APHYXION - Heavy metal i hovedhøjde
DESCRIPTION:
URL:https://spildansk.dk/kalender/aphyxion-heavy-metal-i-hovedhoejde-7/
LOCATION:Skivehus Skole\, Skive\, Skive\, Danmark
END:VEVENT
BEGIN:VEVENT
DTSTART;TZID=Europe/Copenhagen:20211104T085500
DTEND;TZID=Europe/Copenhagen:20211104T085500
DTSTAMP:20260422T133509
CREATED:20211027T090403Z
LAST-MODIFIED:20211027T090403Z
UID:29841-1636016100-1636016100@spildansk.dk
SUMMARY:Asbjørn - BOYISH
DESCRIPTION:
URL:https://spildansk.dk/kalender/asbjoern-boyish-8/
LOCATION:The International School Of Billund\, Billund\, Billund\, Danmark
END:VEVENT
BEGIN:VEVENT
DTSTART;TZID=Europe/Copenhagen:20211104T084500
DTEND;TZID=Europe/Copenhagen:20211104T084500
DTSTAMP:20260422T133509
CREATED:20211027T090401Z
LAST-MODIFIED:20211027T090401Z
UID:29840-1636015500-1636015500@spildansk.dk
SUMMARY:Ensemble Eiradís - KLASSISK
DESCRIPTION:
URL:https://spildansk.dk/kalender/ensemble-eiradis-klassisk-8/
LOCATION:Skødstrup Skole\, Skødstrup\, Aarhus\, Danmark
END:VEVENT
BEGIN:VEVENT
DTSTART;TZID=Europe/Copenhagen:20211104T084500
DTEND;TZID=Europe/Copenhagen:20211104T084500
DTSTAMP:20260422T133509
CREATED:20211027T090400Z
LAST-MODIFIED:20211027T090400Z
UID:29839-1636015500-1636015500@spildansk.dk
SUMMARY:Mads Vinding & Øyvind Ougaard - Mads Vinding & Øyvind Ougaard
DESCRIPTION:
URL:https://spildansk.dk/kalender/mads-vinding-oeyvind-ougaard-mads-vinding-oeyvind-ougaard-8/
LOCATION:Kalvehave Skole og Børnehus (Specialskole)\, Kalvehave\, Vordingborg\, Danmark
END:VEVENT
BEGIN:VEVENT
DTSTART;TZID=Europe/Copenhagen:20211104T083000
DTEND;TZID=Europe/Copenhagen:20211104T083000
DTSTAMP:20260422T133509
CREATED:20211027T090358Z
LAST-MODIFIED:20211027T090358Z
UID:29838-1636014600-1636014600@spildansk.dk
SUMMARY:Mikael K - Musikalske fortællinger
DESCRIPTION:
URL:https://spildansk.dk/kalender/mikael-k-musikalske-fortaellinger-8/
LOCATION:Vejlefjordskolen\, Daugård\, Hedensted\, Danmark
END:VEVENT
BEGIN:VEVENT
DTSTART;TZID=Europe/Copenhagen:20211104T080000
DTEND;TZID=Europe/Copenhagen:20211104T120000
DTSTAMP:20260422T133509
CREATED:20211006T085749Z
LAST-MODIFIED:20211006T085749Z
UID:28728-1636012800-1636027200@spildansk.dk
SUMMARY:Spil Dansk på Mou Skole
DESCRIPTION:Igen i år vil vi skabe en fantastisk stemning i den store aula\, når skolens elever og personaler bryder ud i sang og spil.
URL:https://spildansk.dk/kalender/spil-dansk-paa-mou-skole-4/
LOCATION:Mou skole\, Ny Høstemarkvej 7\, Storvorde\, 9280
CATEGORIES:Koncert
END:VEVENT
END:VCALENDAR