BEGIN:VCALENDAR
VERSION:2.0
PRODID:-//Spil Dansk - ECPv6.5.0//NONSGML v1.0//EN
CALSCALE:GREGORIAN
METHOD:PUBLISH
X-WR-CALNAME:Spil Dansk
X-ORIGINAL-URL:https://spildansk.dk
X-WR-CALDESC:Events for Spil Dansk
REFRESH-INTERVAL;VALUE=DURATION:PT1H
X-Robots-Tag:noindex
X-PUBLISHED-TTL:PT1H
BEGIN:VTIMEZONE
TZID:Europe/Copenhagen
BEGIN:DAYLIGHT
TZOFFSETFROM:+0100
TZOFFSETTO:+0200
TZNAME:CEST
DTSTART:20180325T010000
END:DAYLIGHT
BEGIN:STANDARD
TZOFFSETFROM:+0200
TZOFFSETTO:+0100
TZNAME:CET
DTSTART:20181028T010000
END:STANDARD
END:VTIMEZONE
BEGIN:VEVENT
DTSTART;TZID=Europe/Copenhagen:20181031T160000
DTEND;TZID=Europe/Copenhagen:20181031T170000
DTSTAMP:20260424T234520
CREATED:20181010T164323Z
LAST-MODIFIED:20181010T164323Z
UID:16562-1541001600-1541005200@spildansk.dk
SUMMARY:Kordag 5. klasserne
DESCRIPTION:  \nHolstebro Musikskole inviterer igen i år til kordag for alle 5. klasser på folkeskolerne i Holstebro Kommune. \n  \n550 børn og en masse engagerede musiklærere mødes når de\, som en del af Spil Dansk ugen 2018\, giver koncert i Musikteatret i Holstebro onsdag d. 31/10-18 kl. 16. \nDer ligger et stort arbejde bag\, både fra børn\, lærere\, dirigent Peter Koefoed og arrangørerne\, Holstbro Musikskole og Musiklærerrådet\, for at give børnene den bedst mulige oplevelse af at stå på den store scene foran et meget stort publikum og synge de sange\, som de har øvet i fællesskab op til dagen. \n  \nHele dagen bliver brugt på sang\, musik og glæde\, og det hele kulminerer til den store koncert kl. 16. \n  \nKordagen er støttet af Holstebro Kommune \n  \n  \n 
URL:https://spildansk.dk/kalender/kordag-5-klasserne/
LOCATION:Musikteatret Holstebro\, Den Røde Plads 16\, Holstebro\, 7500\, Danmark
CATEGORIES:Kor
ATTACH;FMTTYPE=image/jpeg:https://spildansk.dk/wp-content/uploads/2018/10/Kordag3.jpg
ORGANIZER;CN="Holstebro Musikskole":MAILTO:homus@homus.dk
END:VEVENT
BEGIN:VEVENT
DTSTART;TZID=Europe/Copenhagen:20181031T160000
DTEND;TZID=Europe/Copenhagen:20181031T170000
DTSTAMP:20260424T234520
CREATED:20181009T092513Z
LAST-MODIFIED:20181009T092513Z
UID:16222-1541001600-1541005200@spildansk.dk
SUMMARY:Spil dansk med Linda Andrews på Marstal Bibliotek
DESCRIPTION:Kom og hør Linda Andrews synge på Marstal Bibliotek.\n\n\n\n\n\nIgen i år afholdes der SPIL DANSK i uge 44 og Ærø Folkebiblikotek byder i den forbindelse velkommen til koncert med Linda Andrews. \nDet er ONSDAG 31. OKTOBER KL. 16 på Marstal Bibliotek – indgang fra Prinsensgade 21. \nKom og nyd god musik med en dygtig sangerinde. \nDet er gratis og man møder bare op.
URL:https://spildansk.dk/kalender/spil-dansk-med-linda-andrews-paa-marstal-bibliotek/
LOCATION:Ærø Folkebibliotek\, Marstal afd.\, Prinsensgade 21\, Marstal\, 5960\, Danmark
CATEGORIES:Foredrag,Singer-songwriter
ATTACH;FMTTYPE=image/jpeg:https://spildansk.dk/wp-content/uploads/2018/10/lindaandrews2.jpg
ORGANIZER;CN="%C3%86r%C3%B8 Folkebibliotek":MAILTO:marstal@arrebib.dk
END:VEVENT
BEGIN:VEVENT
DTSTART;TZID=Europe/Copenhagen:20181031T160000
DTEND;TZID=Europe/Copenhagen:20181031T170000
DTSTAMP:20260424T234520
CREATED:20180910T132840Z
LAST-MODIFIED:20180910T132840Z
UID:14808-1541001600-1541005200@spildansk.dk
SUMMARY:'Hjemmekoncert' med Bryan Rice
DESCRIPTION:Ungdomsklubben i Hobro danne ramme om hjemmekoncert med Bryan Rice en helt almindelig onsdag eftermiddag.
URL:https://spildansk.dk/kalender/hjemmekoncert-med-bryan-rice/
LOCATION:Mariagerfjord Ungdomsskole\, Christiansgade 10\, Hobro\, 9500
CATEGORIES:Pop
ATTACH;FMTTYPE=image/png:https://spildansk.dk/wp-content/uploads/2018/09/Billede-05-09-2017-kl.-17.15.png
END:VEVENT
BEGIN:VEVENT
DTSTART;TZID=Europe/Copenhagen:20181031T150000
DTEND;TZID=Europe/Copenhagen:20181031T180000
DTSTAMP:20260424T234520
CREATED:20171024T110653Z
LAST-MODIFIED:20181010T105905Z
UID:9037-1540998000-1541008800@spildansk.dk
SUMMARY:Kaosambassadens studie på tour – Ungemiljø Syd
DESCRIPTION:Har du nogensinde tænkt: ”Jeg kunne godt tænke mig at indspille en sang”\, men samtidig tænkt: ”Nej\, jeg synger ikke godt nok\, og det er sikkert også meget dyrt”\, så er det her\, du skal læse videre: \nI forbindelse med Spil Dansk 2018 tager Kaosambassaden sit mobile studie med til klub- og fritidsmiljøerne på Langå Skole (mandag d. 29. okt.) og på Tirsdalens Skole (onsdag d. 31. okt.).\nHer kan man helt gratis (og med de evner\, man nu har) prøve at indspille/indsynge en sang under kyndig vejledning fra Torben fra Kaosambassaden. Enten til noget musik\, man selv har lavet eller sammen med et nummer fra YouTube. Hvad den færdige indspilning skal bruges til\, bestemmer du selv. \nHar du ikke tid mandag eller onsdag\, kan du besøge studiet på Kaosambassaden i Randers C\, tirsdag og torsdag. \n  \nKaosstudiets samlede turplan: \nKlubmiljø Langå\, Langå skole\, Vennevej 9\, 8870 Langå – mandag d. 29/10 KL. 18.30-21.30 \nKaosambassaden\, Stemannsgade 9D\, 8900 Randers C – Tirsdag d. 30/10 kl. 15-18 \nUngemiljø Syd\, Tirsdalens Skole\, Rasmus Hougårdsvej 50\, 8960 Randers SØ – onsdag d. 31/10 kl. 15-18 \nKaosambassaden\, Stemannsgade 9D\, 8900 Randers C – Torsdag d. 1/11 kl. 15-18
URL:https://spildansk.dk/kalender/kaosambassadens-studie-paa-tour/
LOCATION:Ungemiljø Syd\, Tirsdalens skole\, Randers\, Rasmus Hougårdsvej 50\, Randers SØ\, 8960\, Danmark
CATEGORIES:Workshop
ATTACH;FMTTYPE=image/jpeg:https://spildansk.dk/wp-content/uploads/2017/10/Spildanskmiclogo2.jpg
ORGANIZER;CN="Kaosambassaden%2C Randers Ungdomsskole":MAILTO:torben.mohlenberg@randers.dk
END:VEVENT
BEGIN:VEVENT
DTSTART;TZID=Europe/Copenhagen:20181031T150000
DTEND;TZID=Europe/Copenhagen:20181031T153000
DTSTAMP:20260424T234520
CREATED:20180927T080245Z
LAST-MODIFIED:20180927T080248Z
UID:15721-1540998000-1540999800@spildansk.dk
SUMMARY:Fælles Sang
DESCRIPTION:Vi mødes alle – og synger de danske sange vi har øvet på de forskellige hold. \nDer akkompagneres på guitar
URL:https://spildansk.dk/kalender/faelles-sang-2/
LOCATION:FOF Sprogskole\, Kongensgade 70\, Esbjerg\, 6700
CATEGORIES:Fællessang
END:VEVENT
BEGIN:VEVENT
DTSTART;TZID=Europe/Copenhagen:20181031T143000
DTEND;TZID=Europe/Copenhagen:20181031T170000
DTSTAMP:20260424T234520
CREATED:20181009T115314Z
LAST-MODIFIED:20181009T115314Z
UID:16328-1540996200-1541005200@spildansk.dk
SUMMARY:KONCERT MED SYDDJURS SENIORORKESTER
DESCRIPTION:Rønde og Omegns Pensionistforening afholder en spil-dansk koncert med Syddjurs Seniororkester i KulturHotellets teatersal. Dørene åbnes kl. 14.30\, hvor det vil være muligt at kigge lidt rundt på KulturHotellet.  Kl. 15.00 starter koncerten\, som fortsætter til ca. 16.45 inklusiv en pause\, hvor der vil blive serveret en forfriskning\, samt kaffe\, vin og vand. Alle er velkomne og entreen er 50\,- kr. inklusiv servering i pausen. Betaling foregår ved indgangen.
URL:https://spildansk.dk/kalender/koncert-med-syddjurs-seniororkester/
LOCATION:KulturHotellet i Rønde\, Hovedgaden 10\, Rønde\, 8410
CATEGORIES:Klassisk
ATTACH;FMTTYPE=image/jpeg:https://spildansk.dk/wp-content/uploads/2018/10/download.jpg
END:VEVENT
BEGIN:VEVENT
DTSTART;TZID=Europe/Copenhagen:20181031T141500
DTEND;TZID=Europe/Copenhagen:20181031T153000
DTSTAMP:20260424T234520
CREATED:20180830T095741Z
LAST-MODIFIED:20180830T095741Z
UID:14309-1540995300-1540999800@spildansk.dk
SUMMARY:Artist Talk: Kirsten Astrup
DESCRIPTION:Kirsten Astrup er aktuel på Museet for Samtidskunst med Urolige hjerte – en filmkabaret af Kirsten Astrup. Udstillingen kommer vidt omkring\, men centralt er brugen af musik. Alt fra revymusik til techno og melodigrandprix.  \nAstrup skaber selv musikken til hendes værker. Sammen sin samarbejdspartner Maria Bordorff vil Astrup præsentere uddrag af musikken\, diskutere musikkens rolle i hendes arbejde samt hvordan hun komponerer og spiller musik. \n I tillæg kommer Astrup og Bordorff ind på det omfattende grave-arbejde i den danske musikskat\, der ligger til grund for udstillingen. \n 
URL:https://spildansk.dk/kalender/artist-talk-kirsten-astrup/
LOCATION:Multisalen i Sciencebygningen\, Roskilde Gymnasium\, Latinerhaven\, Roskilde\, 4000\, Danmark
CATEGORIES:Foredrag,Musical
END:VEVENT
BEGIN:VEVENT
DTSTART;TZID=Europe/Copenhagen:20181031T141500
DTEND;TZID=Europe/Copenhagen:20181031T144500
DTSTAMP:20260424T234520
CREATED:20180911T080749Z
LAST-MODIFIED:20180911T080749Z
UID:14849-1540995300-1540997100@spildansk.dk
SUMMARY:Sct. Ibs skoles kor
DESCRIPTION:Det er blevet en god tradition\, at koret giver koncert på Horsens Bibliotek onsdag i Spil Dansk Ugen\n\n\n\n\n\nKoret synger rytmiske sange\, både på engelsk og dansk. De optræder til flere forskellige arrangementer på skolen\, blandt andet til Lucia-aften\, Juleafslutning\, Sommerafslutning og Forårskoncert. I starten af april var koret i Berlin\, hvor det gav koncert på to forskellige skoler\, samt på forskellige pladser rundt omkring i Berlin.  Koret ledes af Jacob Steffensen og Rebekka Gjerløw Christensen.
URL:https://spildansk.dk/kalender/sct-ibs-skoles-kor/
LOCATION:Horsens Bibliotek\, Tobaksgården 12\, Horsens\, 8700\, Danmark
CATEGORIES:Kor
ATTACH;FMTTYPE=image/jpeg:https://spildansk.dk/wp-content/uploads/2018/09/side-18-sct-ib.jpg
END:VEVENT
BEGIN:VEVENT
DTSTART;TZID=Europe/Copenhagen:20181031T140000
DTEND;TZID=Europe/Copenhagen:20181031T170000
DTSTAMP:20260424T234520
CREATED:20181009T101150Z
LAST-MODIFIED:20181009T101150Z
UID:16271-1540994400-1541005200@spildansk.dk
SUMMARY:Syng Dansk
DESCRIPTION:SYNG/SPIL DANSK . ARRANGERET AF: VISCAFÉ LILLEBÆLT\, MIDDELFART \nSted: Østergades Forsamlingshus – store sal  – Østergade 31\, 5500 Middelfart \nUnderholdning – fællessang – 14 – 15  v. Musik- og Sanggruppen: Side by Side  sanghefter udleveres \nÅBEN SCENE : 15 – 16  INFO: Birgitte Ryberg tlf. 22334188   ( Er du visesanger  men mangler musikledsagelse\, hjælper vi gerne)  Du/I er velkommen til at medbringe drikkevarer (Der sælges ikke drikkevarer)  GRATIS ADGANG TIL ALLE
URL:https://spildansk.dk/kalender/syng-dansk-10/
LOCATION:Østergades Forsamlingshus\, Middelfart\, Østergade 31\, Middelfart\, 5500
CATEGORIES:Fællessang
ATTACH;FMTTYPE=image/jpeg:https://spildansk.dk/wp-content/uploads/2018/10/Side-by-side-maj-18.jpg
ORGANIZER;CN="VisCaf%C3%A9 Lilleb%C3%A6lt%2C Middelfart":MAILTO:viscafelillebaelt@gmail.com
END:VEVENT
BEGIN:VEVENT
DTSTART;TZID=Europe/Copenhagen:20181031T140000
DTEND;TZID=Europe/Copenhagen:20181031T150000
DTSTAMP:20260424T234520
CREATED:20180914T062800Z
LAST-MODIFIED:20180914T062800Z
UID:15241-1540994400-1540998000@spildansk.dk
SUMMARY:FLYGTNINGESTEMMER
DESCRIPTION:Lemvig Kompetenceværksted\nBøgelundvej 50\, Bonnet\n7620 Lemvig
URL:https://spildansk.dk/kalender/flygtningestemmer/
LOCATION:Lemvig Kompetenceværksted\, Bøgelundvej 50\, Bonnet\, 7620
CATEGORIES:Folk
ATTACH;FMTTYPE=image/jpeg:https://spildansk.dk/wp-content/uploads/2018/09/direkte-blik-foto-anders-ladegaard.jpg
ORGANIZER;CN="Lemvig Kompetencev%C3%A6rksted":MAILTO:michel.andraos@lemvig.dk
END:VEVENT
BEGIN:VEVENT
DTSTART;TZID=Europe/Copenhagen:20181031T133000
DTEND;TZID=Europe/Copenhagen:20181031T143000
DTSTAMP:20260424T234521
CREATED:20180907T103408Z
LAST-MODIFIED:20180907T103408Z
UID:14615-1540992600-1540996200@spildansk.dk
SUMMARY:Sax´nbone duo på Haderslev Bibliotek
DESCRIPTION:De to musikere\, Hanne Rømer\, saxofon og Marion Weiss Svanberg\, trombone\, underholder med et vidtspændende og musikalsk program hvor repertoiret spænder over gamle folkemelodier\, pop\, jazz og klassisk musik. Vi skal høre musik af bl.a. Carl Nielsen\, Leo Mathisen\, Niels Henning Ørsted Petersen\, Kim Larsen\, Kaj Norman Andersen\, Pierre Dørge\, Benny Andersen og mange flere.  \nMarion Weiss Svanberg er uddannet på Det Fynske Musikkonservatorium med trombonen som hovedinstrument og en forkærlighed for den klassiske musik. Hanne Rømer er mere til jazz og uddannet som komponist\, arrangør og orkesterleder fra Dick Grove School of Music i Los Angeles. Sammenspillet bærer præg af to modsætninger der mødes og får sød\, sjov og bevægende musik til at opstå. \n 
URL:https://spildansk.dk/kalender/saxnbone-duo-paa-haderslev-bibliotek/
LOCATION:Haderslev Bibliotek\, Kulturhuset "BISPEN"\, Bispebro 3\, Haderslev\, 6100
CATEGORIES:Jazz,Klassisk
ATTACH;FMTTYPE=image/jpeg:https://spildansk.dk/wp-content/uploads/2018/09/Marion-og-Hanne-3-sort-hvid.jpg
ORGANIZER;CN="Haderslev Bibliotekerne":MAILTO:haderslevbib@haderslev.dk
END:VEVENT
BEGIN:VEVENT
DTSTART;TZID=Europe/Copenhagen:20181031T133000
DTEND;TZID=Europe/Copenhagen:20181031T140000
DTSTAMP:20260424T234521
CREATED:20181026T063239Z
LAST-MODIFIED:20181026T063239Z
UID:17622-1540992600-1540994400@spildansk.dk
SUMMARY:Rørkjær skoles kor
DESCRIPTION:Rørkjær skoles kor synger Spil Dansk Koncert for 2. og 3. årgang.
URL:https://spildansk.dk/kalender/roerkjaer-skoles-kor/
LOCATION:Esbjerg Kommune
CATEGORIES:Kor,Musik til børn
END:VEVENT
BEGIN:VEVENT
DTSTART;TZID=Europe/Copenhagen:20181031T131500
DTEND;TZID=Europe/Copenhagen:20181031T134500
DTSTAMP:20260424T234521
CREATED:20181024T095240Z
LAST-MODIFIED:20181024T095240Z
UID:17516-1540991700-1540993500@spildansk.dk
SUMMARY:Kulturskolen spiller Dansk på Grundskolen
DESCRIPTION:Tønder kulturskoles sammenspilsgruppe samt grundskolemusikholdet spiller en lille koncert ved Tønder Grundskoles bibliotek.
URL:https://spildansk.dk/kalender/kulturskolen-spiller-dansk-paa-grundskolen-2/
LOCATION:Tønder Grundskole\, Tønder\, Tønder\, Danmark
CATEGORIES:Klassisk
ATTACH;FMTTYPE=image/jpeg:https://spildansk.dk/wp-content/uploads/2018/10/Kultur-Skole-Logo-2.jpg
END:VEVENT
BEGIN:VEVENT
DTSTART;TZID=Europe/Copenhagen:20181031T130000
DTEND;TZID=Europe/Copenhagen:20181031T160000
DTSTAMP:20260424T234521
CREATED:20180927T050916Z
LAST-MODIFIED:20180927T050916Z
UID:15692-1540990800-1541001600@spildansk.dk
SUMMARY:Spil og syng Dansk
DESCRIPTION:Spil dansk er en fejring af dansk musik. Solrød Aktivitets- og frivilligcenter har vi i år valgt at være med. \nVi inviterer til en hyggelig eftermiddag\, hvor vi skal synge mange dejlige danske sange —både ældre og nyere. \n”De hvide sokker” står for musikken. Det skal nok blive hyggeligt \nPris kr. 50\,00 incl. kaffe/the og kage. Øl og vand kan købes  billetter købes i Brugerinformationen eller afcfrivil.nemtilmeld.dk\, fra mandag den 1. oktober kl. 10 \n 
URL:https://spildansk.dk/kalender/spil-og-syng-dansk-2/
LOCATION:Solrød Aktivitets- og Frivilligcenter\, Solrød Center 85\, Solrød\, 2680 Solrød Strand
CATEGORIES:Fællessang
ATTACH;FMTTYPE=image/jpeg:https://spildansk.dk/wp-content/uploads/2018/09/De-hvide-sokker.jpg
END:VEVENT
BEGIN:VEVENT
DTSTART;TZID=Europe/Copenhagen:20181031T130000
DTEND;TZID=Europe/Copenhagen:20181031T140000
DTSTAMP:20260424T234521
CREATED:20181023T160841Z
LAST-MODIFIED:20181023T160841Z
UID:17412-1540990800-1540994400@spildansk.dk
SUMMARY:Kulturskolen spiller dansk på Grundskolen
DESCRIPTION:Tønder Grundskole får besøg af elever fra Tønder Kulturskole\, der spiller koncert for 2. og 3. årgang
URL:https://spildansk.dk/kalender/kulturskolen-spiller-dansk-paa-grundskolen/
LOCATION:Tønder Grundskole\, Holmevej\, Tønder\, 6270\, Danmark
CATEGORIES:Musik til børn
END:VEVENT
BEGIN:VEVENT
DTSTART;TZID=Europe/Copenhagen:20181031T130000
DTEND;TZID=Europe/Copenhagen:20181031T140000
DTSTAMP:20260424T234521
CREATED:20180928T105733Z
LAST-MODIFIED:20180928T105733Z
UID:15749-1540990800-1540994400@spildansk.dk
SUMMARY:Musik i Maskinhallen
DESCRIPTION:Musikanterne spiller danske viser og sange i den smukke Maskinhal. Publikum får også mulighed for fællessange akkompagneret af blandt andet harmonika\, klarinet og sav!
URL:https://spildansk.dk/kalender/musik-i-maskinhallen-2/
LOCATION:Danmarks Industrimuseum\, Gasvej 17-19\, Horsens\, 8700\, Danmark
CATEGORIES:Fællessang
ATTACH;FMTTYPE=image/jpeg:https://spildansk.dk/wp-content/uploads/2018/09/musik.jpg
ORGANIZER;CN="Danmarks Industrimuseum":MAILTO:klaedeskabet@industrimuseet.dk
END:VEVENT
BEGIN:VEVENT
DTSTART;TZID=Europe/Copenhagen:20181031T120000
DTEND;TZID=Europe/Copenhagen:20181031T130000
DTSTAMP:20260424T234521
CREATED:20181010T094027Z
LAST-MODIFIED:20181010T094027Z
UID:16489-1540987200-1540990800@spildansk.dk
SUMMARY:Spil Dansk korkoncert
DESCRIPTION:Vi sprænger rammerne. Endnu engang er vi klar til at fylde Idrætshallen med dansk sang om musik.\nCa. 1200 skolebørn fra folkeskolerne i Svendborg synger sammen med Svendborg Musikskoles Strygeorkester\, Harmoniorkester\, Mambo Jambo\, Ubestemt Ental samt det store fællesorkester.\nVi sætter det hele sammen om formiddagen og kl. 12.00 kan du få lejlighed til at høre resultatet. Det blir stort 🙂
URL:https://spildansk.dk/kalender/spil-dansk-korkoncert-2/
LOCATION:svendborg idrætscenter\, Ryttervej 70\, Svendborg\, 5700\, Danmark
CATEGORIES:Fællessang,Musik til børn
ATTACH;FMTTYPE=image/jpeg:https://spildansk.dk/wp-content/uploads/2018/10/busterminalen-digitale-stander1.jpg
ORGANIZER;CN="Svendborg Musikskole":MAILTO:musikskolen@svendborg.dk
END:VEVENT
BEGIN:VEVENT
DTSTART;TZID=Europe/Copenhagen:20181031T110000
DTEND;TZID=Europe/Copenhagen:20181031T120000
DTSTAMP:20260424T234521
CREATED:20181017T115703Z
LAST-MODIFIED:20181017T115703Z
UID:16950-1540983600-1540987200@spildansk.dk
SUMMARY:Sange og Salmer med Rikke Lie og Henrik Bjørn
DESCRIPTION:Den erfarne duo underholder plejecentrets beboere og personale med en buket af stemningsfulde sange og salmer på dansk fra eget repertoire. Duoen har medvirket i en årrække i Sankt Markus Kirke ved særlige gudstjenester og temaaftener\, hvor musik skulle ledsage programmet. Det vil fortrinsvis være solistisk optræden\, men der vil også være mulighed for at nynne med på de smukke og medrivende sange og salmer. Rikke Lie Flensburg: vokal og guitar\, Henrik Bjørn Rasmussen: bas.
URL:https://spildansk.dk/kalender/sange-og-salmer-med-rikke-lie-og-henrik-bjoern/
LOCATION:Plejecentret Sølund\, Ryesgade 22\, København N\, 2200
CATEGORIES:Alternative,Viser
ATTACH;FMTTYPE=image/jpeg:https://spildansk.dk/wp-content/uploads/2018/10/Henrik-Rikke_2_2_2_2_2.jpg
END:VEVENT
BEGIN:VEVENT
DTSTART;TZID=Europe/Copenhagen:20181031T110000
DTEND;TZID=Europe/Copenhagen:20181031T113000
DTSTAMP:20260424T234521
CREATED:20180906T080100Z
LAST-MODIFIED:20180906T080100Z
UID:14479-1540983600-1540985400@spildansk.dk
SUMMARY:Fællessang på Sejergaardsskolen
DESCRIPTION:Sejergaardsskolens Privatskole og Sejergaardens Musikefterskole holder fællessangstime for alle skolens 550 elever.\nFællessangen bliver akkompagneret af et veloplagt 6-mands lærerband.
URL:https://spildansk.dk/kalender/faellessang-paa-sejergaardsskolen-2/
LOCATION:sejergaardsskolen\, Sejergårdsvej 2\, Tølløse\, 4340\, Danmark
CATEGORIES:Fællessang
ORGANIZER;CN="sejergaardsskolen":MAILTO:musikskolen@sejergaardsskolen.dk
END:VEVENT
BEGIN:VEVENT
DTSTART;TZID=Europe/Copenhagen:20181031T103000
DTEND;TZID=Europe/Copenhagen:20181031T120000
DTSTAMP:20260424T234521
CREATED:20181009T120736Z
LAST-MODIFIED:20181009T120736Z
UID:16347-1540981800-1540987200@spildansk.dk
SUMMARY:BabyMUS - danske børnesange
DESCRIPTION:I Danmark findes en særlig tradition for sang og fællessang\, og netop sangen er en vigtig del af barnets identitetsdannelse. Kom med og hør Ida-Marie Vorre\, museumsinspektør for Carl Nielsen Museet\, fortælle om børnesange igennem generationer. Hvad er en god børnesang? Og hvilke strømninger har der været igennem tiden? Vi voksne skal selvfølgelig selv synge med på sange som Jeg ved en lærkerede\, Lille sky gik morgentur\, Andreas sang og Sigurd Barretts godnatsang til stor glæde for de små pus. \nBabyMUS er et fast tilbud til forældre på barsel\, hvor tempoet er roligt og der er plads til pludren\, formiddagslur\, bleskift og mælk – og kaffehygge og snak for forældrene.
URL:https://spildansk.dk/kalender/babymus-danske-boernesange/
LOCATION:Møntergården\, Overgade 48\, Odense C\, 5000
CATEGORIES:Foredrag,Musik til børn
ATTACH;FMTTYPE=image/jpeg:https://spildansk.dk/wp-content/uploads/2018/10/babyMUS_billede.jpg
ORGANIZER;CN="Odense Bys Museer":MAILTO:museum@odense.dk
END:VEVENT
BEGIN:VEVENT
DTSTART;TZID=Europe/Copenhagen:20181031T103000
DTEND;TZID=Europe/Copenhagen:20181031T113000
DTSTAMP:20260424T234521
CREATED:20180907T112439Z
LAST-MODIFIED:20180907T112724Z
UID:14627-1540981800-1540985400@spildansk.dk
SUMMARY:Fællessang/Spil Dansk i caféen.
DESCRIPTION:I anledningen af Spil Dansk ugen inviterer vi til fællessang i caféen på Åpark Centret. \nVed klaveret sidder Gurli Strandløv. \nIngen tilmelding.
URL:https://spildansk.dk/kalender/faellessang-spil-dansk-i-cafeen/
LOCATION:Åpark Centret\, Løvenørnsgade 21\, Horsens\, 8700
CATEGORIES:Fællessang
END:VEVENT
BEGIN:VEVENT
DTSTART;TZID=Europe/Copenhagen:20181031T100000
DTEND;TZID=Europe/Copenhagen:20181031T140000
DTSTAMP:20260424T234521
CREATED:20181016T140416Z
LAST-MODIFIED:20181016T140416Z
UID:16914-1540980000-1540994400@spildansk.dk
SUMMARY:sangskriver workshop
DESCRIPTION:Sangskriver Workshop med en skoleklasse på Bøgeskovskolen i Bjerringbro
URL:https://spildansk.dk/kalender/sangskriver-workshop-2/
LOCATION:Bøgeskovskolen\, Bjerringbro\, Viborg\, Danmark
CATEGORIES:Singer-songwriter
ORGANIZER;CN="Viborg Bibliotekerne":MAILTO:kv@viborg.dk
END:VEVENT
BEGIN:VEVENT
DTSTART;TZID=Europe/Copenhagen:20181031T100000
DTEND;TZID=Europe/Copenhagen:20181031T140000
DTSTAMP:20260424T234521
CREATED:20181009T114504Z
LAST-MODIFIED:20181026T080424Z
UID:16329-1540980000-1540994400@spildansk.dk
SUMMARY:Rapolitics – GAME Streetmekka Esbjerg
DESCRIPTION:Onsdag d. 31. oktober afholdes der Rapolitics i GAME Streetmekka Esbjerg for Studie10.
URL:https://spildansk.dk/kalender/rapolitics-game-streetmekka-esbjerg/
LOCATION:GAME Streetmekka\, Nørrebrogade 1C\, Esbjerg\, 6700
CATEGORIES:Workshop
ATTACH;FMTTYPE=image/jpeg:https://spildansk.dk/wp-content/uploads/2018/10/My-Post-5.jpg
END:VEVENT
BEGIN:VEVENT
DTSTART;TZID=Europe/Copenhagen:20181031T100000
DTEND;TZID=Europe/Copenhagen:20181031T113000
DTSTAMP:20260424T234521
CREATED:20181015T085514Z
LAST-MODIFIED:20181015T085724Z
UID:16795-1540980000-1540985400@spildansk.dk
SUMMARY:Cirkeline\, Coco og det vilde næsehorn
DESCRIPTION:Nordisk Film Biografer Randers har som en del af Spil Dansk ugen valgt at invitere de ældste børn i kommunens børnehaver til: \nEn gratis forestilling med den nyeste Cirkelinefilm – CIRKELINE\, COCO OG DET VILDE NÆSEHORN\, der udover at indeholde iørefaldende musik også er en flot tegnet film med en barnlig streg. \nDer er 325 pladser i salen – det er først-til-mølle-princip for institutionerne. Man kan ikke bestille billetter som privat person.
URL:https://spildansk.dk/kalender/cirkeline-coco-og-det-vilde-naesehorn/
LOCATION:Nordisk Film Biografer Randers\, Thors Bakke 2\, Randers\, 8900\, Danmark
CATEGORIES:Musik til børn
ATTACH;FMTTYPE=image/jpeg:https://spildansk.dk/wp-content/uploads/2018/10/cirkeline.jpg
ORGANIZER;CN="Nordisk Film Biografer Randers":MAILTO:serviceranders@nordiskfilm.com
END:VEVENT
BEGIN:VEVENT
DTSTART;TZID=Europe/Copenhagen:20181031T100000
DTEND;TZID=Europe/Copenhagen:20181031T110000
DTSTAMP:20260424T234521
CREATED:20181031T063848Z
LAST-MODIFIED:20181031T063848Z
UID:17840-1540980000-1540983600@spildansk.dk
SUMMARY:Børnehaven synger i Gjøl Kirke
DESCRIPTION:Hele Gjøl børnehave besøger Gjøl Kirke og synger danske sange for deres bedsteforældre og alle andre\, som har lyst. \nHerefter er der kaffe og hygge i sognegården.
URL:https://spildansk.dk/kalender/boernehaven-synger-i-gjoel-kirke/
LOCATION:Gjøl Kirke\, Kirkebakken\, Aabybro\, 9440
CATEGORIES:Fællessang
END:VEVENT
BEGIN:VEVENT
DTSTART;TZID=Europe/Copenhagen:20181031T100000
DTEND;TZID=Europe/Copenhagen:20181031T110000
DTSTAMP:20260424T234521
CREATED:20181018T094924Z
LAST-MODIFIED:20181018T094924Z
UID:16975-1540980000-1540983600@spildansk.dk
SUMMARY:Sang & Rytmer for Mellemtrinnet
DESCRIPTION:Thomas Ulrik Larsen (singer-songwriter) og Peter Altmann (trommeslager) giver et indblik i deres hverdag med musik\, gennem fortællinger\, fællessang og -rytmer. Koncerten er støttet af DMF Roskilde.
URL:https://spildansk.dk/kalender/sang-rytmer-for-mellemtrinnet-2/
LOCATION:Himmelev Skole\, Ollerupvej 5\, Roskilde\, 4000\, Danmark
CATEGORIES:Singer-songwriter
ATTACH;FMTTYPE=image/png:https://spildansk.dk/wp-content/uploads/2018/10/VIGNET-sort-tekst-2018-1.png
END:VEVENT
BEGIN:VEVENT
DTSTART;TZID=Europe/Copenhagen:20181031T100000
DTEND;TZID=Europe/Copenhagen:20181031T110000
DTSTAMP:20260424T234521
CREATED:20181016T090302Z
LAST-MODIFIED:20181016T090302Z
UID:16882-1540980000-1540983600@spildansk.dk
SUMMARY:Babysalmesang i Sankt Andreas Kirke
DESCRIPTION:I fællesskab synger vi salmer\, laver fagter\, bruger kroppen\, blæser sæbebobler\, leger med tørklæder og meget andet. Babysalmesang er både hyggeligt og sanserigt og kan være en god inspiration for forældre\, som ønsker at inddrage mere musik\, sang og leg i samværet med deres barn. Man behøver ikke at være vant til at synge sange eller salmer eller at være kirkevante. I lærer kirken at kende som et sted med plads til både ro og tryghed og til leg og glæde. Kirken er åben fra kl. 9.40\, så dit barn evt. kan nå at blive skiftet eller få lidt at spise\, inden vi går i gang. Når vi har sunget og leget\, er der kaffe og te samt plads til at snakke med de andre mødre/fædre/babyer. Tilmelding til Vibeke Bonde Persson på vip@andreaskirke.dk. Oplys venligst dit navn og telefonnummer samt dit barns navn og alder.
URL:https://spildansk.dk/kalender/babysalmesang-i-sankt-andreas-kirke/
LOCATION:Sankt Andreas Kirke\, Hadsundvej 81\, Randers NØ\, 8930
CATEGORIES:Musik til børn
ATTACH;FMTTYPE=image/jpeg:https://spildansk.dk/wp-content/uploads/2018/10/Vibeke-1.jpg
END:VEVENT
BEGIN:VEVENT
DTSTART;TZID=Europe/Copenhagen:20181031T100000
DTEND;TZID=Europe/Copenhagen:20181031T110000
DTSTAMP:20260424T234521
CREATED:20181009T101132Z
LAST-MODIFIED:20181009T101132Z
UID:16267-1540980000-1540983600@spildansk.dk
SUMMARY:Syng Dansk dag
DESCRIPTION:Sunds Ilskov Skole afdeling Ilskov synger danske sange og salmer i Ilskov Kirke
URL:https://spildansk.dk/kalender/syng-dansk-dag-2/
LOCATION:Ilskov Kirke\, Hestlundvej 4B\, Sunds\, 7451
CATEGORIES:Fællessang
END:VEVENT
BEGIN:VEVENT
DTSTART;TZID=Europe/Copenhagen:20181031T100000
DTEND;TZID=Europe/Copenhagen:20181031T110000
DTSTAMP:20260424T234521
CREATED:20181003T075416Z
LAST-MODIFIED:20181003T075647Z
UID:15933-1540980000-1540983600@spildansk.dk
SUMMARY:Michael Hamiltons Spil Dansk koncert
DESCRIPTION:Sanger\, sangskriver\, samfundskritiker og showmand. Nomineret til Årets Sanger/Vokalist ved Danish Music Awards Folk 2016. \nOle Rosenstand Svidt\, GAFFA ★★★★★ \n“Den næste halvanden time var et rent tæppebombardement af Hamiltons utrolig velskrevne\, iørefaldende\, medrivende og syng-med-venlige sange\, hvor teksterne vælter med bizarre ordspil og både rummer gakket humor og dyb alvor\, fuldt på niveau med fremragende tekstforfattere som Peter Sommer\, Simon Kvamm og Kenneth Thordal. Som sædvanlig var Hamilton showman med stort S og fik hurtigt sat fut i det spartanske publikum\, der blev aktiveret med både fællessang\, stjernekastere og sangønsker (…) Skulle du endnu ikke have fattet det\, kære læser\, så aflæs mine læber: Michael Hamilton er en hamrende talentfuld dansksyngende sanger og sangskriver\, og det er mig en gåde\, hvorfor han endnu ikke for længst er blevet opdaget” \nMichael Hamiltons sange er blevet indspillet af Michael Weston King (UK)\, Ron Sexsmith (CAN)\, Fransk Dolkeparti\, JB Wonderland og Charlotte Thorsen. Han er grundlægger af Århus Sangskriver Værksted og er blevet brugt som vokalproducer af blandt andre Mads Langer.
URL:https://spildansk.dk/kalender/michael-hamiltons-spil-dansk-koncert/
LOCATION:Aktivitetscenteret Marie Magdalene\, Vestergade 116A\, Ryomgård\, 8550
CATEGORIES:Singer-songwriter
ATTACH;FMTTYPE=image/jpeg:https://spildansk.dk/wp-content/uploads/2018/10/hamilton.jpg
END:VEVENT
BEGIN:VEVENT
DTSTART;TZID=Europe/Copenhagen:20181031T100000
DTEND;TZID=Europe/Copenhagen:20181031T110000
DTSTAMP:20260424T234521
CREATED:20180910T131954Z
LAST-MODIFIED:20180910T131954Z
UID:14801-1540980000-1540983600@spildansk.dk
SUMMARY:Bymarkskolen - Danmarks Fællessang Live
DESCRIPTION:Børnene kan forvente en dag fyldt med energi\, glæde og masser af indlevelse og aktivitet når Danmarks Fællessang Live kommer forbi. \nDet skal være inkluderende og nemt for alle at være med. Vi skal ikke stå stille\, men bruge hele kroppen for at få musikken til at leve 🙂
URL:https://spildansk.dk/kalender/bymarkskolen-danmarks-faellessang-live/
LOCATION:Bymarkskolen\, Sdr. Ringvej 9\, Hobro\, 9500
CATEGORIES:Fællessang
ATTACH;FMTTYPE=image/png:https://spildansk.dk/wp-content/uploads/2018/09/SPIL-DANSK-logo-1_sort-1.png
END:VEVENT
END:VCALENDAR