BEGIN:VCALENDAR
VERSION:2.0
PRODID:-//Spil Dansk - ECPv6.5.0//NONSGML v1.0//EN
CALSCALE:GREGORIAN
METHOD:PUBLISH
X-WR-CALNAME:Spil Dansk
X-ORIGINAL-URL:https://spildansk.dk
X-WR-CALDESC:Events for Spil Dansk
REFRESH-INTERVAL;VALUE=DURATION:PT1H
X-Robots-Tag:noindex
X-PUBLISHED-TTL:PT1H
BEGIN:VTIMEZONE
TZID:Europe/Copenhagen
BEGIN:DAYLIGHT
TZOFFSETFROM:+0100
TZOFFSETTO:+0200
TZNAME:CEST
DTSTART:20200329T010000
END:DAYLIGHT
BEGIN:STANDARD
TZOFFSETFROM:+0200
TZOFFSETTO:+0100
TZNAME:CET
DTSTART:20201025T010000
END:STANDARD
END:VTIMEZONE
BEGIN:VEVENT
DTSTART;TZID=Europe/Copenhagen:20201030T100500
DTEND;TZID=Europe/Copenhagen:20201030T110500
DTSTAMP:20260424T014643
CREATED:20201022T114538Z
LAST-MODIFIED:20201022T114538Z
UID:26581-1604052300-1604055900@spildansk.dk
SUMMARY:Ea Philippa
DESCRIPTION:LMS koncert
URL:https://spildansk.dk/kalender/ea-philippa-9/
LOCATION:Valsgård Skole\, Hobro\, Mariagerfjord\, Danmark
END:VEVENT
BEGIN:VEVENT
DTSTART;TZID=Europe/Copenhagen:20201030T103000
DTEND;TZID=Europe/Copenhagen:20201030T110000
DTSTAMP:20260424T014643
CREATED:20201018T061055Z
LAST-MODIFIED:20201021T140858Z
UID:25956-1604053800-1604055600@spildansk.dk
SUMMARY:Koncert
DESCRIPTION:Koncert med singer/songwriter Anna Bilde for 6.-7.kl. på Agersted Friskole. Anna skriver egne sange og fortæller om sangene undervejs. \nKoncerten foregår i det lokale fitnesscenter.
URL:https://spildansk.dk/kalender/koncert-5/
LOCATION:Agersted Motionscenter\, Voersåvej 3\, Agersted\, DRONNINGLUND\, 9330\, Danmark
CATEGORIES:Koncert
ATTACH;FMTTYPE=image/jpeg:https://spildansk.dk/wp-content/uploads/2020/10/20160522-18_45_57-57289-scaled.jpg
END:VEVENT
BEGIN:VEVENT
DTSTART;TZID=Europe/Copenhagen:20201030T105500
DTEND;TZID=Europe/Copenhagen:20201030T115500
DTSTAMP:20260424T014643
CREATED:20201022T114538Z
LAST-MODIFIED:20201022T114538Z
UID:26582-1604055300-1604058900@spildansk.dk
SUMMARY:Ea Philippa
DESCRIPTION:LMS koncert
URL:https://spildansk.dk/kalender/ea-philippa-10/
LOCATION:Valsgård Skole\, Hobro\, Mariagerfjord\, Danmark
END:VEVENT
BEGIN:VEVENT
DTSTART;TZID=Europe/Copenhagen:20201030T105500
DTEND;TZID=Europe/Copenhagen:20201030T115500
DTSTAMP:20260424T014643
CREATED:20201022T114556Z
LAST-MODIFIED:20201022T114556Z
UID:26598-1604055300-1604058900@spildansk.dk
SUMMARY:Jazz Five
DESCRIPTION:LMS koncert
URL:https://spildansk.dk/kalender/jazz-five/
LOCATION:Harløse Skole (Specialskole)\, Nordhøjvej 1A\, Hillerød\, 3400\, Danmark
END:VEVENT
BEGIN:VEVENT
DTSTART;TZID=Europe/Copenhagen:20201030T105500
DTEND;TZID=Europe/Copenhagen:20201030T115500
DTSTAMP:20260424T014643
CREATED:20201022T114615Z
LAST-MODIFIED:20201022T114615Z
UID:26620-1604055300-1604058900@spildansk.dk
SUMMARY:Sisters of Jazz
DESCRIPTION:LMS koncert
URL:https://spildansk.dk/kalender/sisters-of-jazz-10/
LOCATION:Rathlouskolen\, Odder\, Odder\, Danmark
END:VEVENT
BEGIN:VEVENT
DTSTART;TZID=Europe/Copenhagen:20201030T110000
DTEND;TZID=Europe/Copenhagen:20201030T113000
DTSTAMP:20260424T014643
CREATED:20200928T130746Z
LAST-MODIFIED:20200928T130746Z
UID:25239-1604055600-1604057400@spildansk.dk
SUMMARY:Sang og musik af lokale musikere
DESCRIPTION:Sang og musik
URL:https://spildansk.dk/kalender/sang-og-musik-af-lokale-musikere-5/
LOCATION:Ældrecentret Solvang\, Rolighedsvej 1\, Thyholm\, 7790
CATEGORIES:Kor
END:VEVENT
BEGIN:VEVENT
DTSTART;TZID=Europe/Copenhagen:20201030T110000
DTEND;TZID=Europe/Copenhagen:20201030T120000
DTSTAMP:20260424T014643
CREATED:20201022T114542Z
LAST-MODIFIED:20201022T114542Z
UID:26586-1604055600-1604059200@spildansk.dk
SUMMARY:Eastwind
DESCRIPTION:LMS koncert
URL:https://spildansk.dk/kalender/eastwind-10/
LOCATION:Stengårdsskolen\, Stengårds Plads 2\, Ølstykke\, 3650\, Danmark
END:VEVENT
BEGIN:VEVENT
DTSTART;TZID=Europe/Copenhagen:20201030T111000
DTEND;TZID=Europe/Copenhagen:20201030T121000
DTSTAMP:20260424T014643
CREATED:20201022T114527Z
LAST-MODIFIED:20201022T114527Z
UID:26573-1604056200-1604059800@spildansk.dk
SUMMARY:Bisse
DESCRIPTION:LMS koncert
URL:https://spildansk.dk/kalender/bisse-8/
LOCATION:Hovedgård Skole\, Hovedgård\, Horsens\, Danmark
END:VEVENT
BEGIN:VEVENT
DTSTART;TZID=Europe/Copenhagen:20201030T113000
DTEND;TZID=Europe/Copenhagen:20201030T120000
DTSTAMP:20260424T014643
CREATED:20201018T061427Z
LAST-MODIFIED:20201021T141051Z
UID:25960-1604057400-1604059200@spildansk.dk
SUMMARY:Koncert
DESCRIPTION:Koncert med singer/songwriter Anna Bilde for 8.-9.kl. på Agersted Friskole. Anna skriver egne sange og fortæller om sangene undervejs. \nKoncerten foregår i det lokale fitnesscenter.
URL:https://spildansk.dk/kalender/koncert-6/
LOCATION:Agersted Motionscenter\, Voersåvej 3\, Agersted\, DRONNINGLUND\, 9330\, Danmark
CATEGORIES:Koncert,Singer-songwriter
ATTACH;FMTTYPE=image/jpeg:https://spildansk.dk/wp-content/uploads/2020/10/20160522-18_45_57-57289-1-scaled.jpg
ORGANIZER;CN="Agersted Friskole":MAILTO:anettebilde2@gmail.com
END:VEVENT
BEGIN:VEVENT
DTSTART;TZID=Europe/Copenhagen:20201030T114500
DTEND;TZID=Europe/Copenhagen:20201030T124500
DTSTAMP:20260424T014643
CREATED:20201022T114550Z
LAST-MODIFIED:20201022T114550Z
UID:26594-1604058300-1604061900@spildansk.dk
SUMMARY:HeartBeat Group
DESCRIPTION:LMS koncert
URL:https://spildansk.dk/kalender/heartbeat-group-12/
LOCATION:Stoholm Skole\, Vesterled 5\, Stoholm\, 7850\, Danmark
END:VEVENT
BEGIN:VEVENT
DTSTART;TZID=Europe/Copenhagen:20201030T122500
DTEND;TZID=Europe/Copenhagen:20201030T132500
DTSTAMP:20260424T014643
CREATED:20201022T114545Z
LAST-MODIFIED:20201022T114545Z
UID:26589-1604060700-1604064300@spildansk.dk
SUMMARY:Goin' Back To New Orleans
DESCRIPTION:LMS koncert
URL:https://spildansk.dk/kalender/goin-back-to-new-orleans-11/
LOCATION:Ikast Nordre Skole\, Hagelskærvej 8\, Ikast\, 7430\, Danmark
END:VEVENT
BEGIN:VEVENT
DTSTART;TZID=Europe/Copenhagen:20201030T123000
DTEND;TZID=Europe/Copenhagen:20201030T123000
DTSTAMP:20260424T014643
CREATED:20201023T130619Z
LAST-MODIFIED:20201023T130619Z
UID:26682-1604061000-1604061000@spildansk.dk
SUMMARY:Fællessang i Kulturzonen
DESCRIPTION:Kom og syng med på de gode sange fra de gamle danske film. Klaverunderviser Adam Bjerrum akkompagnerer\, mens sangunderviser Laura Dam synger for. Alle er velkomne og Borgmester Hans Stavnsager har lovet at komme og synge med. På Centrumpladsen mellem Biblioteket og Musikskolen kan vi trygt mødes og synge sammen.\nI tilfælde af dårligt vejr flyttes arrangementet til bibliotekets Store Sal. Alle COVID-19 restriktioner naturligvis vil blive overholdt.
URL:https://spildansk.dk/kalender/faellessang-i-kulturzonen/
LOCATION:Centrumpladsen\, Centrumpladsen\, Ringe\, 5750
CATEGORIES:Fællessang
ORGANIZER;CN="Faaborg-Midtfyn Bibliotekerne":MAILTO:bibliotek@fmk.dk
END:VEVENT
BEGIN:VEVENT
DTSTART;TZID=Europe/Copenhagen:20201030T124000
DTEND;TZID=Europe/Copenhagen:20201030T134000
DTSTAMP:20260424T014643
CREATED:20201022T114527Z
LAST-MODIFIED:20201022T114527Z
UID:26574-1604061600-1604065200@spildansk.dk
SUMMARY:Bisse
DESCRIPTION:LMS koncert
URL:https://spildansk.dk/kalender/bisse-9/
LOCATION:Hovedgård Skole\, Hovedgård\, Horsens\, Danmark
END:VEVENT
BEGIN:VEVENT
DTSTART;TZID=Europe/Copenhagen:20201030T124500
DTEND;TZID=Europe/Copenhagen:20201030T134500
DTSTAMP:20260424T014643
CREATED:20201022T114522Z
LAST-MODIFIED:20201022T114522Z
UID:26569-1604061900-1604065500@spildansk.dk
SUMMARY:Admiral Awesome
DESCRIPTION:LMS koncert
URL:https://spildansk.dk/kalender/admiral-awesome-13/
LOCATION:Ødsted Skole\, Ammitsbølvej 18\, Ødsted\, Vejle\, 7100\, Danmark
END:VEVENT
BEGIN:VEVENT
DTSTART;TZID=Europe/Copenhagen:20201030T131000
DTEND;TZID=Europe/Copenhagen:20201030T141000
DTSTAMP:20260424T014643
CREATED:20201022T114545Z
LAST-MODIFIED:20201022T114545Z
UID:26590-1604063400-1604067000@spildansk.dk
SUMMARY:Goin' Back To New Orleans
DESCRIPTION:LMS koncert
URL:https://spildansk.dk/kalender/goin-back-to-new-orleans-12/
LOCATION:Ikast Nordre Skole\, Hagelskærvej 8\, Ikast\, 7430\, Danmark
END:VEVENT
BEGIN:VEVENT
DTSTART;TZID=Europe/Copenhagen:20201030T150000
DTEND;TZID=Europe/Copenhagen:20201030T160000
DTSTAMP:20260424T014643
CREATED:20200923T065245Z
LAST-MODIFIED:20200923T065245Z
UID:25052-1604070000-1604073600@spildansk.dk
SUMMARY:Musik i arbejdstøjet
DESCRIPTION:Fyraftens koncert med Cecilie Glenthøj. \nEn stund med dybsindighed og lys\, hvor musikken lader os drømme\, sanse og være eftertænksomme.
URL:https://spildansk.dk/kalender/musik-i-arbejdstoejet/
LOCATION:Viborg Idrætsråd\, Skottenborg 12\, 8800 Viborg\, Skottenborg 12\, Viborg\, 8800
CATEGORIES:Koncert
ATTACH;FMTTYPE=image/jpeg:https://spildansk.dk/wp-content/uploads/2020/09/Cecilie-Glenthøj-PR.jpg
END:VEVENT
BEGIN:VEVENT
DTSTART;TZID=Europe/Copenhagen:20201030T150000
DTEND;TZID=Europe/Copenhagen:20201030T160000
DTSTAMP:20260424T014643
CREATED:20201009T122707Z
LAST-MODIFIED:20201009T124143Z
UID:25800-1604070000-1604073600@spildansk.dk
SUMMARY:Heit en lokal singer-song writer
DESCRIPTION:Genrerne er folk-rock\, americana og alternativ country\, når HEIT (Rolf Heitmann) indtager scenen. \nHvad enten hans sange handler om familien eller den globale politiske scene\, så skaber han en lyd\, der går rent ind hos fans af legender som Bob Dylan\, Johnny Cash og Bruce Springsteen.
URL:https://spildansk.dk/kalender/heit-en-lokal-singer-song-writer/
LOCATION:Tørring Bibliotek\, Kirkevej 10\, 1\, Tørring\, 7160\, Danmark
CATEGORIES:Koncert
ORGANIZER;CN="Hedensted Bibliotekerne":MAILTO:anette.due@hedensted.dk
END:VEVENT
BEGIN:VEVENT
DTSTART;TZID=Europe/Copenhagen:20201030T153000
DTEND;TZID=Europe/Copenhagen:20201030T173000
DTSTAMP:20260424T014643
CREATED:20201020T112907Z
LAST-MODIFIED:20201020T112907Z
UID:26209-1604071800-1604079000@spildansk.dk
SUMMARY:Ole Matthiessen Super Sekstet
DESCRIPTION:Henrik Bolberg (tp)\, TBA (sax)\,\nOilly Wallace (sax)\,\nOle Matthiessen (p)\,\nRune Fog-Nielsen (b)\,\nOle Streenberg (dr)
URL:https://spildansk.dk/kalender/ole-matthiessen-super-sekstet/
LOCATION:Jazzcup\, Gothersgade 107\, København\, 1123\, Danmark
CATEGORIES:Jazz
ATTACH;FMTTYPE=image/jpeg:https://spildansk.dk/wp-content/uploads/2020/10/ole-matthiessen.jpg
ORGANIZER;CN="Sundance Publishing":MAILTO:sundance@sundance.dk
END:VEVENT
BEGIN:VEVENT
DTSTART;TZID=Europe/Copenhagen:20201030T160000
DTEND;TZID=Europe/Copenhagen:20201030T170000
DTSTAMP:20260424T014643
CREATED:20201023T113554Z
LAST-MODIFIED:20201023T114755Z
UID:26653-1604073600-1604077200@spildansk.dk
SUMMARY:Fællessang for Frihed med Sangglæde
DESCRIPTION:Fællessang for Frihed. Arrangementet er støttet af Københavns Kommune.
URL:https://spildansk.dk/kalender/faellessang-for-frihed-med-sangglaede-2/
LOCATION:Københavns Højskoleforening\, Damstien 25\, Vanløse\, 2720\, Danmark
CATEGORIES:Fællessang
ATTACH;FMTTYPE=image/jpeg:https://spildansk.dk/wp-content/uploads/2018/05/Sangglæde.jpg
END:VEVENT
BEGIN:VEVENT
DTSTART;TZID=Europe/Copenhagen:20201030T160000
DTEND;TZID=Europe/Copenhagen:20201030T173000
DTSTAMP:20260424T014643
CREATED:20201020T123917Z
LAST-MODIFIED:20201020T123917Z
UID:26257-1604073600-1604079000@spildansk.dk
SUMMARY:Spil Dansk koncert
DESCRIPTION:Velkommen til en stund med dansk musik i anledning af Spil Dansk ugen. Spil Dansk-fejringen er tilbage for 20. gang\, og som vanligt bliver det næsten umuligt at overhøre og overse\, at den rød-hvide musikfest rulles ud over hele landet.
URL:https://spildansk.dk/kalender/spil-dansk-koncert-26/
LOCATION:Ringkøbing Rådhushal\, Ved Fjorden 6\, Ringkøbing\, 6950
CATEGORIES:Koncert
ATTACH;FMTTYPE=image/jpeg:https://spildansk.dk/wp-content/uploads/2020/10/spildansk-301020.jpg
ORGANIZER;CN="Kulturskolen Ringk%C3%B8bing-Skjern":MAILTO:kulturskolen@rksk.dk
END:VEVENT
BEGIN:VEVENT
DTSTART;TZID=Europe/Copenhagen:20201030T173000
DTEND;TZID=Europe/Copenhagen:20201030T223000
DTSTAMP:20260424T014643
CREATED:20200820T101328Z
LAST-MODIFIED:20200820T101328Z
UID:24590-1604079000-1604097000@spildansk.dk
SUMMARY:Rocazino Koncert
DESCRIPTION:Rocazino er et dansk popband\, der hittede i 1980’erne. Frontfigurerne var sangerinde Ulla Cold og komponist\, tekstforfatter og keyboardspiller Jesper Winge Leisner\, der også dannede par privat. De øvrige medlemmer var Bjarne G. Jespersen (flygel\, synthesizer)\, Michael Rasmussen (guitar)\, Helge Solberg (bas) og Jesper Bo(trommer). \nBandet opstod i 1979 på initiativ af Jesper Winge Leisner. Året efter kom Ulla Cold med\, oprindeligt kun som baggrundsvokalist. Men da bandet i 1982 fik en pladekontrakt hos Polygram\, var det under betingelse af\, at Ulla Cold var forsanger på alle numre. \nBandets første single med A-siden “Elsk mig i nat” udkom i juli 1982 og solgte 20.000 eksemplarer på et halvt år. Via tv’s Eldorado kom de ret hurtigt i gang på alle landets scener og har til dato solgt over 800.000 albums. \nRocazino samlede alle de store hits fra deres seks plader i 1995 på Rocazi- no’s bedste\, som siden er blevet en klassiker. Pladen indeholder bandets største hits som fx “All My Love” (1984)\, “Elsk mig i nat” (1982)\, “Ridder lykke” (1986)\, “Dine øjne er så blå” (1985) og “Jordskælv” (1988). \nI 1988 indspillede gruppen desuden singlen “En for alle” sammen med det danske EM-Landshold\, som den officielle fodboldslagssang det år. \nI 1995 gik gruppen kortvarigt sammen for at komponere og indspille titelmelodien til filmen Cirkus Ildebrand. \nI 2005 kom endnu en opsamling i Universals Alle tiders serie\, dog med stort set samme numre som på forgængeren ti år tidligere. Bandet drog i 2006 ud på en eksklusiv revivalturné\, og proklamerede i det samme\, at de ikke har planer om nyt materiale. De er fortsat aktive som live-orkester. På trommer og bas er nye folk kommet til\, hhv. Karsten Mansa og Rune Holberg – resten af holdet er intakt. \nDet går ikke stille af sig\, når bandet spiller live og leverer deres hits på scenen\, så både unge og ældre ihærdigt synger med. \nDer spilles et langt sæt uden pause. \nMiddagen er kl. 17.30\, koncerten starter kl. 20.00. Dørene åbnes kl. 19.30.
URL:https://spildansk.dk/kalender/rocazino-koncert/
LOCATION:hotel fuglsøcentret\, dragsmurvej 6\, Knebel\, 8420
CATEGORIES:Koncert
ATTACH;FMTTYPE=image/jpeg:https://spildansk.dk/wp-content/uploads/2020/08/Rocazino.jpg
END:VEVENT
BEGIN:VEVENT
DTSTART;TZID=Europe/Copenhagen:20201030T183000
DTEND;TZID=Europe/Copenhagen:20201030T193000
DTSTAMP:20260424T014643
CREATED:20201023T113554Z
LAST-MODIFIED:20201023T114858Z
UID:26652-1604082600-1604086200@spildansk.dk
SUMMARY:Fællessang for Frihed med Sangglæde
DESCRIPTION:Fællessang for Frihed. Arrangementet er støttet af Københavns Kommune.
URL:https://spildansk.dk/kalender/faellessang-for-frihed-med-sangglaede/
LOCATION:HUSET i Magstræde\, Rådhusstræde 13\, København K\, 1466\, Danmark
CATEGORIES:Fællessang
ATTACH;FMTTYPE=image/jpeg:https://spildansk.dk/wp-content/uploads/2018/05/Sangglæde.jpg
END:VEVENT
BEGIN:VEVENT
DTSTART;TZID=Europe/Copenhagen:20201030T183000
DTEND;TZID=Europe/Copenhagen:20201030T210000
DTSTAMP:20260424T014643
CREATED:20201026T101641Z
LAST-MODIFIED:20201026T101854Z
UID:26784-1604082600-1604091600@spildansk.dk
SUMMARY:En wellnessaften i svømmehallen med stemningsmusik af Martha Elisabeth
DESCRIPTION:En særlig aften for kvinder\, der savner/ønsker mere netværk. \nGennem live musik og wellness oplevelse i svømmehallen tilbydes en aften\, hvor du som kvinde har mulighed for at lære andre kvinder i dit nærområde at kende. \nGennem live musik og wellness oplevelse i svømmehallen tilbydes en aften\, hvor du som kvinde har mulighed for at lære andre kvinder i dit nærområde at kende. \nOfte kan det afholde én fra at komme af sted til en spændende aktivitet at man mangler nogen at følges med\, hvilket kan være svært\, hvis man ikke har veninder med samme interesser\, er tilflytter eller mangler netværk lokalt af andre årsager. \nDenne aften vil du møde andre der ligesom dig interesserer sig for wellness og gerne vil lære nye at kende. \nVi tager imod dig når du kommer\, der vil være lidt frugt og drikke. \nDu kan se frem til en aften med sanseoplevelser\, både musisk og fysisk. \nMartha Elisabeth\, kvindelig dansk solo sangerinde vil spille live musik i løbet af aften\, og skulle du ikke kende hende i forvejen\, så kan vi blot fortælle\, at vi faldt for hendes bløde rolige stemme og akustiske guitar\, som måske også vil fange dig ind.\nDerudover kan du som deltager se frem til forskellige former for wellness oplevelser i svømmehallen: fodbad\, hammamsæbe og saunagus (kan ændres\, hvis der sker skærpelse ift Covid-19). \nDu skal medbringe badetøj\, håndklæde og hvad du ellers behøver for en aften i svømmehallen. \nCovid-19: Vi sikrer os løbende\, at vi overholder myndighedernes gældende retningslinjer for Covid-19 til arrangementet\, så det er trygt og sikkert for dig at deltage. Det betyder\, at vi sikrer os at vi lever op til de gældende grav\, at områderne er grundigt rengjorte\, samt at de ting der anvendes er rene eller ubrugte og kun bruges af dig.\nSom deltager forventer vi naturligvis også at du følger Sundhedsstyrrelsens retningslinjer.\nSkulle vi blive i tvivl om\, hvorvidt arrangementet er tilstrækkelig sikkert at gennemføre\, vil vi aflyse. Men vi krydser alt der krydses kan\, at det ikke bliver nødvendigt.
URL:https://spildansk.dk/kalender/en-wellnessaften-i-svoemmehallen-med-stemningsmusik-af-martha-elisabeth/
LOCATION:Ølstykke Svømmehal\, Stadionvej 14\, Ølstykke\, 3650
CATEGORIES:Alternative,Pop,Singer-songwriter
ATTACH;FMTTYPE=image/jpeg:https://spildansk.dk/wp-content/uploads/2020/10/Martha-Elisabeth_pressebillede.jpg
END:VEVENT
BEGIN:VEVENT
DTSTART;TZID=Europe/Copenhagen:20201030T190000
DTEND;TZID=Europe/Copenhagen:20201030T203000
DTSTAMP:20260424T014643
CREATED:20201027T151717Z
LAST-MODIFIED:20201027T151717Z
UID:26906-1604084400-1604089800@spildansk.dk
SUMMARY:SPIL DANSK 2020 i Musica Art
DESCRIPTION:Musica Art fejrer musikkens festuge 44 med SPIL DANSK EVENT 2020: \nEvent 2) Fredag 30. oktober 2020 kl. 19.00-20.30 i Musica Art. Tilmelding påkrævet senest 28. oktober på sms 23303108. \nVi synger fællessange med nye og kendte sange fra vores sangskat\, der vil være solist underholdning og vi byder på kaffe og lidt sødt. Du kan læse mere om vores Covid-19 retningslinjer og info om korsang på www.musicaart.dk – vi gør alt for at skabe trygge rammer. \nSTED: Musica Art\, Strandvejen 163\, 3.th.\, 2900 Hellerup. \nTILMELDING: Tilmelding senest 28/10 2020\, send sms til 23303108 med dit navn og angiv event 2) fredag 30/10 kl. 19.00. Når du har tilmeldt dig modtager du bekræftelse\, program og sange til at printe og tage med. Først til mølle\, vi har begrænset antal pladser af hensyn til sikkerhed og for at undgå smittefare. Vi holder god afstand og der vil være udluftning undervejs og håndsprit fremme i alle lokaler. \nENTRÉ: 100 kr. overføres via mobile pay til Musica Art: 931991 når du har modtaget din bekræftelse på din plads. Betaling senest 28/10. \nARRANGØR: Musica Art og Spil Dansk. \nMEDVIRKENDE: Korsangere\, musikere og gæster.
URL:https://spildansk.dk/kalender/spil-dansk-2020-i-musica-art-2/
LOCATION:Musica Art\, Strandvejen 163\, Hellerup\, 2900\, Danmark
CATEGORIES:Fællessang,Workshop
END:VEVENT
BEGIN:VEVENT
DTSTART;TZID=Europe/Copenhagen:20201030T190000
DTEND;TZID=Europe/Copenhagen:20201030T213000
DTSTAMP:20260424T014643
CREATED:20201008T083355Z
LAST-MODIFIED:20201008T083355Z
UID:25516-1604084400-1604093400@spildansk.dk
SUMMARY:Tundra
DESCRIPTION:Tundra laver pop\, der er inspireret af musik fra hele verden.\nFra det nordlige Skandinavien til det sydligste Indien. Fra det vestligste Afrika til det østligste Asien.\nKom og oplev dem live i Byens Hus \nKøb billetter (Via Place2book) \n  \nMed den karismatiske vokalist Sofie Trolde i front har Tundra i deres korte levetid allerede spillet en række anmelderroste koncerter.\nDerudover har Tundra blandt andet optrådt på Reeperbahn Festival i Hamborg\, SPOT festival\, Smukfest\, Nibe Festival\, Det Turkise Telt og har gjort sig bemærket ved at udfordre koncertformatet med optrædener på unikke locations\, såsom Thingbæk Kalkminer\, Nordsøen Oceanarium\, Redningshuset i Lønstrup og i det kirkelige rum. Tundra anvender i deres musik harper\, indiske instrumenter\, akustisk klaver og percussion som møder synthesizer lyde\, Würlitzer og elektrisk guitar\, der forenes gennem Sofie Trolles stærke vokal.
URL:https://spildansk.dk/kalender/tundra/
LOCATION:Byens Hus\, Mørke\, Ebeltoftvej 7\, Mørke\, 8544
CATEGORIES:Koncert
ATTACH;FMTTYPE=image/jpeg:https://spildansk.dk/wp-content/uploads/2020/10/Tundra.jpg
END:VEVENT
BEGIN:VEVENT
DTSTART;TZID=Europe/Copenhagen:20201030T190000
DTEND;TZID=Europe/Copenhagen:20201030T220000
DTSTAMP:20260424T014643
CREATED:20200827T084508Z
LAST-MODIFIED:20200827T084508Z
UID:24702-1604084400-1604095200@spildansk.dk
SUMMARY:Esben Just og HP lange
DESCRIPTION:Esben Just og HP Lange \nHar begge længe tilhørt den del af musiklivet i DK som sværger til den håndspillede og groovy musik med rødder i blues\, jazz og gospel.Esben Just har sammen med SPJUSTFROST og sine egne trioer gjort specielt musikken fra New Orleans til sit varemærke.HP.. \n  \nLange er funderet i blues traditionen men har selv boet i New Orleans\, og den specielle sound fra byen og Louisiana er ikke fjern for hamI disse koncerter med Esben Just & HP Lange\, er der lagt op til et frugtbart samarbejde mellem to solister\, der kender deres virkemidler og elsker musikken de fremfører. “Når de to sammen indtager scenen og lægger fra land\, er der garanteret en råswingende og original koncert fra start til slut.Begge musikere er gode\, gamle bekendte af Tante Olga\, som de i forskellige sammenhænge har besøgt jævnligt i over 20 år. Nu er de sammen i duoform og det bliver en spændende og god oplevelse.To måneder efter sin 50-års fødselsdag befandt musikeren og entertaineren Esben Just sig på Rigshospitalet med hjertet sat kunstigt i stå og brystkassen skåret op på langs. Efter en akut hjerteoperation på syv timer og fire døgn i koma var han i januar 2016 blevet “nulstillet”. Siden har han – både som menneske og som musiker – sat sine kræfter ind på at gøre disse erfaringer til en force. Den 30. september kan han nu opleves sammen med HP Lange\, fuld af livlig musik inspireret af New Orleans og med et budskab om fred\, taknemmelighed og kærlighed.Det er et personligt og tankevækkende show\, hvor Esben Just stiller sig selv og publikum spørgsmål som: Er det muligt at være den man var før\, samtidig med at man bliver klogere? Hvordan får vi mest ud af livet før døden? Og hvordan rejser man sig ved det træ\, man er faldet ved\, og undgår at kravle op i det igen? Og har jeg overhovedet lært noget?H.P. Lange er efterhånden en veteran på musikscenen i Danmark. Som en af de få fortolkere af den akustiske bluestradition\, har han siden midt-80’erne spillet mere end 100 koncerter om året i Danmark og udlandet – lige fra små klubber til de store blues & jazz festivaler.HP Lange har gennem tiden spillet sammen med stort set alle på den danske bluesscene – især med landevejskammeraten Troels Jensen\, som han har udgivet fire cd’er sammen med siden 2002. I 1994 tilbragte han et halvt år i New Orleans. I Louisiana og i Mississippi gravede han sig endnu dybere ned i bluestraditionen. Han spillede fast på flere klubber i New Orleans og mødte og lærte bl.a. fra delta-bluesmesteren\, John Mooney. Han spillede jobs i Memphis og i Mississippi Deltaet med guitaristen Kenny Brown\, som introducerede ham til den specielle bluestradition i de bakkede områder i det nordlige Mississippi. Her mødte og spillede han desuden med blues legender som Junior Kimbrough og R.L. Burnside. H.P. Lange har udgivet ni cd’er i eget navn. To af dem har vundet “The Danish Music Award” for bedste blues/roots udgivelse. Flere af cd’erne er blevet nomineret bl.a. for bedste folk-instrumentalist
URL:https://spildansk.dk/kalender/esben-just-og-hp-lange/
LOCATION:Tante olga\, Søndergade 6\, Randers C.\, 8900
CATEGORIES:Koncert
ATTACH;FMTTYPE=image/jpeg:https://spildansk.dk/wp-content/uploads/2020/08/HP-lange-Esben-Just-1000x500-1.jpg
END:VEVENT
BEGIN:VEVENT
DTSTART;TZID=Europe/Copenhagen:20201030T193000
DTEND;TZID=Europe/Copenhagen:20201030T193000
DTSTAMP:20260424T014643
CREATED:20201026T092406Z
LAST-MODIFIED:20201026T092406Z
UID:26769-1604086200-1604086200@spildansk.dk
SUMMARY:Jazz at the Museum - Sprøde toner med Jakob Sørensen
DESCRIPTION:Oplev den internationalt anerkendte jazzmusiker Jakob Sørensen i Smørum Gl. Skole fredag den 30. oktober kl. 19.30.\nNyd intim koncert med trompetisten\, der var årets nye jazznavn 2017. \n\nOplev den internationalt anerkendte jazzmusiker Jakob Sørensen i Smørum Gl. Skole fredag den 30. oktober kl. 19.30.\nNyd intim koncert med trompetisten\, der var årets nye jazznavn 2017. Jakob vil gå i dialog med museumsgenstandene og inddrage dem i sin fortolkning. Jakob vil endvidere fortælle om de inspirationskilder\, der går tilbage til opvæksten i den nordjyske by Sæby. \nBilletprisen inkluderer en forfriskning. \nArrangementet afholdes i henhold til regeringens aktuelle retningslinjer og anbefalinger for at mindske smitte med covid-19. \nVi sikrer blandt andet behørig afstand mellem stole\, håndsprit og tydelig skiltning. \nPublikum kan bidrage til et godt arrangement ved at blive hjemme ved de mindste symptomer\, og holde afstand til de øvrige gæster. \nNår du køber billetter til dig selv og /eller dine nærmeste\, sætter vi automatisk et sæde mellem jer og de næste der køber billet.
URL:https://spildansk.dk/kalender/jazz-at-the-museum-sproede-toner-med-jakob-soerensen/
LOCATION:Smørum Gl. Skole\, Smørum Bygade 35\, Smørum\, 2765
CATEGORIES:Jazz
ATTACH;FMTTYPE=image/jpeg:https://spildansk.dk/wp-content/uploads/2020/10/Jakob-Sørensen-scaled.jpg
END:VEVENT
BEGIN:VEVENT
DTSTART;TZID=Europe/Copenhagen:20201030T193000
DTEND;TZID=Europe/Copenhagen:20201030T213000
DTSTAMP:20260424T014643
CREATED:20200820T075041Z
LAST-MODIFIED:20200820T075251Z
UID:24574-1604086200-1604093400@spildansk.dk
SUMMARY:Kirkeorgel + trommesæt
DESCRIPTION:To garvede jazz-musikere viser\, hvor spændende musik der kan komme ud af at sætte et trommesæt ind i en kirke\, og lade trommerne og orglet spille sammen. Mads Granum betjener orglet\, og Martin Klausen sørger for trommerne. På billedet sidder Mads ved sit daglige orgel i Lindevang kirke
URL:https://spildansk.dk/kalender/kirkeorgel-trommesaet/
LOCATION:Gammel vor Frue kirke\, Roskilde\, Fruegade 2\, Roskilde\, 4000\, Danmark
CATEGORIES:Koncert
ATTACH;FMTTYPE=image/jpeg:https://spildansk.dk/wp-content/uploads/2020/08/Mads-Granum-ser-ud-over-kirke-fra-pulpitur.jpg
ORGANIZER;CN="Sj%C3%A6llands Kirkemusikskole":MAILTO:evbh@km.dk
END:VEVENT
BEGIN:VEVENT
DTSTART;TZID=Europe/Copenhagen:20201030T200000
DTEND;TZID=Europe/Copenhagen:20201030T200000
DTSTAMP:20260424T014643
CREATED:20201022T090424Z
LAST-MODIFIED:20201022T090424Z
UID:26529-1604088000-1604088000@spildansk.dk
SUMMARY:Koncert med Bragr
DESCRIPTION:www.bragr.dk spiller koncert på Struer Musikskole
URL:https://spildansk.dk/kalender/koncert-med-bragr-2/
LOCATION:Struer Musikskole\, Bredgade 6\, Struer\, 7600
CATEGORIES:Folk
ATTACH;FMTTYPE=image/jpeg:https://spildansk.dk/wp-content/uploads/2020/10/252D47CA-8B0A-4CAB-87FA-6F5159C8CA8A.jpeg
END:VEVENT
BEGIN:VEVENT
DTSTART;TZID=Europe/Copenhagen:20201030T200000
DTEND;TZID=Europe/Copenhagen:20201030T213000
DTSTAMP:20260424T014643
CREATED:20200928T131308Z
LAST-MODIFIED:20201020T092236Z
UID:25245-1604088000-1604093400@spildansk.dk
SUMMARY:Koncert med BRAGR - begrænset adgang pga. Covid-19
DESCRIPTION:koncert
URL:https://spildansk.dk/kalender/koncert-med-bragr/
LOCATION:Struer Musikskole\, Bredgade 6\, Struer\, 7600
CATEGORIES:Koncert
END:VEVENT
END:VCALENDAR