BEGIN:VCALENDAR
VERSION:2.0
PRODID:-//Spil Dansk - ECPv6.5.0//NONSGML v1.0//EN
CALSCALE:GREGORIAN
METHOD:PUBLISH
X-ORIGINAL-URL:https://spildansk.dk
X-WR-CALDESC:Events for Spil Dansk
REFRESH-INTERVAL;VALUE=DURATION:PT1H
X-Robots-Tag:noindex
X-PUBLISHED-TTL:PT1H
BEGIN:VTIMEZONE
TZID:Europe/Copenhagen
BEGIN:DAYLIGHT
TZOFFSETFROM:+0100
TZOFFSETTO:+0200
TZNAME:CEST
DTSTART:20200329T010000
END:DAYLIGHT
BEGIN:STANDARD
TZOFFSETFROM:+0200
TZOFFSETTO:+0100
TZNAME:CET
DTSTART:20201025T010000
END:STANDARD
END:VTIMEZONE
BEGIN:VEVENT
DTSTART;TZID=Europe/Copenhagen:20201029T200000
DTEND;TZID=Europe/Copenhagen:20201029T213000
DTSTAMP:20260423T165516
CREATED:20201020T124011Z
LAST-MODIFIED:20201020T124011Z
UID:26266-1604001600-1604007000@spildansk.dk
SUMMARY:Allehelgenskoncert i Sct. Jacobi Kirke
DESCRIPTION:Traditionen med at mindes de afdøde Allehelgens søndag\, den første søndag i november\, er omdrejningspunktet for denne koncert med musik\, som knytter sig til denne specielle søndag.\nVed koncerten medvirker sanglever fra Musik og Billedskolen\, under ledelse af Julie Wieland Weitling og Pernille Tommerup\, Musik & Billedskolens Blokfløjteensemble samt organist Christian Blom Hansen.
URL:https://spildansk.dk/kalender/allehelgenskoncert-i-sct-jacobi-kirke/
LOCATION:Sct Jacobi Kirke Varde\, Varde\, Danmark
CATEGORIES:Koncert
ATTACH;FMTTYPE=image/jpeg:https://spildansk.dk/wp-content/uploads/2020/10/SpilDansk-2019-VARDE-KULTUNAUT-sort-web-6.jpg
END:VEVENT
BEGIN:VEVENT
DTSTART;TZID=Europe/Copenhagen:20201029T200000
DTEND;TZID=Europe/Copenhagen:20201029T213000
DTSTAMP:20260423T165516
CREATED:20201020T174404Z
LAST-MODIFIED:20201020T174404Z
UID:26322-1604001600-1604007000@spildansk.dk
SUMMARY:Koncert med Kobter
DESCRIPTION:Hvad sker der\, når man kombinerer to poetiske trompeter og et orgel i et nutidigt\, elektronisk univers? \nI værket ”Elektrosuiten” bliver velkendte instrumenter udforsket og udfordret i kirkerummet\, og lyden er på samme tid velkendt og ny. \nVelkommen til en spændende aften torsdag d.29. Oktober kl20.00 i Hyltebjerg kirke i Vanløse med d’herrer Jakob Sørensen og Peter Marott på trompet og Jonas Kjærgaard på orgel. \nDer er fri entré til koncerten. \nVIDEO: https://youtu.be/4oS5lyqvmfM \n\n\n\n\n\n\nKOBTER på Spotify: https://open.spotify.com/artist/7Msy1yWliJvyVHvRATFCsc?si=0YILwbn9SdquEKHLeke-IA \n\n\n\n\n\n\nhttps://fb.me/e/3gDRNuEK1
URL:https://spildansk.dk/kalender/koncert-med-kobter/
LOCATION:Hyltebjerg kirke\, Ålekistevej 89\, Vanløse\, 2720
CATEGORIES:Koncert
ATTACH;FMTTYPE=image/png:https://spildansk.dk/wp-content/uploads/2020/10/42CF2EE0-C8EF-49D8-940F-A9F41104F2FF.png
END:VEVENT
BEGIN:VEVENT
DTSTART;TZID=Europe/Copenhagen:20201029T200000
DTEND;TZID=Europe/Copenhagen:20201029T213000
DTSTAMP:20260423T165517
CREATED:20201022T074220Z
LAST-MODIFIED:20201022T074220Z
UID:26515-1604001600-1604007000@spildansk.dk
SUMMARY:Koncert: Per Frost med Band
DESCRIPTION:Efter nogle yderst succesfulde festivalsæsoner med Per Chr. Frost tilbage som henholdsvis kapelmester og guitarist for GNAGS og derudover også indspilningen af et spritnyt GNAGS album – er det igen blevet tid til en turné i eget navn for én af Danmarks mest kendte og anerkendte musikere og hans forrygende band.\nMed 7 soloalbums i bagagen sætter Frost og hans musikere spilleglæden i højsædet. De er garanter for sublimt samspil og fængende musikalsk mangfoldighed i krydsfeltet mellem R&B\, rock\, funk\, singer/songwriter\, reggae\, blues\, jazz og en lejlighedsvis afstikker til GNAGS’ repertoire. \n“De sidste par år har meget stået i GNAGS’ tegn\, hvor jeg har fungeret som guitarist\, kapelmester og producer\, men et par mindre turnéer med mit eget repertoire og band er der også blevet tid til. Senest i 2018\, hvor jeg fik bekræftet\, at de 9-10 år jeg har været i gang med min solo-ting\, har bragt mig selv og bandet på et niveau hvor sangene\, instrumentalnumrene og samspillet hver aften når nye højder. Det er til stor glæde og fornøjelse – ikke mindst fordi vi mærker en meget positiv respons og stigende interesse fra publikum og arrangører alle de steder vi har besøgt.”\nDen århusianske guitarist/sanger/bassist m.m. har siden debuten i slutningen af 60’erne været aktiv som professionel musiker i et utal af sammenhænge\, men allerede i 1979 udsendtes den første soloplade. Vi skal dog helt frem til 2008 før Frost for alvor tager hul på solokarrieren live. \nPer Christian Frost har medvirket på over 180 danske albumudgivelser –en enestående bedrift\, der samtidig betyder\, at de fleste større solister i Danmark fra hans egen generation i et eller andet omfang har haft gavn af hans udtryksfulde spil som guitarist\, bassist eller producer. Udover 25 år i GNAGS er han mest kendt for længerevarende engagementer med Lis Sørensen\, Sanne Salomonsen\, Anne Dorte Michelsen\, Poul Krebs og Allan Olsen. I 1997 optrådte han med B.B. King ved blues-kongens besøg i Aarhus. I 2005 modtog Per Chr. Frost den prestigefyldte Ken Gudman mindepris og har qua sit medlemskab af GNAGS modtaget flere Grammyer. Derudover har han været kapelmester ved adskillige store arrangementer –bl.a. Skanderborg Festivalens 25 og 30-års jubilæum samt flere andre TV transmitterede koncerter. \nBandet: Per Chr. Frost: guitar/vokal Lars Daugaard: trommer (Savage Rose\, Poul Krebs\, GNAGS m.fl.) Peter Dencker: keys (TV2\, Bruce Guthro m.fl.) Henrik Møller Pedersen: bas (Anne Dorte Michelsen & Maria Bramsen\, Ida Corr m.fl.) \nPavillonsalen \nUnummererede pladser \nDørene åbnes kl. 19:00.\nBilletpris 150\,- kr. / i døren 175\,- kr.\nBilletpris for UNGBILLET – under 22 år i forsalg 100\,- kr. Gyldigt ID medbringes. \nKørestolsplads inkl. ledsager kan købes hos Pavillionen på tlf: 8632 1633
URL:https://spildansk.dk/kalender/koncert-per-frost-med-band/
LOCATION:Kulturhuset Pavillonen\, Kærvej 11\, Grenaa\, 8500
CATEGORIES:Koncert,Rock
ATTACH;FMTTYPE=image/jpeg:https://spildansk.dk/wp-content/uploads/2020/10/Per-Frost-og-band.jpeg
ORGANIZER;CN="Pavillonen":MAILTO:kontor@pavillonen.dk
END:VEVENT
BEGIN:VEVENT
DTSTART;TZID=Europe/Copenhagen:20201029T200000
DTEND;TZID=Europe/Copenhagen:20201029T213000
DTSTAMP:20260423T165517
CREATED:20201022T080712Z
LAST-MODIFIED:20201022T080712Z
UID:26521-1604001600-1604007000@spildansk.dk
SUMMARY:Koncert: Per Frost med Band
DESCRIPTION:Efter nogle yderst succesfulde festivalsæsoner med Per Chr. Frost tilbage som henholdsvis kapelmester og guitarist for GNAGS og derudover også indspilningen af et spritnyt GNAGS album – er det igen blevet tid til en turné i eget navn for én af Danmarks mest kendte og anerkendte musikere og hans forrygende band.\nMed 7 soloalbums i bagagen sætter Frost og hans musikere spilleglæden i højsædet. De er garanter for sublimt samspil og fængende musikalsk mangfoldighed i krydsfeltet mellem R&B\, rock\, funk\, singer/songwriter\, reggae\, blues\, jazz og en lejlighedsvis afstikker til GNAGS’ repertoire. \n“De sidste par år har meget stået i GNAGS’ tegn\, hvor jeg har fungeret som guitarist\, kapelmester og producer\, men et par mindre turnéer med mit eget repertoire og band er der også blevet tid til. Senest i 2018\, hvor jeg fik bekræftet\, at de 9-10 år jeg har været i gang med min solo-ting\, har bragt mig selv og bandet på et niveau hvor sangene\, instrumentalnumrene og samspillet hver aften når nye højder. Det er til stor glæde og fornøjelse – ikke mindst fordi vi mærker en meget positiv respons og stigende interesse fra publikum og arrangører alle de steder vi har besøgt.”\nDen århusianske guitarist/sanger/bassist m.m. har siden debuten i slutningen af 60’erne været aktiv som professionel musiker i et utal af sammenhænge\, men allerede i 1979 udsendtes den første soloplade. Vi skal dog helt frem til 2008 før Frost for alvor tager hul på solokarrieren live. \nPer Christian Frost har medvirket på over 180 danske albumudgivelser –en enestående bedrift\, der samtidig betyder\, at de fleste større solister i Danmark fra hans egen generation i et eller andet omfang har haft gavn af hans udtryksfulde spil som guitarist\, bassist eller producer. Udover 25 år i GNAGS er han mest kendt for længerevarende engagementer med Lis Sørensen\, Sanne Salomonsen\, Anne Dorte Michelsen\, Poul Krebs og Allan Olsen. I 1997 optrådte han med B.B. King ved blues-kongens besøg i Aarhus. I 2005 modtog Per Chr. Frost den prestigefyldte Ken Gudman mindepris og har qua sit medlemskab af GNAGS modtaget flere Grammyer. Derudover har han været kapelmester ved adskillige store arrangementer –bl.a. Skanderborg Festivalens 25 og 30-års jubilæum samt flere andre TV transmitterede koncerter. \nBandet: Per Chr. Frost: guitar/vokal Lars Daugaard: trommer (Savage Rose\, Poul Krebs\, GNAGS m.fl.) Peter Dencker: keys (TV2\, Bruce Guthro m.fl.) Henrik Møller Pedersen: bas (Anne Dorte Michelsen & Maria Bramsen\, Ida Corr m.fl.) \nPavillonsalen \nUnummererede pladser \nDørene åbnes kl. 19:00.\nBilletpris 150\,- kr. / i døren 175\,- kr.\nBilletpris for UNGBILLET – under 22 år i forsalg 100\,- kr. Gyldigt ID medbringes. \nKørestolsplads inkl. ledsager kan købes hos Pavillionen på tlf: 8632 1633
URL:https://spildansk.dk/kalender/koncert-per-frost-med-band-2/
LOCATION:Kulturhuset Pavillonen\, Kærvej 11\, Grenaa\, 8500
CATEGORIES:Koncert
ATTACH;FMTTYPE=image/jpeg:https://spildansk.dk/wp-content/uploads/2020/10/Per-Frost-og-band-1.jpeg
ORGANIZER;CN="Pavillonen":MAILTO:kontor@pavillonen.dk
END:VEVENT
BEGIN:VEVENT
DTSTART;TZID=Europe/Copenhagen:20201029T200000
DTEND;TZID=Europe/Copenhagen:20201029T213000
DTSTAMP:20260423T165517
CREATED:20201022T090643Z
LAST-MODIFIED:20201022T090950Z
UID:26525-1604001600-1604007000@spildansk.dk
SUMMARY:Sange fra Kanten
DESCRIPTION:Glæd jer til at opleve Ginne Marker\, Esben Kronborg og Ida Wenøe \nDen danske musikbranche er for størstedelen centreret om København og de store pladeselskaber som i en vid udstrækning former morgendagens stjerner. Men ude i provinsen på kanten af branchen og byen findes der en masse spændende sangskrivere der har skabt en levevej og karriere gennem deres sange og musik. Sangskrivere som skriver og udgiver musik med afsæt i deres eget levet liv og hjemstavn. \n“Hvad vil der ske\, hvis man samlede disse sangskrivere på scenen til en koncert og fortællinger med sange fra kanten? Det kunne jeg godt tænke mig\, at finde ud af”. Sådan sagde Esben Kronborg da han var forbi kontoret for at præsentere sin ide. Vi var med på ideen og vi er nu klar med den første omgang af “Sange Fra Kanten”. \n 
URL:https://spildansk.dk/kalender/sange-fra-kanten/
LOCATION:KulisseLageret\, teatertorvet 1\, Horsens\, 8700\, Danmark
CATEGORIES:Koncert,Singer-songwriter
ATTACH;FMTTYPE=image/png:https://spildansk.dk/wp-content/uploads/2020/10/samlet-billede.png
ORGANIZER;CN="KulisseLageret":MAILTO:kujv@horsens.dk
END:VEVENT
BEGIN:VEVENT
DTSTART;TZID=Europe/Copenhagen:20201029T200000
DTEND;TZID=Europe/Copenhagen:20201029T220000
DTSTAMP:20260423T165517
CREATED:20201006T121206Z
LAST-MODIFIED:20201006T121206Z
UID:25434-1604001600-1604008800@spildansk.dk
SUMMARY:Stig Skovlind LIVE på Karosserifabrikken
DESCRIPTION:Karosserifabrikken siger: Danske verdensmusikalske sange i topklasse!\n\n\n \n\n\nDet er ikke hver dag vi præsenterer en lokal artist på tærsklen til succes og anerkendelse med et charmerende og musikalsk topklasse orkester i ryggen.\n\n\n \n\n\nMed sit nye dansk/cubanske hit ‘ Jeg skal hilse fra Havana ’ under armen\, spiller Stig Skovlind og hans Kaffeorkester på Karosserifabrikken d. 29.10.2020.\n\n\n \n\n\nP5 grovspiller sangen og mange tusinde mennesker i hele norden bøjer sig i disse dage for Stig Skovlind’s særlige verdensmusikalske gryderet bestående af nærværende dansk poesi tilsat musik der minder dig om en varm dag i Havana.\n\n\n \n\n\nMusikerne:\n\n\nStig Skovlind – vokal og fortællinger\n\n\nClaudia Campagnol – piano/vokal\n\n\nNicolai Levring – guitar\n\n\nKlaus Menzer – trommer\n\n\nAsger Steenholdt – bas\n\n\nJesper Nørløv – percussion\n\n\n \n\n\nStig Skovlind hører oftere og oftere ordet verdensklasse om sine koncerter med de super engagerede musikere i Kaffeorkestret. På en god dag i Helsingør\, med vinden i ryggen\, tror vi at der venter en både overraskende musikalsk oplevelse og også ægte menneskevarme og nærvær fra de voksne og top professionelle artister.\n\n\n \n\n\nDørene åbner klokken 19.00
URL:https://spildansk.dk/kalender/stig-skovlind-live-paa-karosserifabrikken/
LOCATION:karosserifabrikken\, murergade 8\, Helsingør\, 3000
CATEGORIES:Koncert,Singer-songwriter,World
ATTACH;FMTTYPE=image/jpeg:https://spildansk.dk/wp-content/uploads/2020/10/119552583_3823374637692568_9032342601927026005_o-1.jpg
ORGANIZER;CN="Coffeeshop Records":MAILTO:stig@skovlind.dk
END:VEVENT
BEGIN:VEVENT
DTSTART;TZID=Europe/Copenhagen:20201029T200000
DTEND;TZID=Europe/Copenhagen:20201029T220000
DTSTAMP:20260423T165517
CREATED:20201007T143536Z
LAST-MODIFIED:20201007T143536Z
UID:25454-1604001600-1604008800@spildansk.dk
SUMMARY:Jasper Høiby's Planet B
DESCRIPTION:Josh Arcoleo: sax \nJasper Høiby: bas\, elektronik \nMarc Michel: trommer \nPlanet B er den internationalt anerkendte og prisbelønnede bassist og komponist Jasper Høibys nye projekt. Sammen med sin trio Phronesis har han så godt som lagt hele verden ned og imponeret både festivalpublikummer og anmeldere. Men hvad gør Høiby så\, efter at ha’ erobret hele verden? Ja\, han opfinder en ny. Planet B er et utopi\, et musikalsk statement om\, hvad der vil ske\, hvis menneskeheden kunne starte forfra. En kommentar til verden om klima og samhørighed båret af både fornyelse og nysgerrighed. Publikum får her et privilegeret blik ind bag Jasper Høibys utæmmede kreativitet og søgen efter nye platforme. Sammen med to stjerne-musikere på den europæiske jazzscene englænderen Josh Arcoleo og franskmanden Marc Michel dykker han ned i det ukendte og omfavner ethvert øjeblik ved brug af komponerede skitser og improviserede lydflader\, blandet  med lydklip fra nogle af de mest inspirerende tænkere fra fortid til nutid. En slags budskabsjazz – totalt originalt og fascinerende\, hvor musikerne formår at gøre selv det komplekse og abstrakte til en ubesværet og nærværende oplevelse.
URL:https://spildansk.dk/kalender/jasper-hoeibys-planet-b/
LOCATION:Giant Steps\, Giant Steps\, SIMAC\, Graaesvej 27\, 5700\, Svendborg
CATEGORIES:Koncert
ATTACH;FMTTYPE=image/jpeg:https://spildansk.dk/wp-content/uploads/2020/10/Jasper-Høibys-Planet-B-Kopi.jpeg
END:VEVENT
BEGIN:VEVENT
DTSTART;TZID=Europe/Copenhagen:20201029T200000
DTEND;TZID=Europe/Copenhagen:20201029T223000
DTSTAMP:20260423T165517
CREATED:20200827T085410Z
LAST-MODIFIED:20201005T082222Z
UID:24705-1604001600-1604010600@spildansk.dk
SUMMARY:Aflyst - Piaf & Aznavour – en hymne til kærligheden
DESCRIPTION:Oplev Kirsten Siggaard og Kim Hammelsvang\, når de med deres fantastiske sangstemmer fremfører en evigtvarende kærlighedshistorie. Hør Edith Piaf og Charles Aznavours elskede sange bundet sammen i en kærlighedscabaret.. \nDet stor oplevelse\, når vi skal nydede de store hits som “Non\, je ne regrette rien” \, “La vie en rose” og “She”. \nEn smuk kærlighedscabaret \nKirsten Siggaard og Kim Hammelsvang “spiller” ikke de 2 franske legender\, men bruger deres chansons til at fortælle en eviggyldig kærlighedshistorie. Man oplever mødet mellem to sjæle\, og de mange følelser og kærligheden driver dem ud i forelskelse\, jalousi\, vanvid\, begær\, svigt og forsoning. Du hører naturligvis de store hits som “Non\, je ne regrette rien” \, “La vie en rose” og “She”\, men også mindre kendte numre er med i denne halvanden times tur i kærligheds-karusellen. De fleste sange bliver sunget på dansk\, men der vil også blive fortolket på fransk og engelsk. \n  \nForestillingen spillede for fulde huse på Det Ny Teater i foråret 2019. \n  \nMedvirkende: Kirsten Siggaard og Kim Hammelsvang \n  \nInstruktør: Jan Hertz \n  \nPianist og arrangør: Mathias Grove \n  \nMulige tilkøb \nForret: Fransk løgsuppe med sprød crouton og Gryére. \nHovedret: Coq au vin serveret med klassisk fransk ratatouille og kartoffelgratin. \nKr. 265\,- pr. person. \n  \nDessert: Dessert tallerken bestående af Gatau Marcel\, Creme Brûlee og frisk frugt. \nKr. 85\,- pr. person. \n  \nTeknisk arrangør er CSB og JFM. \nMedbring din billet i udprintet form \n 
URL:https://spildansk.dk/kalender/piaf-aznavour-en-hymne-til-kaerligheden/
LOCATION:Arena Randers\, Fyensgade 1\, Randers C\, 8900
ATTACH;FMTTYPE=image/jpeg:https://spildansk.dk/wp-content/uploads/2020/08/piaf_aznavour.jpg
END:VEVENT
BEGIN:VEVENT
DTSTART;TZID=Europe/Copenhagen:20201029T200000
DTEND;TZID=Europe/Copenhagen:20201029T223000
DTSTAMP:20260423T165517
CREATED:20201019T103311Z
LAST-MODIFIED:20201019T103311Z
UID:25976-1604001600-1604010600@spildansk.dk
SUMMARY:Kasper Søeborg & Lars Bo Kujahn  featuring Mirwais Fedai:  Indian Tabla
DESCRIPTION:Koncert og CD release: ”Word’n Global” \nMusik med inspiration fra andalusisk flamenco-ild over orientalske arabesker til skandinavisk kølighed.\nDet er instrumental musik med både lyrisk meditative og energifyldte eksplosive øjeblikke.\nEn stil som Søeborg & Kujahn med et glimt i øjet kalder: Scandaluzian Fusion.\nMusik komponeret og spillet – inspireret af digte. Musikken fremført – imellem oplæsning af digte fra Rumi over Pablo Neruda og\n1000 år gamle kinesiske digte.\n\nLars Bo Kujahn \n– Qanoon (klaverets forgænger)\, samt orientalsk percussion.\nEr expert i mellemøstlig musik og har bl.a spillet med Outlandish\, Infernal\, The Middle East Peace Orchestra og Fatma Zidan\, udgivet CD’er\, modtaget flere Danish Music Awards og turneret verden rundt med bandet ”Oriental Mood”.\nKasper Søeborg \n– spansk og 12-strenget guitar.\nHar gennem mange år specialiseret sig i den spanske guitarmusik med inspiration fra Flamenco og Latin-Amerika hvilket bla. har ført til tre bogudgivelser med egne kompositioner og mange CD-udgivelser.
URL:https://spildansk.dk/kalender/kasper-soeeborg-lars-bo-kujahn-featuring-mirwais-fedai-indian-tabla/
LOCATION:KoncertKirken\, Blågårds Plads\, Kbh. N\, 2200
CATEGORIES:Jazz,World
ATTACH;FMTTYPE=image/jpeg:https://spildansk.dk/wp-content/uploads/2020/10/6-kopi.jpg
END:VEVENT
BEGIN:VEVENT
DTSTART;TZID=Europe/Copenhagen:20201030T000000
DTEND;TZID=Europe/Copenhagen:20201030T000000
DTSTAMP:20260423T165517
CREATED:20201020T124253Z
LAST-MODIFIED:20201020T124253Z
UID:26273-1604016000-1604016000@spildansk.dk
SUMMARY:Fællessang for skoler
DESCRIPTION:Alle skoler i Varde Kommune er inviteret til fællessang med band fra Musik & Billedskolen. Skolerne deltager via livestreaming fra Trane Skole & Børneby afd. Thorstrup.
URL:https://spildansk.dk/kalender/faellessang-for-skoler-2/
LOCATION:Thorstrup Skole\, Thorstrupvej 18\, Varde\, 6800\, Danmark
CATEGORIES:Fællessang
ATTACH;FMTTYPE=image/jpeg:https://spildansk.dk/wp-content/uploads/2020/10/SpilDansk-2019-VARDE-KULTUNAUT-sort-web-7.jpg
ORGANIZER;CN="Spil Dansk Styregruppen Varde Kommune":MAILTO:pvoo@varde.dk
END:VEVENT
BEGIN:VEVENT
DTSTART;TZID=Europe/Copenhagen:20201030T000000
DTEND;TZID=Europe/Copenhagen:20201030T000000
DTSTAMP:20260423T165517
CREATED:20201020T124504Z
LAST-MODIFIED:20201020T124504Z
UID:26277-1604016000-1604016000@spildansk.dk
SUMMARY:Bugge & Jensen
DESCRIPTION:Folkemusikkoncert med 2 rigsspillemænd\, folkemusikduoen Jensen & Bugge.
URL:https://spildansk.dk/kalender/bugge-jensen/
LOCATION:Carolineparken\, Carolineparken 1a\, Varde\, 6800
CATEGORIES:Koncert
ATTACH;FMTTYPE=image/jpeg:https://spildansk.dk/wp-content/uploads/2020/10/SpilDansk-2019-VARDE-KULTUNAUT-sort-web-8.jpg
ORGANIZER;CN="Spil Dansk Styregruppen Varde Kommune":MAILTO:pvoo@varde.dk
END:VEVENT
BEGIN:VEVENT
DTSTART;TZID=Europe/Copenhagen:20201030T080000
DTEND;TZID=Europe/Copenhagen:20201030T084000
DTSTAMP:20260423T165517
CREATED:20200820T095238Z
LAST-MODIFIED:20200820T095238Z
UID:24587-1604044800-1604047200@spildansk.dk
SUMMARY:Syng dansk morgensang på Trunderup Friskole
DESCRIPTION:Vi udvider vores morgensang denne dag\, og inviterer forældre\, bedsteforældre\, skolekreds og bylaug til at deltage i at synge med på danske sange. \nArrangementet bliver afholdt\, hvis det er tilladt i forhold til Coronarestriktioner.
URL:https://spildansk.dk/kalender/syng-dansk-morgensang-paa-trunderup-friskole/
LOCATION:Trunderup Friskole og Børnehave\, Trunderup Gade 5\, Kværndrup\, 5772
CATEGORIES:Fællessang
END:VEVENT
BEGIN:VEVENT
DTSTART;TZID=Europe/Copenhagen:20201030T080000
DTEND;TZID=Europe/Copenhagen:20201030T093000
DTSTAMP:20260423T165517
CREATED:20201029T180801Z
LAST-MODIFIED:20201029T180959Z
UID:26934-1604044800-1604050200@spildansk.dk
SUMMARY:Vi synger regnen væk!
DESCRIPTION:Fælles musik aktivitet med børn.
URL:https://spildansk.dk/kalender/vi-synger-regnen-vaek/
LOCATION:ucsyd\, Campusalle 20\, Aabenraa\, 6200
CATEGORIES:Fællessang
END:VEVENT
BEGIN:VEVENT
DTSTART;TZID=Europe/Copenhagen:20201030T082000
DTEND;TZID=Europe/Copenhagen:20201030T092000
DTSTAMP:20260423T165517
CREATED:20201022T114411Z
LAST-MODIFIED:20201022T114411Z
UID:26562-1604046000-1604049600@spildansk.dk
SUMMARY:Admiral Awesome
DESCRIPTION:LMS koncert
URL:https://spildansk.dk/kalender/admiral-awesome-9/
LOCATION:Bredagerskolen\, Bredager 26\, Jelling\, 7300\, Danmark
END:VEVENT
BEGIN:VEVENT
DTSTART;TZID=Europe/Copenhagen:20201030T084500
DTEND;TZID=Europe/Copenhagen:20201030T094500
DTSTAMP:20260423T165517
CREATED:20201022T114544Z
LAST-MODIFIED:20201022T114544Z
UID:26588-1604047500-1604051100@spildansk.dk
SUMMARY:Goin' Back To New Orleans
DESCRIPTION:LMS koncert
URL:https://spildansk.dk/kalender/goin-back-to-new-orleans-10/
LOCATION:Engesvang Skole\, Gl. Kongevej 97\, Engesvang\, 7442\, Danmark
END:VEVENT
BEGIN:VEVENT
DTSTART;TZID=Europe/Copenhagen:20201030T084500
DTEND;TZID=Europe/Copenhagen:20201030T094500
DTSTAMP:20260423T165517
CREATED:20201022T114556Z
LAST-MODIFIED:20201022T114556Z
UID:26599-1604047500-1604051100@spildansk.dk
SUMMARY:Jazz Five
DESCRIPTION:LMS koncert
URL:https://spildansk.dk/kalender/jazz-five-2/
LOCATION:Kornmarkskolen\, Afd. Skævinge\, Ny Harløsevej 17\, Skævinge\, 3320\, Danmark
END:VEVENT
BEGIN:VEVENT
DTSTART;TZID=Europe/Copenhagen:20201030T084500
DTEND;TZID=Europe/Copenhagen:20201030T094500
DTSTAMP:20260423T165517
CREATED:20201022T114610Z
LAST-MODIFIED:20201022T114610Z
UID:26613-1604047500-1604051100@spildansk.dk
SUMMARY:Mzungu Kichaa
DESCRIPTION:LMS koncert
URL:https://spildansk.dk/kalender/mzungu-kichaa-8/
LOCATION:Mørdrupskolen\, Rugmarken 1 A\, Espergærde\, 3060\, Danmark
END:VEVENT
BEGIN:VEVENT
DTSTART;TZID=Europe/Copenhagen:20201030T084500
DTEND;TZID=Europe/Copenhagen:20201030T094500
DTSTAMP:20260423T165517
CREATED:20201022T114619Z
LAST-MODIFIED:20201022T114619Z
UID:26621-1604047500-1604051100@spildansk.dk
SUMMARY:Virelai
DESCRIPTION:LMS koncert
URL:https://spildansk.dk/kalender/virelai-9/
LOCATION:Sct. Jørgens Skole\, Helligkorsvej 42 A\, Roskilde\, 4000\, Danmark
END:VEVENT
BEGIN:VEVENT
DTSTART;TZID=Europe/Copenhagen:20201030T090000
DTEND;TZID=Europe/Copenhagen:20201030T100000
DTSTAMP:20260423T165517
CREATED:20201022T114538Z
LAST-MODIFIED:20201022T114538Z
UID:26583-1604048400-1604052000@spildansk.dk
SUMMARY:Eastwind
DESCRIPTION:LMS koncert
URL:https://spildansk.dk/kalender/eastwind-7/
LOCATION:Balsmoseskolen\, Æblevangen 126\, Smørum\, 2765\, Danmark
END:VEVENT
BEGIN:VEVENT
DTSTART;TZID=Europe/Copenhagen:20201030T090000
DTEND;TZID=Europe/Copenhagen:20201030T100000
DTSTAMP:20260423T165517
CREATED:20201022T114549Z
LAST-MODIFIED:20201022T114549Z
UID:26593-1604048400-1604052000@spildansk.dk
SUMMARY:HeartBeat Group
DESCRIPTION:LMS koncert
URL:https://spildansk.dk/kalender/heartbeat-group-11/
LOCATION:Overlund Skole\, Viborg\, Viborg\, Danmark
END:VEVENT
BEGIN:VEVENT
DTSTART;TZID=Europe/Copenhagen:20201030T090000
DTEND;TZID=Europe/Copenhagen:20201030T100000
DTSTAMP:20260423T165517
CREATED:20201022T114559Z
LAST-MODIFIED:20201022T114559Z
UID:26603-1604048400-1604052000@spildansk.dk
SUMMARY:Martin Baltser
DESCRIPTION:LMS koncert
URL:https://spildansk.dk/kalender/martin-baltser-7/
LOCATION:Busses Skole\, Mosebuen 1\, Gentofte\, 2820\, Danmark
END:VEVENT
BEGIN:VEVENT
DTSTART;TZID=Europe/Copenhagen:20201030T090500
DTEND;TZID=Europe/Copenhagen:20201030T100500
DTSTAMP:20260423T165517
CREATED:20201022T114614Z
LAST-MODIFIED:20201022T114614Z
UID:26619-1604048700-1604052300@spildansk.dk
SUMMARY:Sisters of Jazz
DESCRIPTION:LMS koncert
URL:https://spildansk.dk/kalender/sisters-of-jazz-9/
LOCATION:Rathlouskolen\, Odder\, Odder\, Danmark
END:VEVENT
BEGIN:VEVENT
DTSTART;TZID=Europe/Copenhagen:20201030T092000
DTEND;TZID=Europe/Copenhagen:20201030T102000
DTSTAMP:20260423T165517
CREATED:20201022T114412Z
LAST-MODIFIED:20201022T114412Z
UID:26563-1604049600-1604053200@spildansk.dk
SUMMARY:Admiral Awesome
DESCRIPTION:LMS koncert
URL:https://spildansk.dk/kalender/admiral-awesome-10/
LOCATION:Bredagerskolen\, Bredager 26\, Jelling\, 7300\, Danmark
END:VEVENT
BEGIN:VEVENT
DTSTART;TZID=Europe/Copenhagen:20201030T095500
DTEND;TZID=Europe/Copenhagen:20201030T105500
DTSTAMP:20260423T165517
CREATED:20201022T114605Z
LAST-MODIFIED:20201022T114605Z
UID:26608-1604051700-1604055300@spildansk.dk
SUMMARY:Mirja Klippel
DESCRIPTION:LMS koncert
URL:https://spildansk.dk/kalender/mirja-klippel-10/
LOCATION:Sophienborgskolen\, Sophienborg Allé 9\, Hillerød\, 3400\, Danmark
END:VEVENT
BEGIN:VEVENT
DTSTART;TZID=Europe/Copenhagen:20201030T100000
DTEND;TZID=Europe/Copenhagen:20201030T110000
DTSTAMP:20260423T165517
CREATED:20201008T075958Z
LAST-MODIFIED:20201008T075958Z
UID:25511-1604052000-1604055600@spildansk.dk
SUMMARY:Junglebongo
DESCRIPTION:Kom med til koncerten BongoBjørne og SalsaSlanger – for børn og voksne.\n\n\n\n\n\nVi skal på tur i den livlige og spændende Jungle. Her møder vi forskellige dyr. Vilde og tamme\, modige og bange – store og små\, med dyrepoter på. De kan sjove rytmer\, sange og bevægelser. Vi møder bl.a. den frække Maracas-abe\, Salsa-slangen der danser og den store\, stærke Bongo-Bjørn. \nHr. & Fru Bongo: perkussionist Jesper Nørløv og sanger/musiker Jeanette Arp spiller\, synger og danser. \nBilletter hentes her. \nKoncerten er en del af Spil Dansk Ugen.
URL:https://spildansk.dk/kalender/junglebongo/
LOCATION:Tingbjerg bibliotekkulturhus\, Skolesiden 4\, København\, 2700
CATEGORIES:Koncert
ATTACH;FMTTYPE=image/jpeg:https://spildansk.dk/wp-content/uploads/2020/10/bongo_1.jpeg
END:VEVENT
BEGIN:VEVENT
DTSTART;TZID=Europe/Copenhagen:20201030T100000
DTEND;TZID=Europe/Copenhagen:20201030T110000
DTSTAMP:20260423T165517
CREATED:20201022T114556Z
LAST-MODIFIED:20201022T114556Z
UID:26600-1604052000-1604055600@spildansk.dk
SUMMARY:Johanna Juhola Trio
DESCRIPTION:LMS koncert
URL:https://spildansk.dk/kalender/johanna-juhola-trio-7/
LOCATION:Ejer Bavnehøj Skole\, Risvej 26\, Tebstrup\, Skanderborg\, 8660\, Danmark
END:VEVENT
BEGIN:VEVENT
DTSTART;TZID=Europe/Copenhagen:20201030T100000
DTEND;TZID=Europe/Copenhagen:20201030T110000
DTSTAMP:20260423T165517
CREATED:20201022T114607Z
LAST-MODIFIED:20201022T114607Z
UID:26609-1604052000-1604055600@spildansk.dk
SUMMARY:Moussa Diallo Trio
DESCRIPTION:LMS koncert
URL:https://spildansk.dk/kalender/moussa-diallo-trio-4/
LOCATION:v. Vejle Bibliotek\, Willy Sørensens PL. 1\, Vejle\, 7100\, Danmark
END:VEVENT
BEGIN:VEVENT
DTSTART;TZID=Europe/Copenhagen:20201030T100000
DTEND;TZID=Europe/Copenhagen:20201030T110000
DTSTAMP:20260423T165517
CREATED:20201022T114610Z
LAST-MODIFIED:20201022T114610Z
UID:26614-1604052000-1604055600@spildansk.dk
SUMMARY:Mzungu Kichaa
DESCRIPTION:LMS koncert
URL:https://spildansk.dk/kalender/mzungu-kichaa-9/
LOCATION:Mørdrupskolen\, Rugmarken 1 A\, Espergærde\, 3060\, Danmark
END:VEVENT
BEGIN:VEVENT
DTSTART;TZID=Europe/Copenhagen:20201030T100000
DTEND;TZID=Europe/Copenhagen:20201030T110000
DTSTAMP:20260423T165517
CREATED:20201023T113553Z
LAST-MODIFIED:20201023T114720Z
UID:26650-1604052000-1604055600@spildansk.dk
SUMMARY:Fællessang for Frihed med Anna Kruse & Nicholas Kingo
DESCRIPTION:Fællessang for Frihed. Arrangementet er støttet af Københavns Kommune.
URL:https://spildansk.dk/kalender/faellessang-for-frihed-med-anna-kruse-nicholas-kingo/
LOCATION:Børneuniversitetet på Vesterbro\, Valdemarsgade 14\, København\, 1665\, Danmark
CATEGORIES:Fællessang
ATTACH;FMTTYPE=image/jpeg:https://spildansk.dk/wp-content/uploads/2020/10/kruse-og-kingo-scaled.jpg
END:VEVENT
BEGIN:VEVENT
DTSTART;TZID=Europe/Copenhagen:20201030T100000
DTEND;TZID=Europe/Copenhagen:20201030T140000
DTSTAMP:20260423T165517
CREATED:20200928T131034Z
LAST-MODIFIED:20200928T131034Z
UID:25241-1604052000-1604066400@spildansk.dk
SUMMARY:Sangskriverworkshop fra KODA med Martin Stender
DESCRIPTION:Workshop
URL:https://spildansk.dk/kalender/sangskriverworkshop-fra-koda-med-martin-stender/
LOCATION:Parkskolen\, Park Alle 2\, Struer\, 7600
CATEGORIES:Workshop
END:VEVENT
END:VCALENDAR