BEGIN:VCALENDAR
VERSION:2.0
PRODID:-//Spil Dansk - ECPv6.5.0//NONSGML v1.0//EN
CALSCALE:GREGORIAN
METHOD:PUBLISH
X-WR-CALNAME:Spil Dansk
X-ORIGINAL-URL:https://spildansk.dk
X-WR-CALDESC:Events for Spil Dansk
REFRESH-INTERVAL;VALUE=DURATION:PT1H
X-Robots-Tag:noindex
X-PUBLISHED-TTL:PT1H
BEGIN:VTIMEZONE
TZID:Europe/Copenhagen
BEGIN:DAYLIGHT
TZOFFSETFROM:+0100
TZOFFSETTO:+0200
TZNAME:CEST
DTSTART:20210328T010000
END:DAYLIGHT
BEGIN:STANDARD
TZOFFSETFROM:+0200
TZOFFSETTO:+0100
TZNAME:CET
DTSTART:20211031T010000
END:STANDARD
END:VTIMEZONE
BEGIN:VEVENT
DTSTART;TZID=Europe/Copenhagen:20211104T193000
DTEND;TZID=Europe/Copenhagen:20211104T213000
DTSTAMP:20260423T135020
CREATED:20211010T083318Z
LAST-MODIFIED:20211010T083503Z
UID:28836-1636054200-1636061400@spildansk.dk
SUMMARY:Spil Dansk og fællessang med Flyndersøkoret
DESCRIPTION:Torsdag d. 4. november arrangerer Flyndersøkoret fællessang i Estvad-Rønbjerg forsamlingshus. \nI anledning af Spil Dansk Ugen omlægger Flyndersøkoret sin ugentlige torsdags øveaften til en aften med fællessang for alle sangglade. \nVi synger fra den helt nye Højskolesangbog\, og man behøver ikke være korsanger for at møde op for at synge sammen og nyde samværet. Medbring kaffekurven og gerne den nye Højskolesamgbog. \nAlle er velkomne! \n 
URL:https://spildansk.dk/kalender/spil-dansk-og-faellessang-med-flyndersoekoret/
LOCATION:Estvad-Rønbjerg Forsamlingshus\, Præstevejen 20\, Rønbjerg\, Skive\, 7800\, Danmark
CATEGORIES:Fællessang
ATTACH;FMTTYPE=image/jpeg:https://spildansk.dk/wp-content/uploads/2021/10/Flyndersoekoret-2021-scaled.jpg
ORGANIZER;CN="Flynders%C3%B8koret":MAILTO:kbhulgaard@gmail.com
END:VEVENT
BEGIN:VEVENT
DTSTART;TZID=Europe/Copenhagen:20211104T193000
DTEND;TZID=Europe/Copenhagen:20211104T210000
DTSTAMP:20260423T135020
CREATED:20210913T115258Z
LAST-MODIFIED:20210913T115258Z
UID:28307-1636054200-1636059600@spildansk.dk
SUMMARY:Michael Klinke duo
DESCRIPTION:Michael Klinke besøger den charmerende cafe Fata Morgana på Nørrebro\, hans eget hood\, og byder på et repertoire af swingende\, finurlige popviser på dansk om kærlighed med og uden kvaler og om livet i kanten af samfundet\, ofte med en vis politisk ukorrekthed – men altid med det glimt i øjet som kan få både ord og toner ud til gud og hver mand m/k. \nKlinke er en nærværende intertainer og en dreven showbisse som i mere end tre årtier har faret landevejene tynde med sit country/blues-band Edisons. Han har siden midthalvfemserne udgivet adskillige Cd-album med egne sange på dansk som alle har opnået betydelig airplay.
URL:https://spildansk.dk/kalender/michael-klinke-duo/
LOCATION:CAFÉ FATA´MORGANA\, Borups Plads 26\, København N.\, 2200\, Danmark
CATEGORIES:Blues,Folk,Singer-songwriter,Viser
ATTACH;FMTTYPE=image/jpeg:https://spildansk.dk/wp-content/uploads/2021/09/Spil-dansk-21-t-FB-.jpg
END:VEVENT
BEGIN:VEVENT
DTSTART;TZID=Europe/Copenhagen:20211104T190000
DTEND;TZID=Europe/Copenhagen:20211104T220000
DTSTAMP:20260423T135020
CREATED:20211020T202716Z
LAST-MODIFIED:20211020T202716Z
UID:29435-1636052400-1636063200@spildansk.dk
SUMMARY:Salon Køge Spiller Igen
DESCRIPTION:Koncert – hos en bilforhandler?\nDenne Salon Køge Spiller Igen udfordrer koncertoplevelsen og flytter ind hos Peugeot på Tangmosevej\n\nLineup denne torsdag er:\nSyrlige Rosea – 4 unge kvinder som spiller hybridjazz med inspiration fra folk og klassisk musik\nNevermind Vermont – original voksenrock om livet efter diskoteksalderen og de valg vi træffer\, eller undlader at træffe\, undervejs\nViseinspektørerne – trio som dyrker glade\, humoristiske\, swingende\, underfundige viser og sange fra den danske sangskat.\nJonas Grundsted – musiker\, sanger og songwriter – sange om kærlighed\, længsel\, lyst og tvivl\, om alting og ingenting.\n\nBilletter til salg gennem Billetto – https://billetto.dk/e/salon-koge-spiller-igen-billetter-577150\nDet er stadig en aften med spilleglæde\, kreativitet og vovemod i højsædet når 4 acts med tilknytning til Køge spiller 30 minutters koncerter hver.\n\nMidt på aftenen er der igen en samtale imellem publikum og de optrædende om alle de spørgsmål som trænger sig på\, når man lytter og bliver inspireret/rørt/stødt/provokeret af musik.\n\nSalon’erne er støtte af Køge Kommune\, William Demantfonden\, og Slots- og Kulturstyrelsen.\n\nKøge Spiller Igen er non-profit hvor alle indtægter går direkte til dem som optræder – derfor er alle samarbejdsparnere velkommen:-)
URL:https://spildansk.dk/kalender/salon-koege-spiller-igen/
LOCATION:Bilhuset køge\, Tangmosevej 95\, Køge\, 4600
CATEGORIES:Koncert
ATTACH;FMTTYPE=image/jpeg:https://spildansk.dk/wp-content/uploads/2021/10/Koncert-hjerte-lille-scaled.jpg
ORGANIZER;CN="K%C3%B8ge Spiller Igen":MAILTO:koegespillerigen@gmail.com
END:VEVENT
BEGIN:VEVENT
DTSTART;TZID=Europe/Copenhagen:20211104T190000
DTEND;TZID=Europe/Copenhagen:20211104T213000
DTSTAMP:20260423T135020
CREATED:20210316T134418Z
LAST-MODIFIED:20210922T114354Z
UID:27039-1636052400-1636061400@spildansk.dk
SUMMARY:“80’er-syng-dansk-aften” med THE FORMÆND
DESCRIPTION:Hvem kan ikke skråle med på “All my love”\, “Vågner i natten”\, “Mr. Swing King”\, “Indianer”\, “Jeg vil la’ lyset brænde” og alle de andre fede\, danske 80’er-hits! \nÅrets Spil Dansk-koncert 2021 på Sejergaardsskolen bliver intet mindre end et BRAG af en hyldest til alle de fedeste\, danske 80’er-kunstnere som \nDodo & The Dodos\, Sanne\, Tøsedrengene\, TV-2\, Gnags\, Malurt og Ray Dee Ohh – ja\, vi kunne blive ved!! \nHele 2 timers hygge og glad ”syng-dansk-aften” med bandet “The Formænd”\, der er i flere år har været fast bestanddel ved Sejergaardsskolens Spil Dansk-koncerter. \n“The Formænd” består af: \nEva Hede (sang)\, Steen Bjerregaard Christiansen (keys og sang)\, Holger Beck (guitar og sang)\, Anders Larsen (guitar)\, Peter Andersen (bas) og Christoffer Beck (trommer)\nSe mere om “The Formænd”\n \nProgrammet for aftenen: \n18.00: Dørene åbnes\, og det er muligt at hygge sig med lidt at spise og drikke (luksus-sandwich + sodavand kan købes på forhånd sammen med billetten). Der er desuden salg af kaffe\, kage\, vand/sodavand m.m. \n19.00: “The Formænd”\, 1. sæt \n20.00: Pause\, hvor caféen er åben \n20.15: “The Formænd”\, 2. sæt \nKoncerten finder sted i Sejergaardsskolens hal (med indkørsel fra Møllevej). Parkeringsmuligheder på skolen ved Vestergade og Møllevej. Desuden på P-pladsen på Tølløsevej\, Jernbanevej og butikstorvet ved SuperBrugsen (Vestergade) \nBEMÆRK\, at der er unummererede siddepladser – og at der ikke kan købes alkoholiske drikke. \nBilletter her
URL:https://spildansk.dk/kalender/80er-syng-dansk-aften-med-the-formaend/
LOCATION:sejergaardsskolen\, Sejergårdsvej 2\, Tølløse\, 4340\, Danmark
CATEGORIES:Koncert,Pop
ATTACH;FMTTYPE=image/jpeg:https://spildansk.dk/wp-content/uploads/2021/03/theformaend-spil-dansk-billede-til-sponsorer-scaled.jpg
ORGANIZER;CN="sejergaardsskolen":MAILTO:musikskolen@sejergaardsskolen.dk
END:VEVENT
BEGIN:VEVENT
DTSTART;TZID=Europe/Copenhagen:20211104T190000
DTEND;TZID=Europe/Copenhagen:20211104T210000
DTSTAMP:20260423T135020
CREATED:20211025T101153Z
LAST-MODIFIED:20211025T101153Z
UID:29489-1636052400-1636059600@spildansk.dk
SUMMARY:Syng Dansk i Als Hallen
DESCRIPTION:Als-Øster Hurup Kirkekor og Als Mandekor synger et blandet program og markerer bl.a. såvel genforenings- som befrielsesjubilæet med et års forsinkelse. Desuden er der potpourrier af Kai Normann-Andersen og Kim Larsen samt et potpourri over vindermelodier fra det danske Melodi Grand Prix gennem årene. Og så skal hallen selvfølgelig genlyde af fællessang\, når den danske sangskat får\, hvad den fortjener.
URL:https://spildansk.dk/kalender/syng-dansk-i-als-hallen-2/
LOCATION:Als Hallen\, Vikingvej 8\, Als\, 9560
CATEGORIES:Koncert,Fællessang
ATTACH;FMTTYPE=image/jpeg:https://spildansk.dk/wp-content/uploads/2021/10/2019-Syng-Dansk-i-Als-Hallen-5.jpg
ORGANIZER;CN="Als-%C3%98ster Hurup Kirkekor":MAILTO:troels.kold@gmail.com
END:VEVENT
BEGIN:VEVENT
DTSTART;TZID=Europe/Copenhagen:20211104T190000
DTEND;TZID=Europe/Copenhagen:20211104T210000
DTSTAMP:20260423T135020
CREATED:20211012T094954Z
LAST-MODIFIED:20211012T094954Z
UID:29019-1636052400-1636059600@spildansk.dk
SUMMARY:Froms Ballader – musikalsk viseforedrag
DESCRIPTION:Igennem 40 år forkælede Ida og Bent From publikum med deres tekster og melodier. Hvem husker ikke Pensionistvisen\, To lys på et bord og Ta me ud å fisk. \nFroms Ballader er en rejse tilbage til de revyviser\, popsange og ballader\, som har holdt gennem alle årene – fremført af Henrik Egholm og akkompagneret af Jesper From. \nJesper From vil som søn af Ida og Bent i øvrigt underholde med nogle af de mange anekdoter og historier bag sangene og makkerparret.
URL:https://spildansk.dk/kalender/froms-ballader-musikalsk-viseforedrag/
LOCATION:Solrød Bibliotek og Kulturhus\, Solrød Center 4\, Solrød Strand\, 2680
CATEGORIES:Foredrag,Viser
ATTACH;FMTTYPE=image/jpeg:https://spildansk.dk/wp-content/uploads/2021/10/Froms-Ballader.-Foto-Joergen-C.-Joergensen-scaled.jpg
ORGANIZER;CN="Solr%C3%B8d Bibliotek":MAILTO:rfi@solrod.dk
END:VEVENT
BEGIN:VEVENT
DTSTART;TZID=Europe/Copenhagen:20211104T190000
DTEND;TZID=Europe/Copenhagen:20211104T210000
DTSTAMP:20260423T135020
CREATED:20211012T090310Z
LAST-MODIFIED:20211012T090310Z
UID:29006-1636052400-1636059600@spildansk.dk
SUMMARY:Sangaften med Jacob Tybjerg
DESCRIPTION:Jacob Tybjerg akkompagnerer på klaveret\, når vi sammen synger et godt udvalg fra den nye udgave af Højskolesangbogen\, vores alle sammens fælles kulturarv.\nBilletter bestilles via www.musikogbilledskolen.dk/spildansk
URL:https://spildansk.dk/kalender/sangaften-med-jacob-tybjerg/
LOCATION:Varde Bibliotek\, Rådhusstræde 2\, Varde\, 6800
CATEGORIES:Fællessang
ATTACH;FMTTYPE=image/jpeg:https://spildansk.dk/wp-content/uploads/2021/10/SPIL-DANSK-UGEN-2021-Grafik-kvadrat-1-varde-kommune-8-scaled.jpg
END:VEVENT
BEGIN:VEVENT
DTSTART;TZID=Europe/Copenhagen:20211104T190000
DTEND;TZID=Europe/Copenhagen:20211104T210000
DTSTAMP:20260423T135020
CREATED:20211011T095024Z
LAST-MODIFIED:20211011T095024Z
UID:28876-1636052400-1636059600@spildansk.dk
SUMMARY:Aftenkoncert på HOM
DESCRIPTION:Kom og få en skøn aften i selskab med glade optrædende fra HOM´s  kor\, bands og soloelever.\nOplev bl.a. Kor de´Light\, Boy Banden\, Do It og Homming Birds.\nGratis adgang og alle er velkommen.
URL:https://spildansk.dk/kalender/aftenkoncert-paa-hom/
LOCATION:HOM Krovejen 26\, Gundestrup\, 4571 Grevinge\, Krovejen 26\, Gundestrup\, Grevinge\, 4571
CATEGORIES:Koncert
ATTACH;FMTTYPE=image/jpeg:https://spildansk.dk/wp-content/uploads/2021/10/Spil-Dansk-To-store-Kor-scaled.jpg
END:VEVENT
BEGIN:VEVENT
DTSTART;TZID=Europe/Copenhagen:20211104T190000
DTEND;TZID=Europe/Copenhagen:20211104T210000
DTSTAMP:20260423T135020
CREATED:20211006T162228Z
LAST-MODIFIED:20211006T162424Z
UID:28759-1636052400-1636059600@spildansk.dk
SUMMARY:Musikhyggeaften på Roskilde Gymnasium
DESCRIPTION:En festlig og fyrig aften\, hvor musikholdene på A-niveau vil optræde med egne kompositioner og med fortolkninger af andres numre. \n 
URL:https://spildansk.dk/kalender/musikhyggeaften-paa-roskilde-gymnasium/
LOCATION:Roskilde Gymnasium\, Domkirkepladsen\, Roskilde\, 4000\, Danmark
CATEGORIES:Pop
END:VEVENT
BEGIN:VEVENT
DTSTART;TZID=Europe/Copenhagen:20211104T190000
DTEND;TZID=Europe/Copenhagen:20211104T200000
DTSTAMP:20260423T135020
CREATED:20211026T151547Z
LAST-MODIFIED:20211026T151547Z
UID:29610-1636052400-1636056000@spildansk.dk
SUMMARY:Sangaften i Teaterhuset
DESCRIPTION:Vi synger årstidens sange fra Højskolesangebogen. \nDet bliver en uformel og hyggelig aften\, og du behøver ikke har have sangmæssige forudsætninger – bare du har lyst til at synge med. Arrangementet varer ca. en times tid. \nOrganist Thomas von Jessen sidder ved klaveret. \n 
URL:https://spildansk.dk/kalender/sangaften-i-teaterhuset/
LOCATION:Teaterhuset\, Kalvehaven 6\, Nivå\, 2990
CATEGORIES:Fællessang
END:VEVENT
BEGIN:VEVENT
DTSTART;TZID=Europe/Copenhagen:20211104T190000
DTEND;TZID=Europe/Copenhagen:20211104T200000
DTSTAMP:20260423T135020
CREATED:20211026T134950Z
LAST-MODIFIED:20211026T134950Z
UID:29586-1636052400-1636056000@spildansk.dk
SUMMARY:Spil dansk koncert
DESCRIPTION:Vi skal synge fællessange og lytte på De Rytmiske Unoder\, Skørping-Fræer Kirkekor og sangelever fra Rebild Kulturskole.
URL:https://spildansk.dk/kalender/spil-dansk-koncert-27/
LOCATION:Skørping Nykirke\, Kirkevej\, S\, 9520\, Danmark
CATEGORIES:Koncert
ATTACH;FMTTYPE=image/jpeg:https://spildansk.dk/wp-content/uploads/2021/10/De-rytmiske-unoder.jpg
END:VEVENT
BEGIN:VEVENT
DTSTART;TZID=Europe/Copenhagen:20211104T190000
DTEND;TZID=Europe/Copenhagen:20211104T200000
DTSTAMP:20260423T135020
CREATED:20211025T141855Z
LAST-MODIFIED:20211025T141940Z
UID:29536-1636052400-1636056000@spildansk.dk
SUMMARY:Kvindelige forbilleder – Rikke Lie
DESCRIPTION:En professionel artist med personlig musikstil fuld af varme og good vibes.\nPersonlige tekster og catchy grooves – altsammen bundet sammen af Rikke Lies udadvendte og inspirerende sceneoptræden.
URL:https://spildansk.dk/kalender/kvindelige-forbilleder-rikke-lie/
LOCATION:Springbrættet\, Garnisonen 46-48\, Garnisonen 46-48\, 4100
CATEGORIES:Koncert
ORGANIZER;CN="ringsted Musik &amp%3B Kulturskole":MAILTO:tba@ringsted
END:VEVENT
BEGIN:VEVENT
DTSTART;TZID=Europe/Copenhagen:20211104T190000
DTEND;TZID=Europe/Copenhagen:20211104T200000
DTSTAMP:20260423T135020
CREATED:20211020T151514Z
LAST-MODIFIED:20211020T151514Z
UID:29430-1636052400-1636056000@spildansk.dk
SUMMARY:Jazz at the Museum
DESCRIPTION:solokoncert med slagtøj
URL:https://spildansk.dk/kalender/jazz-at-the-museum-13/
LOCATION:Byhistorisk Hus\, Hovedvejen 134\, Glostrup\, 2600
CATEGORIES:Koncert
ATTACH;FMTTYPE=image/jpeg:https://spildansk.dk/wp-content/uploads/2021/10/Marilyn-Photo-Roar-Vestad-scaled.jpg
ORGANIZER;CN="Glostrup sogn":MAILTO:glostrup.sogn@km.dk
END:VEVENT
BEGIN:VEVENT
DTSTART;TZID=Europe/Copenhagen:20211104T190000
DTEND;TZID=Europe/Copenhagen:20211104T200000
DTSTAMP:20260423T135020
CREATED:20211013T071259Z
LAST-MODIFIED:20211013T071259Z
UID:29091-1636052400-1636056000@spildansk.dk
SUMMARY:Musikskolens spil dansk cafékoncert på Skellet
DESCRIPTION:Musikskolens elever underholder med dansk musik og sang for at fejre spil dansk ugen. Oplev korsang\, sangsolister og instrumentalister. Og selvfølgelig skal vi også synge sammen.
URL:https://spildansk.dk/kalender/musikskolens-spil-dansk-cafekoncert-paa-skellet/
LOCATION:Næstved Musikskole\, Skellet 29\, Næstved\, 4700
CATEGORIES:Koncert,Fællessang
ATTACH;FMTTYPE=image/jpeg:https://spildansk.dk/wp-content/uploads/2021/10/StemmeStoeberiet-koncert-scaled.jpg
ORGANIZER;CN="N%C3%A6stved Musikskole":MAILTO:musikskolen@naestved.dk
END:VEVENT
BEGIN:VEVENT
DTSTART;TZID=Europe/Copenhagen:20211104T190000
DTEND;TZID=Europe/Copenhagen:20211104T200000
DTSTAMP:20260423T135020
CREATED:20211006T094706Z
LAST-MODIFIED:20211006T094706Z
UID:28739-1636052400-1636056000@spildansk.dk
SUMMARY:SiffGraversen:DUO
DESCRIPTION:SiffGraversen:duo består af sangerinde & skuespiller Nicoline Siff Møller og pianist & kapelmester Søren Graversen. Tro mod duoens koncept\, diverteres der med egne arrangementer og fortolkninger\, af de seneste 4 årtiers større og mindre danske pop-klassikere. Mads Langer\, Thomas Helmig\, Anne linnet\, Teitur  & C.V. Jørgensen – for blot at nævne et lille udsnit
URL:https://spildansk.dk/kalender/siffgraversenduo/
LOCATION:Toftlund Kirke\, Melvang 9\, toftlund\, 6520
CATEGORIES:Pop,Singer-songwriter
ATTACH;FMTTYPE=image/jpeg:https://spildansk.dk/wp-content/uploads/2021/10/sif.jpeg
END:VEVENT
BEGIN:VEVENT
DTSTART;TZID=Europe/Copenhagen:20211104T190000
DTEND;TZID=Europe/Copenhagen:20211104T200000
DTSTAMP:20260423T135020
CREATED:20210915T120934Z
LAST-MODIFIED:20211014T120644Z
UID:28332-1636052400-1636056000@spildansk.dk
SUMMARY:‘Jazz at the Museum’ med Marilyn Mazur
DESCRIPTION:Musik skal opleves live og her en muligheden for at komme helt tæt på.  Marilyn Mazur sætter musik til Byhistorisk hus torsdag den 4. november. Gå ikke glip af denne enestående mulighed for at komme til en intim koncert med en af Danmarks mest enestående musikere. \nMerilyn har spillet sammen med nogle af verdens største jazz musikere\, men står også selv i front bakket op af  danskbaserede musikere. Hun komponerer\, musik til en del film\, teater og specialprojekter. \nLæs mere og få billetter via Glostrup Bibliotek .
URL:https://spildansk.dk/kalender/jazz-at-the-museum-med-marilyn-mazur/
LOCATION:Byhistorisk hus\, Hovedvejen 134\, Glostrup\, 2600
CATEGORIES:Koncert,Jazz
ATTACH;FMTTYPE=image/png:https://spildansk.dk/wp-content/uploads/2021/09/Jazz-til-Spildansk-kalenderen.png
ORGANIZER;CN="Glostrup Musikskole":MAILTO:musikskolen@glostrup.dk
END:VEVENT
BEGIN:VEVENT
DTSTART;TZID=Europe/Copenhagen:20211104T183000
DTEND;TZID=Europe/Copenhagen:20211104T190000
DTSTAMP:20260423T135020
CREATED:20211001T160255Z
LAST-MODIFIED:20211001T160255Z
UID:28647-1636050600-1636052400@spildansk.dk
SUMMARY:Unge sangskrivertalenter
DESCRIPTION:Unge sangskrivningstalenter fra Furesø Musikskole synger og spiller egne sange.\nKoncerten arrangeres af Furesø Musikskole som en del af Spil Dansk i Furesø 2021.\nGratis adgang.
URL:https://spildansk.dk/kalender/unge-sangskrivertalenter-2/
LOCATION:Galaksen\, Bymidten 48\, Værløse\, 3500
CATEGORIES:Koncert
END:VEVENT
BEGIN:VEVENT
DTSTART;TZID=Europe/Copenhagen:20211104T181500
DTEND;TZID=Europe/Copenhagen:20211104T194500
DTSTAMP:20260423T135020
CREATED:20211029T100557Z
LAST-MODIFIED:20211029T100557Z
UID:30127-1636049700-1636055100@spildansk.dk
SUMMARY:Klassisk koncert SpilDansk
DESCRIPTION:Kom og oplev Musik- og Kulturskolens traditionelle “torsdagskoncert” i SpilDansk-ugen. I år foregår koncerten i salen under Ølstykke Bibliotek. Der bliver et spændende program med Musik- og Kulturskolens klassiske ensembler\, elever og lærere. Gratis adgang.
URL:https://spildansk.dk/kalender/klassisk-koncert-spildansk/
LOCATION:Ølstykke Bibliotek\, Østervej 1A\, Ølstykke\, 3650
CATEGORIES:Koncert
ATTACH;FMTTYPE=image/jpeg:https://spildansk.dk/wp-content/uploads/2021/10/Klassisk_koncert.jpeg
ORGANIZER;CN="Egedal Musik- og Kulturskole":MAILTO:musikogkulturskolen@egekom.dk
END:VEVENT
BEGIN:VEVENT
DTSTART;TZID=Europe/Copenhagen:20211104T180000
DTEND;TZID=Europe/Copenhagen:20211104T190000
DTSTAMP:20260423T135020
CREATED:20211028T135113Z
LAST-MODIFIED:20211028T135113Z
UID:30007-1636048800-1636052400@spildansk.dk
SUMMARY:Spil Dansk koncert med Gladsaxe Musik- og Billedskole
DESCRIPTION:Læn dig tilbage og nyd en akustisk koncert\, når elever fra Gladsaxe Musik- og Billedskole giver musikalske smagsprøver på deres færdigheder fra undervisningen indenfor mange forskellige stilarter. Klapsalver er velkomne! \nBare kom forbi biblioteket – tilmelding er ikke nødvendig.
URL:https://spildansk.dk/kalender/spil-dansk-koncert-med-gladsaxe-musik-og-billedskole/
LOCATION:Gladsaxe Hovedbibliotek\, Søborg Hovedgade 220\, Søborg\, 2860
CATEGORIES:Koncert
ORGANIZER;CN="Gladsaxe Bibliotekerne":MAILTO:bibliotek@gladsaxe.dk
END:VEVENT
BEGIN:VEVENT
DTSTART;TZID=Europe/Copenhagen:20211104T170000
DTEND;TZID=Europe/Copenhagen:20211104T203000
DTSTAMP:20260423T135020
CREATED:20211005T071543Z
LAST-MODIFIED:20211005T071543Z
UID:28718-1636045200-1636057800@spildansk.dk
SUMMARY:Fællessang\, hotdog og koncert
DESCRIPTION:Torsdag 4. november kl. 17.00-20.30 i Marie Magdalene Kirke. \nVi starter Spil Dansk Dagen med fællessang i kirken kl. 17.00. Bagefter er der mulighed for at købe hotdogs fra en pølsevogn uden for kirken. \nKl. 19.00 samles vi atter i kirken til koncert med Ensemble Eiradís\, som er en klassisk\, aarhusiansk saxofonkvartet. De vil spille danske\, velkendte værker og sange\, i et afvekslende program\, der rummer både salmer og sange af f.eks. Flemming Bamse Jørgensen\, alt sammen i kvartettens eget arrangement.\nEntre kr. 50\,- betales ved indgangen kontant eller på Mobile Pay 91 364. Alle er velkomne.
URL:https://spildansk.dk/kalender/faellessang-hotdog-og-koncert/
LOCATION:Marie Magdalene Kirke\, Bøjstrupvej 30\, Ryomgård\, 8550\, Danmark
CATEGORIES:Koncert
ATTACH;FMTTYPE=image/jpeg:https://spildansk.dk/wp-content/uploads/2021/10/Ensemble-Eiradis.jpg
ORGANIZER;CN="marie magdalene sogn":MAILTO:biba@km.dk
END:VEVENT
BEGIN:VEVENT
DTSTART;TZID=Europe/Copenhagen:20211104T170000
DTEND;TZID=Europe/Copenhagen:20211104T180000
DTSTAMP:20260423T135020
CREATED:20211101T085400Z
LAST-MODIFIED:20211101T085805Z
UID:30160-1636045200-1636048800@spildansk.dk
SUMMARY:Syng dansk med Mette og Rasmus
DESCRIPTION:Her i Coronatiden har det vist sig\, hvor meget det betyder for os at synge – og at synge sammen. Så kom og vær med til et par håndfulde sange valgt ud fra temaet Enhver fugl synger med sit næb – fugletema!\nSognepræst Mette Ladefoged er vært\, og organist Ramus Gerdes sidder ved flyglet. \n 
URL:https://spildansk.dk/kalender/syng-dansk-med-mette-og-rasmus-2/
LOCATION:Hvidovre Kirke\, Hvidovre Kirkeplads 3\, Hvidovre\, 2650\, Danmark
CATEGORIES:Fællessang
ATTACH;FMTTYPE=image/jpeg:https://spildansk.dk/wp-content/uploads/2021/11/fugle-noder.jpg
END:VEVENT
BEGIN:VEVENT
DTSTART;TZID=Europe/Copenhagen:20211104T170000
DTEND;TZID=Europe/Copenhagen:20211104T180000
DTSTAMP:20260423T135020
CREATED:20211018T114601Z
LAST-MODIFIED:20211018T114601Z
UID:29393-1636045200-1636048800@spildansk.dk
SUMMARY:Five o’clock-sang
DESCRIPTION:Uge 44 er udråbt til Spil Dansk Uge i både Danmark og\nSydslesvig. Også SSF Harreslev Distrikt støtter op om\ndette projekt. Vi vil i en lille times tid synge sammen bl.a.\nsange fra SSF’s nye sangbog og evt. Højskolesangbogen. Måske får vi også lært den ene og anden nye sang.\nKirsten Anthonisen og Lisser Ramm-Mikkelsen fører gennem programmet. Der serveres kaff e/te og småkager.\nVel mødt til en hyggelig stund. Gratis entré.
URL:https://spildansk.dk/kalender/five-oclock-sang-5/
LOCATION:Harreslev Danske Skole\, Süderstr. 90\, Harrislee\, D-24955\, Danmark
END:VEVENT
BEGIN:VEVENT
DTSTART;TZID=Europe/Copenhagen:20211104T170000
DTEND;TZID=Europe/Copenhagen:20211104T180000
DTSTAMP:20260423T135020
CREATED:20211011T143417Z
LAST-MODIFIED:20211011T143417Z
UID:28944-1636045200-1636048800@spildansk.dk
SUMMARY:Five o'clock-sang
DESCRIPTION:Fællessang på Harreslev Danske Skole\, blå sal. Vi synger sange fra bl. a. Højskolesangbogen.
URL:https://spildansk.dk/kalender/five-oclock-sang-4/
LOCATION:Harreslev Danske Skole\, Süderstr. 90\, Harrislee\, D-24955\, Danmark
CATEGORIES:Fællessang
ORGANIZER;CN="SSFHarreslev Distrikt":MAILTO:kirsten@kanan.dk
END:VEVENT
BEGIN:VEVENT
DTSTART;TZID=Europe/Copenhagen:20211104T170000
DTEND;TZID=Europe/Copenhagen:20211104T180000
DTSTAMP:20260423T135020
CREATED:20210908T095430Z
LAST-MODIFIED:20210908T095430Z
UID:28204-1636045200-1636048800@spildansk.dk
SUMMARY:Familiekoncert i Spjald Kulturhus
DESCRIPTION:Torsdag den 4/11 kl. 17.00 i Spjald kulturhus inviterer Spjald Skole og Spjald Grønbjerg Musikforening til en forrygende GRATIS familiekoncert. \nDrums Across består af tre trommeslagere/perkussionister\, der har spillet sammen i 35 år. De har turneret i både ind- og udland igennem de sidste mange år. \nDrums Across har vundet en Grammy i Sydafrika med Thlale Makhene. De har blandt andet lagt trommer til tegnefilmen “Aberne og det hemmelige våben”.
URL:https://spildansk.dk/kalender/familiekoncert-i-spjald-kulturhus/
LOCATION:Spjald Kulturhus\, Spjald\, Ringkøbing-Skjern\, Danmark
CATEGORIES:Koncert
ATTACH;FMTTYPE=image/jpeg:https://spildansk.dk/wp-content/uploads/2021/09/Drums-Across.jpg
END:VEVENT
BEGIN:VEVENT
DTSTART;TZID=Europe/Copenhagen:20211104T170000
DTEND;TZID=Europe/Copenhagen:20211104T174500
DTSTAMP:20260423T135020
CREATED:20210831T134024Z
LAST-MODIFIED:20210831T134024Z
UID:28131-1636045200-1636047900@spildansk.dk
SUMMARY:Så syng da! -i anledning af "Spil Dansk"
DESCRIPTION:Hele familien kan være med\, når Assens Musikskole inviterer inden for til fællessang for hele familien. Det sker i samarbejde med Tobaksgaarden i Assens.\nSangerinden Kristine Eiler Ernst synger for akkompagneret af Rikke Barsøe Florens på tværfløjte og Birgit Nedergaard Madsen ved klaveret.\nVi fejrer den danske sangskat med “Så Syng Da!” i anledning af SPIL DANSK med børnenes sange\, fars sange\, mormors sange\, gode klassikere og nye hits på programmet.\nArrangement er blevet en rigtig hyggelig tradition\, og det er dejlig stund\, som det er oplagt at tage familien med til.\nI Tobaksgaarden kan man købe kage og kaffe/kakao for 49 kr. – bestil i så fald gerne bord forinden på tlf.: 64 71 20 31.\nARRANGEMENTET ER GRATIS OG UDEN TILMELDING. BARE MØD OP!
URL:https://spildansk.dk/kalender/saa-syng-da-i-anledning-af-spil-dansk/
LOCATION:Tobaksgaarden\, Tobaksgådern 7\, Assens\, 5610\, Danmark
CATEGORIES:Fællessang
ATTACH;FMTTYPE=image/jpeg:https://spildansk.dk/wp-content/uploads/2021/08/Pressebillede-til-TGs-web.jpg
ORGANIZER;CN="Assens Musikskole":MAILTO:musikskolen@assens.dk
END:VEVENT
BEGIN:VEVENT
DTSTART;TZID=Europe/Copenhagen:20211104T170000
DTEND;TZID=Europe/Copenhagen:20211104T173000
DTSTAMP:20260423T135020
CREATED:20211001T160106Z
LAST-MODIFIED:20211001T160106Z
UID:28639-1636045200-1636047000@spildansk.dk
SUMMARY:Unge sangskrivertalenter
DESCRIPTION:Unge sangskrivningstalenter fra Furesø Musikskole synger og spiller egne sange.\nKoncerten arrangeres af Furesø Musikskole som en del af Spil Dansk i Furesø 2021.\nGratis adgang.
URL:https://spildansk.dk/kalender/unge-sangskrivertalenter/
LOCATION:Farum Kulturhus\, Stavnsholtvej 3\, Farum\, 3520
CATEGORIES:Koncert
END:VEVENT
BEGIN:VEVENT
DTSTART;TZID=Europe/Copenhagen:20211104T170000
DTEND;TZID=Europe/Copenhagen:20211104T170000
DTSTAMP:20260423T135020
CREATED:20211027T090444Z
LAST-MODIFIED:20211027T090444Z
UID:29866-1636045200-1636045200@spildansk.dk
SUMMARY:Drums Across - Drums Across - Familiekoncert
DESCRIPTION:
URL:https://spildansk.dk/kalender/drums-across-drums-across-familiekoncert/
LOCATION:Spjald Kulturhus\, Spjald\, Ringkøbing-Skjern\, Danmark
END:VEVENT
BEGIN:VEVENT
DTSTART;TZID=Europe/Copenhagen:20211104T164500
DTEND;TZID=Europe/Copenhagen:20211104T171500
DTSTAMP:20260423T135020
CREATED:20211028T204504Z
LAST-MODIFIED:20211028T204504Z
UID:30071-1636044300-1636046100@spildansk.dk
SUMMARY:Pop Up koncert med Kristian Madsen hos Our House i Holbæk
DESCRIPTION:I samarbejde med Holbæk Kulturskole og Holbæk Byforum byder Spiren – Holbæk Sangskriver og Komponistforening på\nPop Up koncert med Kristian Madsen hos Our House i Holbæk \nKristian Madsen stille op med sin akustiske guitar og et minimalistisk setup og spiller nogle sange solo om nordlys\, knallerter\, supermåner\, bondemænd\, savn og andet godt!
URL:https://spildansk.dk/kalender/pop-up-koncert-med-kristian-madsen-hos-our-house-i-holbaek/
LOCATION:Our House\, Labæk 5\, Holbæk\, 4300
CATEGORIES:Koncert
ATTACH;FMTTYPE=image/jpeg:https://spildansk.dk/wp-content/uploads/2021/10/kristian-3.jpg
ORGANIZER;CN="Spiren - Holb%C3%A6k Sangskriver og Komponistforening":MAILTO:words@spiren.eu
END:VEVENT
BEGIN:VEVENT
DTSTART;TZID=Europe/Copenhagen:20211104T163000
DTEND;TZID=Europe/Copenhagen:20211104T170000
DTSTAMP:20260423T135020
CREATED:20211028T210732Z
LAST-MODIFIED:20211028T210732Z
UID:30082-1636043400-1636045200@spildansk.dk
SUMMARY:Pop Up koncert med Helle Nerup hos Føtex i Holbæk.
DESCRIPTION:I samarbejde med Holbæk Kulturskole og Holbæk Byforum byder Spiren – Holbæk Sangskriver og Komponistforening på\nPop Up koncert med Helle Nerup hos Føtex i Holbæk. \nHelle Nerup spiller egne\, danske sange\, akkompagneret af Stig Andreasen på bas. Hun henter inspiration i de mennesker\, hun møder\, i nyheder og anekdoter\, som hun digter videre på. Sangene bliver bundet sammen af fortællinger
URL:https://spildansk.dk/kalender/pop-up-koncert-med-helle-nerup-hos-foetex-i-holbaek/
LOCATION:Føtex\, Holbæk\, Smedelundsgade 33\, Holbæk\, 4300
CATEGORIES:Koncert
ATTACH;FMTTYPE=image/jpeg:https://spildansk.dk/wp-content/uploads/2021/10/HN.jpg
ORGANIZER;CN="Spiren - Holb%C3%A6k Sangskriver og Komponistforening":MAILTO:words@spiren.eu
END:VEVENT
BEGIN:VEVENT
DTSTART;TZID=Europe/Copenhagen:20211104T163000
DTEND;TZID=Europe/Copenhagen:20211104T170000
DTSTAMP:20260423T135020
CREATED:20211013T090904Z
LAST-MODIFIED:20211013T091044Z
UID:29119-1636043400-1636045200@spildansk.dk
SUMMARY:First Choice
DESCRIPTION:First Choice er et rytmisk kor bestående af 60 damer og herrer med stor sangglæde og højt humør og med ambitioner om at synge\, så andre også kan holde ud at høre på os. \nVi synger et bredt spekter af sange fra pop og rock til gospel og højskolesange. I spil dansk ugen byder vi blandt andet på sange skrevet af Bent Fabricius Bjerre. Dirigent Lonnie Kristiansen\, piano\, Jens Ole Krohn. \n 
URL:https://spildansk.dk/kalender/first-choice/
LOCATION:Sydbank Arkaden\, Axeltorv 4\, Næstved\, 4700
CATEGORIES:Kor
ATTACH;FMTTYPE=image/jpeg:https://spildansk.dk/wp-content/uploads/2021/10/First-Choice.jpg
ORGANIZER;CN="N%C3%A6stved Musikskole":MAILTO:musikskolen@naestved.dk
END:VEVENT
END:VCALENDAR