BEGIN:VCALENDAR
VERSION:2.0
PRODID:-//Spil Dansk - ECPv6.5.0//NONSGML v1.0//EN
CALSCALE:GREGORIAN
METHOD:PUBLISH
X-WR-CALNAME:Spil Dansk
X-ORIGINAL-URL:https://spildansk.dk
X-WR-CALDESC:Events for Spil Dansk
REFRESH-INTERVAL;VALUE=DURATION:PT1H
X-Robots-Tag:noindex
X-PUBLISHED-TTL:PT1H
BEGIN:VTIMEZONE
TZID:Europe/Copenhagen
BEGIN:DAYLIGHT
TZOFFSETFROM:+0100
TZOFFSETTO:+0200
TZNAME:CEST
DTSTART:20180325T010000
END:DAYLIGHT
BEGIN:STANDARD
TZOFFSETFROM:+0200
TZOFFSETTO:+0100
TZNAME:CET
DTSTART:20181028T010000
END:STANDARD
END:VTIMEZONE
BEGIN:VEVENT
DTSTART;TZID=Europe/Copenhagen:20181101T123000
DTEND;TZID=Europe/Copenhagen:20181101T133000
DTSTAMP:20260424T144058
CREATED:20181023T090333Z
LAST-MODIFIED:20181023T090333Z
UID:17194-1541075400-1541079000@spildansk.dk
SUMMARY:Artist Talk og workshop med Radek Wosko (trommer)
DESCRIPTION:Som en del af Jazz Caravan kommer Radek Wosko til Favrskov Gymnasium for at introducere os til både alternative og traditionelle  måder på\, hvordan man kan bruge trommer. Arrangementet er tiltænkt Favrskov Gymnasiums egen musikelever samt elever fra Favrskov Musikskole.
URL:https://spildansk.dk/kalender/artist-talk-og-workshop-med-radek-wosko-trommer/
LOCATION:Favrskov Gymnasium\, Ellemosevej 30\, Hadsten\, 8370\, Danmark
CATEGORIES:Foredrag,Jazz
ORGANIZER;CN="Favrskov Gymnasium v. Hanne Kragelund":MAILTO:hk@o365.favrskov-gym.dk
END:VEVENT
BEGIN:VEVENT
DTSTART;TZID=Europe/Copenhagen:20181101T123000
DTEND;TZID=Europe/Copenhagen:20181101T133000
DTSTAMP:20260424T144058
CREATED:20180910T124926Z
LAST-MODIFIED:20180910T125125Z
UID:14794-1541075400-1541079000@spildansk.dk
SUMMARY:Fællessang i Værløse
DESCRIPTION:Hyggelig fællessang på Spil Dansk Dagen\, hvor dansk musik fejres over det ganske land. Vi skal synge gammelt og nyt\, velkendt og måske knap så kendt\, og alt der kræves er lyst til at synge.\n\n\n\n\n\nSom sædvanligt sørger korlærer Marianne C. Eriksen fra Furesø Musikskole for at få os sikkert gennem sangene. Fællessangen varer 30-40 minutter. Du skal bare møde op og slutte dig til de andre sangglade på dagen. \nDet foregår torsdag 1. november\, kl. 12.30 Café Cassiopeia\, Galaksen \nGratis – ingen tilmelding
URL:https://spildansk.dk/kalender/faellessang-i-vaerloese/
LOCATION:Galaksen\, Bymidten 48\, Værløse\, 3500
CATEGORIES:Fællessang
END:VEVENT
BEGIN:VEVENT
DTSTART;TZID=Europe/Copenhagen:20181101T110000
DTEND;TZID=Europe/Copenhagen:20181101T120000
DTSTAMP:20260424T144058
CREATED:20180910T124655Z
LAST-MODIFIED:20180910T125037Z
UID:14791-1541070000-1541073600@spildansk.dk
SUMMARY:Fællessang i Farum
DESCRIPTION:Hyggelig fællessang på Spil Dansk Dagen\, hvor dansk musik fejres over det ganske land. Vi skal synge gammelt og nyt\, velkendt og måske knap så kendt\, og alt der kræves er lyst til at synge.\n\n\n\n\n\nSom sædvanligt sørger korlærer Marianne C. Eriksen fra Furesø Musikskole for at få os sikkert gennem sangene. Fællessangen varer 30-40 minutter. Du skal bare møde op og slutte dig til de andre sangglade på dagen. \nDet foregår torsdag 1. november\, kl. 11 på Café Rucola\, Farum Kulturhus \nGratis – ingen tilmelding
URL:https://spildansk.dk/kalender/faellessang-i-farum/
LOCATION:Farum Kulturhus\, Stavnsholtvej 3\, Farum\, 3520\, Danmark
CATEGORIES:Fællessang
END:VEVENT
BEGIN:VEVENT
DTSTART;TZID=Europe/Copenhagen:20181101T110000
DTEND;TZID=Europe/Copenhagen:20181101T113000
DTSTAMP:20260424T144058
CREATED:20181010T081011Z
LAST-MODIFIED:20181010T081011Z
UID:16445-1541070000-1541071800@spildansk.dk
SUMMARY:Fæl
DESCRIPTION:Hyggelig fællessang på Spil Dansk dagen. Vi skal synge gammelt og nyt\, velkendt og knap så kendt\, og alt der kræves er lyst til at synge. Som sædvanligt sørger korlærer Marianne C. Eriksen fra Furesø Musikskole for at få os sikkert gennem sangene. Fællessangen varer 30-40 minutter. Mød bare op og slut dig til de andre sangglade.
URL:https://spildansk.dk/kalender/fael/
LOCATION:Farum Kulturhus\, Stavnsholtvej 3\, Farum\, 3520\, Danmark
CATEGORIES:Fællessang
END:VEVENT
BEGIN:VEVENT
DTSTART;TZID=Europe/Copenhagen:20181101T105000
DTEND;TZID=Europe/Copenhagen:20181101T113000
DTSTAMP:20260424T144058
CREATED:20181021T081850Z
LAST-MODIFIED:20181021T081850Z
UID:17088-1541069400-1541071800@spildansk.dk
SUMMARY:Fællessang
DESCRIPTION:Fællessang i gymnastiksalen for 0.-5. klasse på Solsideskolen. Vi synger syv sange\, som klasserne har øvet på forhånd.
URL:https://spildansk.dk/kalender/faellessang-30/
LOCATION:Solsideskolen\, Kirke allé 7\, Nørresundby\, 9400
CATEGORIES:Fællessang
END:VEVENT
BEGIN:VEVENT
DTSTART;TZID=Europe/Copenhagen:20181101T103000
DTEND;TZID=Europe/Copenhagen:20181101T113000
DTSTAMP:20260424T144058
CREATED:20180911T062651Z
LAST-MODIFIED:20181024T103727Z
UID:14837-1541068200-1541071800@spildansk.dk
SUMMARY:Fællessamling
DESCRIPTION:Alle skolens 33 nationaliteter mødes og synger udvalgte Spil Dansk sange.
URL:https://spildansk.dk/kalender/faellessamling-2/
LOCATION:Brændgårdskolen\, Brorsonsvej 4\, Herning\, 7400
CATEGORIES:Fællessang
END:VEVENT
BEGIN:VEVENT
DTSTART;TZID=Europe/Copenhagen:20181101T103000
DTEND;TZID=Europe/Copenhagen:20181101T110000
DTSTAMP:20260424T144058
CREATED:20181010T084736Z
LAST-MODIFIED:20181107T141150Z
UID:16449-1541068200-1541070000@spildansk.dk
SUMMARY:Musik og sang med børn fra kastaniehuset
DESCRIPTION:Kom og hør kastaniehuset
URL:https://spildansk.dk/kalender/musik-og-sang-med-boern-fra-kastaniehuset/
LOCATION:Kvikly den lille cafe\, Nyborg
CATEGORIES:Kor
END:VEVENT
BEGIN:VEVENT
DTSTART;TZID=Europe/Copenhagen:20181101T103000
DTEND;TZID=Europe/Copenhagen:20181101T103000
DTSTAMP:20260424T144058
CREATED:20180910T075109Z
LAST-MODIFIED:20180910T075109Z
UID:14686-1541068200-1541068200@spildansk.dk
SUMMARY:Vestkystkoret synger i Tønning - Koncert med børnekor
DESCRIPTION:Op mod 100 børn fra skolerne i Bredsted\, Husum\, Treja\, Tønning og Frederiksstad synger danske sange på torvet i Tønning. I tilfælde af regn synger Vestkystkoret i Skt. Laurentius Kirke. \nKom og vær med!
URL:https://spildansk.dk/kalender/vestkystkoret-synger-i-toenning-koncert-med-boernekor/
LOCATION:Torvet i Tønning\, Am Markt\, Tönning\, 25832
CATEGORIES:Kor
ATTACH;FMTTYPE=image/jpeg:https://spildansk.dk/wp-content/uploads/2018/09/børnekor_vestkysten.jpg
ORGANIZER;CN="SSF":MAILTO:info@syfo.de
END:VEVENT
BEGIN:VEVENT
DTSTART;TZID=Europe/Copenhagen:20181101T101500
DTEND;TZID=Europe/Copenhagen:20181101T110000
DTSTAMP:20260424T144058
CREATED:20181013T110837Z
LAST-MODIFIED:20181013T110837Z
UID:16726-1541067300-1541070000@spildansk.dk
SUMMARY:Børnehaven synger og leger i kirken
DESCRIPTION:Navnet siger det hele: Spirrevippen! I Børnehuset leger og bevæger børnene sig\, synger og er glade. Det er sjovt at lære af de voksne og af hinanden. Og på SpilDanskDagen flytter legen hen i den lokale kirke\, når kirkeklokkerne ringer og de synger ‘Mester Jakob’. Spirrevippen og Jakobskirken ligger i sydbyen i Roskilde\, og organisten og præsten har inviteret børnene ind til sanglege\, ekko-sange\, morgensalmer\, efterårssange og orgelmusik. Det giver røde kinder og glade børn! Og skal man se voksent på det\, er det også dannelse\, at introducere børnene til en vigtig del af kulturen.
URL:https://spildansk.dk/kalender/boernehaven-synger-og-leger-i-kirken-2/
LOCATION:Jakobskirken\, Astersvej 11\, Roskilde\, 4000\, Danmark
CATEGORIES:Fællessang,Musik til børn
ORGANIZER;CN="Jakobskirken":MAILTO:info@jakobskirken.dk
END:VEVENT
BEGIN:VEVENT
DTSTART;TZID=Europe/Copenhagen:20181101T100000
DTEND;TZID=Europe/Copenhagen:20181101T140000
DTSTAMP:20260424T144058
CREATED:20180926T104627Z
LAST-MODIFIED:20181122T103708Z
UID:15675-1541066400-1541080800@spildansk.dk
SUMMARY:Sangskriverworkshop
DESCRIPTION:Sangskriverworkshop med Mol&Kirk for 7.d\, Hobro Søndre Skole.
URL:https://spildansk.dk/kalender/sangskriverworkshop/
LOCATION:Hobro Søndre Skole\, Skolegade 10\, Hobro\, 9500\, Danmark
CATEGORIES:Workshop
END:VEVENT
BEGIN:VEVENT
DTSTART;TZID=Europe/Copenhagen:20181101T100000
DTEND;TZID=Europe/Copenhagen:20181101T140000
DTSTAMP:20260424T144058
CREATED:20180910T133457Z
LAST-MODIFIED:20181026T070918Z
UID:14813-1541066400-1541080800@spildansk.dk
SUMMARY:Mol & Kirk og Søndre Skole
DESCRIPTION:Mol & Kirk laver Sangskriver-workshop for en 7. klasse på Søndre Skole i Hobro.
URL:https://spildansk.dk/kalender/mol-kirk-og-soendre-skole/
LOCATION:Hobro Søndre Skole\, Skolegade 10\, Hobro\, 9500\, Danmark
CATEGORIES:Workshop
ATTACH;FMTTYPE=image/png:https://spildansk.dk/wp-content/uploads/2018/09/untitled.png
END:VEVENT
BEGIN:VEVENT
DTSTART;TZID=Europe/Copenhagen:20181101T100000
DTEND;TZID=Europe/Copenhagen:20181101T120000
DTSTAMP:20260424T144058
CREATED:20180904T074533Z
LAST-MODIFIED:20181005T090832Z
UID:14409-1541066400-1541073600@spildansk.dk
SUMMARY:Danmarks Fællessang Live i Skanderborg Kommune
DESCRIPTION:I anledning af Spil Dansk ugen inviteres skoleklasser på mellemtrinnet til at deltage i Danmarks Fællessang på Højboskolen i Hørning. Over 700 elever fra Bakkeskolen\, Realskolen\, Morten Børup Skolen\, Veng Fællesskole og Højboskolen synger 10 fællessange sammen! Vi har været så heldige at få aftale med samme fantastiske musikerduo: Ronnie og Mona. \n 
URL:https://spildansk.dk/kalender/danmarks-faellessang-live-i-skanderborg-kommune/
LOCATION:Højboskolen\, Toftevej 53\, Hørning\, 8362
CATEGORIES:Fællessang
ATTACH;FMTTYPE=image/jpeg:https://spildansk.dk/wp-content/uploads/2018/09/Mona-og-Ronnie-1.jpg
END:VEVENT
BEGIN:VEVENT
DTSTART;TZID=Europe/Copenhagen:20181101T100000
DTEND;TZID=Europe/Copenhagen:20181101T110000
DTSTAMP:20260424T144058
CREATED:20181023T140919Z
LAST-MODIFIED:20181023T141535Z
UID:17352-1541066400-1541070000@spildansk.dk
SUMMARY:Stor Spil Dansk fællessang for børn på Rådhuspladsen 1. nov
DESCRIPTION:Københavns Musiklærerforening vil gerne invitere jer alle til at komme og fejre Spil Dansk fællessang på Rådhuspladsen torsdag d 1. November kl 10 for 0.-6. klasse. \nLigesom de sidste år har vi hyret 5 musikere fra bl.a DRs Big Band og Bjarne List Nissen til at lave ca. 50 minutters koncert fuld af fællessang og bevægelse\, så I kan holde varmen. Der vil være masser af disco\, hiphop og afrikansk dans. Gode idéer til de 45 minutters daglige bevægelse på skolen. \nI kan godt glæde jer til sanglisten. I år skal vi hylde Kim Larsen med et par af hans dejlige sange: Midt om natten og Joanna. Derudover skal vi synge Millionær\, Sørøverkongen Jonathan\, Så’n er det og Nu vågner Savannen som I kender fra Skolernes Sangdag. Og selvfølgelig også en masse svedig hiphop. Musikerne trykker den af sammen med børnene. Man kan møde op og danse og lege med eller øve sig til fingerspidserne hjemmefra. Kom med en klasse\, en årgang eller en hel skole. \nSkriv en mail til musikerbjarne@gmail.com Skriv gerne hvor mange I kommer\, hvilken skole/institution I kommer fra og klassetrin. Vi løfter og synger i flok på pladsen. Tag endelig mellemtrinsbørn med. De kan trække sangen for de mindste. \nVi håber på at slå rekord i år og nå over 100 klasser. Så hjælp og del gerne nyheden med alle I kender\, kollegaer\, lærere\, pædagoger\, studerende\, musikpædagoger\, og ikke mindst sangglade voksne og børn. Det kunne være så stort at fylde hele pladsen. Så lad os gøre det. Der vil være en dejlig musikalsk gave til alle der lokker en kollega og kollegaens klasse med 🙂 \nSå del eller inviter gerne direkte i begivenheden her:\nhttps://www.facebook.com/events/655211611546095/ \nVi glæder os til at se jer\nKøbenhavns Musiklærerforening og Bjarne List Nissen \nProjektet er støttet af Koda Kultur og Spil Dansk.
URL:https://spildansk.dk/kalender/flakhaven-synger-spil-dansk-faellessang-for-boern/
LOCATION:Rådhuspladsen København\, Rådhuspladsen\, København\, 1599\, Danmark
CATEGORIES:Fællessang,Musik til børn
ATTACH;FMTTYPE=image/jpeg:https://spildansk.dk/wp-content/uploads/2018/10/MG_1028-2.jpg
ORGANIZER;CN="K%C3%B8benhavns Musikl%C3%A6rerforening":MAILTO:kbhmusik@gmail.com
END:VEVENT
BEGIN:VEVENT
DTSTART;TZID=Europe/Copenhagen:20181101T100000
DTEND;TZID=Europe/Copenhagen:20181101T110000
DTSTAMP:20260424T144058
CREATED:20180921T061029Z
LAST-MODIFIED:20180921T061029Z
UID:15467-1541066400-1541070000@spildansk.dk
SUMMARY:Spil Dansk for 0-1 klasse på Simon Hansensvejens skoler
DESCRIPTION:Der synges danske børnesange og der danses til. Poul Kristensen spiller til og laver er show. Sanne Konstmann dirigerer og styrer børnene gennem bevægelsessangene. \nSanne Konstmann vælger sange og sender besked senere til jer. \nTil slut uddeles der æbler\, og ungerne får tid til socialt samvær.
URL:https://spildansk.dk/kalender/spil-dansk-for-0-1-klasse-paa-simon-hansensvejens-skoler/
LOCATION:Seminariehuset\, Ribe\, Simon Hansens Vej 1\, Ribe\, 6760\, Danmark
CATEGORIES:Musik til børn
ATTACH;FMTTYPE=image/png:https://spildansk.dk/wp-content/uploads/2018/09/spildansk-logo.png
ORGANIZER;CN="Esbjerg Kommunes Biblioteker":MAILTO:biblio@esbjergkommune.dk
END:VEVENT
BEGIN:VEVENT
DTSTART;TZID=Europe/Copenhagen:20181101T100000
DTEND;TZID=Europe/Copenhagen:20181101T110000
DTSTAMP:20260424T144058
CREATED:20180912T120415Z
LAST-MODIFIED:20180912T120517Z
UID:15105-1541066400-1541070000@spildansk.dk
SUMMARY:Syng dansk med Jernbanegades Børnehus
DESCRIPTION:Jernbanegades Børnehus og Ældresagens kor laver sanglege på torvet ved biblioteket i gågaden i Hobro. \nTag din mor\, far\, bedstemor eller en anden voksen i hånden og kom og vær med til at synge og lege med os en times tid. Vi vil være vært ved at stykke kage\, en kop kaffe og et glas saftevand.\nMed venlig hilsen Børn og Personale I Jernbanegades Børnehus
URL:https://spildansk.dk/kalender/syng-dansk-med-jernbanegades-boernehus/
LOCATION:Torvet\, Hobro\, Adelgade\, Hobro\, 9500
CATEGORIES:Fællessang
END:VEVENT
BEGIN:VEVENT
DTSTART;TZID=Europe/Copenhagen:20181101T094500
DTEND;TZID=Europe/Copenhagen:20181101T103000
DTSTAMP:20260424T144058
CREATED:20181016T084451Z
LAST-MODIFIED:20181016T084451Z
UID:16872-1541065500-1541068200@spildansk.dk
SUMMARY:Spil op i Kristrup Sognegård
DESCRIPTION:Sognets 1-2 årige og deres forældre/bedsteforældre/dagplejere inviteres til musik\, leg og sansning i kirken. Vi synger fagtesange\, spiller på instrumenter og bruger vores krop samt spændende rekvisitter. \nDet er gratis at deltage og man er velkommen til at være med alle gange\, eller komme når man har tid og lyst.
URL:https://spildansk.dk/kalender/spil-op-i-kristrup-sognegaard/
LOCATION:Kristrup Sognegård\, Ørneborgvej 5\, Randers\, 8960
CATEGORIES:Musik til børn
ATTACH;FMTTYPE=image/jpeg:https://spildansk.dk/wp-content/uploads/2018/10/csm_IMG_5473_dd72dbf1fe.jpg
END:VEVENT
BEGIN:VEVENT
DTSTART;TZID=Europe/Copenhagen:20181101T094500
DTEND;TZID=Europe/Copenhagen:20181101T103000
DTSTAMP:20260424T144058
CREATED:20180914T055653Z
LAST-MODIFIED:20180917T053631Z
UID:15236-1541065500-1541068200@spildansk.dk
SUMMARY:Spil Dansk.
DESCRIPTION:Hele skolen og byen synger i Møgeltønder Kirke.
URL:https://spildansk.dk/kalender/spil-dansk-8/
LOCATION:Møgeltønder Kirke\, Sønderbyvej 2\, Møgeltønder\, 6270
CATEGORIES:Fællessang
ATTACH;FMTTYPE=image/jpeg:https://spildansk.dk/wp-content/uploads/2018/09/23bff70c-e6b5-439a-88da-7821d7ab3c1d.jpg
END:VEVENT
BEGIN:VEVENT
DTSTART;TZID=Europe/Copenhagen:20181101T093000
DTEND;TZID=Europe/Copenhagen:20181101T113000
DTSTAMP:20260424T144058
CREATED:20180910T074438Z
LAST-MODIFIED:20180910T074438Z
UID:14678-1541064600-1541071800@spildansk.dk
SUMMARY:Fællessang på Søndertorv i Flensborg
DESCRIPTION:kl. 09.30-10.00   for børn fra daginstitutionerne\nkl. 10.40-11.30 for skolebørn \nEberhard von Oettingen og Ture Pejtersen vil sammen fyre godt op under børnene\, så sangene kan høres ud over hele Flensborg! Kom og oplev denne unikke live-koncert. I tilfælde af regnvejr finder arrangementet sted i Idrætshallen\, Moltkestr. 20c. \nTjek hjemmesiden og find flere oplysninger på www.syfo.de/spildansk \nTilmelding til katja@syfo.de
URL:https://spildansk.dk/kalender/faellessang-paa-soendertorv-i-flensborg/
LOCATION:Søndertorv\, Südermarkt\, Flensburg\, 24937\, Danmark
CATEGORIES:Fællessang
ATTACH;FMTTYPE=image/jpeg:https://spildansk.dk/wp-content/uploads/2018/09/søndertorv.jpg
ORGANIZER;CN="SSF":MAILTO:info@syfo.de
END:VEVENT
BEGIN:VEVENT
DTSTART;TZID=Europe/Copenhagen:20181101T093000
DTEND;TZID=Europe/Copenhagen:20181101T110000
DTSTAMP:20260424T144058
CREATED:20180927T063533Z
LAST-MODIFIED:20180927T063533Z
UID:15711-1541064600-1541070000@spildansk.dk
SUMMARY:Torsdagssang
DESCRIPTION:Torsdagssang med besøg af en pianist – og med Højskolesangbogen som omdrejningspunkt.
URL:https://spildansk.dk/kalender/torsdagssang/
LOCATION:Ny Skivehus\, Odgaardsvej 15A\, Skive\, 7800
CATEGORIES:Fællessang
ORGANIZER;CN="Aktivitetscenter Ny Skivehus":MAILTO:nyskivehus@nyskivehus.dk
END:VEVENT
BEGIN:VEVENT
DTSTART;TZID=Europe/Copenhagen:20181101T093000
DTEND;TZID=Europe/Copenhagen:20181101T110000
DTSTAMP:20260424T144058
CREATED:20180906T142204Z
LAST-MODIFIED:20180906T142204Z
UID:14518-1541064600-1541070000@spildansk.dk
SUMMARY:Spil Dansk
DESCRIPTION:Syng og spil danske sange med elever fra Boddum-Ydby Friskole og Børnehus.
URL:https://spildansk.dk/kalender/spil-dansk-6/
LOCATION:Boddum-Ydby Friskole og Børnehus\, Ydbyvej 193\, Ydby v/Hurup Thy\, 7760\, Danmark
CATEGORIES:Fællessang
ATTACH;FMTTYPE=image/jpeg:https://spildansk.dk/wp-content/uploads/2018/09/Nyt-logo-1.jpg
ORGANIZER;CN="Boddum-Ydby Friskole og B%C3%B8rnehus":MAILTO:skolen@boddum-ydby-friskole.dk
END:VEVENT
BEGIN:VEVENT
DTSTART;TZID=Europe/Copenhagen:20181101T093000
DTEND;TZID=Europe/Copenhagen:20181101T103000
DTSTAMP:20260424T144058
CREATED:20181029T124526Z
LAST-MODIFIED:20181029T124526Z
UID:17778-1541064600-1541068200@spildansk.dk
SUMMARY:Spil Dansk 2018 på Balleskolen
DESCRIPTION:Årets Spil Dansk dag på Balleskolen bliver en hyldest til Kim Larsen. \nSmå og store synger og spiller 12 numre af den danske sangskriver.
URL:https://spildansk.dk/kalender/spil-dansk-2018-paa-balleskolen/
LOCATION:Balleskolen\, Balle Kirkevej 120\, Silkeborg\, 8600\, Danmark
CATEGORIES:Fællessang,Rock
END:VEVENT
BEGIN:VEVENT
DTSTART;TZID=Europe/Copenhagen:20181101T093000
DTEND;TZID=Europe/Copenhagen:20181101T103000
DTSTAMP:20260424T144058
CREATED:20181002T111209Z
LAST-MODIFIED:20181002T112758Z
UID:15873-1541064600-1541068200@spildansk.dk
SUMMARY:Små synger sammen
DESCRIPTION:I Syddjurs Kommune har man valgt at flytte Små synger sammen til Spil Dansk-ugen. \nI år handler det om bier\nTemaet for årets Små synger sammen er valgt i samarbejde med Ramasjang og De Grønne Spirer\, som sammen sætter fokus på bierne. For Små synger sammens vedkommende betyder det\, at årets sangforslag og inspirationsmateriale tager udgangspunkt i bier i musikken: fra Bamse og Kyllings ’Brum brum’ til gode gamle ’Sur\, sur\, sur’. \nTemaet er insekter – sange og opgaver\nHer er en liste over sange\, som I måske kender\, og har lyst til at øve på inden koncerten: \n\nJeg har fanget mig en myg\nSur sur sur\nBrum brum\nMariehønen Evigglad\nLille Peter Edderkop\nSommerfuglen (Mel: bjørnen sover)\n\nTilmelding:\nFor at vi har en fornemmelse af\, hvor mange vi bliver\, må I meget gerne tilmelde jer via følgende link:\nKulturhuset: https://goo.gl/forms/evwQE14uaupbH51q1
URL:https://spildansk.dk/kalender/smaa-synger-sammen/
LOCATION:Kulturhuset Ebeltoft\, Nørre Allé 4\, Ebeltoft\, 8400\, Danmark
CATEGORIES:Musik til børn
ATTACH;FMTTYPE=image/jpeg:https://spildansk.dk/wp-content/uploads/2018/10/Små-synger-sammen.jpg
ORGANIZER;CN="Kulturafdelingen%2C Syddjurs Kommune":MAILTO:ligl@syddjurs.dk
END:VEVENT
BEGIN:VEVENT
DTSTART;TZID=Europe/Copenhagen:20181101T093000
DTEND;TZID=Europe/Copenhagen:20181101T103000
DTSTAMP:20260424T144058
CREATED:20180910T073736Z
LAST-MODIFIED:20180910T073736Z
UID:14673-1541064600-1541068200@spildansk.dk
SUMMARY:Fællessang på Alderdomshjemmet med Hans Jakob Jessen
DESCRIPTION:Hans Jakob Jessen synger med Alderdomshjemmets beboere. Andre interesserede er også hjerteligt velkomne til at deltage i arrangementet.
URL:https://spildansk.dk/kalender/faellessang-paa-alderdomshjemmet-med-hans-jakob-jessen/
LOCATION:Dansk Alderdomshjemmet\, Nerongsallé 27\, Flonsborg\, 24939\, Danmark
CATEGORIES:Fællessang
ORGANIZER;CN="SSF":MAILTO:info@syfo.de
END:VEVENT
BEGIN:VEVENT
DTSTART;TZID=Europe/Copenhagen:20181101T093000
DTEND;TZID=Europe/Copenhagen:20181101T100000
DTSTAMP:20260424T144058
CREATED:20181020T124554Z
LAST-MODIFIED:20181020T124554Z
UID:17079-1541064600-1541066400@spildansk.dk
SUMMARY:Morgensang med sange og salmer af Jens Rosendal
DESCRIPTION:Morgensang torsdag den 1. november kl. 9.30 – 10.00 i Nørre Lyndelse kirke\, I år skal vi synge et udvalg af Jens Rosendals sange og salmer præsenteret og arrangeret af Ulla Poulsen.
URL:https://spildansk.dk/kalender/morgensang-med-sange-og-salmer-af-jens-rosendal/
LOCATION:Nørre Lyndelse Kirke\, Albanivej 15\, Nørre Lyndelse\, Årslev\, 5792\, Danmark
CATEGORIES:Fællessang
ATTACH;FMTTYPE=image/jpeg:https://spildansk.dk/wp-content/uploads/2018/10/329E7FDB-C335-44D0-BBC9-1E1DC4099A1F.jpeg
ORGANIZER;CN="N%C3%B8rre Lyndelse kirke":MAILTO:Up@hoerlyck-Jessen.dk
END:VEVENT
BEGIN:VEVENT
DTSTART;TZID=Europe/Copenhagen:20181101T092000
DTEND;TZID=Europe/Copenhagen:20181101T095000
DTSTAMP:20260424T144058
CREATED:20181012T144217Z
LAST-MODIFIED:20181012T144217Z
UID:16678-1541064000-1541065800@spildansk.dk
SUMMARY:Fællessang på Egedal Rådhus
DESCRIPTION:Fællessangsarrangement på Egedal Rådhus med kommunens 4. klasser og rådhusets medarbejdere.\nKunstnere: Nicholas Kingo (piano) og Anna Kruse (sang).
URL:https://spildansk.dk/kalender/faellessang-paa-egedal-raadhus/
LOCATION:Egedal Rådhus\, Dronning Dagmars Vej 200\, Ølstykke\, 3650\, Danmark
CATEGORIES:Fællessang
ATTACH;FMTTYPE=image/jpeg:https://spildansk.dk/wp-content/uploads/2018/10/Egedal-logo-1.jpg
END:VEVENT
BEGIN:VEVENT
DTSTART;TZID=Europe/Copenhagen:20181101T091500
DTEND;TZID=Europe/Copenhagen:20181101T100000
DTSTAMP:20260424T144058
CREATED:20181013T110127Z
LAST-MODIFIED:20181013T110127Z
UID:16724-1541063700-1541066400@spildansk.dk
SUMMARY:Børnehaven synger og leger i kirken
DESCRIPTION:Hver dag tager de bussen til Hørhusene uden for Roskilde for at lege og klatre i træer under åben himmel. Det giver røde kinder og glade børn – og trætte\, når bussen om eftermiddagen kører tilbage til Hobbitten! Men på SpilDanskDagen begynder de med leg allerede inden skovbørnehaven\, når kirkeklokkerne ringer og de synger ‘Mester Jakob’. Hobbitten og Jakobskirken er naboer i Roskilde\, og organisten og præsten har inviteret børnene ind til sanglege\, ekko-sange\, morgensalmer\, efterårssange og orgelmusik. Det giver også røde kinder og glade børn!
URL:https://spildansk.dk/kalender/boernehaven-synger-og-leger-i-kirken/
LOCATION:Jakobskirken\, Astersvej 11\, Roskilde\, 4000\, Danmark
CATEGORIES:Fællessang,Musik til børn
ORGANIZER;CN="Jakobskirken":MAILTO:info@jakobskirken.dk
END:VEVENT
BEGIN:VEVENT
DTSTART;TZID=Europe/Copenhagen:20181101T090000
DTEND;TZID=Europe/Copenhagen:20181101T110000
DTSTAMP:20260424T144058
CREATED:20181028T170902Z
LAST-MODIFIED:20181028T170902Z
UID:17732-1541062800-1541070000@spildansk.dk
SUMMARY:Spil Dansk på Rundhøjskolen
DESCRIPTION:Fællessang og koncert for elever og lærere på Rundhøjskolen.
URL:https://spildansk.dk/kalender/spil-dansk-paa-rundhoejskolen/
LOCATION:Rundhøjskolen\, Holmevej 200\, Højbjerg\, 8270
CATEGORIES:Fællessang
END:VEVENT
BEGIN:VEVENT
DTSTART;TZID=Europe/Copenhagen:20181101T090000
DTEND;TZID=Europe/Copenhagen:20181101T103000
DTSTAMP:20260424T144058
CREATED:20180912T160033Z
LAST-MODIFIED:20180912T165721Z
UID:15171-1541062800-1541068200@spildansk.dk
SUMMARY:Åben morgensang
DESCRIPTION:Åben morgensang for skolens børn\, personale og alle interesserede. \nDerudover vil vi få besøg af operasanger Trine Hillingsøe \,som vil synge et par numre. \nEfterfølgende vil der være en kop kaffe med småkager. \nALLE er velkomne
URL:https://spildansk.dk/kalender/aaben-morgensang-3/
LOCATION:Ørding friskole\, Skolesvinget 9\, Øster Assels\, 7990\, Danmark
CATEGORIES:Fællessang
ORGANIZER;CN="%C3%98rding friskole":MAILTO:kontoret@oerdingfriskole.dk
END:VEVENT
BEGIN:VEVENT
DTSTART;TZID=Europe/Copenhagen:20181101T090000
DTEND;TZID=Europe/Copenhagen:20181101T100000
DTSTAMP:20260424T144058
CREATED:20181009T095736Z
LAST-MODIFIED:20181009T095736Z
UID:16265-1541062800-1541066400@spildansk.dk
SUMMARY:Syng Dansk dag
DESCRIPTION:0.-6.klasse har illustreret en række danske sange\, som vi synger fælles i Sunds Kirke.
URL:https://spildansk.dk/kalender/syng-dansk-dag/
LOCATION:Sunds Kirke\, Nørrevang 45\, Sunds\, 7451\, Danmark
CATEGORIES:Fællessang
ORGANIZER;CN="Sunds-Ilskov Skole afd. Sunds":MAILTO:sunsj@herning.dk
END:VEVENT
BEGIN:VEVENT
DTSTART;TZID=Europe/Copenhagen:20181101T090000
DTEND;TZID=Europe/Copenhagen:20181101T090000
DTSTAMP:20260424T144058
CREATED:20181028T193330Z
LAST-MODIFIED:20181028T193330Z
UID:17742-1541062800-1541062800@spildansk.dk
SUMMARY:Morgensang Syng Dansk - Sunds Skole
DESCRIPTION:0.-6. klasse synger udvalgte sange med illustrationer i Sunds Kirke kl. 9.00-9.45 torsdag d. 1/11.
URL:https://spildansk.dk/kalender/morgensang-syng-dansk-sunds-skole/
LOCATION:Sunds Kirke\, Nørrevang 45\, Sunds\, 7451\, Danmark
CATEGORIES:Fællessang
END:VEVENT
END:VCALENDAR