BEGIN:VCALENDAR
VERSION:2.0
PRODID:-//Spil Dansk - ECPv6.5.0//NONSGML v1.0//EN
CALSCALE:GREGORIAN
METHOD:PUBLISH
X-WR-CALNAME:Spil Dansk
X-ORIGINAL-URL:https://spildansk.dk
X-WR-CALDESC:Events for Spil Dansk
REFRESH-INTERVAL;VALUE=DURATION:PT1H
X-Robots-Tag:noindex
X-PUBLISHED-TTL:PT1H
BEGIN:VTIMEZONE
TZID:Europe/Copenhagen
BEGIN:DAYLIGHT
TZOFFSETFROM:+0100
TZOFFSETTO:+0200
TZNAME:CEST
DTSTART:20210328T010000
END:DAYLIGHT
BEGIN:STANDARD
TZOFFSETFROM:+0200
TZOFFSETTO:+0100
TZNAME:CET
DTSTART:20211031T010000
END:STANDARD
END:VTIMEZONE
BEGIN:VEVENT
DTSTART;TZID=Europe/Copenhagen:20211105T170000
DTEND;TZID=Europe/Copenhagen:20211105T170000
DTSTAMP:20260422T033326
CREATED:20211027T090542Z
LAST-MODIFIED:20211027T090542Z
UID:29895-1636131600-1636131600@spildansk.dk
SUMMARY:Moussa Diallo Trio - Familiekoncert med Cirkeline i Afrika
DESCRIPTION:
URL:https://spildansk.dk/kalender/moussa-diallo-trio-familiekoncert-med-cirkeline-i-afrika/
LOCATION:Glostrup Bibliotek – Bibliotekssalen\, Glostrup\, Glostrup\, Danmark
END:VEVENT
BEGIN:VEVENT
DTSTART;TZID=Europe/Copenhagen:20211105T164500
DTEND;TZID=Europe/Copenhagen:20211105T190000
DTSTAMP:20260422T033326
CREATED:20211027T085449Z
LAST-MODIFIED:20211027T085449Z
UID:29711-1636130700-1636138800@spildansk.dk
SUMMARY:Spil Dansk Live X P6 Livebeatet // Iomfru
DESCRIPTION:Fredag d. 5. november 2021 vil nogle af DRs mest populære radioprogrammer bringe livemusik ud til danskerne i ’Spil Dansk Live’.\n\nHer vil både etablerede og fremadstormende navne levere en fredag fuld af masser af levende\, dansk livemusik hele dagen på tværs af radiokanalerne direkte fra Roskilde Festival Højskole\, Vejle Musikteater og Kulturhotellet i Rønde.\n\nDerfor inviterer vi dig og andre der elsker et skud god dansk musik\, til at være med som publikum\, når P6 Beat sender livekoncert fra Roskilde Festival Højskole med bandet Iomfru.\n\nDer er begrænsede pladser\, adgangen er gratis og tilmelding er påkrævet.\n\nEventet foregår i vores Orange foredragssal.
URL:https://spildansk.dk/kalender/spil-dansk-live-x-p6-livebeatet-iomfru/
LOCATION:Roskilde Festival Højskole\, Basgangen 20\, Roskilde\, 4000\, Danmark
CATEGORIES:Koncert,Indie,Pop,Rock
ATTACH;FMTTYPE=image/png:https://spildansk.dk/wp-content/uploads/2021/10/SPILDANSKLIVE-01.png
ORGANIZER;CN="Roskilde Festival H%C3%B8jskole":MAILTO:kontakt@rofh.dk
END:VEVENT
BEGIN:VEVENT
DTSTART;TZID=Europe/Copenhagen:20211105T160000
DTEND;TZID=Europe/Copenhagen:20211105T180000
DTSTAMP:20260422T033326
CREATED:20211028T211829Z
LAST-MODIFIED:20211028T212030Z
UID:30090-1636128000-1636135200@spildansk.dk
SUMMARY:Åben Scene på Værftet i Holbæk
DESCRIPTION:I samarbejde med Holbæk Kulturskole  byder Spiren – Holbæk Sangskriver og Komponistforening på\nÅben Scene i multisalen på Værftet i Holbæk. \nKom og syng / spil dine egne sange / kompositioner. Alle kan deltage.\nEneste krav er\, at sangene enten synges på dansk\, eller er skrevet af en dansker.\nDet er ikke et krav\, at man optræder. Kom meget gerne og lyt til sprit ny dansk musik.\nDer er gratis adgang.\nVærftscafeen byder på kaffe\, og man kan købe øl og vand.\nVærter er Helle Nerup og Stig Jensen\n\nAdressen : Multisalen\, Værftet\, Havnevej 7\, 4300 Holbæk\n 
URL:https://spildansk.dk/kalender/aaben-scene-paa-vaerftet-i-holbaek/
LOCATION:Værftet\, Holbæk\, Havnevej 7\, Holbæk\, 4300\, Danmark
CATEGORIES:Koncert
ATTACH;FMTTYPE=image/jpeg:https://spildansk.dk/wp-content/uploads/2021/10/varftet-scaled.jpg
ORGANIZER;CN="Spiren - Holb%C3%A6k Sangskriver og Komponistforening":MAILTO:words@spiren.eu
END:VEVENT
BEGIN:VEVENT
DTSTART;TZID=Europe/Copenhagen:20211105T160000
DTEND;TZID=Europe/Copenhagen:20211105T160000
DTSTAMP:20260422T033327
CREATED:20210924T112516Z
LAST-MODIFIED:20210924T112638Z
UID:28452-1636128000-1636128000@spildansk.dk
SUMMARY:Spil Dansk i Gørløse Forsamlingshus
DESCRIPTION:Lena synger danske sange med små og store i Gørløse Forsamlingshus. Gratis kaffe og kringle og mulighed for bestilling af aftensmad bagefter.
URL:https://spildansk.dk/kalender/spil-dansk-i-goerloese-forsamlingshus/
LOCATION:Gørløse Forsamlingshus\, Hovedvejen 28\, 3330\, Gørløse
CATEGORIES:Koncert,Alternative,Fællessang
ORGANIZER;CN="Lena L%C3%B8bner":MAILTO:Lenalobner66@gmail.com
END:VEVENT
BEGIN:VEVENT
DTSTART;TZID=Europe/Copenhagen:20211105T153000
DTEND;TZID=Europe/Copenhagen:20211105T180000
DTSTAMP:20260422T033327
CREATED:20211025T112434Z
LAST-MODIFIED:20211025T112809Z
UID:29500-1636126200-1636135200@spildansk.dk
SUMMARY:String Swing
DESCRIPTION:String Swing startede som en række Django Reinhardt-jam sessions i et kolonihavehus på Amager og har siden resulteret i fire roste albums\, RED SHOES (2002)\, BLUE HAT (2004) og WAITING FOR THE GOOD TIMES (2008)\, THIS IS MESCHIYA LAKE (2019).\nCharmerende String Swing bevæger sig frit i jazzens genrer og Søren Siegumfeldt er altid i stand til at grave guld de mærkeligste steder og ramme mange følelsesregistre. Han er i stand til at formidle noget sjovt\, men der er en mening med det. Musikken fænger med det samme\, men er altid med tyngde\, hvad enten han går efter det pudseløjerlige\, eller det dramatiske. \nSahra da Silva (voc)\, Søren Siegumfeldt (sax)\,Jacob Fischer (g)\, Alain Apaloo (g)\, Kasper Tagel (b)\, Morten Ærø (dr) \nBilletter lige her
URL:https://spildansk.dk/kalender/string-swing/
LOCATION:Jazzcup\, Gothersgade 107\, København\, 1123\, Danmark
CATEGORIES:Jazz
ATTACH;FMTTYPE=image/jpeg:https://spildansk.dk/wp-content/uploads/2021/10/String_Swing-thumb-1200.jpg
ORGANIZER;CN="Sundance Publishing":MAILTO:sundance@sundance.dk
END:VEVENT
BEGIN:VEVENT
DTSTART;TZID=Europe/Copenhagen:20211105T150000
DTEND;TZID=Europe/Copenhagen:20211105T160000
DTSTAMP:20260422T033327
CREATED:20210921T101025Z
LAST-MODIFIED:20210921T102328Z
UID:28393-1636124400-1636128000@spildansk.dk
SUMMARY:Bastion hos DCC A/S
DESCRIPTION:Musik til arbejdet og fredagsbar hos DCC i Søften.
URL:https://spildansk.dk/kalender/bastion-hos-dcc-a-s/
LOCATION:DCC – Dansk Computer Center\, Delta 6\, Hinnerup\, 8382
CATEGORIES:Folk,Singer-songwriter
ATTACH;FMTTYPE=image/jpeg:https://spildansk.dk/wp-content/uploads/2021/09/DCC-logo.jpg
END:VEVENT
BEGIN:VEVENT
DTSTART;TZID=Europe/Copenhagen:20211105T150000
DTEND;TZID=Europe/Copenhagen:20211105T153000
DTSTAMP:20260422T033327
CREATED:20211028T210040Z
LAST-MODIFIED:20211101T114409Z
UID:30079-1636124400-1636126200@spildansk.dk
SUMMARY:Pop Up koncert med Drune hos Føtex i Holbæk.
DESCRIPTION:I samarbejde med Holbæk Kulturskole og Holbæk Byforum byder Spiren – Holbæk Sangskriver og Komponistforening på\nPop Up koncert med Drune hos Føtex i Holbæk. \nDrune er en multi-instrumentalist og sangskriver fra Mørkøv.\nHan spiller up-tempo pop musik hvor lyrikken kredser om livet\, og de skæve ting man kan opleve i sin hverdag\, og så har han en svaghed for Shubidua. \nMed sig har han sin tro følgesvend Emil Monajemzadeh fra Holbæk.\nI 2012 vandt de DK’s største talent konkurrence med Holbæk bandet Scots On ICE.\nSom i de efterfølgende år optrådte mange gange på elværket og rundt omkring i ind og udlandet. \nDenne gang optræder de som en duo\, som tager udgangspunkt i singer i dansk lyrik med moderne elektroniske elementer\, og som rammer skæringspunktet mellem det humoristiske og melankolske. \nKom og få et smil på læben.
URL:https://spildansk.dk/kalender/pop-up-koncert-med-drune-hos-foetex-i-holbaek/
LOCATION:Føtex\, Holbæk\, Smedelundsgade 33\, Holbæk\, 4300
CATEGORIES:Koncert
ATTACH;FMTTYPE=image/jpeg:https://spildansk.dk/wp-content/uploads/2021/10/1-scaled.jpg
ORGANIZER;CN="Spiren - Holb%C3%A6k Sangskriver og Komponistforening":MAILTO:words@spiren.eu
END:VEVENT
BEGIN:VEVENT
DTSTART;TZID=Europe/Copenhagen:20211105T133000
DTEND;TZID=Europe/Copenhagen:20211105T150000
DTSTAMP:20260422T033327
CREATED:20211006T165128Z
LAST-MODIFIED:20211006T165128Z
UID:28761-1636119000-1636124400@spildansk.dk
SUMMARY:Folkemusik på Roskilde Gymnasium
DESCRIPTION:Traditionen tro får vi besøg af Roskilde Spillemandslaug  og deres dygtige dansere samt en caller\, der indfører musikeleverne på A-niveau i trinnene til de traditionelle folkedanse.
URL:https://spildansk.dk/kalender/folkemusik-paa-roskilde-gymnasium/
LOCATION:Roskilde Gymnasium\, Domkirkepladsen\, Roskilde\, 4000\, Danmark
CATEGORIES:Folk
ATTACH;FMTTYPE=image/jpeg:https://spildansk.dk/wp-content/uploads/2021/10/IMG_20191101_141256-scaled.jpg
END:VEVENT
BEGIN:VEVENT
DTSTART;TZID=Europe/Copenhagen:20211105T130000
DTEND;TZID=Europe/Copenhagen:20211105T160000
DTSTAMP:20260422T033327
CREATED:20210913T085545Z
LAST-MODIFIED:20210913T085545Z
UID:28303-1636117200-1636128000@spildansk.dk
SUMMARY:Spis og syng sammen
DESCRIPTION:ÆldreSagen i Viborg arrangerer fællesspisning med efterfølgende underholdning og fællessang. \nDet sker i Viborg Domkirkes Sognegård.
URL:https://spildansk.dk/kalender/spis-og-syng-sammen/
LOCATION:Viborg Domkirkes Sognegård\, Gammeltorv\, Viborg\, 8800\, Danmark
CATEGORIES:Fællessang
ATTACH;FMTTYPE=image/jpeg:https://spildansk.dk/wp-content/uploads/2021/09/Oasens-Musikanter-Hoestgudstjeneste-Vejrum-29092019-red.-1-scaled.jpg
END:VEVENT
BEGIN:VEVENT
DTSTART;TZID=Europe/Copenhagen:20211105T130000
DTEND;TZID=Europe/Copenhagen:20211105T140000
DTSTAMP:20260422T033327
CREATED:20211013T130231Z
LAST-MODIFIED:20211013T130231Z
UID:29172-1636117200-1636120800@spildansk.dk
SUMMARY:Koncert med Reddie og Abel
DESCRIPTION:Reddie og Abel spiller på Struer Musikskole
URL:https://spildansk.dk/kalender/koncert-med-reddie-og-abel/
LOCATION:Struer Musikskole\, Bredgade 6\, Struer\, 7600
CATEGORIES:Koncert
END:VEVENT
BEGIN:VEVENT
DTSTART;TZID=Europe/Copenhagen:20211105T130000
DTEND;TZID=Europe/Copenhagen:20211105T130000
DTSTAMP:20260422T033327
CREATED:20211027T090541Z
LAST-MODIFIED:20211027T090541Z
UID:29894-1636117200-1636117200@spildansk.dk
SUMMARY:Moussa Diallo Trio - Cirkeline og Coco rejser til Afrika
DESCRIPTION:
URL:https://spildansk.dk/kalender/moussa-diallo-trio-cirkeline-og-coco-rejser-til-afrika-10/
LOCATION:KonTiki\, Hillerød\, Hillerød\, Danmark
END:VEVENT
BEGIN:VEVENT
DTSTART;TZID=Europe/Copenhagen:20211105T130000
DTEND;TZID=Europe/Copenhagen:20211105T130000
DTSTAMP:20260422T033327
CREATED:20211027T090540Z
LAST-MODIFIED:20211027T090540Z
UID:29893-1636117200-1636117200@spildansk.dk
SUMMARY:HP Lange & Jarno Varsted - Roden til alt godt
DESCRIPTION:
URL:https://spildansk.dk/kalender/hp-lange-jarno-varsted-roden-til-alt-godt-10/
LOCATION:Havbakkeskolen\, Hadsund\, Mariagerfjord\, Danmark
END:VEVENT
BEGIN:VEVENT
DTSTART;TZID=Europe/Copenhagen:20211105T120500
DTEND;TZID=Europe/Copenhagen:20211105T120500
DTSTAMP:20260422T033327
CREATED:20211027T090538Z
LAST-MODIFIED:20211027T090538Z
UID:29892-1636113900-1636113900@spildansk.dk
SUMMARY:Defecto - Duality
DESCRIPTION:
URL:https://spildansk.dk/kalender/defecto-duality-11/
LOCATION:Ejby Skole\, Ejby\, Middelfart\, Danmark
END:VEVENT
BEGIN:VEVENT
DTSTART;TZID=Europe/Copenhagen:20211105T120000
DTEND;TZID=Europe/Copenhagen:20211105T133000
DTSTAMP:20260422T033327
CREATED:20211013T133202Z
LAST-MODIFIED:20211013T133852Z
UID:29190-1636113600-1636119000@spildansk.dk
SUMMARY:Musik i arbejdstøjet
DESCRIPTION:MEK PEK and the debitors gæster virksomheden VM i Tarm
URL:https://spildansk.dk/kalender/musik-i-arbejdstoejet-2/
LOCATION:VM Tarm\, Tværvej 25\, Tarm\, 6880
ATTACH;FMTTYPE=image/jpeg:https://spildansk.dk/wp-content/uploads/2021/10/MEKPEK.jpg
END:VEVENT
BEGIN:VEVENT
DTSTART;TZID=Europe/Copenhagen:20211105T120000
DTEND;TZID=Europe/Copenhagen:20211105T120000
DTSTAMP:20260422T033327
CREATED:20211027T090536Z
LAST-MODIFIED:20211027T090536Z
UID:29891-1636113600-1636113600@spildansk.dk
SUMMARY:Astro Buddha Agogo - Astro Buddha Agogo
DESCRIPTION:
URL:https://spildansk.dk/kalender/astro-buddha-agogo-astro-buddha-agogo-2/
LOCATION:Tjørnegårdskolen\, Roskilde\, Roskilde\, Danmark
END:VEVENT
BEGIN:VEVENT
DTSTART;TZID=Europe/Copenhagen:20211105T114500
DTEND;TZID=Europe/Copenhagen:20211105T140000
DTSTAMP:20260422T033327
CREATED:20211027T090120Z
LAST-MODIFIED:20211027T090148Z
UID:29714-1636112700-1636120800@spildansk.dk
SUMMARY:Spil Dansk Live X P3 Musikchefen // Phlake
DESCRIPTION:Fredag d. 5. november 2021 vil nogle af DRs mest populære radioprogrammer bringe livemusik ud til danskerne i ’Spil Dansk Live’.\n\nHer vil både etablerede og fremadstormende navne levere en fredag fuld af masser af levende\, dansk livemusik hele dagen på tværs af radiokanalerne direkte fra Roskilde Festival Højskole\, Vejle Musikteater og Kulturhotellet i Rønde.\n\nDerfor inviterer vi dig og andre\, der elsker et skud god dansk musik\, til at være med som publikum\, når P3 sender livekoncert fra Roskilde Festival Højskole med Phlake .\n\nDer er begrænsede pladser\, adgangen er gratis og tilmelding er påkrævet. Dette sker via Billetto\n\nEventet foregår i vores Orange foredragssal.
URL:https://spildansk.dk/kalender/spil-dansk-live-x-p3-musikchefen-phlake/
LOCATION:Roskilde Festival Højskole\, Basgangen 20\, Roskilde\, 4000\, Danmark
CATEGORIES:Koncert,Indie,Pop
ATTACH;FMTTYPE=image/png:https://spildansk.dk/wp-content/uploads/2021/10/SPILDANSKLIVE-01-4.png
ORGANIZER;CN="Roskilde Festival H%C3%B8jskole":MAILTO:kontakt@rofh.dk
END:VEVENT
BEGIN:VEVENT
DTSTART;TZID=Europe/Copenhagen:20211105T114500
DTEND;TZID=Europe/Copenhagen:20211105T114500
DTSTAMP:20260422T033327
CREATED:20211027T090534Z
LAST-MODIFIED:20211027T090534Z
UID:29890-1636112700-1636112700@spildansk.dk
SUMMARY:Drums Across - Drums Across - Familiekoncert
DESCRIPTION:
URL:https://spildansk.dk/kalender/drums-across-drums-across-familiekoncert-2/
LOCATION:Sild Danske skole\, Sild\, Udenlandsk\, Danmark
END:VEVENT
BEGIN:VEVENT
DTSTART;TZID=Europe/Copenhagen:20211105T112000
DTEND;TZID=Europe/Copenhagen:20211105T115000
DTSTAMP:20260422T033327
CREATED:20211101T101445Z
LAST-MODIFIED:20211101T101445Z
UID:30181-1636111200-1636113000@spildansk.dk
SUMMARY:Frokostkoncert
DESCRIPTION:Roskilde Katedralskoles musikelever holder frokostkoncert i kantinens scene. 
URL:https://spildansk.dk/kalender/frokostkoncert-2/
LOCATION:Roskilde Katedralskole\, Holbækvej 59\, Roskilde\, 4000
CATEGORIES:Koncert
ATTACH;FMTTYPE=image/png:https://spildansk.dk/wp-content/uploads/2021/11/Logo-uden-baggrund-1.png
END:VEVENT
BEGIN:VEVENT
DTSTART;TZID=Europe/Copenhagen:20211105T110000
DTEND;TZID=Europe/Copenhagen:20211105T110000
DTSTAMP:20260422T033327
CREATED:20211027T090533Z
LAST-MODIFIED:20211027T090533Z
UID:29889-1636110000-1636110000@spildansk.dk
SUMMARY:Tikke Takke Trio - Tikke Takke Trio
DESCRIPTION:
URL:https://spildansk.dk/kalender/tikke-takke-trio-tikke-takke-trio/
LOCATION:Lundehusskolen\, København\, Københavns\, Danmark
END:VEVENT
BEGIN:VEVENT
DTSTART;TZID=Europe/Copenhagen:20211105T110000
DTEND;TZID=Europe/Copenhagen:20211105T110000
DTSTAMP:20260422T033327
CREATED:20211027T090532Z
LAST-MODIFIED:20211027T090532Z
UID:29888-1636110000-1636110000@spildansk.dk
SUMMARY:Tumult - Tumult på skolen
DESCRIPTION:
URL:https://spildansk.dk/kalender/tumult-tumult-paa-skolen-2/
LOCATION:Sct. Hansskole\, Odense\, Odense\, Danmark
END:VEVENT
BEGIN:VEVENT
DTSTART;TZID=Europe/Copenhagen:20211105T102000
DTEND;TZID=Europe/Copenhagen:20211105T102000
DTSTAMP:20260422T033327
CREATED:20211027T090530Z
LAST-MODIFIED:20211027T090530Z
UID:29887-1636107600-1636107600@spildansk.dk
SUMMARY:Vi finder på - Vi finder på
DESCRIPTION:
URL:https://spildansk.dk/kalender/vi-finder-paa-vi-finder-paa-4/
LOCATION:Engstrandskolen\, Hvidovre\, Hvidovre\, Danmark
END:VEVENT
BEGIN:VEVENT
DTSTART;TZID=Europe/Copenhagen:20211105T101500
DTEND;TZID=Europe/Copenhagen:20211105T101500
DTSTAMP:20260422T033327
CREATED:20211027T090527Z
LAST-MODIFIED:20211027T090527Z
UID:29886-1636107300-1636107300@spildansk.dk
SUMMARY:Baby Did a Bad Thing - Baby Did a Bad Thing
DESCRIPTION:
URL:https://spildansk.dk/kalender/baby-did-a-bad-thing-baby-did-a-bad-thing-12/
LOCATION:Overlund Skole\, Viborg\, Viborg\, Danmark
END:VEVENT
BEGIN:VEVENT
DTSTART;TZID=Europe/Copenhagen:20211105T101000
DTEND;TZID=Europe/Copenhagen:20211105T104500
DTSTAMP:20260422T033327
CREATED:20211007T125231Z
LAST-MODIFIED:20211007T125231Z
UID:28784-1636107000-1636109100@spildansk.dk
SUMMARY:Fællessang på Næstved Bibliotek
DESCRIPTION:Kom til ”Fællessang på Næstved Bibliotek” og oplev glæden ved at synge sammen. \nVi synger sange fra den seneste udgave af Højskolesangbogen\, og hver sang ledsages af en introduktion\, ligesom en pianist vil akkompagnere og ”forsangere” vil synge for. \nDet er gratis at deltage.
URL:https://spildansk.dk/kalender/faellessang-paa-naestved-bibliotek-3/
LOCATION:Næstved Bibliotek\, Kvægtorvet 4-6\, Næstved\, 4700\, Danmark
CATEGORIES:Fællessang
ATTACH;FMTTYPE=image/jpeg:https://spildansk.dk/wp-content/uploads/2021/10/Faellessang.jpg
END:VEVENT
BEGIN:VEVENT
DTSTART;TZID=Europe/Copenhagen:20211105T100500
DTEND;TZID=Europe/Copenhagen:20211105T100500
DTSTAMP:20260422T033327
CREATED:20211027T090525Z
LAST-MODIFIED:20211027T090525Z
UID:29885-1636106700-1636106700@spildansk.dk
SUMMARY:HP Lange & Jarno Varsted - Roden til alt godt
DESCRIPTION:
URL:https://spildansk.dk/kalender/hp-lange-jarno-varsted-roden-til-alt-godt-9/
LOCATION:Valsgård Skole\, Hobro\, Mariagerfjord\, Danmark
END:VEVENT
BEGIN:VEVENT
DTSTART;TZID=Europe/Copenhagen:20211105T100500
DTEND;TZID=Europe/Copenhagen:20211105T100500
DTSTAMP:20260422T033327
CREATED:20211027T090523Z
LAST-MODIFIED:20211027T090523Z
UID:29884-1636106700-1636106700@spildansk.dk
SUMMARY:Ensemble Eiradís - KLASSISK
DESCRIPTION:
URL:https://spildansk.dk/kalender/ensemble-eiradis-klassisk-11/
LOCATION:Skødstrup Skole\, Skødstrup\, Aarhus\, Danmark
END:VEVENT
BEGIN:VEVENT
DTSTART;TZID=Europe/Copenhagen:20211105T100500
DTEND;TZID=Europe/Copenhagen:20211105T100500
DTSTAMP:20260422T033327
CREATED:20211027T090521Z
LAST-MODIFIED:20211027T090521Z
UID:29883-1636106700-1636106700@spildansk.dk
SUMMARY:APHYXION - Heavy metal i hovedhøjde
DESCRIPTION:
URL:https://spildansk.dk/kalender/aphyxion-heavy-metal-i-hovedhoejde-9/
LOCATION:Hjørring UngdomsCenter\, Hjørring\, Hjørring\, Danmark
END:VEVENT
BEGIN:VEVENT
DTSTART;TZID=Europe/Copenhagen:20211105T100000
DTEND;TZID=Europe/Copenhagen:20211105T200000
DTSTAMP:20260422T033327
CREATED:20211008T074245Z
LAST-MODIFIED:20211008T074245Z
UID:28790-1636106400-1636142400@spildansk.dk
SUMMARY:Liveradio med DR
DESCRIPTION:DR sender liveradio fra Vejle Musikteater\, henholdsvis p2\, p5 og p8.
URL:https://spildansk.dk/kalender/liveradio-med-dr/
LOCATION:Vejle Musikteater\, Vedelsgade 25\, Vejle\, 7100\, Danmark
CATEGORIES:Foredrag
ORGANIZER;CN="Vejle Musikteater":MAILTO:musikteatret@vejle.dk
END:VEVENT
BEGIN:VEVENT
DTSTART;TZID=Europe/Copenhagen:20211105T100000
DTEND;TZID=Europe/Copenhagen:20211105T130000
DTSTAMP:20260422T033327
CREATED:20211105T133924Z
LAST-MODIFIED:20211105T133924Z
UID:30247-1636106400-1636117200@spildansk.dk
SUMMARY:LYDEN AF FRIHED
DESCRIPTION:Workshop med Hanne Tofte Jespersen – komponistbesøg i klasse
URL:https://spildansk.dk/kalender/lyden-af-frihed-9/
LOCATION:Lynghøjskolen\, Lynghøjen 107\, Svogerslev\, 4000\, Danmark
ATTACH;FMTTYPE=image/jpeg:https://spildansk.dk/wp-content/uploads/2021/11/Hanne_Tofte_Jespersen_LR_0M6A8522profileS.jpg
END:VEVENT
BEGIN:VEVENT
DTSTART;TZID=Europe/Copenhagen:20211105T100000
DTEND;TZID=Europe/Copenhagen:20211105T130000
DTSTAMP:20260422T033327
CREATED:20211013T125917Z
LAST-MODIFIED:20211013T125948Z
UID:29169-1636106400-1636117200@spildansk.dk
SUMMARY:Komponist i klassen
DESCRIPTION:Hjerm Skole får besøg af Ane Østergaard.
URL:https://spildansk.dk/kalender/komponist-i-klassen-7/
LOCATION:Hjerm Skole\, Skolevej 1\, Hjerm\, 7560
CATEGORIES:Undervisning
END:VEVENT
BEGIN:VEVENT
DTSTART;TZID=Europe/Copenhagen:20211105T100000
DTEND;TZID=Europe/Copenhagen:20211105T130000
DTSTAMP:20260422T033327
CREATED:20210825T061437Z
LAST-MODIFIED:20210825T061542Z
UID:28060-1636106400-1636117200@spildansk.dk
SUMMARY:Komponist i klassen
DESCRIPTION:Workshop\, hvor 5. klasse fra Hjerm Skole i Struer i samarbejde med Ane Østergaard skaber en komposition\, hvor alle elever er med til at sætte deres fingeraftryk.
URL:https://spildansk.dk/kalender/komponist-i-klassen-5/
LOCATION:Hjerm Skole\, Skolevej 1\, 7560\, Hjerm
CATEGORIES:Undervisning,Musik til børn,Workshop
ATTACH;FMTTYPE=image/png:https://spildansk.dk/wp-content/uploads/2021/08/asd.png
ORGANIZER;CN="Hjerm Skole":MAILTO:hjermskole@struer.dk
END:VEVENT
END:VCALENDAR