BEGIN:VCALENDAR
VERSION:2.0
PRODID:-//Spil Dansk - ECPv6.5.0//NONSGML v1.0//EN
CALSCALE:GREGORIAN
METHOD:PUBLISH
X-ORIGINAL-URL:https://spildansk.dk
X-WR-CALDESC:Events for Spil Dansk
REFRESH-INTERVAL;VALUE=DURATION:PT1H
X-Robots-Tag:noindex
X-PUBLISHED-TTL:PT1H
BEGIN:VTIMEZONE
TZID:Europe/Copenhagen
BEGIN:DAYLIGHT
TZOFFSETFROM:+0100
TZOFFSETTO:+0200
TZNAME:CEST
DTSTART:20190331T010000
END:DAYLIGHT
BEGIN:STANDARD
TZOFFSETFROM:+0200
TZOFFSETTO:+0100
TZNAME:CET
DTSTART:20191027T010000
END:STANDARD
END:VTIMEZONE
BEGIN:VEVENT
DTSTART;TZID=Europe/Copenhagen:20191028T083000
DTEND;TZID=Europe/Copenhagen:20191028T093000
DTSTAMP:20260421T021158
CREATED:20191023T105350Z
LAST-MODIFIED:20191023T105350Z
UID:22544-1572251400-1572255000@spildansk.dk
SUMMARY:Cirkeline og Coco rejser til Afrika
DESCRIPTION:LMS-Familiekoncert i forbindelse med Spil Dansk Ugen 2019.
URL:https://spildansk.dk/kalender/cirkeline-og-coco-rejser-til-afrika-7/
LOCATION:Sydvestmors Friskole\, Næssundvej 325\, Karby\, 7960\, Danmark
END:VEVENT
BEGIN:VEVENT
DTSTART;TZID=Europe/Copenhagen:20191028T084500
DTEND;TZID=Europe/Copenhagen:20191028T084500
DTSTAMP:20260421T021158
CREATED:20191003T093523Z
LAST-MODIFIED:20191003T093632Z
UID:20785-1572252300-1572252300@spildansk.dk
SUMMARY:Morgensang på Rådhuset
DESCRIPTION:Brorsonsskolens kor åbner Spil Dansk ugen i Varde kommune og synger for til fælles morgensang.
URL:https://spildansk.dk/kalender/morgensang-paa-raadhuset-2/
LOCATION:varde rådhus
CATEGORIES:Fællessang
ATTACH;FMTTYPE=image/png:https://spildansk.dk/wp-content/uploads/2019/10/grafik-facebook-banner.png
ORGANIZER;CN="Spil Dansk Styregruppen Varde Kommune":MAILTO:pvoo@varde.dk
END:VEVENT
BEGIN:VEVENT
DTSTART;TZID=Europe/Copenhagen:20191028T084500
DTEND;TZID=Europe/Copenhagen:20191028T090000
DTSTAMP:20260421T021158
CREATED:20191024T110849Z
LAST-MODIFIED:20191024T110849Z
UID:22734-1572252300-1572253200@spildansk.dk
SUMMARY:Morgensang på Assens Rådhus
DESCRIPTION:Kom til morgensang i kantinen på Assens Rådhus – og få en frisk start på ugen! \nAssens SangKraftcenter sørger for klaver\, pianist og forsanger\, så alle kan være med.
URL:https://spildansk.dk/kalender/morgensang-paa-assens-raadhus/
LOCATION:Assens Rådhus\, Rådhus Allé 5\, Assens\, 5610 Assens
CATEGORIES:Fællessang
END:VEVENT
BEGIN:VEVENT
DTSTART;TZID=Europe/Copenhagen:20191028T084500
DTEND;TZID=Europe/Copenhagen:20191028T094500
DTSTAMP:20260421T021158
CREATED:20191023T105149Z
LAST-MODIFIED:20191023T105149Z
UID:22527-1572252300-1572255900@spildansk.dk
SUMMARY:Ond børnemusik
DESCRIPTION:LMS-Familiekoncert i forbindelse med Spil Dansk Ugen 2019.
URL:https://spildansk.dk/kalender/ond-boernemusik/
LOCATION:Pilegårdsskolen\, Ole Klokkers Vej 17\, Kastrup\, 2770\, Danmark
END:VEVENT
BEGIN:VEVENT
DTSTART;TZID=Europe/Copenhagen:20191028T084500
DTEND;TZID=Europe/Copenhagen:20191028T094500
DTSTAMP:20260421T021158
CREATED:20191023T105312Z
LAST-MODIFIED:20191023T105312Z
UID:22538-1572252300-1572255900@spildansk.dk
SUMMARY:Hjertelys
DESCRIPTION:LMS-Familiekoncert i forbindelse med Spil Dansk Ugen 2019.
URL:https://spildansk.dk/kalender/hjertelys-11/
LOCATION:Skottegårdsskolen\, Saltværksvej 65\, Kastrup\, 2770\, Denmark
END:VEVENT
BEGIN:VEVENT
DTSTART;TZID=Europe/Copenhagen:20191028T090000
DTEND;TZID=Europe/Copenhagen:20191028T100000
DTSTAMP:20260421T021158
CREATED:20191023T105034Z
LAST-MODIFIED:20191023T105034Z
UID:22515-1572253200-1572256800@spildansk.dk
SUMMARY:Wenzell & Bugge
DESCRIPTION:LMS-Familiekoncert i forbindelse med Spil Dansk Ugen 2019.
URL:https://spildansk.dk/kalender/wenzell-bugge-2/
LOCATION:Klokkerholm Skole\, Smørblomstvej 5A\, Hjallerup\, 9320\, Denmark
END:VEVENT
BEGIN:VEVENT
DTSTART;TZID=Europe/Copenhagen:20191028T090000
DTEND;TZID=Europe/Copenhagen:20191028T130000
DTSTAMP:20260421T021158
CREATED:20190910T052741Z
LAST-MODIFIED:20190910T052741Z
UID:20055-1572253200-1572267600@spildansk.dk
SUMMARY:syngdanskdag i Forum Horsens
DESCRIPTION:Alle kommunens 4. klasser er inviteret til at synge sammen i gigantkor i Forum Horsens. Sangene er øvet på forhånd\, og der afsluttes med en koncert. \nJeg deltager med 4. klasserne fra Bankagerskolen\, Horsens.
URL:https://spildansk.dk/kalender/syngdanskdag-i-forum-horsens/
LOCATION:Forum Horsens\, Langmarksvej 53\, Horsens\, 8700\, Danmark
CATEGORIES:Fællessang
END:VEVENT
BEGIN:VEVENT
DTSTART;TZID=Europe/Copenhagen:20191028T093000
DTEND;TZID=Europe/Copenhagen:20191028T093000
DTSTAMP:20260421T021158
CREATED:20190930T085220Z
LAST-MODIFIED:20190930T085220Z
UID:20631-1572255000-1572255000@spildansk.dk
SUMMARY:Spil Dansk-bal for dagpleje- og vuggestuebørn
DESCRIPTION:Der bliver sunget og danset til dejlige danske børnesange på Slagelse Musikskole. Arrangementet er fuld booket.
URL:https://spildansk.dk/kalender/spil-dansk-bal-for-dagpleje-og-vuggestueboern/
LOCATION:Slagelse Musikskole\, Sct. Pedersgade 18\, Slagelse\, 4200\, Danmark
CATEGORIES:Musik til børn
ORGANIZER;CN="Slagelse Musikskole":MAILTO:metmo@slagelse.dk
END:VEVENT
BEGIN:VEVENT
DTSTART;TZID=Europe/Copenhagen:20191028T093000
DTEND;TZID=Europe/Copenhagen:20191028T100000
DTSTAMP:20260421T021158
CREATED:20191024T120548Z
LAST-MODIFIED:20191024T120548Z
UID:22747-1572255000-1572256800@spildansk.dk
SUMMARY:Roskilde Kulturskoles Skoleorkester
DESCRIPTION:Roskilde Kulturskoles Skoleorkester spiller koncert i børnehøjde for dagtilbud fra Roskilde Nord.
URL:https://spildansk.dk/kalender/roskilde-kulturskoles-skoleorkester-3/
LOCATION:Roskilde Kulturskole\, Planetvej 30A\, Jyllinge\, 4040\, Danmark
CATEGORIES:Klassisk,Pop
ATTACH;FMTTYPE=image/jpeg:https://spildansk.dk/wp-content/uploads/2019/10/Skoleorkester-2.jpg
ORGANIZER;CN="Roskilde Kulturskole":MAILTO:kulturskolen@roskilde.dk
END:VEVENT
BEGIN:VEVENT
DTSTART;TZID=Europe/Copenhagen:20191028T093000
DTEND;TZID=Europe/Copenhagen:20191028T103000
DTSTAMP:20260421T021158
CREATED:20190808T113707Z
LAST-MODIFIED:20190808T115001Z
UID:19581-1572255000-1572258600@spildansk.dk
SUMMARY:Syng dansk på Fjelsø Friskole
DESCRIPTION:Vi indbyder store og små\, gamle og unge til fællessang på Friskolen. \nVi håber mange har lyst til at komme og synge med os.
URL:https://spildansk.dk/kalender/syng-dansk-paa-fjelsoe-friskole/
LOCATION:Fjelsø Friskole\, Knabervej 120\, Aalestrup\, 9620
CATEGORIES:Fællessang
END:VEVENT
BEGIN:VEVENT
DTSTART;TZID=Europe/Copenhagen:20191028T093000
DTEND;TZID=Europe/Copenhagen:20191028T103000
DTSTAMP:20260421T021158
CREATED:20191023T104835Z
LAST-MODIFIED:20191023T104835Z
UID:22497-1572255000-1572258600@spildansk.dk
SUMMARY:Mads Vinding & Øyvind Ougaard
DESCRIPTION:LMS-Familiekoncert i forbindelse med Spil Dansk Ugen 2019.
URL:https://spildansk.dk/kalender/mads-vinding-oeyvind-ougaard-3/
LOCATION:Endrupskolen\, Endrupvej 32\, Fredensborg\, 3480\, Denmark
END:VEVENT
BEGIN:VEVENT
DTSTART;TZID=Europe/Copenhagen:20191028T093000
DTEND;TZID=Europe/Copenhagen:20191028T110000
DTSTAMP:20260421T021158
CREATED:20191004T092715Z
LAST-MODIFIED:20191004T092715Z
UID:20880-1572255000-1572260400@spildansk.dk
SUMMARY:Babysalmesang
DESCRIPTION:Babysalmesang i Sankt Andreas Kirke I fællesskab synger vi kendte danske børnesange og salmer\, laver fagter\, bruger kroppen\, blæser sæbebobler\, leger med tørklæder og meget andet. \nBabysalmesang er både hyggeligt og sanserigt og kan være en god inspiration for forældre\, som ønsker at inddrage mere musik\, sang og leg i samværet med deres barn. Forældre kan måske godt være lidt forbeholdne over at skulle sidde og synge sammen med andre\, men for et barn er de dejligste stemmer i verden fars og mors. I behøver ikke at være vant til at synge sange eller salmer eller at være kirkevante. I lærer kirken at kende som et sted med plads til både ro og tryghed og til leg og glæde. \nTip: Tag din mødregruppe med – det er en super god social aktivitet at lave sammen.\nFor babyer i alderen 0-12 måneder. Kirken er åben 20 min før\, så dit barn evt. kan nå at blive skiftet eller få noget at spise\, inden vi går i gang. Lektionerne varer ca. 35 minutter hver gang – herefter er der kaffe og te samt plads til lidt løs snak i våbenhuset eller de tilstødende lokaler.\nTilmelding til Vibeke Bonde Persson på vip@andreaskirke.dk\nOplys venligst dit navn og telefonnummer samt dit barns navn og alder.
URL:https://spildansk.dk/kalender/babysalmesang-2/
LOCATION:Sankt Andreas Kirke\, Hadsundvej 81\, Randers NØ\, 8930
CATEGORIES:Musik til børn
END:VEVENT
BEGIN:VEVENT
DTSTART;TZID=Europe/Copenhagen:20191028T093000
DTEND;TZID=Europe/Copenhagen:20191101T100000
DTSTAMP:20260421T021158
CREATED:20191023T123004Z
LAST-MODIFIED:20191023T123004Z
UID:22590-1572255000-1572602400@spildansk.dk
SUMMARY:Se min kjole.
DESCRIPTION:Vi synger\, venter på tur\, bevæger os og øver farver\, til sangen Se min kjole.
URL:https://spildansk.dk/kalender/se-min-kjole/
LOCATION:Sviegade\, Ribe\, 6760
CATEGORIES:Musik til børn
END:VEVENT
BEGIN:VEVENT
DTSTART;TZID=Europe/Copenhagen:20191028T094000
DTEND;TZID=Europe/Copenhagen:20191028T120000
DTSTAMP:20260421T021158
CREATED:20190924T080742Z
LAST-MODIFIED:20190924T080832Z
UID:20422-1572255600-1572264000@spildansk.dk
SUMMARY:Musikalsk foredrag
DESCRIPTION:Eleverne på Struer Statsgymnasium skal til foredrag med Marcus Winter-John.
URL:https://spildansk.dk/kalender/musikalsk-foredrag/
LOCATION:Struer Statsgymnasium\, Jyllandsgade 2\, Struer\, 7600
END:VEVENT
BEGIN:VEVENT
DTSTART;TZID=Europe/Copenhagen:20191028T094500
DTEND;TZID=Europe/Copenhagen:20191028T100000
DTSTAMP:20260421T021158
CREATED:20191008T090317Z
LAST-MODIFIED:20191008T091317Z
UID:21003-1572255900-1572256800@spildansk.dk
SUMMARY:Fællessang på Skægkærskolen.
DESCRIPTION:Hele Skægkærskolen mødes hver dag i uge 44 og synger fællessang.
URL:https://spildansk.dk/kalender/faellessang-36/
LOCATION:Skægkærskolen\, Sindingvej 15\, Silkeborg\, 8600
END:VEVENT
BEGIN:VEVENT
DTSTART;TZID=Europe/Copenhagen:20191028T094500
DTEND;TZID=Europe/Copenhagen:20191028T104500
DTSTAMP:20260421T021158
CREATED:20191023T105317Z
LAST-MODIFIED:20191023T105317Z
UID:22539-1572255900-1572259500@spildansk.dk
SUMMARY:Hjertelys
DESCRIPTION:LMS-Familiekoncert i forbindelse med Spil Dansk Ugen 2019.
URL:https://spildansk.dk/kalender/hjertelys-12/
LOCATION:Skottegårdsskolen\, Saltværksvej 65\, Kastrup\, 2770\, Denmark
END:VEVENT
BEGIN:VEVENT
DTSTART;TZID=Europe/Copenhagen:20191028T100000
DTEND;TZID=Europe/Copenhagen:20191028T103000
DTSTAMP:20260421T021158
CREATED:20191024T114809Z
LAST-MODIFIED:20191024T121256Z
UID:22741-1572256800-1572258600@spildansk.dk
SUMMARY:Roskilde Kulturskoles Skoleorkester
DESCRIPTION:Skoleorkesteret spiller koncert for nysgerrige skoleklasser og fortæller om instrumenterne undervejs
URL:https://spildansk.dk/kalender/roskilde-kulturskoles-skoleorkester/
LOCATION:Roskilde Kulturskole\, Planetvej 30A\, Jyllinge\, 4040\, Danmark
CATEGORIES:Klassisk,Pop
ATTACH;FMTTYPE=image/jpeg:https://spildansk.dk/wp-content/uploads/2019/10/Skoleorkester.jpg
ORGANIZER;CN="Roskilde Kulturskole":MAILTO:kulturskolen@roskilde.dk
END:VEVENT
BEGIN:VEVENT
DTSTART;TZID=Europe/Copenhagen:20191028T100000
DTEND;TZID=Europe/Copenhagen:20191028T110000
DTSTAMP:20260421T021158
CREATED:20190912T105713Z
LAST-MODIFIED:20190926T112748Z
UID:20215-1572256800-1572260400@spildansk.dk
SUMMARY:Mek Peks Åh abe trio i Kedelhallen
DESCRIPTION:Børnene elsker alle de populære sange fra Åh Abe\, og når Mek Pek går på scenen sammen med Onkel Tot\, blir’ alle sangene fyret af med højt humør. Mek Pek er utrolig charmerende og kommer helt ud over scenekanten. Han synger\, spiller gulvbas & trompet og sørger for\, at stemningen er helt i top fra start til slut. \nHer er et musikalsk børneshow\, hvor Mek har taget sin Onkel Tot (Mads Fogt fra Habbasutterne) med på guitar og kor. Alle børn kan glæde sig til et musikalsk og humoristisk show\, som er bygget op over sangene fra Åh Abe-pladerne og Mek Peks egne cd’er. Det hele krydres med “løgn-historier” fra Mek Pek’s egen barndom og sjove anekdoter. Det er startskuddet på Spil Dansk Ugen\, som er en musikalsk festuge\, der fejrer den danske musik. \nArrangementet bliver afholdt i Kedelhallen på Frederiksberg\, Nyelandsvej 75A\, mandag d. 28. oktober kl. 10-11:00. Det er helt gratis!
URL:https://spildansk.dk/kalender/mek-peks-aah-abe-trio-i-kedelhallen/
LOCATION:Kedelhallen\, Nyelandsvej 75A\, Frederiksberg\, 2000\, Danmark
CATEGORIES:Musik til børn
ATTACH;FMTTYPE=image/jpeg:https://spildansk.dk/wp-content/uploads/2019/09/Mekåhabe.jpg
ORGANIZER;CN="Spil Dansk":MAILTO:info@spildansk.dk
END:VEVENT
BEGIN:VEVENT
DTSTART;TZID=Europe/Copenhagen:20191028T100000
DTEND;TZID=Europe/Copenhagen:20191028T110000
DTSTAMP:20260421T021158
CREATED:20191003T094501Z
LAST-MODIFIED:20191003T094501Z
UID:20794-1572256800-1572260400@spildansk.dk
SUMMARY:International Bamsedag spiller dansk (4-6-årige)
DESCRIPTION:Hanne Bech læser og fortæller bamsehistorier\, mens Lis Theilgaard står for bamsegymnastik og bamsesange.\nAlle børn får en bamse med hjem. Til sidst serveres forfriskninger til alle “bamse”-børnene.\nDen internationale bamsedag blev indført på de nordiske biblioteker i 1999.\nBestil fribillet på Varde Bibliotek
URL:https://spildansk.dk/kalender/international-bamsedag-spiller-dansk-4-6-aarige/
LOCATION:Ølgod Bibliotek\, Vestergade 5\, Ølgod\, 6870
CATEGORIES:Musik til børn
ATTACH;FMTTYPE=image/png:https://spildansk.dk/wp-content/uploads/2019/10/grafik-facebook-banner-2.png
END:VEVENT
BEGIN:VEVENT
DTSTART;TZID=Europe/Copenhagen:20191028T100000
DTEND;TZID=Europe/Copenhagen:20191028T110000
DTSTAMP:20260421T021158
CREATED:20191014T101440Z
LAST-MODIFIED:20191014T101527Z
UID:21406-1572256800-1572260400@spildansk.dk
SUMMARY:Fællessang på biblioteket i Helsinge
DESCRIPTION:Som en del af Spil Dansk ugen afholder to fællessangsarrangementer på biblioteket i Helsinge. Denne dag med souschef på Kulturskolen\, Ole Heie som vært. Ole udvælger forskellige dansk komponerede sange og spiller klaver til.\nBiblioteket vil være vært for en kop kaffe og lidt sødt til ganen
URL:https://spildansk.dk/kalender/faellessang-paa-biblioteket-i-helsinge/
LOCATION:Helsinge Kulturhus\, Skolegade 43\, Helsinge\, 3200
CATEGORIES:Fællessang
ATTACH;FMTTYPE=image/jpeg:https://spildansk.dk/wp-content/uploads/2019/10/gribskovbib_logo1.jpg
ORGANIZER;CN="Kulturskolen Gribskov":MAILTO:musikskolen@gribskov.dk
END:VEVENT
BEGIN:VEVENT
DTSTART;TZID=Europe/Copenhagen:20191028T100000
DTEND;TZID=Europe/Copenhagen:20191028T110000
DTSTAMP:20260421T021158
CREATED:20191023T105159Z
LAST-MODIFIED:20191023T105159Z
UID:22528-1572256800-1572260400@spildansk.dk
SUMMARY:Ond børnemusik
DESCRIPTION:LMS-Familiekoncert i forbindelse med Spil Dansk Ugen 2019.
URL:https://spildansk.dk/kalender/ond-boernemusik-2/
LOCATION:Pilegårdsskolen\, Ole Klokkers Vej 17\, Kastrup\, 2770\, Danmark
END:VEVENT
BEGIN:VEVENT
DTSTART;TZID=Europe/Copenhagen:20191028T100000
DTEND;TZID=Europe/Copenhagen:20191028T150000
DTSTAMP:20260421T021158
CREATED:20191023T055215Z
LAST-MODIFIED:20191023T055215Z
UID:22334-1572256800-1572274800@spildansk.dk
SUMMARY:Sangskriver-workshop med AndyOp
DESCRIPTION:Sangskriver-workshop med AndyOp
URL:https://spildansk.dk/kalender/sangskriver-workshop-med-andyop/
LOCATION:Svinninge Skole\, Hovedgaden 76\, Svinninge\, 4520
CATEGORIES:Hiphop,Workshop
END:VEVENT
BEGIN:VEVENT
DTSTART;TZID=Europe/Copenhagen:20191028T100000
DTEND;TZID=Europe/Copenhagen:20191028T170000
DTSTAMP:20260421T021158
CREATED:20191023T105834Z
LAST-MODIFIED:20191023T105834Z
UID:22375-1572256800-1572282000@spildansk.dk
SUMMARY:Sangskriver workshop
DESCRIPTION:Den digitale udvikling har betydet\, at de fleste unge altid har et enormt musikkatalog lige ved hånden\, hvilket kan gøre det svært for dem at få en fornemmelse af det arbejde\, der ligger bag en sang. Derfor er formålet med ‘Sangskriver-workshop for Koda’\, at eleverne opnår større forståelse for det store arbejde\, der ligger bag den musik\, de lytter til samtidig med\, at de har det sjovt og får hænderne helt ned i det kreative arbejde.
URL:https://spildansk.dk/kalender/sangskriver-workshop-6/
LOCATION:Område Katrinedal Svinninge skole\, Hovedgaden 76F\, Svinninge\, 4520
CATEGORIES:Undervisning
ATTACH;FMTTYPE=image/png:https://spildansk.dk/wp-content/uploads/2019/10/download.png
END:VEVENT
BEGIN:VEVENT
DTSTART;TZID=Europe/Copenhagen:20191028T100000
DTEND;TZID=Europe/Copenhagen:20191103T160000
DTSTAMP:20260421T021158
CREATED:20191024T072600Z
LAST-MODIFIED:20191024T072932Z
UID:22680-1572256800-1572796800@spildansk.dk
SUMMARY:Spil Dansk: Brødregade giver genlyd
DESCRIPTION:Hvis du bevæger dig gennem Brødregade fra mandag den 28. oktober til søndag den 3. november\, vil der være danske toner i luften omkring dig. I anledning af Spil Dansk-ugen bliver Randers Cityforenings højttaleranlæg i gågaden nemlig taget i brug med henblik på at sætte fokus på al den kvalitetsmusik der kommer fra danske kunstnere\, sangskrivere og producere. \nI løbet af ugen vil man både kunne høre lyden af nutiden\, men også indspilninger\, der har både år og årtier på bagen. Ønsket er at skabe glæde ved at præsentere fodgængerne i Brødregade for god hjemlig musik og samtidig minde om\, hvor rigt et musikliv\, vi har herhjemme. \nSpil Dansk er musiklivets festuge\, der altid foregår i uge 44. Siden 2001 har Spil Dansk været Danmarks største musikbegivenhed i al sin bredde og mangfoldighed af arrangementer. Turbinen\, Randers Bibliotek\, Randers Kommune og Randers Eventsekretariat er lokale arrangører. Det sker i samarbejde med blandt andre lokale bands\, musikkorps\, -ensembler og -kor. Målet er blandt andet at skabe glæde og øge kendskabet til musik med dansk afsæt – herunder udfolde musikken i nye og anderledes rammer.
URL:https://spildansk.dk/kalender/spil-dansk-broedregade-giver-genlyd/
LOCATION:Brødregade\, Brødregade\, Randers C\, 8900
END:VEVENT
BEGIN:VEVENT
DTSTART;TZID=Europe/Copenhagen:20191028T101000
DTEND;TZID=Europe/Copenhagen:20191101T104500
DTSTAMP:20260421T021158
CREATED:20190926T131544Z
LAST-MODIFIED:20190926T131544Z
UID:20581-1572257400-1572605100@spildansk.dk
SUMMARY:Fællessang på Næstved Bibliotek
DESCRIPTION:Hver dag i uge 44 kl. 10.10 er der fællessang på Næstved Bibliotek for alle interesserede. At synge er sundt\, giver god energi\, sætter gang i kreativiteten og styrker den følelsesmæssige IQ.\n\n\n\n\n\nDe fleste kan sikkert tilslutte sig at det\, at synge eller lytte til musik\, gør noget ved os – sætter os i en stemning. At synge sammen er også en udfordring for både hjerne og fysik\, man kommer i god form fysisk og mentalt. Det er for de fleste en stor oplevelse\, menneskeligt og kulturelt\, at stå i samlet flok og skabe fællesklang\, og desuden giver det selvtillid og tro på egne evner. \nAlle kan være med til fællessangen\, man behøver ikke at være supersanger – også brummere er velkomne! Vi synger ca. 5 sange fra højskolesangbogen eller lignende hver gang. En gruppe af lokale borgere står for at slå tonen an og akkompagnere på klaver\, samt står for et lille oplæg til hver sang. \nFællessang på biblioteket er gratis\, og der er ingen tilmelding – bare mød op!
URL:https://spildansk.dk/kalender/faellessang-paa-naestved-bibliotek-2/
LOCATION:Næstved Bibliotek\, Kvægtorvet 4-6\, Næstved\, 4700\, Danmark
CATEGORIES:Fællessang
ATTACH;FMTTYPE=image/jpeg:https://spildansk.dk/wp-content/uploads/2019/09/Fællessang.jpg
END:VEVENT
BEGIN:VEVENT
DTSTART;TZID=Europe/Copenhagen:20191028T101500
DTEND;TZID=Europe/Copenhagen:20191028T124500
DTSTAMP:20260421T021158
CREATED:20191022T183649Z
LAST-MODIFIED:20191022T183649Z
UID:22301-1572257700-1572266700@spildansk.dk
SUMMARY:Elektronisk musik i 3.a
DESCRIPTION:3.a får besøg af Ane Østergaard\, der har komponeret melodier og leget med lyd så længe hun kan huske.  I 2006 udgav hun sin første plade under synonymet Band Ane og har siden arbejdet som professionel komponist og performer af eksperimenterende elektronisk musik. Udover egne udgivelser og koncert-spilleriet arbejder hun også med at komponere musik til film\, teater\, radio\, danse-performances\, installationer\, podcasts\, lydvandringer – og så har hun i de sidste 5 år lavet rigtig mange workshops for børn og unge. \nI en workshop skal eleverne  blandt andet være musikalsk skabende og prøve at arbejde ligesom Ane Østergaard. De skal individuelt skabe en komposition\, hvor de tager udgangspunkt i en tegning af et skib i havsnød. Eleverne får en række lyde\, som er relateret til tegningen. De udvælger nogle lyde\, som sættes sammen og bearbejdes på forskellige måder.
URL:https://spildansk.dk/kalender/elektronisk-musik-i-3-a/
LOCATION:Sødalskolen\, Meldgårdsvej\, 24 Rødding\,\, Tjele\, 8830
CATEGORIES:Musik til børn,Workshop
ATTACH;FMTTYPE=image/jpeg:https://spildansk.dk/wp-content/uploads/2019/10/BandAne_3-1440x700.jpg
END:VEVENT
BEGIN:VEVENT
DTSTART;TZID=Europe/Copenhagen:20191028T103000
DTEND;TZID=Europe/Copenhagen:20191028T113000
DTSTAMP:20260421T021158
CREATED:20191014T114759Z
LAST-MODIFIED:20191014T115208Z
UID:21464-1572258600-1572262200@spildansk.dk
SUMMARY:Barsel og bobler #2: RebekkaMaria
DESCRIPTION:Til dig på barsel. Intimkoncert og talk med RebekkaMaria med fokus på temaet ’Muren’ i forhold til moderskabet og hvordan dette kommer til udtryk gennem hendes musik.
URL:https://spildansk.dk/kalender/barsel-og-bobler-2-rebekkamaria/
LOCATION:Algade 31 – kreativt hus for børn\, Algade 31\, Roskilde\, 4000
CATEGORIES:Koncert
ATTACH;FMTTYPE=image/png:https://spildansk.dk/wp-content/uploads/2019/10/rebekkamaria.png
ORGANIZER;CN="Algade 31 - kreativt hus for b%C3%B8rn":MAILTO:bibalgade31@roskilde.dk
END:VEVENT
BEGIN:VEVENT
DTSTART;TZID=Europe/Copenhagen:20191028T113000
DTEND;TZID=Europe/Copenhagen:20191028T123000
DTSTAMP:20260421T021158
CREATED:20191023T105400Z
LAST-MODIFIED:20191023T105400Z
UID:22546-1572262200-1572265800@spildansk.dk
SUMMARY:Cirkeline og Coco rejser til Afrika
DESCRIPTION:LMS-Familiekoncert i forbindelse med Spil Dansk Ugen 2019.
URL:https://spildansk.dk/kalender/cirkeline-og-coco-rejser-til-afrika-9/
LOCATION:Tilsted Skole\, Silstrupvej 47\, Thisted\, 7700\, Denmark
END:VEVENT
BEGIN:VEVENT
DTSTART;TZID=Europe/Copenhagen:20191028T114500
DTEND;TZID=Europe/Copenhagen:20191028T124500
DTSTAMP:20260421T021158
CREATED:20191021T122458Z
LAST-MODIFIED:20191021T123628Z
UID:22012-1572263100-1572266700@spildansk.dk
SUMMARY:Sophia HP på Duborg-Skolen
DESCRIPTION:Intim solokoncert og artist-talk for musikinteresserede gymnasieelever. \nDer indgår både musik og fortælling fra sangskriverens liv og virke som professionel musiker og sangskriver
URL:https://spildansk.dk/kalender/hit-med-sangskriveren-sophia-hp/
LOCATION:Duborg-Skolen\, Ritterstrasse 27\, Flensborg
CATEGORIES:Singer-songwriter
ATTACH;FMTTYPE=image/jpeg:https://spildansk.dk/wp-content/uploads/2019/10/Sophia-HP-copy-1440x700.jpg
END:VEVENT
BEGIN:VEVENT
DTSTART;TZID=Europe/Copenhagen:20191028T120000
DTEND;TZID=Europe/Copenhagen:20191028T130000
DTSTAMP:20260421T021158
CREATED:20191014T111141Z
LAST-MODIFIED:20191014T111531Z
UID:21437-1572264000-1572267600@spildansk.dk
SUMMARY:Hit med Sangskriveren: Channe Nussbaum
DESCRIPTION:Koncert og artist talk med Channe Nussbaum med fokus på klezmermusikken\, den jødiske\, østeuropæiske bryllups- og festmusik\, en folkemusiktradition\, som Channe Nussbaum er vokset op med. Sangene er på jiddisch\, som både hendes forældre og bedsteforældre talte. Arrangementet er et samarbejde mellem Roskilde Bibliotekerne\, Roskilde Gymnasium og Himmelev Gymnasium.
URL:https://spildansk.dk/kalender/hit-med-sangskriveren-channe-nussbaum/
LOCATION:Roskilde Bibliotek\, Dronning Margrethesvej 14\, 4000\, Roskilde\, Danmark
CATEGORIES:Koncert,Foredrag
ATTACH;FMTTYPE=image/jpeg:https://spildansk.dk/wp-content/uploads/2019/10/channe-nussbaum.jpg
ORGANIZER;CN="Roskilde Bibliotekerne":MAILTO:mellemreolerne@roskilde.dk
END:VEVENT
END:VCALENDAR