BEGIN:VCALENDAR
VERSION:2.0
PRODID:-//Spil Dansk - ECPv6.5.0//NONSGML v1.0//EN
CALSCALE:GREGORIAN
METHOD:PUBLISH
X-WR-CALNAME:Spil Dansk
X-ORIGINAL-URL:https://spildansk.dk
X-WR-CALDESC:Events for Spil Dansk
REFRESH-INTERVAL;VALUE=DURATION:PT1H
X-Robots-Tag:noindex
X-PUBLISHED-TTL:PT1H
BEGIN:VTIMEZONE
TZID:Europe/Copenhagen
BEGIN:DAYLIGHT
TZOFFSETFROM:+0100
TZOFFSETTO:+0200
TZNAME:CEST
DTSTART:20250330T010000
END:DAYLIGHT
BEGIN:STANDARD
TZOFFSETFROM:+0200
TZOFFSETTO:+0100
TZNAME:CET
DTSTART:20251026T010000
END:STANDARD
BEGIN:DAYLIGHT
TZOFFSETFROM:+0100
TZOFFSETTO:+0200
TZNAME:CEST
DTSTART:20260329T010000
END:DAYLIGHT
BEGIN:STANDARD
TZOFFSETFROM:+0200
TZOFFSETTO:+0100
TZNAME:CET
DTSTART:20261025T010000
END:STANDARD
END:VTIMEZONE
BEGIN:VEVENT
DTSTART;TZID=Europe/Copenhagen:20251102T150000
DTEND;TZID=Europe/Copenhagen:20251102T160000
DTSTAMP:20260420T145536
CREATED:20250829T091217Z
LAST-MODIFIED:20250829T091217Z
UID:57996-1762095600-1762099200@spildansk.dk
SUMMARY:Babulja - børnekoncert på Kulturhuset Industrien
DESCRIPTION:Babulja – et sprudlende orkester\, der tager publikum med på en rejse gennem musik fra hele verden. Med sange om alt fra piger til Piratos og fra elefanter til hele universet er der garanti for smil på læben. Teksterne er skrevet specielt til børn\, men humoren og energien rammer også de voksne. \nMålgruppen er børn i alderen 4–9 år\, men musikken og stemningen er for alle. Publikum inviteres til at synge\, klappe\, råbe med og være en aktiv del af koncerten. Stilen spænder fra Django\, polka og svensk folklore til reggae\, cubanske rytmer\, brasiliansk samba\, sørøverskrammel og jazz – alt sammen håndspillet og leveret med nærvær og overskud. \nMed rim og remser\, call-respons og bevægelseslege sørger Babulja for\, at ingen keder sig\, og at alle går hjem med gode minder – og måske en ny yndlingssang. \nDet er gratis at deltage\, men husk tilmelding både for børn og for voksne via assensbib.dk \n 
URL:https://spildansk.dk/kalender/babulja-boernekoncert-paa-kulturhuset-industrien/
LOCATION:Kulturhuset Industrien\, Bredgade 73 - 75\, Aarup\, 5560
CATEGORIES:Musik til børn
ATTACH;FMTTYPE=image/jpeg:https://spildansk.dk/wp-content/uploads/2025/08/2-babulja-closeups-6.jpg
ORGANIZER;CN="Foreningen Musik P%C3%A5 Industrien":MAILTO:booking.raastof@gmail.com
END:VEVENT
BEGIN:VEVENT
DTSTART;TZID=Europe/Copenhagen:20251102T150000
DTEND;TZID=Europe/Copenhagen:20251102T170000
DTSTAMP:20260420T145536
CREATED:20251026T122052Z
LAST-MODIFIED:20251026T122052Z
UID:59239-1762095600-1762102800@spildansk.dk
SUMMARY:”Sangskatten” med Nikolaj Muldkjær på Brenderup Højskole
DESCRIPTION:Sangeftermiddag med Nikolaj Muldkjær i “Halmhuset” på Brenderup Højskole. Melodier og tekster\, der binder ung og ældre\, fortid og nutid\, by og land sammen.\nNikolaj slår tonerne an med sin guitar og dykker ned i udvalgte sange fra højskolesangbogen.\nNikolaj Muldkjær er sangformidler og livsoplysningsmand\, guitarist og sanger.\nHans store inspirationskilde er Grundtvig med synet på mødet mellem mennesker – med fællessangen og fællesskabet i højsædet.\nKom gerne allerede 14:30 hvor kaffe/kage baren åbner.
URL:https://spildansk.dk/kalender/sangskatten-med-nikolaj-muldkjaer-paa-brenderup-hoejskole/
CATEGORIES:Fællessang
ATTACH;FMTTYPE=image/jpeg:https://spildansk.dk/wp-content/uploads/2025/10/nikolaj-muldkjaer-foto.jpg
ORGANIZER;CN="Brenderup H%C3%B8jskoles Musikforening":MAILTO:lisbethmunk3@outlook.dk
END:VEVENT
BEGIN:VEVENT
DTSTART;TZID=Europe/Copenhagen:20251102T200000
DTEND;TZID=Europe/Copenhagen:20251102T211500
DTSTAMP:20260420T145536
CREATED:20250826T082857Z
LAST-MODIFIED:20250826T082857Z
UID:57943-1762113600-1762118100@spildansk.dk
SUMMARY:Fortællekoncerten "Far\, farvel"
DESCRIPTION:Det er Allehelgen\, mørket tager til\, og det er tiden til at mindes\, dem vi har mistet. \nDenne aften inviterer Skt. Lukas Kirke til en særlig fortællekoncert med Jakob Sheppard\, der med “Far\, farvel” tager os med på en dybt personlig og bevægende rejse – en fortælling om kærlighed\, svigt og forsoning. \nI ord og toner mindes Jakob sine to fædre: sin biologiske far i USA og sin danske stedfar. Forholdet til den biologiske far blev tidligt afbrudt\, da Jakob som barn rejste med sin mor fra Berkeley i USA tilbage til Danmark. Først mange år senere – under dramatiske og uventede omstændigheder – blev de genforenet i DR-programmet Sporløs. Et nyt\, intenst bånd opstod\, men blev kort\, afbrudt af farens død efter et liv med misbrug. \nStedfaren\, der fyldte barndommen med tryghed og skæv varme\, endte sine dage i ensomhed i udkanten af Aarhus. Begge fædre var drevet af kunst og spiritualitet – og kæmpede med at finde fodfæste i den materielle verden. \nKoncerten væves sammen af Jakobs egne sange fra hans fire pladeudgivelser (2008–2025)\, herunder det nyeste album NATSALMER – salmer til det ensomme menneske i mørket. Jakob fortæller\, hvordan han – inspireret af den moderne salmes stærke genkomst i fællessang og gudstjenester – vovede at tage livtag med genren. En genre\, der kræver stringens\, tyngde og åndelig dybde – men som netop derfor kunne rumme hans tilbagevendende temaer: uro\, skam\, skyld\, angst og længsel. \n“Far\, farvel” er en stemningsfuld og ærlig fortællekoncert\, hvor livets skyggesider møder lyset fra tro\, musik og menneskelig længsel. \nKoncerten er gratis og åben for alle. \nMedvirkende: \nJakob Sheppard – vokal og guitar \nCarsten Kær – klaver \nRobert Karlsson – bratsch
URL:https://spildansk.dk/kalender/fortaellekoncerten-far-farvel/
LOCATION:Skt. Lukas Kirke\, Sct. Lukas Kirkeplads 1\, Aarhus\, 8000\, Danmark
CATEGORIES:Koncert,Foredrag,Rock,Singer-songwriter
ATTACH;FMTTYPE=image/png:https://spildansk.dk/wp-content/uploads/2025/08/far-farvel.png
ORGANIZER;CN="Skt. Lukas Kirke":MAILTO:sanktlukas.sognaarhus@km.dk
END:VEVENT
BEGIN:VEVENT
DTSTART;TZID=Europe/Copenhagen:20251125T190000
DTEND;TZID=Europe/Copenhagen:20251125T220000
DTSTAMP:20260420T145536
CREATED:20240930T113617Z
LAST-MODIFIED:20240930T113617Z
UID:51872-1764097200-1764108000@spildansk.dk
SUMMARY:Syng\, spis og snak
DESCRIPTION:Viborg Højskoleforening og Viborg Idrætshøjskole afholder en Syng\, Spis og Snak aften på Viborg Idrætshøjskole. \nHøjskoleforstanderen og pianist Mille Sigsgaard vil lede os igennem arrangementet\, hvor der serveres god mad.\nVi skal synge nogle af de dejlige fællessange fra Højskolesangbogen. Over maden og kaffen skal vi snakke løs! \nPRIS:\nKr. 180 pr person\, som betales ved tilmelding\, så hav dit betalingskort klar.\nDrikkevarer købes på stedet. \nGå direkte til tilmelding
URL:https://spildansk.dk/kalender/syng-spis-og-snak-7/
LOCATION:Viborg Idrætshøjskole\, Vinkelvej 32\, viborg\, 8800
CATEGORIES:Fællessang
ATTACH;FMTTYPE=image/jpeg:https://spildansk.dk/wp-content/uploads/2024/09/sss-3.jpg
END:VEVENT
BEGIN:VEVENT
DTSTART;TZID=Europe/Copenhagen:20260101T080000
DTEND;TZID=Europe/Copenhagen:20260101T170000
DTSTAMP:20260420T145536
CREATED:20260101T135218Z
LAST-MODIFIED:20260101T135218Z
UID:60170-1767254400-1767286800@spildansk.dk
SUMMARY:I am the new guy
DESCRIPTION:UZ
URL:https://spildansk.dk/kalender/i-am-the-new-guy/
END:VEVENT
BEGIN:VEVENT
DTSTART;TZID=Europe/Copenhagen:20260413T093000
DTEND;TZID=Europe/Copenhagen:20260418T180000
DTSTAMP:20260420T145536
CREATED:20260114T081604Z
LAST-MODIFIED:20260114T081604Z
UID:60360-1776072600-1776535200@spildansk.dk
SUMMARY:International Conference on Public Health and Health Care System
DESCRIPTION:  \nPAGES conferences are excited to invite you to the upcoming International Conference on Public Health and Health Care System\, scheduled to take place from April 13-15\, 2026 in the city of finance Paris\, France. \nThis event will bring together leading experts for keynote addresses\, dynamic panel discussions\, and engaging workshops that aim to poster collaboration and inspire innovative ideas. Topics will span a range of critical areas\, including disease prevention\, health promotion\, epidemiology\, environmental health\, and global health policy. \nOverall\, the International Conference on Public Health and Health Care Research and Development promises to be an important forum for advancing our understanding of Public Health and Health Care and exploring innovative solutions to global health challenges. \nWe eagerly anticipate your participation in this exciting and inspiring event in Paris\, France. \nSincerely\,\nJyothsna P | Conference Secretary\nPublic Health-2026
URL:https://spildansk.dk/kalender/international-conference-on-public-health-and-health-care-system/
LOCATION:Paris\, France\, Paris\, France\, Paris\, NY\, 70123\, United States
CATEGORIES:Undervisning
ATTACH;FMTTYPE=image/jpeg:https://spildansk.dk/wp-content/uploads/2026/01/public-health-2026-logo-pages.jpg
ORGANIZER;CN="PANGEA GLOBAL EVENTS":MAILTO:publichealth@pagesconferences.org
END:VEVENT
BEGIN:VEVENT
DTSTART;VALUE=DATE:20260416
DTEND;VALUE=DATE:20260419
DTSTAMP:20260420T145536
CREATED:20251226T120125Z
LAST-MODIFIED:20251226T120125Z
UID:60120-1776297600-1776556799@spildansk.dk
SUMMARY:2nd International Conference on Gravitation\, Astrophysics and Cosmology
DESCRIPTION:We are pleased to announce the 2nd International Conference on Gravitation\, Astrophysics and Cosmology (ICGAC2026)\, which will be held from April 16–18\, 2026\, in Paris\, France. ICGAC2026 aims to bring together leading researchers\, scientists\, and students from around the world to share the latest advancements and research findings in the fields of gravitation\, astrophysics\, and cosmology. The conference will feature keynote talks by renowned experts\, sessions on cutting-edge topics such as Gravitation Physics and Lensing\, Applied Relativity\, Solar and Stellar Physics\, Applied Physics\, and Neutrino Cosmology\, as well as opportunities for networking and collaboration. With a vibrant mix of academic and industry perspectives\, this event offers a unique platform for insightful discussions\, new partnerships\, and the exchange of groundbreaking ideas. Join us in Paris to be part of an engaging scientific experience and contribute to shaping the future of astrophysical research.
URL:https://spildansk.dk/kalender/2nd-international-conference-on-gravitation-astrophysics-and-cosmology/
LOCATION:Paris\, France\, Paris\, France\, Paris\, NY\, 70123\, United States
CATEGORIES:Workshop
ATTACH;FMTTYPE=image/jpeg:https://spildansk.dk/wp-content/uploads/2025/12/icgac2026-conplus-poster25-06-20252.jpg
ORGANIZER;CN="Conplus Meetings":MAILTO:icgac@conplusmeetings.com
END:VEVENT
END:VCALENDAR