BEGIN:VCALENDAR
VERSION:2.0
PRODID:-//Spil Dansk - ECPv6.5.0//NONSGML v1.0//EN
CALSCALE:GREGORIAN
METHOD:PUBLISH
X-WR-CALNAME:Spil Dansk
X-ORIGINAL-URL:https://spildansk.dk
X-WR-CALDESC:Events for Spil Dansk
REFRESH-INTERVAL;VALUE=DURATION:PT1H
X-Robots-Tag:noindex
X-PUBLISHED-TTL:PT1H
BEGIN:VTIMEZONE
TZID:Europe/Copenhagen
BEGIN:DAYLIGHT
TZOFFSETFROM:+0100
TZOFFSETTO:+0200
TZNAME:CEST
DTSTART:20190331T010000
END:DAYLIGHT
BEGIN:STANDARD
TZOFFSETFROM:+0200
TZOFFSETTO:+0100
TZNAME:CET
DTSTART:20191027T010000
END:STANDARD
END:VTIMEZONE
BEGIN:VEVENT
DTSTART;TZID=Europe/Copenhagen:20191031T084500
DTEND;TZID=Europe/Copenhagen:20191031T093000
DTSTAMP:20260420T192914
CREATED:20190919T121747Z
LAST-MODIFIED:20190919T121747Z
UID:20332-1572511500-1572514200@spildansk.dk
SUMMARY:Tidsmaskinen
DESCRIPTION:Sekstet af musikere\, alle lærere i Assens Musikskole\, har sat sig for at spille dansk musik fra folk over 80’er pop til nye hits for en hel masse skolebørn. \nTurnéen kommer forbi fem skoler på to dage\, hvor bandet spiller for over 1.000 elever.
URL:https://spildansk.dk/kalender/tidsmaskinen-3/
LOCATION:Vissenbjerg Skole\, Søndersøvej 14\, Vissenbjerg\, 5491
CATEGORIES:Musik til børn
ATTACH;FMTTYPE=image/jpeg:https://spildansk.dk/wp-content/uploads/2019/09/20170818-Musik-Oplevelses-Dag-14-2.jpg
ORGANIZER;CN="Assens Musikskole":MAILTO:musikskolen@assens.dk
END:VEVENT
BEGIN:VEVENT
DTSTART;TZID=Europe/Copenhagen:20191031T090000
DTEND;TZID=Europe/Copenhagen:20191031T100000
DTSTAMP:20260420T192914
CREATED:20191023T104911Z
LAST-MODIFIED:20191023T104911Z
UID:22503-1572512400-1572516000@spildansk.dk
SUMMARY:Hjertelys
DESCRIPTION:LMS-Familiekoncert i forbindelse med Spil Dansk Ugen 2019.
URL:https://spildansk.dk/kalender/hjertelys-2/
LOCATION:Hans Rømer Skolen\, Aakirkeby\, Bornholm\, Danmark
END:VEVENT
BEGIN:VEVENT
DTSTART;TZID=Europe/Copenhagen:20191031T090000
DTEND;TZID=Europe/Copenhagen:20191031T100000
DTSTAMP:20260420T192914
CREATED:20191023T105300Z
LAST-MODIFIED:20191023T105300Z
UID:22537-1572512400-1572516000@spildansk.dk
SUMMARY:Wenzell & Bugge
DESCRIPTION:LMS-Familiekoncert i forbindelse med Spil Dansk Ugen 2019.
URL:https://spildansk.dk/kalender/wenzell-bugge-4/
LOCATION:Skalmejeskolen\, Skalmejevej 33\, Sunds\, 7451\, Denmark
END:VEVENT
BEGIN:VEVENT
DTSTART;TZID=Europe/Copenhagen:20191031T090000
DTEND;TZID=Europe/Copenhagen:20191031T110000
DTSTAMP:20260420T192914
CREATED:20190927T073225Z
LAST-MODIFIED:20190927T073225Z
UID:20609-1572512400-1572519600@spildansk.dk
SUMMARY:Syng og leg i Jakobskirken
DESCRIPTION:Glade børn fra børnehaverne i sydbyen i Roskilde kommer på besøg i Jakobskirken for at lege sanglege\, synge børnesalmer\, nynne efterårsviser og træne rytmer. Og selvfølgelig synge “Mester Jakob” som kanon\, mens de hører kirkeklokkerne ringe\, nu det er Jakobskirken\, som indbyder til SpilDanskUgen. Organist Henrik Bjørnum og sognepræst Mogens Ohm Jensen er de musikalske værter.
URL:https://spildansk.dk/kalender/syng-og-leg-i-jakobskirken/
LOCATION:Jakobskirken\, Astersvej 11\, Roskilde\, 4000\, Danmark
CATEGORIES:Fællessang,Musik til børn
ORGANIZER;CN="Jakobskirken":MAILTO:info@jakobskirken.dk
END:VEVENT
BEGIN:VEVENT
DTSTART;TZID=Europe/Copenhagen:20191031T090000
DTEND;TZID=Europe/Copenhagen:20191031T123000
DTSTAMP:20260420T192914
CREATED:20191021T174532Z
LAST-MODIFIED:20191021T174532Z
UID:22046-1572512400-1572525000@spildansk.dk
SUMMARY:Spil Dansk 5 klasser Lemvig kommune
DESCRIPTION:5 klasserne i Lemvig kommune samles til fællessang og sammenspil på Christinelystskolen
URL:https://spildansk.dk/kalender/spil-dansk-5-klasser-lemvig-kommune/
LOCATION:Christinelystskolen\, Christinelystvej 3\, Lemvig\, 7620\, Danmark
CATEGORIES:Koncert,Fællessang
END:VEVENT
BEGIN:VEVENT
DTSTART;TZID=Europe/Copenhagen:20191031T091500
DTEND;TZID=Europe/Copenhagen:20191031T101500
DTSTAMP:20260420T192914
CREATED:20191023T105340Z
LAST-MODIFIED:20191023T105340Z
UID:22543-1572513300-1572516900@spildansk.dk
SUMMARY:Verdenssange med Vingefang
DESCRIPTION:LMS-Familiekoncert i forbindelse med Spil Dansk Ugen 2019.
URL:https://spildansk.dk/kalender/verdenssange-med-vingefang-6/
LOCATION:Sydfalster Skole\, væggerløse\, Guldborgsund\, Danmark
END:VEVENT
BEGIN:VEVENT
DTSTART;TZID=Europe/Copenhagen:20191031T093000
DTEND;TZID=Europe/Copenhagen:20191031T093000
DTSTAMP:20260420T192914
CREATED:20191003T104814Z
LAST-MODIFIED:20191003T104814Z
UID:20821-1572514200-1572514200@spildansk.dk
SUMMARY:Syng med Svøbsk
DESCRIPTION:Duoen Svøbsk giver koncert\, og der varmes op med fællessang.
URL:https://spildansk.dk/kalender/syng-med-svoebsk/
LOCATION:Medborgerhuset Varde\, Danmark
CATEGORIES:Folk
ATTACH;FMTTYPE=image/png:https://spildansk.dk/wp-content/uploads/2019/10/grafik-facebook-banner-9.png
ORGANIZER;CN="Spil Dansk Styregruppen Varde Kommune":MAILTO:pvoo@varde.dk
END:VEVENT
BEGIN:VEVENT
DTSTART;TZID=Europe/Copenhagen:20191031T093000
DTEND;TZID=Europe/Copenhagen:20191031T103000
DTSTAMP:20260420T192914
CREATED:20190911T060204Z
LAST-MODIFIED:20190911T060204Z
UID:20136-1572514200-1572517800@spildansk.dk
SUMMARY:Fællessang i Møgeltønder Kirke.
DESCRIPTION:Hele skolen synger fællessange i Møgeltønder Kirke. \nArrangementet er åbent for alle.
URL:https://spildansk.dk/kalender/faellessang-i-moegeltoender-kirke/
LOCATION:Møgeltønder Kirke\, Sønderbyvej 2\, Møgeltønder\, 6270
CATEGORIES:Fællessang
END:VEVENT
BEGIN:VEVENT
DTSTART;TZID=Europe/Copenhagen:20191031T093000
DTEND;TZID=Europe/Copenhagen:20191031T103000
DTSTAMP:20260420T192914
CREATED:20191021T065116Z
LAST-MODIFIED:20191021T065116Z
UID:21880-1572514200-1572517800@spildansk.dk
SUMMARY:Nana Jacobi på Skanderborg Gymnasium - Kvindelige Forbilleder
DESCRIPTION:LUKKET ARRANGEMENT \nSkanderborg Gymnasiums 2.g og 3.g danskhold får besøg af Nana Jacobi\, der spiller for eleverne og fortæller hendes personlige musiske historie. \nUdgivelser: ‘Pige’ (single 2018) ‘Expander’ (album 2015) ‘Visitors’ (album 2012) ‘Nightblind’ (album 2010) ‘This Is It’ (album 2006 ). \nJacobi har komponeret og tekstforfattet alt materiale på disse udgivelser\, samt co-produceret. Hun har arbejdet som filmkomponist\, og har på nuværende tidspunkt en forlagsaftale med filmproduktions selskabet Zentropa. Herudover er Nana med- initiativtager og direktør på koncert virksomheden HUN SOLO samt pladeselskabet HUN SOLO RECORDS. HUN SOLO har eksisteret i 3 år\, og arrangerer koncerter med kvindelige artister\, i håbet om at skabe større synlighed og vækst for kvindelige artister i Danmark. Nana Jacobi er uddannet sanger og sangskriver fra Rytmisk Musikkonservatorium i København\, hvor hun nu er tilknyttet som underviser
URL:https://spildansk.dk/kalender/nana-jacobi-paa-skanderborg-gymnasium-kvindelige-forbilleder/
LOCATION:Skanderborg Gymnasium\, Højvangens Torv 6\, Skanderborg\, 8660
CATEGORIES:Singer-songwriter
ATTACH;FMTTYPE=image/jpeg:https://spildansk.dk/wp-content/uploads/2019/10/COVER_NANA_photoColor_HR-kopi-1440x700.jpeg
END:VEVENT
BEGIN:VEVENT
DTSTART;TZID=Europe/Copenhagen:20191031T093000
DTEND;TZID=Europe/Copenhagen:20191031T110000
DTSTAMP:20260420T192914
CREATED:20190925T082127Z
LAST-MODIFIED:20190925T084511Z
UID:20483-1572514200-1572519600@spildansk.dk
SUMMARY:Spil Dansk 2019
DESCRIPTION:Fællessang og -dans for 0. – 6. klasse samt forældre og andre interesserede. Vi synger 12 af ALSANGs 45 fællessange og danser elevernes egne danse til tre af sangene.
URL:https://spildansk.dk/kalender/spil-dansk-2019/
LOCATION:Dalmose Skole\, Blomstervænget 5\, Dalmose\, 4261\, Danmark
CATEGORIES:Fællessang
END:VEVENT
BEGIN:VEVENT
DTSTART;TZID=Europe/Copenhagen:20191031T093000
DTEND;TZID=Europe/Copenhagen:20191031T113000
DTSTAMP:20260420T192914
CREATED:20190910T064529Z
LAST-MODIFIED:20190910T064541Z
UID:20068-1572514200-1572521400@spildansk.dk
SUMMARY:Spil Dansk
DESCRIPTION:Elever\, medarbejder\, forældre og bedsteforældre\, samt venner af skolen synger og spiller danske sange.
URL:https://spildansk.dk/kalender/spil-dansk-12/
LOCATION:Boddum-Ydby Friskole og Børnehus\, Ydbyvej 193\, Ydby v/Hurup Thy\, 7760\, Danmark
CATEGORIES:Fællessang
ATTACH;FMTTYPE=image/jpeg:https://spildansk.dk/wp-content/uploads/2019/09/Nyt-logo-1.jpg
ORGANIZER;CN="Boddum-Ydby Friskole og B%C3%B8rnehus":MAILTO:skolen@boddum-ydby-friskole.dk
END:VEVENT
BEGIN:VEVENT
DTSTART;TZID=Europe/Copenhagen:20191031T094500
DTEND;TZID=Europe/Copenhagen:20191031T100000
DTSTAMP:20260420T192914
CREATED:20191008T090940Z
LAST-MODIFIED:20191008T090940Z
UID:21011-1572515100-1572516000@spildansk.dk
SUMMARY:Fællessang på Skægkærskolen.
DESCRIPTION:Hele Skægkærskolen mødes hver dag i uge 44 og synger fællessang.
URL:https://spildansk.dk/kalender/faellessang-paa-skaegkaerskolen-3/
LOCATION:Skægkærskolen\, Sindingvej 15\, Silkeborg\, 8600
END:VEVENT
BEGIN:VEVENT
DTSTART;TZID=Europe/Copenhagen:20191031T100000
DTEND;TZID=Europe/Copenhagen:20191031T100000
DTSTAMP:20260420T192914
CREATED:20191029T184630Z
LAST-MODIFIED:20191029T184630Z
UID:22985-1572516000-1572516000@spildansk.dk
SUMMARY:København synger
DESCRIPTION:Kære alle sangglade lærere\, pædagoger og børn \nKøbenhavns Musiklærerforening vil gerne invitere jer alle til at komme og fejre Spil Dansk fællessang på Rådhuspladsen torsdag d 31. oktober kl 10 for 0.-5. klasse. \nLigesom de sidste år har vi hyret 5 musikere fra bl.a DRs Big Band og Bjarne List Nissen til at lave ca. 50 minutters koncert fuld af fællessang og bevægelse\, så I kan holde varmen. Der vil være masser af disco\, hiphop og afrikansk dans. Gode idéer til de 45 minutters daglige bevægelse på skolen. \nI kan godt glæde jer til sanglisten: Midt om natten\, Danse i måneskin\, Skovsangen\, Flower power tøj\, Så’n er det og Nu vågner Savannen som I kender fra Skolernes Sangdag. Og selvfølgelig en masse svedig hiphop. Musikerne trykker den af sammen med børnene. Man kan møde op og danse og lege med eller øve sig til fingerspidserne hjemmefra. Kom med en klasse\, en årgang eller en hel skole. \nSkriv en mail til musikerbjarne@gmail.com Skriv gerne hvor mange I kommer\, hvilken skole/institution I kommer fra og klassetrin. Så får I forberedelsesmateriale til koncerten med alt\, hvad I behøver. Vi løfter og synger i flok på pladsen. Tag endelig mellemtrinsbørn med. De kan trække sangen for de mindste. \nVi håber på at nå 100 klasser. Så hjælp og del gerne nyheden med alle I kender\, kollegaer\, lærere\, pædagoger\, studerende\, musikpædagoger\, og ikke mindst sangglade voksne og børn. Det kunne være så stort at fylde hele pladsen. HUSK METROEN KØRER DIREKTE TIL PLADSEN!! \nSå del eller inviter gerne direkte i begivenheden \nVi glæder os til at se jer\nKøbenhavns Musiklærerforening og Bjarne List Nissen \nProjektet er støttet af Koda Kultur og Spil Dansk.
URL:https://spildansk.dk/kalender/koebenhavn-synger/
LOCATION:Rådhuspladsen København\, Rådhuspladsen\, København\, 1599\, Danmark
CATEGORIES:Fællessang
ORGANIZER;CN="K%C3%B8benhavns Musikl%C3%A6rerforening":MAILTO:kbhmusik@gmail.com
END:VEVENT
BEGIN:VEVENT
DTSTART;TZID=Europe/Copenhagen:20191031T100000
DTEND;TZID=Europe/Copenhagen:20191031T103000
DTSTAMP:20260420T192914
CREATED:20191023T125404Z
LAST-MODIFIED:20191023T125404Z
UID:22621-1572516000-1572517800@spildansk.dk
SUMMARY:Morgensang i Spil Dansk ugen
DESCRIPTION:Start dagen med at få rørt stemmebåndet\n\n\n\nKom og marker den landsdækkende Spil Dansk uge med os\, når vi starten dagen med skøn morgensang. \nVi synger sange fra blandt andet Højskolesangbogen\, men også nyere\, danske sange. \nDer vil være klaverledsagelse af Ingeborg Skafte-Pedersen. \nVi udleverer sanghæfter\, så alle kan synge med. \nAlle er velkommen\, så kom glad og begynd dagen med at få klaret stemmen. \nDu behøver ikke tilmelde dig og det er gratis at deltage.
URL:https://spildansk.dk/kalender/morgensang-i-spil-dansk-ugen-4/
LOCATION:Guldborgsund-bibliotekerne\, Hovedbiblioteket\, Kongensgade 43\, Nykøbing Falster\, 4800
CATEGORIES:Fællessang
ATTACH;FMTTYPE=image/jpeg:https://spildansk.dk/wp-content/uploads/2019/10/Spil-dansk1-3.jpg
ORGANIZER;CN="Guldborgsund-bibliotekerne":MAILTO:nyfac@guldborgsund.dk
END:VEVENT
BEGIN:VEVENT
DTSTART;TZID=Europe/Copenhagen:20191031T100000
DTEND;TZID=Europe/Copenhagen:20191031T104500
DTSTAMP:20260420T192914
CREATED:20191024T163103Z
LAST-MODIFIED:20191024T164156Z
UID:22776-1572516000-1572518700@spildansk.dk
SUMMARY:Syng med Give Egnskor og Firkløverskolen
DESCRIPTION:Ka’ du li’ at synge? Når det er Spil Dansk Uge\, skal den danske sang og musik fejres med manér. Vær med til at hylde den danske sangskat\, når Give Egnskor traditionen tro synger for på gode gamle klassikere for både børn og voksne.\n\n\n\n\n\nIngeborg Noes rutinerede kordamer bliver assisteret af glade børnestemmer fra Firkløverskolen. \nSammen med resten af Danmark fejrer vi den danskproducerede musik og det danske musikliv. Spil Dansk Dagen har været en fast tradition i dansk musikliv siden 2001\, og fra 2017 blev dagen udvidet til en hel uge (uge 44). \nHele familien er meget velkomne til at tage del i musikoplevelsen. \nIngen tilmelding – bare mød op.
URL:https://spildansk.dk/kalender/syng-med-give-egnskor-og-firkloeverskolen-2/
LOCATION:Give Bibliotek\, Rådhusbakken 9\, Give\, 7323\, Danmark
CATEGORIES:Fællessang,Musik til børn
ATTACH;FMTTYPE=image/png:https://spildansk.dk/wp-content/uploads/2019/10/give_egnskor.png
ORGANIZER;CN="Vejle Bibliotekerne":MAILTO:palar@vejlebib.dk
END:VEVENT
BEGIN:VEVENT
DTSTART;TZID=Europe/Copenhagen:20191031T100000
DTEND;TZID=Europe/Copenhagen:20191031T110000
DTSTAMP:20260420T192914
CREATED:20191021T065603Z
LAST-MODIFIED:20191021T065603Z
UID:21886-1572516000-1572519600@spildansk.dk
SUMMARY:Danmarks Fællessang med Gitte og Kasper
DESCRIPTION:Traditionen tro afholdes Danmarks Fællessang Live på Højboskolen i Hørning. I år skal vi synge en masse fællessange sammen med Gitte og Kasper fra The House of Singing. Skolerne i Skanderborg Kommune har fået invitation til at deltage og normalt er deltager hundredevis af børn i dette store fællessangarrangement.
URL:https://spildansk.dk/kalender/danmarks-faellessang-med-gitte-og-kasper/
LOCATION:Højboskolen\, Toftevej 53\, Hørning\, 8362
CATEGORIES:Fællessang
ATTACH;FMTTYPE=image/jpeg:https://spildansk.dk/wp-content/uploads/2019/10/Gitte-Kasper-Spil-Dansk-e1533808116592.jpeg
END:VEVENT
BEGIN:VEVENT
DTSTART;TZID=Europe/Copenhagen:20191031T100000
DTEND;TZID=Europe/Copenhagen:20191031T110000
DTSTAMP:20260420T192914
CREATED:20191022T072756Z
LAST-MODIFIED:20191022T072756Z
UID:22141-1572516000-1572519600@spildansk.dk
SUMMARY:STOR SPIL DANSK FÆLLESSANG FOR BØRN PÅ RÅDHUSPLADSEN 31. OKT
DESCRIPTION:Københavns Musiklærerforening vil gerne invitere jer alle til at komme og fejre Spil Dansk fællessang på Rådhuspladsen torsdag d 31. Oktober kl. 10.00 for 0.-6. klasse. \nLigesom de sidste år har vi hyret 5 musikere fra bl.a DRs Big Band og Bjarne List Nissen til at lave ca. 50 minutters koncert fuld af fællessang og bevægelse\, så I kan holde varmen. Der vil være masser af disco\, hiphop og afrikansk dans. Gode idéer til de 45 minutters daglige bevægelse på skolen. \nSkriv en mail til musikerbjarne@gmail.com Skriv gerne hvor mange I kommer\, hvilken skole/institution I kommer fra og klassetrin. Vi løfter og synger i flok på pladsen. Tag endelig mellemtrinsbørn med. De kan trække sangen for de mindste. \nVi håber på at slå rekord i år og nå over 100 klasser. Så hjælp og del gerne nyheden med alle I kender\, kollegaer\, lærere\, pædagoger\, studerende\, musikpædagoger\, og ikke mindst sangglade voksne og børn. Det kunne være så stort at fylde hele pladsen. Så lad os gøre det. Der vil være en dejlig musikalsk gave til alle der lokker en kollega og kollegaens klasse med 🙂 \nSå del eller inviter gerne direkte i begivenheden her: \nhttps://www.facebook.com/events/524743751688747/ \nVi glæder os til at se jer\nKøbenhavns Musiklærerforening og Bjarne List Nissen \nProjektet er støttet af Koda Kultur og Spil Dansk.
URL:https://spildansk.dk/kalender/stor-spil-dansk-faellessang-for-boern-paa-raadhuspladsen-31-okt/
LOCATION:Rådhuspladsen København\, Rådhuspladsen\, København\, 1599\, Danmark
CATEGORIES:Fællessang
ATTACH;FMTTYPE=image/jpeg:https://spildansk.dk/wp-content/uploads/2019/10/BjarneListNissen-paa-Raadhuspladsen.jpg
ORGANIZER;CN="Spil Dansk":MAILTO:info@spildansk.dk
END:VEVENT
BEGIN:VEVENT
DTSTART;TZID=Europe/Copenhagen:20191031T100000
DTEND;TZID=Europe/Copenhagen:20191031T113000
DTSTAMP:20260420T192914
CREATED:20190829T070946Z
LAST-MODIFIED:20190829T070946Z
UID:19851-1572516000-1572521400@spildansk.dk
SUMMARY:Spil dansk-sangcafé
DESCRIPTION:Vi synger danske nye og gamle sange og salmer. \nRundstykker og kaffe \nAlle er meget velkommen!
URL:https://spildansk.dk/kalender/spil-dansk-sangcafe/
LOCATION:Sindal sognegård\, Nørregade 48\, Sindal\, 9870\, Danmark
CATEGORIES:Fællessang
END:VEVENT
BEGIN:VEVENT
DTSTART;TZID=Europe/Copenhagen:20191031T100000
DTEND;TZID=Europe/Copenhagen:20191031T113000
DTSTAMP:20260420T192914
CREATED:20191001T124716Z
LAST-MODIFIED:20191001T124716Z
UID:20716-1572516000-1572521400@spildansk.dk
SUMMARY:Fællessamling
DESCRIPTION:Alle skolens 34 nationaliteter mødes i festsalen og synger udvalgte sange fra Alsang 2020.
URL:https://spildansk.dk/kalender/faellessamling-5/
LOCATION:Brændgårdskolen\, Brorsonsvej 4\, Herning\, 7400
CATEGORIES:Fællessang
END:VEVENT
BEGIN:VEVENT
DTSTART;TZID=Europe/Copenhagen:20191031T100000
DTEND;TZID=Europe/Copenhagen:20191031T120000
DTSTAMP:20260420T192914
CREATED:20190927T065514Z
LAST-MODIFIED:20190927T070035Z
UID:20604-1572516000-1572523200@spildansk.dk
SUMMARY:Syng dansk-dag – lad hjertet tale
DESCRIPTION:Syng dansk med fællessang & fællessnak i Fællessalen i Seminariehuset i Ribe. En højskoleformiddag anført af Niels Ole Frederiksen og med Torben Prinds ved flygelet
URL:https://spildansk.dk/kalender/syng-dansk-dag-lad-hjertet-tale/
LOCATION:Seminariehuset\, Ribe\, Simon Hansens Vej 1\, Ribe\, 6760\, Danmark
CATEGORIES:Fællessang
ATTACH;FMTTYPE=image/jpeg:https://spildansk.dk/wp-content/uploads/2019/09/spil-dansk.jpg
ORGANIZER;CN="Musik- og Kulturforeningen Quedens og Ribe Bibliotek":MAILTO:hapo@esbjergkommune.dk
END:VEVENT
BEGIN:VEVENT
DTSTART;TZID=Europe/Copenhagen:20191031T100000
DTEND;TZID=Europe/Copenhagen:20191031T120000
DTSTAMP:20260420T192914
CREATED:20191021T185833Z
LAST-MODIFIED:20191021T185833Z
UID:22053-1572516000-1572523200@spildansk.dk
SUMMARY:Syng-dansk dag. Lad hjertet tale
DESCRIPTION:Højskoleformiddag med tidligere højskoleforstander Niels Ole Frederiksen\, NOF
URL:https://spildansk.dk/kalender/syng-dansk-dag-lad-hjertet-tale-2/
LOCATION:Ribe bibliotek\, Seminariehuset\, Simon Hansens vej 1\, Ribe\, 6760
CATEGORIES:Fællessang
ATTACH;FMTTYPE=image/jpeg:https://spildansk.dk/wp-content/uploads/2019/10/nof-til-spildansk-2019.jpg
ORGANIZER;CN="Musik og Kulturforeningen Quedens":MAILTO:quedens@gmail.com
END:VEVENT
BEGIN:VEVENT
DTSTART;TZID=Europe/Copenhagen:20191031T100000
DTEND;TZID=Europe/Copenhagen:20191031T133000
DTSTAMP:20260420T192914
CREATED:20191021T065338Z
LAST-MODIFIED:20191021T065338Z
UID:21883-1572516000-1572528600@spildansk.dk
SUMMARY:Sangskriver-Workshop Fra KODA til KulturCrew
DESCRIPTION:Den anerkendte sangskriver Anders Graae giver en workshop i sangskrivning under den årlige KulturCrew-dag. \nHvem er KulturCrew? På 12 skoler i Skanderborg Kommune finder man et super engageret KulturCrew\, som går forrest for kulturen og tager ansvar for de koncerter\, teater- og danseforestillinger\, der besøger skolerne. De får også indflydelse på hvilke kunstnere\, der besøger skolen. \nÉn gang årligt mødes vi til en årlig KulturCrew-dag\, hvor der både er musik og workshops. Musiker Anders Graae vil fortælle de unge om musikeres rettigheder\, og derefter give en workshop i sangskrivning. Måske ender vi med en fælles KulturCrew-sang?
URL:https://spildansk.dk/kalender/sangskriver-workshop-fra-koda-til-kulturcrew-2/
LOCATION:Stilling Skole\, Skanderborg\, Skanderborg\, Danmark
CATEGORIES:Singer-songwriter
ATTACH;FMTTYPE=image/jpeg:https://spildansk.dk/wp-content/uploads/2019/10/mbn-foto.dk_DMF-Anders-Graae-09-02-2016-096.jpg
END:VEVENT
BEGIN:VEVENT
DTSTART;TZID=Europe/Copenhagen:20191031T100500
DTEND;TZID=Europe/Copenhagen:20191031T110500
DTSTAMP:20260420T192914
CREATED:20191023T104917Z
LAST-MODIFIED:20191023T104917Z
UID:22505-1572516300-1572519900@spildansk.dk
SUMMARY:Hjertelys
DESCRIPTION:LMS-Familiekoncert i forbindelse med Spil Dansk Ugen 2019.
URL:https://spildansk.dk/kalender/hjertelys-3/
LOCATION:Hans Rømer Skolen\, Aakirkeby\, Bornholm\, Danmark
END:VEVENT
BEGIN:VEVENT
DTSTART;TZID=Europe/Copenhagen:20191031T101500
DTEND;TZID=Europe/Copenhagen:20191031T111500
DTSTAMP:20260420T192914
CREATED:20191023T105240Z
LAST-MODIFIED:20191023T105240Z
UID:22534-1572516900-1572520500@spildansk.dk
SUMMARY:Ny dansk folkemusik med rødder
DESCRIPTION:LMS-Familiekoncert i forbindelse med Spil Dansk Ugen 2019.
URL:https://spildansk.dk/kalender/ny-dansk-folkemusik-med-roedder-2/
LOCATION:Ryslinge Skole\, Graabjergvej 10\, Ryslinge\, 5856\, Denmark
END:VEVENT
BEGIN:VEVENT
DTSTART;TZID=Europe/Copenhagen:20191031T102000
DTEND;TZID=Europe/Copenhagen:20191031T113000
DTSTAMP:20260420T192914
CREATED:20190925T121946Z
LAST-MODIFIED:20190925T121946Z
UID:20518-1572517200-1572521400@spildansk.dk
SUMMARY:Fællessang
DESCRIPTION:Bremdal Skole afholder fællessang for elever\, forældre og bedsteforældre.
URL:https://spildansk.dk/kalender/faellessang-35/
LOCATION:Bremdal Skole\, Drosselvej 5\, Struer\, 7600
END:VEVENT
BEGIN:VEVENT
DTSTART;TZID=Europe/Copenhagen:20191031T103000
DTEND;TZID=Europe/Copenhagen:20191031T110000
DTSTAMP:20260420T192914
CREATED:20191020T115322Z
LAST-MODIFIED:20191020T115322Z
UID:21837-1572517800-1572519600@spildansk.dk
SUMMARY:Generationer i sang.
DESCRIPTION:Indskolingen fra Spjald Skole synger på Spjald Pleje- og Aktivitetscenter. \nAlle er velkomne.
URL:https://spildansk.dk/kalender/generationer-i-sang-4/
LOCATION:Spjald Pleje-  og Aktivitetscenter
END:VEVENT
BEGIN:VEVENT
DTSTART;TZID=Europe/Copenhagen:20191031T103000
DTEND;TZID=Europe/Copenhagen:20191031T113000
DTSTAMP:20260420T192915
CREATED:20190815T061246Z
LAST-MODIFIED:20190815T061246Z
UID:19638-1572517800-1572521400@spildansk.dk
SUMMARY:Koncert med Mads Westfall - musik og sundhed
DESCRIPTION:Mads Westfall – entertainer og sangskriver – giver koncert på Demensplejecenter Frejasvænge i Kolind i forbindelse med Spil Dansk ugen.
URL:https://spildansk.dk/kalender/koncert-med-mads-westfall-musik-og-sundhed/
LOCATION:Demensplejecenter Frejasvænge\, Bugtrupvej 35\, Kolind\, 8400
CATEGORIES:Viser
END:VEVENT
BEGIN:VEVENT
DTSTART;TZID=Europe/Copenhagen:20191031T104500
DTEND;TZID=Europe/Copenhagen:20191031T113000
DTSTAMP:20260420T192915
CREATED:20191002T080917Z
LAST-MODIFIED:20191002T080917Z
UID:20746-1572518700-1572521400@spildansk.dk
SUMMARY:Tidsmaskinen
DESCRIPTION:Sekstet af musikere\, alle lærere i Assens Musikskole\, har sat sig for at spille dansk musik fra folk over 80’er pop til nye hits for en hel masse skolebørn. \nTurnéen kommer forbi fem skoler på to dage\, hvor bandet spiller for over 1.000 elever.
URL:https://spildansk.dk/kalender/tidsmaskinen-4/
LOCATION:Tommerup Skole\, Stadionvænget 7\, Tommerup\, 5690\, Danmark
CATEGORIES:Musik til børn
ATTACH;FMTTYPE=image/jpeg:https://spildansk.dk/wp-content/uploads/2019/10/MusikOplevelsesDag-foto-Rasmus-Bukholt.jpg
ORGANIZER;CN="Assens Musikskole":MAILTO:musikskolen@assens.dk
END:VEVENT
BEGIN:VEVENT
DTSTART;TZID=Europe/Copenhagen:20191031T110000
DTEND;TZID=Europe/Copenhagen:20191031T113000
DTSTAMP:20260420T192915
CREATED:20190910T055437Z
LAST-MODIFIED:20190910T055437Z
UID:20061-1572519600-1572521400@spildansk.dk
SUMMARY:Fællessang
DESCRIPTION:Vi synger 7-8 stykker af de sange\, som pil Dansk har udvalgt til online allsang. Hele skolen deltager\, og andre interesserede er velkomne
URL:https://spildansk.dk/kalender/faellessang-34/
LOCATION:Fænøsund Friskole\, Teglgårdsparken 38\, Middelfart\, 5500\, Danmark
CATEGORIES:Fællessang,Foredrag
END:VEVENT
BEGIN:VEVENT
DTSTART;TZID=Europe/Copenhagen:20191031T110000
DTEND;TZID=Europe/Copenhagen:20191031T114500
DTSTAMP:20260420T192915
CREATED:20190911T110943Z
LAST-MODIFIED:20190911T111232Z
UID:20195-1572519600-1572522300@spildansk.dk
SUMMARY:Spil Dansk Fællessang
DESCRIPTION:Kom og syng med på den årlige Spil Dansk Dag.\nVi synger sammen i Farum Kulturhus\, Caféen om formiddagen og i foyeren på Furesø Rådhus om eftermiddagen. Mød bare op med din helt personlige sangstemme og nyd at synge sammen med andre sangglade. Det er lysten og samværet der tæller. \nSom sædvanligt er sanglærer Marianne C. Eriksen fra Furesø Musikskole vores friske og kyndige guide.
URL:https://spildansk.dk/kalender/spil-dansk-faellessang-3/
LOCATION:Farum Kulturhus\, Stavnsholtvej 3\, Farum\, 3520\, Danmark
CATEGORIES:Fællessang
ATTACH;FMTTYPE=image/jpeg:https://spildansk.dk/wp-content/uploads/2019/09/07Faellessang3.-MikkelArnfred.jpg
END:VEVENT
END:VCALENDAR