BEGIN:VCALENDAR
VERSION:2.0
PRODID:-//Spil Dansk - ECPv6.5.0//NONSGML v1.0//EN
CALSCALE:GREGORIAN
METHOD:PUBLISH
X-WR-CALNAME:Spil Dansk
X-ORIGINAL-URL:https://spildansk.dk
X-WR-CALDESC:Events for Spil Dansk
REFRESH-INTERVAL;VALUE=DURATION:PT1H
X-Robots-Tag:noindex
X-PUBLISHED-TTL:PT1H
BEGIN:VTIMEZONE
TZID:Europe/Copenhagen
BEGIN:DAYLIGHT
TZOFFSETFROM:+0100
TZOFFSETTO:+0200
TZNAME:CEST
DTSTART:20190331T010000
END:DAYLIGHT
BEGIN:STANDARD
TZOFFSETFROM:+0200
TZOFFSETTO:+0100
TZNAME:CET
DTSTART:20191027T010000
END:STANDARD
END:VTIMEZONE
BEGIN:VEVENT
DTSTART;TZID=Europe/Copenhagen:20191030T093000
DTEND;TZID=Europe/Copenhagen:20191030T095000
DTSTAMP:20260420T211838
CREATED:20191015T132542Z
LAST-MODIFIED:20191015T132542Z
UID:21584-1572427800-1572429000@spildansk.dk
SUMMARY:Fællessang på Thisted Gymnasium
DESCRIPTION:Vi synger fællessang hver anden onsdag på Thisted Gymnasium – alle er velkomne!
URL:https://spildansk.dk/kalender/faellessang-paa-thisted-gymnasium/
LOCATION:Thisted Gymnasium\, Ringvej 32\, Thisted\, 7700
CATEGORIES:Fællessang
END:VEVENT
BEGIN:VEVENT
DTSTART;TZID=Europe/Copenhagen:20191030T093000
DTEND;TZID=Europe/Copenhagen:20191030T100000
DTSTAMP:20260420T211838
CREATED:20191027T073847Z
LAST-MODIFIED:20191027T073847Z
UID:22871-1572427800-1572429600@spildansk.dk
SUMMARY:Syng med pædagogstuderende
DESCRIPTION:Samling arrangeret af fire pædagogstuderende fra UCSyd i Aabenraa.
URL:https://spildansk.dk/kalender/syng-med-paedagogstuderende/
LOCATION:Helgesvejs Børnehave\, Helgesvej 1-3\, Vejle\, 7100\, Danmark
CATEGORIES:Musik til børn
ATTACH;FMTTYPE=image/jpeg:https://spildansk.dk/wp-content/uploads/2019/10/de-små-synger.jpg
ORGANIZER;CN="Thomas Norup":MAILTO:tnor1971@gmail.com
END:VEVENT
BEGIN:VEVENT
DTSTART;TZID=Europe/Copenhagen:20191030T093000
DTEND;TZID=Europe/Copenhagen:20191030T130000
DTSTAMP:20260420T211838
CREATED:20190909T075823Z
LAST-MODIFIED:20190917T091106Z
UID:20043-1572427800-1572440400@spildansk.dk
SUMMARY:Spil Dansk: Biograffilm til de ældste børnehavebørn
DESCRIPTION:I anledningen af Spil Dansk ugen 2019 inviterer Nordisk Film Biografer Randers de ældste børnehavebørn i kommunen i biografen. Filmen er Cirkeline\, Coco og det vilde næsehorn\, der udover at indeholde iørefaldende musik også er en flot tegnet film med en barnlig streg. Arrangementet er lukket. \nSpil Dansk er musiklivets festuge\, der altid foregår i uge 44. Siden 2001 har Spil Dansk været Danmarks største musikbegivenhed i al sin bredde og mangfoldighed af arrangementer. Turbinen\, Randers Bibliotek\, Randers Kommune og Randers Eventsekretariat er lokale arrangører. Det sker i samarbejde med blandt andre lokale bands\, musikkorps\, -ensembler og -kor. Målet er blandt andet at skabe glæde og øge kendskabet til musik med dansk afsæt – herunder udfolde musikken i nye og anderledes rammer.
URL:https://spildansk.dk/kalender/spil-dansk-biograffilm-til-de-aeldste-boernehaveboern/
LOCATION:Nordisk Film Biografer Randers\, Thors Bakke 2\, Randers\, 8900\, Danmark
CATEGORIES:Musik til børn
ATTACH;FMTTYPE=image/jpeg:https://spildansk.dk/wp-content/uploads/2019/09/Cirkeline-Coco-og-det-vilde-næsehorn-billede.jpg
ORGANIZER;CN="Nordisk Film Biografer Randers":MAILTO:serviceranders@nordiskfilm.com
END:VEVENT
BEGIN:VEVENT
DTSTART;TZID=Europe/Copenhagen:20191030T094500
DTEND;TZID=Europe/Copenhagen:20191030T100000
DTSTAMP:20260420T211838
CREATED:20191008T090807Z
LAST-MODIFIED:20191008T090807Z
UID:21009-1572428700-1572429600@spildansk.dk
SUMMARY:Fællessang på Skægkærskolen.
DESCRIPTION:Hele Skægkærskolen mødes hver dag i uge 44 og synger fællessang.
URL:https://spildansk.dk/kalender/faellessang-paa-skaegkaerskolen-2/
LOCATION:Skægkærskolen\, Sindingvej 15\, Silkeborg\, 8600
END:VEVENT
BEGIN:VEVENT
DTSTART;TZID=Europe/Copenhagen:20191030T100000
DTEND;TZID=Europe/Copenhagen:20191030T103000
DTSTAMP:20260420T211838
CREATED:20191021T064855Z
LAST-MODIFIED:20191021T064855Z
UID:21877-1572429600-1572431400@spildansk.dk
SUMMARY:Udsolgt - Klezmerduo spiller koncert for 0. - 2. klasser
DESCRIPTION:UDSOLGT – 400 børn kommer til gratis Spil Dansk koncert! \nDe mindste klasser i Skanderborg Kommune har noget at glæde sig til når de besøger Kulturhuset Skanderborgs Store Sal d. 30. oktober. De skal til koncert med Klezmerduo. Koncerten er allerede fuldt booket. \nKlezmerduo regnes blandt landets førende fortolkere af den traditionelle jødiske festmusik – klezmer. \nIgennem mere end 30 år har duoen fordybet sig i klezmermusikkens stemningsfulde og livsbekræftende univers\, som de formidler med humor og smittende spilleglæde. Fængende musik med rødder i Østeuropa\, som rummer længsel og smerte og samtidig insisterer på håbet\, glæden og festen. \nDuoen spiller over 100 koncerter om året herhjemme og i udlandet\, hvor de har optrådt i de fleste europæiske lande samt i Israel\, USA\, Argentina og på Cuba. Klezmerduo har vundet en førstepris på Verdensmusikfestivalen\, DK samt udgivet 4 CD`er\, der har fået flere Folk-award nomineringer.
URL:https://spildansk.dk/kalender/udsolgt-klezmerduo-spiller-koncert-for-0-2-klasser/
LOCATION:Kulturhuset Skanderborg
CATEGORIES:Musik til børn
ATTACH;FMTTYPE=image/jpeg:https://spildansk.dk/wp-content/uploads/2019/10/klezmer.jpg
END:VEVENT
BEGIN:VEVENT
DTSTART;TZID=Europe/Copenhagen:20191030T100000
DTEND;TZID=Europe/Copenhagen:20191030T103000
DTSTAMP:20260420T211839
CREATED:20191023T125151Z
LAST-MODIFIED:20191023T125151Z
UID:22618-1572429600-1572431400@spildansk.dk
SUMMARY:Morgensang i Spil Dansk ugen
DESCRIPTION:Start dagen med at få rørt stemmebåndet\n\n\n\nKom og marker den landsdækkende Spil Dansk uge med os\, når vi starten dagen med skøn morgensang. \nVi synger sange fra blandt andet Højskolesangbogen\, men også nyere\, danske sange. \nDer vil være klaverledsagelse af Ingeborg Skafte-Pedersen. \nVi udleverer sanghæfter\, så alle kan synge med. \nAlle er velkommen\, så kom glad og begynd dagen med at få klaret stemmen. \nDu behøver ikke tilmelde dig og det er gratis at deltage.
URL:https://spildansk.dk/kalender/morgensang-i-spil-dansk-ugen-3/
LOCATION:Guldborgsund-bibliotekerne\, Hovedbiblioteket\, Kongensgade 43\, Nykøbing Falster\, 4800
CATEGORIES:Fællessang
ATTACH;FMTTYPE=image/jpeg:https://spildansk.dk/wp-content/uploads/2019/10/Spil-dansk1-2.jpg
ORGANIZER;CN="Guldborgsund-bibliotekerne":MAILTO:nyfac@guldborgsund.dk
END:VEVENT
BEGIN:VEVENT
DTSTART;TZID=Europe/Copenhagen:20191030T100000
DTEND;TZID=Europe/Copenhagen:20191030T103000
DTSTAMP:20260420T211839
CREATED:20191028T085245Z
LAST-MODIFIED:20191028T085932Z
UID:22907-1572429600-1572431400@spildansk.dk
SUMMARY:Spil Dansk Uge – opgave UC SYD
DESCRIPTION:Sangarrangement og fællessang i aktivitelscenteret på Egebo Plejehjem. \nVi synger i fællesskab sangen “I østen stiger solen op” af B. S. Ingemann.
URL:https://spildansk.dk/kalender/spil-dansk-uge-opgave-uc-syd/
LOCATION:Egebo Plejehjem\, Anlægsvej 9\, Ejby\, 5592\, Danmark
CATEGORIES:Fællessang
END:VEVENT
BEGIN:VEVENT
DTSTART;TZID=Europe/Copenhagen:20191030T100000
DTEND;TZID=Europe/Copenhagen:20191030T110000
DTSTAMP:20260420T211839
CREATED:20190902T120724Z
LAST-MODIFIED:20190902T120724Z
UID:19905-1572429600-1572433200@spildansk.dk
SUMMARY:Stine Michel & EventyrOrkestret
DESCRIPTION:Gratis koncertoplevelse\, helt udover det sædvanlige\, med Stine Michel & EventryrOrkestret i Spil Dansk-ugen!\nKom til en forrygende\, fængslende og forførende koncert med Stine Michel og hendes EventyrOrkester i Spil Dansk-ugen i Slagelse\, hvor vi fejrer musikken med og for både store og små.\nKoncerten tager udgangspunkt i Stine Michels sange fra den DMA-nominerede ‘Mosekonen brygger’ og dens efterfølgere ‘Ønskeegen’ og ‘Himmelhøj’. Publikum tages på en rejse\, hvor de blandt andet møder digterfrøerne\, en kyssesyg mistelten og Rumlerikke skovens sidste heks. Sammen med orkestret bliver der mulighed for at:\n• plukke æbler fra Æbleolga\n• klappe nye rytmer med dværgene\n• synge med misteltenen Sylvia\n• skælde ud sammen med Kællingetjørnen\n• danse i takt med ildfruen Fauna \n  \nGratis Spil Dansk-børnekoncert i samarbejde med Slagelse Kommune.\nTilmelding til koncerten skal ske på mail til Susanne\, sutha@slagelsemusikhus.dk. Husk at angive antal børn og voksne. Koncerten henvender sig især til de mindre institutionsbørn. 
URL:https://spildansk.dk/kalender/stine-michel-eventyrorkestret/
LOCATION:Slagelse Musikhus\, Sdr. Stationsvej 3-5\, Slagelse\, Danmark
CATEGORIES:Musik til børn
ATTACH;FMTTYPE=image/jpeg:https://spildansk.dk/wp-content/uploads/2019/09/StineMichelog-EventyrOrkestret_foto_bred.jpg
END:VEVENT
BEGIN:VEVENT
DTSTART;TZID=Europe/Copenhagen:20191030T100000
DTEND;TZID=Europe/Copenhagen:20191030T110000
DTSTAMP:20260420T211839
CREATED:20191023T105125Z
LAST-MODIFIED:20191023T105125Z
UID:22522-1572429600-1572433200@spildansk.dk
SUMMARY:Verdenssange med Vingefang
DESCRIPTION:LMS-Familiekoncert i forbindelse med Spil Dansk Ugen 2019.
URL:https://spildansk.dk/kalender/verdenssange-med-vingefang-3/
LOCATION:Nørre Alslev skole\, Nørre Alslev Parkvej 5\, Nørre Alslev\, 4840\, Denmark
END:VEVENT
BEGIN:VEVENT
DTSTART;TZID=Europe/Copenhagen:20191030T100000
DTEND;TZID=Europe/Copenhagen:20191030T110000
DTSTAMP:20260420T211839
CREATED:20191023T105235Z
LAST-MODIFIED:20191023T105235Z
UID:22533-1572429600-1572433200@spildansk.dk
SUMMARY:Hjertelys
DESCRIPTION:LMS-Familiekoncert i forbindelse med Spil Dansk Ugen 2019.
URL:https://spildansk.dk/kalender/hjertelys-10/
LOCATION:Rønneskolen afd. Søndermark\, Rønne\, Bornholm\, Danmark
END:VEVENT
BEGIN:VEVENT
DTSTART;TZID=Europe/Copenhagen:20191030T103000
DTEND;TZID=Europe/Copenhagen:20191030T111500
DTSTAMP:20260420T211839
CREATED:20190910T125244Z
LAST-MODIFIED:20190910T125829Z
UID:20123-1572431400-1572434100@spildansk.dk
SUMMARY:WriteOut!
DESCRIPTION:Jeanette Højby\, Martin Gerup og Camilla Tiedt\, der alle er sangskrivere vil\, sammen med Roskilde Katedralskoles musikelever\, arbejde med sangskriverprocessen ud fra eget repertoire. Inkl. koncert. Alle er velkomne.
URL:https://spildansk.dk/kalender/writeout/
LOCATION:Roskilde Katedralskole\, Holbækvej 59\, Roskilde\, 4000
CATEGORIES:Workshop
ATTACH;FMTTYPE=image/jpeg:https://spildansk.dk/wp-content/uploads/2019/09/Musik.jpg
ORGANIZER;CN="Roskilde Katedralskole":MAILTO:post@rks-gym.dk
END:VEVENT
BEGIN:VEVENT
DTSTART;TZID=Europe/Copenhagen:20191030T103000
DTEND;TZID=Europe/Copenhagen:20191030T111500
DTSTAMP:20260420T211839
CREATED:20190919T121306Z
LAST-MODIFIED:20190919T121306Z
UID:20326-1572431400-1572434100@spildansk.dk
SUMMARY:Tidsmaskinen
DESCRIPTION:Sekstet af musikere\, alle lærere i Assens Musikskole\, har sat sig for at spille dansk musik fra folk over 80’er pop til nye hits for en hel masse skolebørn. \nTurnéen kommer forbi fem skoler på to dage\, hvor bandet spiller for over 1.000 elever.
URL:https://spildansk.dk/kalender/tidsmaskinen/
LOCATION:glamsbjerg fri og efterskole\, krengerupvej 50\, glamsbjerg\, 5620\, Danmark
CATEGORIES:Musik til børn
ATTACH;FMTTYPE=image/jpeg:https://spildansk.dk/wp-content/uploads/2019/09/20170818-Musik-Oplevelses-Dag-14.jpg
ORGANIZER;CN="Assens Musikskole":MAILTO:musikskolen@assens.dk
END:VEVENT
BEGIN:VEVENT
DTSTART;TZID=Europe/Copenhagen:20191030T103000
DTEND;TZID=Europe/Copenhagen:20191030T113000
DTSTAMP:20260420T211839
CREATED:20190911T075426Z
LAST-MODIFIED:20190911T075746Z
UID:20148-1572431400-1572435000@spildansk.dk
SUMMARY:Fællessang på Åpark Centret
DESCRIPTION:Vi inviterer til Fællessang i cafeen\, ved klaveret sidder Gurli Strandløv og vi synger med på de gode danske sange.
URL:https://spildansk.dk/kalender/faellessang-paa-aapark-centret/
LOCATION:Åpark Centret\, Løvenørnsgade 21\, Horsens\, 8700
CATEGORIES:Fællessang
END:VEVENT
BEGIN:VEVENT
DTSTART;TZID=Europe/Copenhagen:20191030T110000
DTEND;TZID=Europe/Copenhagen:20191030T114500
DTSTAMP:20260420T211839
CREATED:20190930T145115Z
LAST-MODIFIED:20190930T145115Z
UID:20673-1572433200-1572435900@spildansk.dk
SUMMARY:Fællessang på Sejergaardsskolen
DESCRIPTION:Sejergaardsskolens Privatskole samt Sejergaardens Musikefterskole holder Spil Dansk-fællessang for hele Tølløse.\nMusikelevrådet har udvalgt 10 sange fra den mangfoldige danske sangskat\, der ved arrangementet akkompagneres af et veloplagt lærerband.
URL:https://spildansk.dk/kalender/faellessang-paa-sejergaardsskolen-3/
LOCATION:sejergaardsskolen\, Sejergårdsvej 2\, Tølløse\, 4340\, Danmark
CATEGORIES:Fællessang
ORGANIZER;CN="sejergaardsskolen":MAILTO:musikskolen@sejergaardsskolen.dk
END:VEVENT
BEGIN:VEVENT
DTSTART;TZID=Europe/Copenhagen:20191030T115000
DTEND;TZID=Europe/Copenhagen:20191030T125000
DTSTAMP:20260420T211839
CREATED:20191023T104900Z
LAST-MODIFIED:20191023T104900Z
UID:22501-1572436200-1572439800@spildansk.dk
SUMMARY:Mads Vinding & Øyvind Ougaard
DESCRIPTION:LMS-Familiekoncert i forbindelse med Spil Dansk Ugen 2019.
URL:https://spildansk.dk/kalender/mads-vinding-oeyvind-ougaard-5/
LOCATION:Glesborg Skole\, Glesborg Bygade 81\, Glesborg\, 8585\, Denmark
END:VEVENT
BEGIN:VEVENT
DTSTART;TZID=Europe/Copenhagen:20191030T120000
DTEND;TZID=Europe/Copenhagen:20191030T122000
DTSTAMP:20260420T211839
CREATED:20191007T093057Z
LAST-MODIFIED:20191015T192513Z
UID:20961-1572436800-1572438000@spildansk.dk
SUMMARY:0. klassernes sangdag
DESCRIPTION:Hvert år onsdag i Spil Dansk ugen mødes 0. klasserne fra Haverslev-\, Ravnkilde- og Sortebakkeskolen for at hygge og synge dejlige efterårs-sange sammen. Dagen munder ud i en mini koncert for familien.
URL:https://spildansk.dk/kalender/0-klassernes-sangdag/
LOCATION:Haverslev Skole\, Strandvejen 15\, Haverslev\, Nørager\, 9610
CATEGORIES:Koncert
ATTACH;FMTTYPE=image/png:https://spildansk.dk/wp-content/uploads/2019/10/logo.png
END:VEVENT
BEGIN:VEVENT
DTSTART;TZID=Europe/Copenhagen:20191030T120000
DTEND;TZID=Europe/Copenhagen:20191030T130000
DTSTAMP:20260420T211839
CREATED:20190930T120334Z
LAST-MODIFIED:20190930T120334Z
UID:20651-1572436800-1572440400@spildansk.dk
SUMMARY:Spil dansk korkoncert
DESCRIPTION:Siden 2001 har ”Spil Dansk” været Danmarks største musikbegivenhed i al sin bredde og mangfoldighed af arrangementer. \nVi er naturligvis også med på den danske bølge her i Svendborg. Gennem hele ugen besøger elever fra musikskolen kommunens butikker\, plejehjem og skoler – ja selv de vilde dyr i Naturama får dansk musik af musikskolens lærere og elever. \nFor 7. år i træk er højdepunktet på Spil Dansk Ugen i Svendborg et overflødighedshorn af det bedste af den bedste danske musik fremført af en masse unge mennesker fra kommunens skoler og naturligvis elever fra Svendborg Musikskole. \nSvendborg Musikskoles orkestre og sammenspilsgrupper får følgeskab af ikke mindre end 750 elever fra kommunens 4. og 5.  klasser fra 12 af kommunens skoler\, så alt i alt vil der stå mere end 850 børn og unge klar til at give os alle en spektakulær oplevelse af Dansk musik og kultur.
URL:https://spildansk.dk/kalender/spil-dansk-korkoncert-3/
LOCATION:svendborg idrætscenter\, Ryttervej 70\, Svendborg\, 5700\, Danmark
CATEGORIES:Fællessang,Kor
ATTACH;FMTTYPE=image/jpeg:https://spildansk.dk/wp-content/uploads/2019/09/Spil-Dansk-korkoncert-2017.jpg
ORGANIZER;CN="Svendborg Musikskole":MAILTO:musikskolen@svendborg.dk
END:VEVENT
BEGIN:VEVENT
DTSTART;TZID=Europe/Copenhagen:20191030T120000
DTEND;TZID=Europe/Copenhagen:20191030T140000
DTSTAMP:20260420T211839
CREATED:20191023T162330Z
LAST-MODIFIED:20191023T162330Z
UID:22647-1572436800-1572444000@spildansk.dk
SUMMARY:Kom og syng om kroppen
DESCRIPTION:Lær din krop at kende gennem musikken
URL:https://spildansk.dk/kalender/kom-og-syng-om-kroppen/
LOCATION:Højmarkskolen\, Holsted\, Vejen\, Danmark
CATEGORIES:Musik til børn
END:VEVENT
BEGIN:VEVENT
DTSTART;TZID=Europe/Copenhagen:20191030T120000
DTEND;TZID=Europe/Copenhagen:20191030T153000
DTSTAMP:20260420T211839
CREATED:20191023T071350Z
LAST-MODIFIED:20191023T071403Z
UID:22347-1572436800-1572449400@spildansk.dk
SUMMARY:Sangskriver-workshop
DESCRIPTION:Martin Stender og Jeppe Vig Find kommer og skriver sange med eleverne fra musik-valgholdet i 7./8.-klasse på Ganløse skole.
URL:https://spildansk.dk/kalender/sangskriver-workshop-4/
LOCATION:Ganløse Skole\, Vestergade 5A\, Stenløse\, 3660
END:VEVENT
BEGIN:VEVENT
DTSTART;TZID=Europe/Copenhagen:20191030T120000
DTEND;TZID=Europe/Copenhagen:20191030T160000
DTSTAMP:20260420T211839
CREATED:20191014T090606Z
LAST-MODIFIED:20191014T120750Z
UID:21368-1572436800-1572451200@spildansk.dk
SUMMARY:Sangskriver-workshop fra KODA
DESCRIPTION:4 timers musikboost og workshop med de professionelle sangskrivere Martin Stender og Jeppe Vig Find\, der laver en sang med børn og unge på Ganløse Skole. Læs mere om Stender og Vig Find her
URL:https://spildansk.dk/kalender/sangskriver-workshop-fra-koda-4/
LOCATION:Ganløse Skole\, Vestergade 5A\, Stenløse\, 3660
CATEGORIES:Musik til børn,Workshop
ATTACH;FMTTYPE=image/jpeg:https://spildansk.dk/wp-content/uploads/2019/10/Stender-og-Vig-Find.jpg
END:VEVENT
BEGIN:VEVENT
DTSTART;TZID=Europe/Copenhagen:20191030T124000
DTEND;TZID=Europe/Copenhagen:20191030T132500
DTSTAMP:20260420T211839
CREATED:20190919T121506Z
LAST-MODIFIED:20190919T121506Z
UID:20329-1572439200-1572441900@spildansk.dk
SUMMARY:Tidsmaskinen
DESCRIPTION:Sekstet af musikere\, alle lærere i Assens Musikskole\, har sat sig for at spille dansk musik fra folk over 80’er pop til nye hits for en hel masse skolebørn. \nTurnéen kommer forbi fem skoler på to dage\, hvor bandet spiller for over 1.000 elever.
URL:https://spildansk.dk/kalender/tidsmaskinen-2/
LOCATION:Glamsbjergskolen\, Kaj Nielsens Vej 10\, Glamsbjerg\, 5620
CATEGORIES:Musik til børn
ATTACH;FMTTYPE=image/jpeg:https://spildansk.dk/wp-content/uploads/2019/09/20170818-Musik-Oplevelses-Dag-14-1.jpg
ORGANIZER;CN="Assens Musikskole":MAILTO:musikskolen@assens.dk
END:VEVENT
BEGIN:VEVENT
DTSTART;TZID=Europe/Copenhagen:20191030T124500
DTEND;TZID=Europe/Copenhagen:20191030T134500
DTSTAMP:20260420T211839
CREATED:20191023T105323Z
LAST-MODIFIED:20191023T105323Z
UID:22540-1572439500-1572443100@spildansk.dk
SUMMARY:Verdenssange med Vingefang
DESCRIPTION:LMS-Familiekoncert i forbindelse med Spil Dansk Ugen 2019.
URL:https://spildansk.dk/kalender/verdenssange-med-vingefang-4/
LOCATION:Stubbekøbing Skole\, Rosenvængets Alle 14\, Stubbekøbing\, 4850\, Denmark
END:VEVENT
BEGIN:VEVENT
DTSTART;TZID=Europe/Copenhagen:20191030T130000
DTEND;TZID=Europe/Copenhagen:20191030T140000
DTSTAMP:20260420T211839
CREATED:20190825T183238Z
LAST-MODIFIED:20191004T065346Z
UID:19718-1572440400-1572444000@spildansk.dk
SUMMARY:Danmarks fællessang Live i Assens
DESCRIPTION:Ronnie & Mona synger sammen med skolens elever
URL:https://spildansk.dk/kalender/danmarks-faellessang-live-i-assens/
LOCATION:Peter Willemoesskolen\, Skelvej 29\, Assens\, 5610
CATEGORIES:Musik til børn
ATTACH;FMTTYPE=image/jpeg:https://spildansk.dk/wp-content/uploads/2019/08/mona-og-ronnie.jpg
END:VEVENT
BEGIN:VEVENT
DTSTART;TZID=Europe/Copenhagen:20191030T130000
DTEND;TZID=Europe/Copenhagen:20191030T140000
DTSTAMP:20260420T211839
CREATED:20190924T121511Z
LAST-MODIFIED:20190924T121511Z
UID:20467-1572440400-1572444000@spildansk.dk
SUMMARY:Glade Stemmer
DESCRIPTION:Koret Glade Stemmer synger på Struer Musikskole.
URL:https://spildansk.dk/kalender/glade-stemmer/
LOCATION:Struer Musikskole\, Bredgade 6\, Struer\, 7600
END:VEVENT
BEGIN:VEVENT
DTSTART;TZID=Europe/Copenhagen:20191030T130000
DTEND;TZID=Europe/Copenhagen:20191030T140000
DTSTAMP:20260420T211839
CREATED:20191014T115219Z
LAST-MODIFIED:20191014T121324Z
UID:21463-1572440400-1572444000@spildansk.dk
SUMMARY:Musik og Sundhed
DESCRIPTION:Syng-med-koncert på Aktivitetscenter Damgårdsparken med den erfarne viseskribent Søren Westerholm for op til 25 borgere\, som kommer i aktivitetscentret. Læs mere om Søren Westerholm her
URL:https://spildansk.dk/kalender/musik-og-sundhed-4/
LOCATION:Aktivitetscenter Damgårdsparken\, Damgårdsparken 7-9\, Stenløse\, 3660
CATEGORIES:Viser
ATTACH;FMTTYPE=image/jpeg:https://spildansk.dk/wp-content/uploads/2019/10/Søren-Westerholm_Sangskriverklubben-1440x700.jpg
END:VEVENT
BEGIN:VEVENT
DTSTART;TZID=Europe/Copenhagen:20191030T130000
DTEND;TZID=Europe/Copenhagen:20191030T140000
DTSTAMP:20260420T211839
CREATED:20191023T105056Z
LAST-MODIFIED:20191023T105056Z
UID:22518-1572440400-1572444000@spildansk.dk
SUMMARY:Cirkeline og Coco rejser til Afrika
DESCRIPTION:LMS-Familiekoncert i forbindelse med Spil Dansk Ugen 2019.
URL:https://spildansk.dk/kalender/cirkeline-og-coco-rejser-til-afrika-3/
LOCATION:Muldbjergskolen\, Hjørring\, Hjørring\, Danmark
END:VEVENT
BEGIN:VEVENT
DTSTART;TZID=Europe/Copenhagen:20191030T130000
DTEND;TZID=Europe/Copenhagen:20191030T140000
DTSTAMP:20260420T211839
CREATED:20191028T085749Z
LAST-MODIFIED:20191028T090011Z
UID:22908-1572440400-1572444000@spildansk.dk
SUMMARY:Musik & Sundhed – en intimkoncert  på Aktivitetscenter Damgårdsparken
DESCRIPTION:Søren Westerholm underholder med fællessang og historier.
URL:https://spildansk.dk/kalender/musik-sundhed-en-intimkoncert-paa-aktivitetscenter-damgaardsparken/
LOCATION:Aktivitetscenter Damgårdsparken\, Damgårdsparken 7-9\, Stenløse\, 3660
CATEGORIES:Koncert
ATTACH;FMTTYPE=image/gif:https://spildansk.dk/wp-content/uploads/2019/10/Billede1.gif
ORGANIZER;CN="Spil Dansk":MAILTO:info@spildansk.dk
END:VEVENT
BEGIN:VEVENT
DTSTART;TZID=Europe/Copenhagen:20191030T130000
DTEND;TZID=Europe/Copenhagen:20191030T160000
DTSTAMP:20260420T211839
CREATED:20191004T074942Z
LAST-MODIFIED:20191004T074942Z
UID:20855-1572440400-1572451200@spildansk.dk
SUMMARY:Spil Dansk
DESCRIPTION:Spil dansk er en fejring af dansk musik. Det foregår over hele landet i uge 44. \nAFC er med og inviterer alle til en hyggelig eftermiddag\, hvor vi skal synge mange dejlige danske sange – både ældre og nyere. \nLedsaget af musik ved Jørgen Riis. \nDet skal nok blive hyggeligt. Billet kr. 50 incl. kaffe/the og kage\, Øl og vand kan købes \n 
URL:https://spildansk.dk/kalender/spil-dansk-14/
LOCATION:Solrød Aktivitets- og Frivilligcenter\, Solrød Center 85\, Solrød\, 2680 Solrød Strand
CATEGORIES:Fællessang
ATTACH;FMTTYPE=image/jpeg:https://spildansk.dk/wp-content/uploads/2019/10/Jørgen-Riis.jpg
END:VEVENT
BEGIN:VEVENT
DTSTART;TZID=Europe/Copenhagen:20191030T140000
DTEND;TZID=Europe/Copenhagen:20191030T150000
DTSTAMP:20260420T211839
CREATED:20191007T075156Z
LAST-MODIFIED:20191007T080721Z
UID:20920-1572444000-1572447600@spildansk.dk
SUMMARY:Børnekor
DESCRIPTION:4. september starter et nyt børnekor op i kirken. Koret er for drenge og piger\, der går i 2. og 3. klasse. Vi synger sange og salmer i alle stilarter\, og vi arbejder med stemmetræning\, kanons\, lette 2- og 3-stemmige satser\, hørelære og meget andet godt.\n\n\nSamtidig har vi det sjovt og hygger os. Vi tager også af og til på stævne\, hyttetur o.lign.\, og vi synger naturligvis ind imellem til gudstjenester og koncerter i kirken. For tilmelding og mere info: kontakt organist og korleder Mads Wadmann på tlf. 2283 0282 eller madswadmann@hotmail.com Det er gratis at være med i koret
URL:https://spildansk.dk/kalender/boernekor/
LOCATION:Sct. Clemens Kirke\, Parkboulevarden 15\, Randers C\, 8900
CATEGORIES:Kor,Musik til børn
END:VEVENT
BEGIN:VEVENT
DTSTART;TZID=Europe/Copenhagen:20191030T140000
DTEND;TZID=Europe/Copenhagen:20191030T150000
DTSTAMP:20260420T211839
CREATED:20191022T073813Z
LAST-MODIFIED:20191022T073813Z
UID:22154-1572444000-1572447600@spildansk.dk
SUMMARY:Musik & Sundhed med Julie Winckler
DESCRIPTION:Musik & Sundhed med Julie Winckler.
URL:https://spildansk.dk/kalender/musik-sundhed-med-julie-winckler/
LOCATION:Diakonisestiftelsens plejehjem\, Søster Sophies Minde\, Søndre Fasanvej 2A\, Frederiksberg\, 2000\, Danmark
CATEGORIES:Fællessang,Singer-songwriter
ATTACH;FMTTYPE=image/jpeg:https://spildansk.dk/wp-content/uploads/2019/10/juliewinckler.jpg
ORGANIZER;CN="Spil Dansk":MAILTO:info@spildansk.dk
END:VEVENT
END:VCALENDAR