BEGIN:VCALENDAR
VERSION:2.0
PRODID:-//Spil Dansk - ECPv6.5.0//NONSGML v1.0//EN
CALSCALE:GREGORIAN
METHOD:PUBLISH
X-WR-CALNAME:Spil Dansk
X-ORIGINAL-URL:https://spildansk.dk
X-WR-CALDESC:Events for Spil Dansk
REFRESH-INTERVAL;VALUE=DURATION:PT1H
X-Robots-Tag:noindex
X-PUBLISHED-TTL:PT1H
BEGIN:VTIMEZONE
TZID:Europe/Copenhagen
BEGIN:DAYLIGHT
TZOFFSETFROM:+0100
TZOFFSETTO:+0200
TZNAME:CEST
DTSTART:20240331T010000
END:DAYLIGHT
BEGIN:STANDARD
TZOFFSETFROM:+0200
TZOFFSETTO:+0100
TZNAME:CET
DTSTART:20241027T010000
END:STANDARD
BEGIN:DAYLIGHT
TZOFFSETFROM:+0100
TZOFFSETTO:+0200
TZNAME:CEST
DTSTART:20250330T010000
END:DAYLIGHT
BEGIN:STANDARD
TZOFFSETFROM:+0200
TZOFFSETTO:+0100
TZNAME:CET
DTSTART:20251026T010000
END:STANDARD
END:VTIMEZONE
BEGIN:VEVENT
DTSTART;TZID=Europe/Copenhagen:20251030T170000
DTEND;TZID=Europe/Copenhagen:20251030T183000
DTSTAMP:20260420T220829
CREATED:20251024T082447Z
LAST-MODIFIED:20251024T082447Z
UID:59193-1761843600-1761849000@spildansk.dk
SUMMARY:Koncert med Folk Ensemble på Ribe Kunstmuseum
DESCRIPTION:Midt blandt enestående værker af dansk kunst inviteres du til koncert i en af museumssalene – en unik mulighed for at opleve det historiske Ribe Kunstmuseum på en helt ny og sanselig måde. \nFolk Ensemble er et nyt professionelt ensemble\, der udforsker dansk folkemusik – både traditionel og ny. Gruppen består af fem erfarne musikere med rødder i folkemusikmiljøet og tilknytning til Syddansk Musikkonservatorium i Esbjerg. \nEfter koncerten byder Ribe Kunstmuseum på et glas vin (med i billetprisen). \nBilletter købes på forhånd i museumsbutikken eller online www.ribekunstmuseum.dk (under aktuelt/kalender)
URL:https://spildansk.dk/kalender/koncert-med-folk-ensemble-paa-ribe-kunstmuseum/
LOCATION:Ribe Kunstmuseum\, Sct. Nicolaj Gade 10\, Ribe\, 6760
CATEGORIES:Koncert
ATTACH;FMTTYPE=image/jpeg:https://spildansk.dk/wp-content/uploads/2025/10/folk-ensemble.jpeg
ORGANIZER;CN="Ribe Kunstmuseum":MAILTO:post@ribekunstmuseum.dk
END:VEVENT
BEGIN:VEVENT
DTSTART;TZID=Europe/Copenhagen:20251030T170000
DTEND;TZID=Europe/Copenhagen:20251030T180000
DTSTAMP:20260420T220829
CREATED:20251018T124211Z
LAST-MODIFIED:20251018T124211Z
UID:59033-1761843600-1761847200@spildansk.dk
SUMMARY:Koncert med KOMTAKT Bluesy surf i bløde møbler
DESCRIPTION:Fyraftenstreat: Læn dig ind i et lækkert surfy musikalsk univers med KOMTAKT og få en kop kaffe og et musikalsk brusebad\, før du tager hjem. \nI anledningen af Spil Dansk ugen laver vi området ved kaffeautomaten om til en musikalsk lounge og tilbyder jer et lækkert musikalsk treat at gå hjem på.\nKOMTAKT spiller bluesy surf med danske tekster om tilværelsens modsætninger og tilbøjeligheder. Med lige dele humor og alvor fører de publikum sikkert igennem musikken og vedkommende tekster\, der indeholder mange små historier fra levede liv.\nKOMTAKT er en erfaren trio\, som har spillet i mange sammenhænge\, og hver især med store og små navne på den danske musikscene. Det er virkelig dygtige musikere\, der leverer på højeste niveau\, så man både kan fascineres og slappe af i deres musikalske selskab. \nJacob Kolkur: Guitar & Vokal\nMorten Illsøe: Trommer\nThomas Heedegaard: Bas
URL:https://spildansk.dk/kalender/koncert-med-komtakt-bluesy-surf-i-bloede-moebler/
LOCATION:Vallensbæk Kultur- & Borgerhus\, Vallensbæk Stationstorv 40\, Vallensbæk Strand\, 2665
CATEGORIES:Blues
ATTACH;FMTTYPE=image/jpeg:https://spildansk.dk/wp-content/uploads/2025/10/1030-komtakt-billede.jpg
ORGANIZER;CN="Vallensb%C3%A6k Kultur- &amp%3B Borgerhus":MAILTO:mly@vallensbaek.dk
END:VEVENT
BEGIN:VEVENT
DTSTART;TZID=Europe/Copenhagen:20251030T100000
DTEND;TZID=Europe/Copenhagen:20251030T110000
DTSTAMP:20260420T220829
CREATED:20251022T120401Z
LAST-MODIFIED:20251022T120401Z
UID:59102-1761818400-1761822000@spildansk.dk
SUMMARY:Jens Billingsø på Aktivitetscentret Odensevej i Assens
DESCRIPTION:Jens Billingsø giver koncert for borgere der er indskrevet på aktivitet og samværstilbuddet – Aktivitetscentret Odensevej i Assens.
URL:https://spildansk.dk/kalender/jens-billingsoe-paa-aktivitetscentret-odensevej-i-assens/
LOCATION:Aktivitetscenter Odensevej 2\, Odensevej 2\, Assens\, 5610
ATTACH;FMTTYPE=image/jpeg:https://spildansk.dk/wp-content/uploads/2025/10/jens-1-1.jpeg
ORGANIZER;CN="AssensBibliotekerne":MAILTO:mipou@assens.dk
END:VEVENT
BEGIN:VEVENT
DTSTART;VALUE=DATE:20251030
DTEND;VALUE=DATE:20251031
DTSTAMP:20260420T220829
CREATED:20250701T143126Z
LAST-MODIFIED:20250701T143126Z
UID:57150-1761782400-1761868799@spildansk.dk
SUMMARY:Fællessang.
DESCRIPTION:Møgeltønder Skole inviterer alle til\nfællessang i Møgeltønder Kirke.\nDer udleveres sanghæfter ved indgangen.\nMvh.\nMorten
URL:https://spildansk.dk/kalender/faellessang-43/
END:VEVENT
BEGIN:VEVENT
DTSTART;TZID=Europe/Copenhagen:20251029T190000
DTEND;TZID=Europe/Copenhagen:20251029T200000
DTSTAMP:20260420T220829
CREATED:20251018T123913Z
LAST-MODIFIED:20251018T123913Z
UID:59024-1761764400-1761768000@spildansk.dk
SUMMARY:Strygerkoncert
DESCRIPTION:Vallensbæk Musikskoles unge violin- og celloelever starter sæsonens koncerter med melodier fra folkemusik\, barok og filmens verden.
URL:https://spildansk.dk/kalender/strygerkoncert/
LOCATION:Trappen\, Vallensbæk Kultur- & Borgerhus\, Vallensbæk Stationstorv 40\, Vallensbæk Strand\, 2665
CATEGORIES:Klassisk
ATTACH;FMTTYPE=image/jpeg:https://spildansk.dk/wp-content/uploads/2025/10/1029-strygerkoncert-musikskolen.jpg
ORGANIZER;CN="Vallensb%C3%A6k Kultur- &amp%3B Borgerhus":MAILTO:mly@vallensbaek.dk
END:VEVENT
BEGIN:VEVENT
DTSTART;TZID=Europe/Copenhagen:20251029T190000
DTEND;TZID=Europe/Copenhagen:20251029T193000
DTSTAMP:20260420T220829
CREATED:20251023T075307Z
LAST-MODIFIED:20251023T075307Z
UID:59146-1761764400-1761766200@spildansk.dk
SUMMARY:Spil Dansk Dage i Sdr. Omme Kirke
DESCRIPTION:I anledning af den nationale Spil Dansk Uge inviterer vi indenfor til 3 små fællessangsarrangementer d. 27.\, 28. og 29.\, oktober 2025.\n\n\nVi mødes i kirken til ca. 30 min. skøn fællessang hver aften.\n\n\nDet er helt uforpligtende om man kommer en\, to eller tre aftener.\n\n\nDer er gratis kaffe og kage
URL:https://spildansk.dk/kalender/spil-dansk-dage-i-sdr-omme-kirke-4/
LOCATION:Sdr. Omme Kirke\, Kirke Alle 2\, Sønder Omme\, 7260\, Denmark
CATEGORIES:Fællessang
ATTACH;FMTTYPE=image/png:https://spildansk.dk/wp-content/uploads/2025/10/kopi-af-velkommen-til-faellessang-i-sdr--omme-kirke-3.png
ORGANIZER;CN="Sdr. Omme Kirke":MAILTO:kirketjener7260@gmail.com
END:VEVENT
BEGIN:VEVENT
DTSTART;TZID=Europe/Copenhagen:20251028T190000
DTEND;TZID=Europe/Copenhagen:20251028T193000
DTSTAMP:20260420T220829
CREATED:20251023T075200Z
LAST-MODIFIED:20251023T075200Z
UID:59137-1761678000-1761679800@spildansk.dk
SUMMARY:Spil Dansk Dage i Sdr. Omme Kirke
DESCRIPTION:I anledning af den nationale Spil Dansk Uge inviterer vi indenfor til 3 små fællessangsarrangementer d. 27.\, 28. og 29.\, oktober 2025.\n\n\nVi mødes i kirken til ca. 30 min. skøn fællessang hver aften.\n\n\nDet er helt uforpligtende om man kommer en\, to eller tre aftener.\n\n\nDer er gratis kaffe og kage
URL:https://spildansk.dk/kalender/spil-dansk-dage-i-sdr-omme-kirke-3/
LOCATION:Sdr. Omme Kirke\, Kirke Alle 2\, Sønder Omme\, 7260\, Denmark
CATEGORIES:Fællessang
ATTACH;FMTTYPE=image/png:https://spildansk.dk/wp-content/uploads/2025/10/kopi-af-velkommen-til-faellessang-i-sdr--omme-kirke-2.png
ORGANIZER;CN="Sdr. Omme Kirke":MAILTO:kirketjener7260@gmail.com
END:VEVENT
BEGIN:VEVENT
DTSTART;TZID=Europe/Copenhagen:20251028T190000
DTEND;TZID=Europe/Copenhagen:20251028T193000
DTSTAMP:20260420T220829
CREATED:20251023T075157Z
LAST-MODIFIED:20251023T075157Z
UID:59134-1761678000-1761679800@spildansk.dk
SUMMARY:Spil Dansk Dage i Sdr. Omme Kirke
DESCRIPTION:I anledning af den nationale Spil Dansk Uge inviterer vi indenfor til 3 små fællessangsarrangementer d. 27.\, 28. og 29.\, oktober 2025.\n\n\nVi mødes i kirken til ca. 30 min. skøn fællessang hver aften.\n\n\nDet er helt uforpligtende om man kommer en\, to eller tre aftener.\n\n\nDer er gratis kaffe og kage
URL:https://spildansk.dk/kalender/spil-dansk-dage-i-sdr-omme-kirke-2/
LOCATION:Sdr. Omme Kirke\, Kirke Alle 2\, Sønder Omme\, 7260\, Denmark
ORGANIZER;CN="Sdr. Omme Kirke":MAILTO:kirketjener7260@gmail.com
END:VEVENT
BEGIN:VEVENT
DTSTART;TZID=Europe/Copenhagen:20251028T160000
DTEND;TZID=Europe/Copenhagen:20251028T170000
DTSTAMP:20260420T220829
CREATED:20251026T080528Z
LAST-MODIFIED:20251026T080528Z
UID:59221-1761667200-1761670800@spildansk.dk
SUMMARY:Univers på Vers på Sorø Kunstmuseum
DESCRIPTION:Med støtte fra KODA KULTUR spiller Univers på Vers denne familiekoncert. \nAnne-Ditte Scheibye (sang)\, Pelle von Bülow (guitar)\, Morten Grønvad (vibrafon)\, Anders Jacobsen (trombone\, tekst/musik)\, Ole Skipper (bas) og \nTom Jensen (trommer).
URL:https://spildansk.dk/kalender/univers-paa-vers-paa-soroe-kunstmuseum/
CATEGORIES:Koncert
ATTACH;FMTTYPE=image/jpeg:https://spildansk.dk/wp-content/uploads/2025/10/paa-raketten.jpeg
END:VEVENT
BEGIN:VEVENT
DTSTART;TZID=Europe/Copenhagen:20251028T103000
DTEND;TZID=Europe/Copenhagen:20251028T113000
DTSTAMP:20260420T220829
CREATED:20251026T113400Z
LAST-MODIFIED:20251026T113400Z
UID:59235-1761647400-1761651000@spildansk.dk
SUMMARY:Koncert med Univers på Vers i Brenderup Aktivitetscenter.
DESCRIPTION:I anledningen af spil dansk-ugen spiller Univers på Vers formiddagskoncert for hele Brenderup! Daginstitutioner\, skoler og ældrecenter deltager. Alle er velkomne\, der er gratis adgang!\nUnivers på Vers spiller Jazz- og latinamerikansk kvalitetsmusik i børnehøjde med underfundige tekster\, finurlige rim og lækre iørefaldende melodier.\nAnders Jacobsen (basun) Pelle von Bülow (guitar)\, Morten Grønvad (vibrafon)\, Ole Skipper (bas)\, Tom Jensen(trommer) og Anne-Ditte Scheibye (sang).
URL:https://spildansk.dk/kalender/koncert-med-univers-paa-vers-i-brenderup-aktivitetscenter-2/
CATEGORIES:Koncert
ATTACH;FMTTYPE=image/jpeg:https://spildansk.dk/wp-content/uploads/2025/10/univers-paa-raketten-foto2-1.jpg
END:VEVENT
BEGIN:VEVENT
DTSTART;TZID=Europe/Copenhagen:20251028T103000
DTEND;TZID=Europe/Copenhagen:20251028T113000
DTSTAMP:20260420T220829
CREATED:20251026T113357Z
LAST-MODIFIED:20251026T113357Z
UID:59233-1761647400-1761651000@spildansk.dk
SUMMARY:Koncert med Univers på Vers i Brenderup Aktivitetscenter.
DESCRIPTION:I anledningen af spil dansk-ugen spiller Univers på Vers formiddagskoncert for hele Brenderup! Daginstitutioner\, skoler og ældrecenter deltager. Alle er velkomne\, der er gratis adgang!\nUnivers på Vers spiller Jazz- og latinamerikansk kvalitetsmusik i børnehøjde med underfundige tekster\, finurlige rim og lækre iørefaldende melodier.\nAnders Jacobsen (basun) Pelle von Bülow (guitar)\, Morten Grønvad (vibrafon)\, Ole Skipper (bas)\, Tom Jensen(trommer) og Anne-Ditte Scheibye (sang).
URL:https://spildansk.dk/kalender/koncert-med-univers-paa-vers-i-brenderup-aktivitetscenter/
END:VEVENT
BEGIN:VEVENT
DTSTART;TZID=Europe/Copenhagen:20251027T190000
DTEND;TZID=Europe/Copenhagen:20251027T210000
DTSTAMP:20260420T220829
CREATED:20251027T113246Z
LAST-MODIFIED:20251027T113246Z
UID:59279-1761591600-1761598800@spildansk.dk
SUMMARY:Spil Dansk Aftenkoncert
DESCRIPTION:Spil Dansk Aftenkoncert\nMandag d. 27. oktober kl. 19.00\nKrovejen 26\, Gundestrup\nGRATIS ADGANG\nBands\, Solister og Kor underholder med dejlig musik i forbindelse med Spil Dansk Ugen. Alle er velkommen.
URL:https://spildansk.dk/kalender/spil-dansk-aftenkoncert/
ATTACH;FMTTYPE=image/png:https://spildansk.dk/wp-content/uploads/2025/10/spil-dansk-koncerter.png
END:VEVENT
BEGIN:VEVENT
DTSTART;TZID=Europe/Copenhagen:20251027T190000
DTEND;TZID=Europe/Copenhagen:20251027T203000
DTSTAMP:20260420T220829
CREATED:20250829T092300Z
LAST-MODIFIED:20250829T092300Z
UID:58004-1761591600-1761597000@spildansk.dk
SUMMARY:Koncert med Jo Dietrich på Vissenbjerg Bibliotek
DESCRIPTION:Tanker\, tiden\, relationer og hverdagen midt i livet – det handler den københavnske sangskriver Jo Dietrichs debut EP-album fra 2023 med titlen ”Halvvejs” om. Det er Jos fortælling om sin oplevelse af at være midt i livet\, hvor hun har fundet en ny ro og følelse af hvem hun er\, og hvad hun vil bruge resten af sit liv på. Hun føler at der er opstået en spøjs fornemmelse af\, at ”alt er kendt og fremmed alligevel”\, og at man den ene dag er lost og den næste dag er tilbage på sporet. Hun sammenligner det med sine teenagerbørns skiftende “moodsvings”\, som man ikke skal høre efter\, men gå efter den indre stemme\, der sætter retningen for ens liv. \n  \nKoncerten foregår i den gamle byrådssal og er et samarbejde mellem Vissenbjerg Borger- og Kulturforening og AssensBibliotekerne \nArrangementet er gratis med tilmelding via assensbib.dk
URL:https://spildansk.dk/kalender/koncert-med-jo-dietrich-paa-vissenbjerg-bibliotek/
LOCATION:Vissenbjerg Bibliotek\, Vestergade 2\, Vissenbjerg\, 5492\, Danmark
CATEGORIES:Koncert
ATTACH;FMTTYPE=image/jpeg:https://spildansk.dk/wp-content/uploads/2025/08/jo-dietrich.jpg
ORGANIZER;CN="Vissenbjerg Borger- og Kulturforening &amp%3B AssensBibliotekerne":MAILTO:kontakt@vbkf.dk
END:VEVENT
BEGIN:VEVENT
DTSTART;TZID=Europe/Copenhagen:20251027T190000
DTEND;TZID=Europe/Copenhagen:20251027T193000
DTSTAMP:20260420T220829
CREATED:20251023T074915Z
LAST-MODIFIED:20251023T074915Z
UID:59128-1761591600-1761593400@spildansk.dk
SUMMARY:Spil Dansk Dage i Sdr. Omme Kirke
DESCRIPTION:I anledning af den nationale Spil Dansk Uge inviterer vi indenfor til 3 små fællessangsarrangementer d. 27.\, 28. og 29.\, oktober 2025.\n\n\nVi mødes i kirken til ca. 30 min. skøn fællessang hver aften.\n\n\nDet er helt uforpligtende om man kommer en\, to eller tre aftener.\n\n\nDer er gratis kaffe og kage
URL:https://spildansk.dk/kalender/spil-dansk-dage-i-sdr-omme-kirke/
LOCATION:Sdr. Omme Kirke\, Kirke Alle 2\, Sønder Omme\, 7260\, Denmark
CATEGORIES:Fællessang
ATTACH;FMTTYPE=image/png:https://spildansk.dk/wp-content/uploads/2025/10/kopi-af-velkommen-til-faellessang-i-sdr--omme-kirke.png
ORGANIZER;CN="Sdr. Omme Kirke":MAILTO:kirketjener7260@gmail.com
END:VEVENT
BEGIN:VEVENT
DTSTART;TZID=Europe/Copenhagen:20251027T130000
DTEND;TZID=Europe/Copenhagen:20251027T150000
DTSTAMP:20260420T220829
CREATED:20251027T113603Z
LAST-MODIFIED:20251027T113603Z
UID:59287-1761570000-1761577200@spildansk.dk
SUMMARY:Koncert og Fællessang – Spil Dansk Ugen
DESCRIPTION:Koncert og Fællessang – Spil Dansk Ugen\nMandag d. 27. oktober kl. 13.00\nKrovejen 26\, Gundestrup\nGRATIS ADGANG\nDeltag i denne hyggelige eftermiddag når HOM Seniorkor og HOM Harmonikaorkester spiller og synger danske sange. Der bliver desuden disket op med masser af fællessang. Alle er velkommen. \n 
URL:https://spildansk.dk/kalender/koncert-og-faellessang-spil-dansk-ugen-2/
LOCATION:HOM Krovejen 26\, Gundestrup\, 4571 Grevinge\, Krovejen 26\, Gundestrup\, Grevinge\, 4571
ATTACH;FMTTYPE=image/png:https://spildansk.dk/wp-content/uploads/2025/10/musik-og-faellessang-spil-dansk-ugen-1.png
END:VEVENT
BEGIN:VEVENT
DTSTART;TZID=Europe/Copenhagen:20251027T130000
DTEND;TZID=Europe/Copenhagen:20251027T150000
DTSTAMP:20260420T220829
CREATED:20251027T113033Z
LAST-MODIFIED:20251027T113033Z
UID:59273-1761570000-1761577200@spildansk.dk
SUMMARY:Koncert og Fællessang – Spil Dansk Ugen
DESCRIPTION:Deltag i denne hyggelige eftermiddag når HOM Seniorkor og HOM Harmonikaorkester samt en enkelt sangsolist spiller og synger danske sange. Der bliver desuden disket op med masser af fællessang. Alle er velkommen.
URL:https://spildansk.dk/kalender/koncert-og-faellessang-spil-dansk-ugen/
ATTACH;FMTTYPE=image/png:https://spildansk.dk/wp-content/uploads/2025/10/musik-og-faellessang-spil-dansk-ugen.png
END:VEVENT
BEGIN:VEVENT
DTSTART;TZID=Europe/Copenhagen:20251027T130000
DTEND;TZID=Europe/Copenhagen:20251027T140000
DTSTAMP:20260420T220829
CREATED:20251026T081135Z
LAST-MODIFIED:20251026T081135Z
UID:59225-1761570000-1761573600@spildansk.dk
SUMMARY:Univers på Vers spiller på Riget
DESCRIPTION:Med støtte fra Østerbro Lokaludvalg spiller Univers på Vers for både børn og voksne. \nAnne-Ditte Scheibye (sang)\, Pelle von Bülow (guitar)\, Morten Grønvad (vibrafon)\, Ole Skipper (bas)\, Tom Jensen (trommer) og Anders Jacobsen (trombone\, tekst/musik)
URL:https://spildansk.dk/kalender/univers-paa-vers-spiller-paa-riget/
CATEGORIES:Koncert
ATTACH;FMTTYPE=image/jpeg:https://spildansk.dk/wp-content/uploads/2025/10/paa-raketten-1.jpeg
END:VEVENT
BEGIN:VEVENT
DTSTART;TZID=Europe/Copenhagen:20251026T140000
DTEND;TZID=Europe/Copenhagen:20251026T160000
DTSTAMP:20260420T220829
CREATED:20250926T123503Z
LAST-MODIFIED:20250926T123503Z
UID:58693-1761487200-1761494400@spildansk.dk
SUMMARY:Syng dansk eftermiddag
DESCRIPTION:Sandagerkoret synger under ledelse af Eva Kobel\,  og er akkompagneret af pianist Tove Hovmand. \nVi synger nye og gamle sange\, og indimellem er der masser af fællessang fra Højskolesangbogen. \n  \nStort hjemmebagt kagebord samt te og kaffe. \nEntré 50\,- \n  \nTilmelding til Jutta Mahnke på tlf. 2098 7152
URL:https://spildansk.dk/kalender/syng-dansk-eftermiddag-2/
LOCATION:Saltofte Forsamlinghus\, Saltoftevej 53\, Assens\, 5610
CATEGORIES:Fællessang
ORGANIZER;CN="Sandagerkoret":MAILTO:evakobel7@gmail.com
END:VEVENT
BEGIN:VEVENT
DTSTART;TZID=Europe/Copenhagen:20250925T190000
DTEND;TZID=Europe/Copenhagen:20250925T220000
DTSTAMP:20260420T220829
CREATED:20240930T113233Z
LAST-MODIFIED:20240930T113233Z
UID:51866-1758826800-1758837600@spildansk.dk
SUMMARY:Syng\, spis og snak
DESCRIPTION:Viborg Højskoleforening og Viborg Idrætshøjskole afholder en Syng\, Spis og Snak aften på Viborg Idrætshøjskole. \nHøjskoleforstanderen og pianist Anders Hjorth Nielsen vil lede os igennem arrangementet\, hvor der serveres god mad.\nVi skal synge nogle af de dejlige fællessange fra Højskolesangbogen. Over maden og kaffen skal vi snakke løs! \nPRIS:\nKr. 180 pr person\, som betales ved tilmelding\, så hav dit betalingskort klar.\nDrikkevarer købes på stedet. \nGå direkte til tilmelding
URL:https://spildansk.dk/kalender/syng-spis-og-snak-6/
LOCATION:Viborg Idrætshøjskole\, Vinkelvej 32\, viborg\, 8800
CATEGORIES:Fællessang
ATTACH;FMTTYPE=image/jpeg:https://spildansk.dk/wp-content/uploads/2024/09/sss-2.jpg
END:VEVENT
BEGIN:VEVENT
DTSTART;TZID=Europe/Copenhagen:20250731T080000
DTEND;TZID=Europe/Copenhagen:20250731T170000
DTSTAMP:20260420T220829
CREATED:20250731T043645Z
LAST-MODIFIED:20250731T043645Z
UID:57440-1753948800-1753981200@spildansk.dk
SUMMARY:Prezzo Traduzione: Come si determina
DESCRIPTION:Innanzitutto\, il prezzo dipende dalla lunghezza e complessità del documento da\ntradurre.
URL:https://spildansk.dk/kalender/prezzo-traduzione-come-si-determina/
END:VEVENT
BEGIN:VEVENT
DTSTART;TZID=Europe/Copenhagen:20250508T190000
DTEND;TZID=Europe/Copenhagen:20250508T220000
DTSTAMP:20260420T220829
CREATED:20240930T112913Z
LAST-MODIFIED:20240930T112913Z
UID:51860-1746730800-1746741600@spildansk.dk
SUMMARY:Syng\, spis og snak
DESCRIPTION:Viborg Højskoleforening og Viborg Idrætshøjskole afholder en “Syng\, Spis og Snak-aften” på Viborg Idrætshøjskole. \n\nHøjskoleforstanderen og pianist Mille Sigsgaard vil lede os igennem arrangementet\, hvor der serveres god mad. \nVi skal synge nogle af de dejlige fællessange fra Højskolesangbogen – over maden skal vi snakke løs! \nPRIS:\nKr. 180 pr. person\, som betales ved tilmelding\, så hav dit betalingskort klar.\nDrikkevarer købes på stedet.
URL:https://spildansk.dk/kalender/syng-spis-og-snak-5/
LOCATION:Viborg Idrætshøjskole\, Vinkelvej 32\, viborg\, 8800
CATEGORIES:Fællessang
ATTACH;FMTTYPE=image/jpeg:https://spildansk.dk/wp-content/uploads/2024/09/sss-1.jpg
END:VEVENT
BEGIN:VEVENT
DTSTART;TZID=Europe/Copenhagen:20250311T183000
DTEND;TZID=Europe/Copenhagen:20250311T203000
DTSTAMP:20260420T220829
CREATED:20250302T082514Z
LAST-MODIFIED:20250302T082514Z
UID:55021-1741717800-1741725000@spildansk.dk
SUMMARY:Syng Sammen
DESCRIPTION:Hele familien er inviteret\, når vi slår dørene op for en aften\, hvor vi skal synge sammen. Tirsdag d. 11. marts kl 18.30 mødes vi i samling\, hvor Johannes slår klaveret an\, og så stemmer vi i og synger\, så det kan høres. Sang er glæde\, og den glæde skal vi dele med hinanden og mærke helt ud i fingerspidserne\, når vi synger foråret ind i fællesskab. Vi glæder os til at se jer.\nNår vi synger sammen\, hører vi sammen.\nTilmelding: https://docs.google.com/forms/d/1t–W4cVIKdxlcxMbe1Muw3lE9Ijbhkgmpu1HrCacFQQ/edit
URL:https://spildansk.dk/kalender/syng-sammen-5/
CATEGORIES:Fællessang
ATTACH;FMTTYPE=image/jpeg:https://spildansk.dk/wp-content/uploads/2025/03/fb-img-1740903529537-1.jpg
END:VEVENT
BEGIN:VEVENT
DTSTART;TZID=Europe/Copenhagen:20250311T183000
DTEND;TZID=Europe/Copenhagen:20250311T203000
DTSTAMP:20260420T220829
CREATED:20250302T082511Z
LAST-MODIFIED:20250302T082511Z
UID:55019-1741717800-1741725000@spildansk.dk
SUMMARY:Syng Sammen
DESCRIPTION:Hele familien er inviteret\, når vi slår dørene op for en aften\, hvor vi skal synge sammen. Tirsdag d. 11. marts kl 18.30 mødes vi i samling\, hvor Johannes slår klaveret an\, og så stemmer vi i og synger\, så det kan høres. Sang er glæde\, og den glæde skal vi dele med hinanden og mærke helt ud i fingerspidserne\, når vi synger foråret ind i fællesskab. Vi glæder os til at se jer.\nNår vi synger sammen\, hører vi sammen.\nTilmelding: https://docs.google.com/forms/d/1t–W4cVIKdxlcxMbe1Muw3lE9Ijbhkgmpu1HrCacFQQ/edit
URL:https://spildansk.dk/kalender/syng-sammen-4/
END:VEVENT
BEGIN:VEVENT
DTSTART;TZID=Europe/Copenhagen:20250304T190000
DTEND;TZID=Europe/Copenhagen:20250304T220000
DTSTAMP:20260420T220829
CREATED:20240927T114047Z
LAST-MODIFIED:20240927T114047Z
UID:51808-1741114800-1741125600@spildansk.dk
SUMMARY:Syng\, spis og snak
DESCRIPTION:Viborg Højskoleforening og Viborg Idrætshøjskole afholder en Syng\, Spis og Snak aften på Viborg Idrætshøjskole. \nHøjskoleforstanderen og Pianist Anders Hjorth Nielsen vil lede os igennem arrangementet\, hvor der serveres god mad.\nVi skal synge nogle af de dejlige fællessange fra Højskolesangbogen. Over maden og kaffen skal vi snakke løs! \nPRIS:\nKr. 180 pr person\, som betales ved tilmelding\, så hav dit betalingskort klar.\nDrikkevarer købes på stedet.
URL:https://spildansk.dk/kalender/syng-spis-og-snak-4/
LOCATION:Viborg Idrætshøjskole\, Vinkelvej 32\, viborg\, 8800
CATEGORIES:Fællessang
ATTACH;FMTTYPE=image/jpeg:https://spildansk.dk/wp-content/uploads/2024/09/sss.jpg
END:VEVENT
BEGIN:VEVENT
DTSTART;TZID=Europe/Copenhagen:20241107T190000
DTEND;TZID=Europe/Copenhagen:20241107T210000
DTSTAMP:20260420T220829
CREATED:20241024T083144Z
LAST-MODIFIED:20241024T083144Z
UID:52460-1731006000-1731013200@spildansk.dk
SUMMARY:Sangforedrag Rasmus Skov Borring.
DESCRIPTION:Rasmus Skov Borring er en flittigt brugt sangvært.\nKom og syng med\, når Rasmus Skov Borring inviterer indenfor i sit arbejde med formidlingen af den danske sangskat. Seancen indeholder både fællessang og fortælling.\nBillet kr. 50\,- Læs mere og køb billet
URL:https://spildansk.dk/kalender/sangforedrag-rasmus-skov-borring/
LOCATION:Varde Bibliotek\, Rådhusstræde 2\, Varde\, 6800
CATEGORIES:Foredrag
END:VEVENT
BEGIN:VEVENT
DTSTART;TZID=Europe/Copenhagen:20241105T190000
DTEND;TZID=Europe/Copenhagen:20241105T200000
DTSTAMP:20260420T220829
CREATED:20241101T101345Z
LAST-MODIFIED:20241101T101345Z
UID:52762-1730833200-1730836800@spildansk.dk
SUMMARY:Syng dansk med Mette og Rasmus
DESCRIPTION:”Forbundne\, forpligtet\, for Kongeriget Danmark.” \nSådan lyder vores nye monarks valgsprog – eller ”kongeord”\, som han selv foretrækker at kalde det. Den 14. januar i år afløste kong Frederik X som bekendt sin mor\, dronning Margrethe II\, på den danske trone\, og ved Syng Dansk-arrangementet i år vil vi i sangvalget lade os inspirere af hans ”kongeord” – med andre ord vil vi blandt andet synge nogle af de sange fra vores sangskat\, der udtrykker vores forbundethed og forpligtethed som indbyggere i Kongeriget Danmark.
URL:https://spildansk.dk/kalender/syng-dansk-med-mette-og-rasmus-3/
LOCATION:Hvidovre Kirke\, Hvidovre Kirkeplads 3\, Hvidovre\, 2650\, Danmark
CATEGORIES:Fællessang
ATTACH;FMTTYPE=image/jpeg:https://spildansk.dk/wp-content/uploads/2024/11/Syng-dansk-mini-5-24.jpg
ORGANIZER;CN="Hvidovre Kirke":MAILTO:ml@km.dk
END:VEVENT
BEGIN:VEVENT
DTSTART;TZID=Europe/Copenhagen:20241105T190000
DTEND;TZID=Europe/Copenhagen:20241105T200000
DTSTAMP:20260420T220829
CREATED:20241025T084740Z
LAST-MODIFIED:20241025T084740Z
UID:52569-1730833200-1730836800@spildansk.dk
SUMMARY:Fællessang med De Rytmiske Unoder
DESCRIPTION:I anledning af Spil Dansk Ugen – som sætter fokus på dansk musik og danske tekster – er alle velkomne i Skørping-Fræer Sognegård til en sangaften med Højskolesangbogen i centrum.De Rytmiske Unoder synger med på sangene – og giver også et par korsange undervejs.Vi holder pause undervejs\, hvor der er mulighed for en kop kaffe.Dirigent Børge Asmussen og organist Per Bach medvirker.Læs mere på www.spildansk.dk
URL:https://spildansk.dk/kalender/faellessang-med-de-rytmiske-unoder-2/
LOCATION:Skørping-Fræer sognegård\, Præstevænget 14\, Skørping\, 9520\, Danmark
CATEGORIES:Fællessang
ATTACH;FMTTYPE=image/png:https://spildansk.dk/wp-content/uploads/2024/10/img_2379-1.png
END:VEVENT
BEGIN:VEVENT
DTSTART;TZID=Europe/Copenhagen:20241105T190000
DTEND;TZID=Europe/Copenhagen:20241105T200000
DTSTAMP:20260420T220829
CREATED:20241025T084651Z
LAST-MODIFIED:20241025T084651Z
UID:52564-1730833200-1730836800@spildansk.dk
SUMMARY:Fællessang med De Rytmiske Unoder
DESCRIPTION:I anledning af Spil Dansk Ugen – som sætter fokus på dansk musik og danske tekster – er alle velkomne i Skørping-Fræer Sognegård til en sangaften med Højskolesangbogen i centrum.De Rytmiske Unoder synger med på sangene – og giver også et par korsange undervejs.Vi holder pause undervejs\, hvor der er mulighed for en kop kaffe.Dirigent Børge Asmussen og organist Per Bach medvirker.Læs mere på www.spildansk.dk \nSe mindre
URL:https://spildansk.dk/kalender/faellessang-med-de-rytmiske-unoder/
LOCATION:Skørping-Fræer sognegård\, Præstevænget 14\, Skørping\, 9520\, Danmark
CATEGORIES:Fællessang
ATTACH;FMTTYPE=image/png:https://spildansk.dk/wp-content/uploads/2024/10/img_2379.png
END:VEVENT
BEGIN:VEVENT
DTSTART;TZID=Europe/Copenhagen:20241105T093000
DTEND;TZID=Europe/Copenhagen:20241105T110000
DTSTAMP:20260420T220829
CREATED:20241024T083027Z
LAST-MODIFIED:20241024T083027Z
UID:52455-1730799000-1730804400@spildansk.dk
SUMMARY:Morgensang i Salonen
DESCRIPTION:Velkommen til morgensang i Salonen med udgangspunkt i Højskolesangbogen.\nHver fugl synger med sit næb og alle er velkomne\, når vi i fællesskab fylder biblioteket med sang. Fællessang styrker følelsen af livskvalitet og giver humøret et boost.\nKlaverakkompagnement ved Annamarie Uhre. Biblioteket serverer kaffe.\nGratis billet – Bestilles her
URL:https://spildansk.dk/kalender/morgensang-i-salonen/
LOCATION:Varde Bibliotek\, Rådhusstræde 2\, Varde\, 6800
CATEGORIES:Fællessang
END:VEVENT
BEGIN:VEVENT
DTSTART;TZID=Europe/Copenhagen:20241104T190000
DTEND;TZID=Europe/Copenhagen:20241104T210000
DTSTAMP:20260420T220829
CREATED:20241010T194144Z
LAST-MODIFIED:20241010T194144Z
UID:52088-1730746800-1730754000@spildansk.dk
SUMMARY:Spil og Syng Dansk - Kor og Folkemusik
DESCRIPTION:Viborg Koret og folkemusikgruppen Oasens Musikanter indbyder til en munter efterårsaften med fællessang og underholdning i Houlkær Kirke.  De to grupper vil her i forbindelse med Spil Dansk ugen vise deres bedste og inddrage publikum i et fællessangs-program lige fra årstidens og fædrelandets kendte sange til de lettere viser\, vi har trallet og danset til.
URL:https://spildansk.dk/kalender/spil-og-syng-dansk-kor-og-folkemusik/
LOCATION:houlkær kirke\, Odshøjvej 7 A\, Viborg\, 8800
CATEGORIES:Koncert
ATTACH;FMTTYPE=image/png:https://spildansk.dk/wp-content/uploads/2024/10/Hoestgudstjeneste-Vejrum-K-red--1.png
END:VEVENT
END:VCALENDAR