BEGIN:VCALENDAR
VERSION:2.0
PRODID:-//Spil Dansk - ECPv6.5.0//NONSGML v1.0//EN
CALSCALE:GREGORIAN
METHOD:PUBLISH
X-WR-CALNAME:Spil Dansk
X-ORIGINAL-URL:https://spildansk.dk
X-WR-CALDESC:Events for Spil Dansk
REFRESH-INTERVAL;VALUE=DURATION:PT1H
X-Robots-Tag:noindex
X-PUBLISHED-TTL:PT1H
BEGIN:VTIMEZONE
TZID:Europe/Copenhagen
BEGIN:DAYLIGHT
TZOFFSETFROM:+0100
TZOFFSETTO:+0200
TZNAME:CEST
DTSTART:20190331T010000
END:DAYLIGHT
BEGIN:STANDARD
TZOFFSETFROM:+0200
TZOFFSETTO:+0100
TZNAME:CET
DTSTART:20191027T010000
END:STANDARD
END:VTIMEZONE
BEGIN:VEVENT
DTSTART;TZID=Europe/Copenhagen:20191024T200000
DTEND;TZID=Europe/Copenhagen:20191024T220000
DTSTAMP:20260421T034127
CREATED:20190906T085611Z
LAST-MODIFIED:20190906T085611Z
UID:19991-1571947200-1571954400@spildansk.dk
SUMMARY:Steen Jørgensen Duo på Turbinen
DESCRIPTION:Sort Sol-frontmand Steen Jørgensen og den danske stjerneguitarist Rune Kjeldsen lander på Turbinen i efteråret med en blanding af Steens solo-numre\, Sort Sol-sange og fortolkninger af værker fra navne som Dylan\, Young\, Cohen\, Joy Division og Kraftwerk. \nSpil Dansk er musiklivets festuge\, der altid foregår i uge 44. Siden 2001 har Spil Dansk været Danmarks største musikbegivenhed i al sin bredde og mangfoldighed af arrangementer. Turbinen\, Randers Bibliotek\, Randers Kommune og Randers Eventsekretariat er lokale arrangører. Det sker i samarbejde med blandt andre lokale bands\, musikkorps\, -ensembler og -kor. Målet er blandt andet at skabe glæde og øge kendskabet til musik med dansk afsæt – herunder udfolde musikken i nye og anderledes rammer.
URL:https://spildansk.dk/kalender/steen-joergensen-duo-paa-turbinen/
LOCATION:Turbinen\, Svend Dalsgaards Plads\, 1\, Randers C.\, 8900\, Danmark
ATTACH;FMTTYPE=image/jpeg:https://spildansk.dk/wp-content/uploads/2019/09/Steen-Joergensen.jpg
ORGANIZER;CN="Turbinen":MAILTO:jh@vaerket.dk
END:VEVENT
BEGIN:VEVENT
DTSTART;TZID=Europe/Copenhagen:20191024T200000
DTEND;TZID=Europe/Copenhagen:20191024T213000
DTSTAMP:20260421T034127
CREATED:20191004T090526Z
LAST-MODIFIED:20191004T090526Z
UID:20867-1571947200-1571952600@spildansk.dk
SUMMARY:Mikkel Julius
DESCRIPTION:En spændende singer-songwriter med rødder i Randers og kendt for sangen om barndommens by\, Spentrup. \n\n\nMikkel er en en glimrende guitarist og sanger\, og han er netop nu på vej med nye udgivelser
URL:https://spildansk.dk/kalender/mikkel-julius/
LOCATION:Hotel Randers by Hornsleth\, Torvegade 11\, Randers C\, 8900
CATEGORIES:Singer-songwriter
ORGANIZER;CN="Folkemusik i Randers":MAILTO:jh@vaerket.dk
END:VEVENT
BEGIN:VEVENT
DTSTART;TZID=Europe/Copenhagen:20191024T193000
DTEND;TZID=Europe/Copenhagen:20191024T213000
DTSTAMP:20260421T034127
CREATED:20191021T095336Z
LAST-MODIFIED:20191021T095349Z
UID:21960-1571945400-1571952600@spildansk.dk
SUMMARY:Spil dansk-aften i 'Stalden'
DESCRIPTION:Torsdag d. 24. oktober hylder vi den danske sangskat. Aftenen byder på masser af fællessang\, korsang ved HOT-koret og solosang ved sanger Kirstine Lykkebo. Organist Lene Gudnason præsenterer og akkompagnerer. Midtvejs holdes pause med kaffe og kage. Vel mødt til alle sangglade.
URL:https://spildansk.dk/kalender/spil-dansk-aften-i-stalden/
LOCATION:‘Stalden’\, Sneptrup Præstegård\, Sneptrupvej 4\,\, Skanderborg\, 8660
CATEGORIES:Fællessang
END:VEVENT
BEGIN:VEVENT
DTSTART;TZID=Europe/Copenhagen:20191024T193000
DTEND;TZID=Europe/Copenhagen:20191024T210000
DTSTAMP:20260421T034127
CREATED:20191004T085932Z
LAST-MODIFIED:20191004T085932Z
UID:20864-1571945400-1571950800@spildansk.dk
SUMMARY:Me and Maria
DESCRIPTION:Me and Maria\n\n\nDuoen udgav i maj 2019 albummet “Med tusind stjerner”\, hvor titelnummeret blev spillet” live på Go’Morgen Danmark. ME and MARIA består af Maria Anna Rosenberg på vokal og keyboard og Johannes Pehrson på bas og vokal. De skriver selv tekst og musikken.. \nME and MARIA skaber et poetisk rum\, hvor publikum får mulighed for at tage en pause fra hverdagens høje tempo og vende blikket indad. Musikken er enkelt arrangeret for bas og vokal og efterlader derfor plads til nærvær og eftertænksomhed. \nTemaerne omhandler overvindelse af modgang og tvivl og om at finde håb\, glæde og taknemmelighed. \nJohannes Pehrson er bassist\, sanger\, sangskriver og producer. Før musikken tog over\, har Johannes været elitekajakroer\, på U18 og U23 landsholdet. \nMaria Anna Rosenberg er udannet på Den Danske Scenekunstskole samt Sjællands Kirkemusikskole.\nMaria har rejst rundt i store dele af verden med musicals på turneer og teatre og været en fast del af Roskilde Domkirkes natkirke
URL:https://spildansk.dk/kalender/me-and-maria/
LOCATION:Enghøj Kirke\, Enghøj Allé 10\, Randers NV
ORGANIZER;CN="Engh%C3%B8j Kirke":MAILTO:bnh@enghoejkirke.dk
END:VEVENT
BEGIN:VEVENT
DTSTART;TZID=Europe/Copenhagen:20191024T193000
DTEND;TZID=Europe/Copenhagen:20191024T203000
DTSTAMP:20260421T034127
CREATED:20190925T112957Z
LAST-MODIFIED:20190925T112957Z
UID:20496-1571945400-1571949000@spildansk.dk
SUMMARY:Koncert med Ensemble MidtVest
DESCRIPTION:Hvidbjerg Kirke har koncert med Ensemble MidtVest
URL:https://spildansk.dk/kalender/koncert-med-ensemble-midtvest-2/
LOCATION:Hvidbjerg Kirke\, Nørregade 23\, Thyholm\, 7790
END:VEVENT
BEGIN:VEVENT
DTSTART;TZID=Europe/Copenhagen:20191024T190000
DTEND;TZID=Europe/Copenhagen:20191024T220000
DTSTAMP:20260421T034127
CREATED:20191015T130249Z
LAST-MODIFIED:20191115T135259Z
UID:21581-1571943600-1571954400@spildansk.dk
SUMMARY:Koraften med kor-care
DESCRIPTION:Torsdagskoret har fornøjelsen af at få besøg af Gertrud Lei fra kor-care igen i år! En givende aften med mange tips og ideer til stemmetræning og hjælp til vanskelige passager i sangene.
URL:https://spildansk.dk/kalender/koraften-med-kor-care/
LOCATION:Flensborg\, Gustav-Johannsen Skolen\, Eckener Str. 9\, Flensborg\, D 24939
CATEGORIES:Kor
ORGANIZER;CN="SSF":MAILTO:info@syfo.de
END:VEVENT
BEGIN:VEVENT
DTSTART;TZID=Europe/Copenhagen:20191024T190000
DTEND;TZID=Europe/Copenhagen:20191024T210000
DTSTAMP:20260421T034127
CREATED:20191004T085554Z
LAST-MODIFIED:20191004T085554Z
UID:20860-1571943600-1571950800@spildansk.dk
SUMMARY:Sangaften med Kai Normann Andersen-trioen
DESCRIPTION:Torsdag den 24. oktober 2019\, kl. 19.\n\n\nGamle danske filmsange med Kai Norman Andersen-trioen\, der består af Birgitte Leth (pianist)\, Anne Marie Leth Michaelsen (sopran) og Rasmus Mulvad Beyer (tenor). \nTrioen fremfører sange fra gamle danske film\, fortrinsvis af Kai Normann Andersen\, men med enkelte afstikkere til f.eks. Matador og operetter som Sommer i Tyrol. Trioen er etableret i december 2017 og havde sin første optræden på Randers Kollektivhus i januar 2018
URL:https://spildansk.dk/kalender/sangaften-med-kai-normann-andersen-trioen/
LOCATION:Lem Kirke\, Lemvej 51\, Randers NØ
CATEGORIES:Dansktop
END:VEVENT
BEGIN:VEVENT
DTSTART;TZID=Europe/Copenhagen:20191024T190000
DTEND;TZID=Europe/Copenhagen:20191024T210000
DTSTAMP:20260421T034127
CREATED:20190910T201916Z
LAST-MODIFIED:20190910T201916Z
UID:20133-1571943600-1571950800@spildansk.dk
SUMMARY:Spil Dansk i Engesvang
DESCRIPTION:Engesvang mødes til fællessange valgt og begrundet at forældreråd og bestyrelse ved Engesvang Skole. Aftenen krydres med musikalske indslag fra Engesvang Musikforenings kor EKKO og der er mulighed for at købe lidt “godt til ganen”. \nArrangør er Engesvang Musikforening og Kulturens Venner\, Engesvang
URL:https://spildansk.dk/kalender/spil-dansk-i-engesvang/
LOCATION:kulturhuset\, Den Gamle Biograf\, Ågade 2\, Engesvang\, 7442\, Danmark
CATEGORIES:Fællessang,Kor
ATTACH;FMTTYPE=image/png:https://spildansk.dk/wp-content/uploads/2019/09/spil-dansk-b.png
END:VEVENT
BEGIN:VEVENT
DTSTART;TZID=Europe/Copenhagen:20191024T150000
DTEND;TZID=Europe/Copenhagen:20191024T180000
DTSTAMP:20260421T034127
CREATED:20191002T205151Z
LAST-MODIFIED:20191002T205151Z
UID:20770-1571929200-1571940000@spildansk.dk
SUMMARY:Sangskriver-workshop fra Koda
DESCRIPTION:Sangskriver-Workshop med Linette Damsted\, som laver en sang med elever fra 7. klassetrin og op til 3.g.
URL:https://spildansk.dk/kalender/sangskriver-workshop-fra-koda-2/
LOCATION:Tønder Kulturskole\, Østergade 63\, Tønder\, 6270
CATEGORIES:Singer-songwriter,Workshop
ORGANIZER;CN="T%C3%B8nder Kulturskole":MAILTO:kulturskolen@toender.dk
END:VEVENT
BEGIN:VEVENT
DTSTART;TZID=Europe/Copenhagen:20191024T103000
DTEND;TZID=Europe/Copenhagen:20191024T113000
DTSTAMP:20260421T034127
CREATED:20190911T074207Z
LAST-MODIFIED:20190911T074207Z
UID:20151-1571913000-1571916600@spildansk.dk
SUMMARY:Fællessang på Søndertorv i Flensborg for børn fra daginstitutionerne
DESCRIPTION:Eberhard von Oettingen og\nTure Pejtersen vil sammen\nfyre godt op under børnene\,\nså sangene kan høres ud over\nhele Flensborg! Kom og oplev\ndenne unikke live-koncert.\nI tilfælde af regnvejr finder\narrangementet sted i Idrætshallen\,\nMoltkestr. 20c.\nTjek hjemmesiden og find\nflere oplysninger på www.syfo.de/spildansk\nTilmelding til linn@sdu.de
URL:https://spildansk.dk/kalender/faellessang-paa-soendertorv-i-flensborg-for-boern-fra-daginstitutionerne/
LOCATION:Søndertorv i Flensborg\, Søndertorv\, Flensborg\, 24937
CATEGORIES:Fællessang
END:VEVENT
BEGIN:VEVENT
DTSTART;TZID=Europe/Copenhagen:20191024T103000
DTEND;TZID=Europe/Copenhagen:20191024T113000
DTSTAMP:20260421T034127
CREATED:20190819T104052Z
LAST-MODIFIED:20190819T104052Z
UID:19662-1571913000-1571916600@spildansk.dk
SUMMARY:fællessang
DESCRIPTION:Hele Gottorp-Skolen (150 elever +lærere) synger 6udvalgte sange i 4. time. Forældrene bliver inviteret til at synge med.
URL:https://spildansk.dk/kalender/faellessang-33/
LOCATION:Gottorp-skolen\, Erdbeerenberg 32\, Schleswig\, D-24837\, Danmark
END:VEVENT
BEGIN:VEVENT
DTSTART;TZID=Europe/Copenhagen:20191024T100000
DTEND;TZID=Europe/Copenhagen:20191024T110000
DTSTAMP:20260421T034127
CREATED:20191004T084704Z
LAST-MODIFIED:20191004T084704Z
UID:20857-1571911200-1571914800@spildansk.dk
SUMMARY:Musikleg - farver
DESCRIPTION:Kom og syng og leg med biblioteksmusikanten. Tilmelding nødvendig. \nMusikleg for de 1-3 årige\, hvor biblioteksmusikanten Peter Elmelund synger og spiller både de gode\, gamle børnesange og også nogle mere ukendte. Og måske er der spændende rytmeinstrumenter i kufferten? I dag er temaet “Farver”.\nSang og musik er sundt – og giver en god ballast i hele livet. \nTilmelding skal ske fra den 10.oktober kl. 9 på www.randersbib.dk. Max 8 billetter pr. institution \nSpil Dansk er musiklivets festuge\, der altid foregår i uge 44. Siden 2001 har Spil Dansk været Danmarks største musikbegivenhed i al sin bredde og mangfoldighed af arrangementer. Turbinen\, Randers Bibliotek\, Randers Kommune og Randers Eventsekretariat er lokale arrangører. Det sker i samarbejde med blandt andre lokale bands\, musikkorps\, -ensembler og -kor. Målet er blandt andet at skabe glæde og øge kendskabet til musik med dansk afsæt – herunder udfolde musikken i nye og anderledes rammer.
URL:https://spildansk.dk/kalender/musikleg-farver/
LOCATION:Randers Bibliotek\, Stemannsgade 2\, Randers C\, 8900\, Danmark
CATEGORIES:Musik til børn
ORGANIZER;CN="Randers Bibliotek":MAILTO:mk@randersbib.dk
END:VEVENT
BEGIN:VEVENT
DTSTART;TZID=Europe/Copenhagen:20191024T093000
DTEND;TZID=Europe/Copenhagen:20191024T100000
DTSTAMP:20260421T034127
CREATED:20190911T073519Z
LAST-MODIFIED:20190911T073758Z
UID:20147-1571909400-1571911200@spildansk.dk
SUMMARY:Fællessang på Søndertorv i Flensborg for børn fra daginstitutionerne
DESCRIPTION:Eberhard von Oettingen og\nTure Pejtersen vil sammen\nfyre godt op under børnene\,\nså sangene kan høres ud over\nhele Flensborg! Kom og oplev\ndenne unikke live-koncert.\nI tilfælde af regnvejr finder\narrangementet sted i Idrætshallen\,\nMoltkestr. 20c.\nTjek hjemmesiden og find\nflere oplysninger på www.syfo.de/spildansk\nTilmelding til linn@sdu.de
URL:https://spildansk.dk/kalender/faellessang-paa-soendertorv-i-flensborg-for-boern-fra-daginstitutionerne-kl-9-30-10-00/
LOCATION:Søndertorv i Flensborg\, Søndertorv\, Flensborg\, 24937
CATEGORIES:Fællessang
END:VEVENT
BEGIN:VEVENT
DTSTART;TZID=Europe/Copenhagen:20191024T000000
DTEND;TZID=Europe/Copenhagen:20191024T000000
DTSTAMP:20260421T034127
CREATED:20191013T201557Z
LAST-MODIFIED:20191013T201557Z
UID:21322-1571875200-1571875200@spildansk.dk
SUMMARY:Sangskriver-workshop fra Koda
DESCRIPTION:Et musikboost til eleverne i form af en workshop for en klasse på Søndervangskolen\, hvor de sammen med Mol&Kirk skriver og indspiller en sang på en formiddag\, så det lyder professionelt.
URL:https://spildansk.dk/kalender/sangskriver-workshop-fra-koda-3/
LOCATION:Søndervangskolen\, Hammel\, Søndervangsvej 3\, Hammel\, 8450
CATEGORIES:Workshop
ATTACH;FMTTYPE=image/jpeg:https://spildansk.dk/wp-content/uploads/2019/10/mologkirk-1440x700.jpg
END:VEVENT
BEGIN:VEVENT
DTSTART;TZID=Europe/Copenhagen:20191023T193000
DTEND;TZID=Europe/Copenhagen:20191023T193000
DTSTAMP:20260421T034127
CREATED:20191023T060155Z
LAST-MODIFIED:20191023T060252Z
UID:22337-1571859000-1571859000@spildansk.dk
SUMMARY:Den fynske sang
DESCRIPTION:Fællessang og fortælling over emnet Den fynske sang ved Christian Dyrst.
URL:https://spildansk.dk/kalender/den-fynske-sang/
LOCATION:Padesø kirke\, Assens landevej 68\, 5560\, Danmark
END:VEVENT
BEGIN:VEVENT
DTSTART;TZID=Europe/Copenhagen:20191023T160000
DTEND;TZID=Europe/Copenhagen:20191023T170000
DTSTAMP:20260421T034127
CREATED:20191023T071811Z
LAST-MODIFIED:20191023T071811Z
UID:22351-1571846400-1571850000@spildansk.dk
SUMMARY:Musikarrangement med Birgitte Bruun
DESCRIPTION:Musikarrangement med Birgitte Bruun. Målgruppen er demente borgere på Ældrecenter Hvissinge.
URL:https://spildansk.dk/kalender/musikarrangement-med-birgitte-bruun/
LOCATION:ældrecenter hvissinge\, Stenager 2\, Glostrup\, 2600
CATEGORIES:Koncert
ATTACH;FMTTYPE=image/jpeg:https://spildansk.dk/wp-content/uploads/2019/10/3B0B9E75-81F3-4256-A4BB-F40D9904CEF3.jpeg
END:VEVENT
BEGIN:VEVENT
DTSTART;TZID=Europe/Copenhagen:20191023T090000
DTEND;TZID=Europe/Copenhagen:20191023T110000
DTSTAMP:20260421T034127
CREATED:20191008T080655Z
LAST-MODIFIED:20191010T081841Z
UID:20978-1571821200-1571828400@spildansk.dk
SUMMARY:Spil Dansk: Sangglad hos Børnehuset Bækkestien
DESCRIPTION:Andrea Krüger Holm\, som er sangkonsulent fra ‘Sangglad’ besøger Børnehuset Bækkestien med workshoppen ‘Sangsamling & Inspiration’. Det er tale om en inspirerende dag med masser af sang\, bevægelse og leg\, og fokus på sang som et pædagogisk værktøj.
URL:https://spildansk.dk/kalender/spil-dansk-sangglad-hos-boernehuset-baekkestien/
LOCATION:Børnehuset Bækkestien\, Dronningborg Boulevard 40\, Randers NØ\, 8930
CATEGORIES:Musik til børn,Workshop
END:VEVENT
BEGIN:VEVENT
DTSTART;TZID=Europe/Copenhagen:20191023T080000
DTEND;TZID=Europe/Copenhagen:20191023T170000
DTSTAMP:20260421T034127
CREATED:20191023T185401Z
LAST-MODIFIED:20191023T185401Z
UID:22661-1571817600-1571850000@spildansk.dk
SUMMARY:Fællessamling
DESCRIPTION:Fællessamling på Korsholm Skole for 0.-6.klasses elever og medarbejdere. Vi synger sange skrevet af Sebastian og lærere fortæller om den “ bedste Sebastian sang”
URL:https://spildansk.dk/kalender/faellessamling-6/
LOCATION:Korsholm skole\, Damsbrovej 63\, Foldby pr Hinnerup\, 8382
CATEGORIES:Fællessang
END:VEVENT
BEGIN:VEVENT
DTSTART;TZID=Europe/Copenhagen:20191023T080000
DTEND;TZID=Europe/Copenhagen:20191023T170000
DTSTAMP:20260421T034127
CREATED:20191023T113804Z
LAST-MODIFIED:20191023T113804Z
UID:22563-1571817600-1571850000@spildansk.dk
SUMMARY:Hvem er Alf? Eventyret
DESCRIPTION:Det gode mod det onde. Mørke og lys. Hvem er helte og hvem er skurke? Og er der nogen der bestemmer hvem der vinder og hvem der taber? \nEventyret er Hvem er Alf?s nye single\, som bandet har valgt at lade udkomme midt i Spil Dansk ugen onsdag d. 30 oktober. Singlen er indspillet i Death Island Studio.\nOg med titlen følger tankerne. Er den verden vi lever i et bizart eventyr\, hvor alt i sidste ende er sort og hvidt\, spillet fixet og lykken nær? Eller er der andre kræfter på spil? Og hvilken brik har vi hver især så i dette gigantiske eventyr? \nHvem er Alf?\nAlf er drageånde\, krøllede hjerner og suset af en popblå himmel. Spidsen af en jetjager\, gråden over spildt mælk og brændte broer. Alf er slugte kameler\, bidske roser og sød musik. At råbe højt fordi du kan og gå i for store og små sko.\nPå kanten af alt og ingenting.
URL:https://spildansk.dk/kalender/hvem-er-alf-eventyret/
LOCATION:Cyberspace\, Ryesgade 12\, Horsens\, 8700
CATEGORIES:Pop,Rock
ATTACH;FMTTYPE=image/jpeg:https://spildansk.dk/wp-content/uploads/2019/10/HEA_Single_0919.jpg
END:VEVENT
BEGIN:VEVENT
DTSTART;TZID=Europe/Copenhagen:20191023T080000
DTEND;TZID=Europe/Copenhagen:20191023T150000
DTSTAMP:20260421T034127
CREATED:20191023T170739Z
LAST-MODIFIED:20191023T171558Z
UID:22653-1571817600-1571842800@spildansk.dk
SUMMARY:Alle dem med vinger
DESCRIPTION:Workshop og “Pop Up Koncert” (ca kl 14.30-14.45) m Marc Facchini og elever på Næstved Gymnasium og Hf
URL:https://spildansk.dk/kalender/alle-dem-med-vinger/
LOCATION:Næstved Gymnasium & Hf\, Nygårdsvej 43\, Næstved\, 4700
CATEGORIES:Koncert,Workshop
ORGANIZER;CN="N%C3%A6stved Gymnasium &amp%3B Hf":MAILTO:skolen@naestved-gym.dk
END:VEVENT
BEGIN:VEVENT
DTSTART;TZID=Europe/Copenhagen:20191022T193000
DTEND;TZID=Europe/Copenhagen:20191022T210000
DTSTAMP:20260421T034127
CREATED:20191020T155836Z
LAST-MODIFIED:20191020T155836Z
UID:21855-1571772600-1571778000@spildansk.dk
SUMMARY:Optakt til Bøvlingbjerg spiller dansk ugen i Bøvling Sognegård
DESCRIPTION:Optakt til Bøvlingbjerg spiller dansk. \nTirsdag den 22. oktober kl 19.30 i Bøvling Sognegård\nSPIL DANSK DAGEN\nVelkommen til en festlig og fornøjelig sangaften i selskab med Anette og Erling Lindgren.
URL:https://spildansk.dk/kalender/optakt-til-boevlingbjerg-spiller-dansk-ugen-i-boevling-sognegaard/
LOCATION:Bøvling Sognegård\, Bøvlingvej 15\, Bøvlingbjerg\, 7650
CATEGORIES:Fællessang
ATTACH;FMTTYPE=image/jpeg:https://spildansk.dk/wp-content/uploads/2019/10/erling-lindgren.jpg
END:VEVENT
BEGIN:VEVENT
DTSTART;TZID=Europe/Copenhagen:20191022T190000
DTEND;TZID=Europe/Copenhagen:20191022T213000
DTSTAMP:20260421T034127
CREATED:20190911T073247Z
LAST-MODIFIED:20190911T074447Z
UID:20144-1571770800-1571779800@spildansk.dk
SUMMARY:Bogbussen kommer med musik å synnejysk: Koncert med Rikke Thomsen
DESCRIPTION:Sanger og sangskriver Rikke\nThomsen kommer fra Blans\,\nhvor mojn ikke er forbojn! I\når har hun udgivet albummet\n“Omve’n hjemve“\, hvor alle\nsangene er på sønderjysk.\nHun er den yngste modtager\naf Modersmål-Prisen\, som\ner en påskønnelse for særlig\nfremragende anvendelse af\ndet danske sprog.\nForsalg: Bogbussen\, Dansk Centralbibliotek for Sydslesvig\,\nDansk Generalsekretariat eller ved indgangen\nEntré: 5 €
URL:https://spildansk.dk/kalender/bogbussen-kommer-med-musik-aa-synnejysk-koncert-med-rikke-thomsen/
LOCATION:Agtrup forsamlingshus\, Westertoft 2\, Agtrup\, 25917
CATEGORIES:Folk,Singer-songwriter
ATTACH;FMTTYPE=image/jpeg:https://spildansk.dk/wp-content/uploads/2019/09/1RikkeThomsen_Thinna_Aniella_Foto.jpg
END:VEVENT
BEGIN:VEVENT
DTSTART;TZID=Europe/Copenhagen:20191022T080000
DTEND;TZID=Europe/Copenhagen:20191022T170000
DTSTAMP:20260421T034127
CREATED:20191022T140218Z
LAST-MODIFIED:20191022T140218Z
UID:22259-1571731200-1571763600@spildansk.dk
SUMMARY:GLADSAXE PIGEKOR + SOLISTER FRA GLADSAXE MUSIK- OG BILLEDSKOLE
DESCRIPTION:I anledning af Spil Dansk-ugen afholder Gladsaxe Musik- og Billedskole og Gladsaxe Hovedbibliotek i fællesskab en ”fyraftenskoncert” med bl.a. Gladsaxe Pigekor og sangere fra Musikskolens talentlinje. Programmet vil hovedsageligt kredse sig om den danske populærmusik. Men der vil også komme afstikkere til populærmusik fra andre lande. \nKoncerten foregår i hovedbibliotekets musikudlån kl. 18.00 og varer ca. 45 minutter.
URL:https://spildansk.dk/kalender/gladsaxe-pigekor-solister-fra-gladsaxe-musik-og-billedskole/
LOCATION:Gladsaxe Hovedbibliotek\, Søborg Hovedgade 220\, Søborg\, 2860
CATEGORIES:Koncert
END:VEVENT
BEGIN:VEVENT
DTSTART;TZID=Europe/Copenhagen:20191022T080000
DTEND;TZID=Europe/Copenhagen:20191022T170000
DTSTAMP:20260421T034127
CREATED:20191022T115151Z
LAST-MODIFIED:20191022T115151Z
UID:22222-1571731200-1571763600@spildansk.dk
SUMMARY:ELISABETH – sanger og sangskriver
DESCRIPTION:mød Elisabeth til en snak og et par sange fra over 4o år i underholdningens tjeneste
URL:https://spildansk.dk/kalender/elisabeth-sanger-og-sangskriver/
LOCATION:VISSENBJERGHUS\, VESTERGADE 4\, VISSENBJERG\, 5492
CATEGORIES:Singer-songwriter
END:VEVENT
BEGIN:VEVENT
DTSTART;TZID=Europe/Copenhagen:20191022T000000
DTEND;TZID=Europe/Copenhagen:20191022T000000
DTSTAMP:20260421T034127
CREATED:20191003T114727Z
LAST-MODIFIED:20191003T114727Z
UID:20839-1571702400-1571702400@spildansk.dk
SUMMARY:Sangskriverworkshop
DESCRIPTION:Anette Bjergfeldt laver sangskriverworkshop med Trane Skole & Børneby afd. Tistrups musikvalgfagshold.
URL:https://spildansk.dk/kalender/sangskriverworkshop-4/
LOCATION:Trane Skole & Børneby afd. Tistrup\, Lærkevej 12\, Tistrup\, 6862
CATEGORIES:Workshop
ATTACH;FMTTYPE=image/png:https://spildansk.dk/wp-content/uploads/2019/10/grafik-facebook-banner-13.png
ORGANIZER;CN="Spil Dansk Styregruppen Varde Kommune":MAILTO:pvoo@varde.dk
END:VEVENT
BEGIN:VEVENT
DTSTART;TZID=Europe/Copenhagen:20191021T080000
DTEND;TZID=Europe/Copenhagen:20191021T170000
DTSTAMP:20260421T034127
CREATED:20191021T074830Z
LAST-MODIFIED:20191021T074830Z
UID:21926-1571644800-1571677200@spildansk.dk
SUMMARY:Steffen Schackinger
DESCRIPTION:  \nMed millioner af visninger på youtube\, et verdensomspændende tour-CV og international anerkendelse har Steffen Schackinger for længst cementeret sit navn på den internationale musikscene som en guitarvirtuos i absolut særklasse.  \nPå sit nyeste album “Fire Dance” fra december 2016\, tager han sin instrumentale guitarmusik til nye højder. Han kombinerer suveræn præcision og timing fra sin klassiske uddannelse og baggrund med den hårdere rocks kompromisløshed og vildskab. Tænk Dream Theater møder Dizzy Mizz Lizzy over Dixie Dregs!  \nDette er kompositions-musik og guitarspil på uhørt højt niveau og denne musik fås kun yderst sjældent i Danmark. \nForgængeren til ”Fire Dance” var med til at sikre Steffen Schackinger en 15. plads på Guitar on the Edge’s prestigefyldte top 50 over verdens bedste guitarister i 2010. Og siden har han spillet clinics overalt i Europa og Asien. \n  \nEfter de første koncerter i foråret 17 var spillede\, efterlod bandet publikum i en tilstand af totalt overgivelse. Citaterne fra bl.a. de sociale medier er sjældent hørte: \n  \n“en ud-af-kroppen-oplevelse…”  \n“et teknisk overskud af nærmest bibelske dimensioner…”  \n“et minde for livet…”  \n“uhørte 6 stjerner + en raket til at hente flere ned med…”  \n“sublim teknik blandet med en musikalitet der får ørene til at smelte…” \nFyns Stiftstidende: “Det står hævet over enhver tvivl\, at Odense har avlet en musisk verdensstjerne. Selv når man sammenligner ham med nogle af de største guitarhelte\, giver han folk som Yngwie Malmsteen\, Joe Satriani og Steve Vai baghjul\, fordi han simpelthen håndterer sit instrument mere komplet. …man er gravalvorligt hensat i en måbende tilstand. Det er simpelthen chokerende\, hvad den mand kan på en guitar. Og gudhjælpemig om han ikke også synger godt. Lyst og skrøbeligt\, men hamrende lækkert. Steffen Schackinger er stor\, stor\, stor. Oplev ham før din nabo!” \nMen nu er den tidligere Merzy-guitarist sammen med endnu et tidligere Merzy-medlem\, Henrik Bjørn på bas og Gnags-trommeslageren Lars Daugaard igen klar til at turnere i Danmark med sit band. \nEt MUST for alle guitar fans\, alle med en luftguitar baglommen. Men også alle der vil have musik og musikere fra aller øverste hylde. \n 
URL:https://spildansk.dk/kalender/steffen-schackinger/
LOCATION:Musikhuset Posten\, Odense\, Odense\, Danmark
CATEGORIES:Rock
END:VEVENT
BEGIN:VEVENT
DTSTART;TZID=Europe/Copenhagen:20191021T080000
DTEND;TZID=Europe/Copenhagen:20191021T120000
DTSTAMP:20260421T034127
CREATED:20191014T063749Z
LAST-MODIFIED:20191014T063749Z
UID:21331-1571644800-1571659200@spildansk.dk
SUMMARY:Sangskriverworkshop fra Koda
DESCRIPTION:Anders Graae står for sangskriverworkshop på Samsø Efterskole.
URL:https://spildansk.dk/kalender/sangskriverworkshop-fra-koda-2/
LOCATION:Samsø Efterskole\, Besser Kirkevej 30\, Samsø\, 8305
CATEGORIES:Workshop
END:VEVENT
BEGIN:VEVENT
DTSTART;TZID=Europe/Copenhagen:20191016T100000
DTEND;TZID=Europe/Copenhagen:20191016T100000
DTSTAMP:20260421T034127
CREATED:20191016T113826Z
LAST-MODIFIED:20191016T114128Z
UID:21658-1571220000-1571220000@spildansk.dk
SUMMARY:Trolle og Tormod Solrød
DESCRIPTION:De to herrer Trolle og Tormod fyrer den af med koncert og fællessang i forbindelse med Spil Dansk ugen i Solrød. Det bliver for Uglegårdsskolens 1. årgang + 3 mindre specialklasser. Koncerten skal spilles i skolens dramatiske værksted med plads til 150 mennesker. 
URL:https://spildansk.dk/kalender/trolle-og-tormod-solroed/
LOCATION:uglegårdsskolen\, Tingsryds alle 25\, Solrød Strand\, 2680
CATEGORIES:Koncert
ATTACH;FMTTYPE=image/jpeg:https://spildansk.dk/wp-content/uploads/2019/10/1D383F0B-111D-46DB-BD51-ECF21F18B58A.jpeg
ORGANIZER;CN="Solr%C3%B8d Bibliotek":MAILTO:rfi@solrod.dk
END:VEVENT
BEGIN:VEVENT
DTSTART;TZID=Europe/Copenhagen:20191010T083000
DTEND;TZID=Europe/Copenhagen:20191010T113000
DTSTAMP:20260421T034127
CREATED:20191022T071614Z
LAST-MODIFIED:20191108T084203Z
UID:22133-1570696200-1570707000@spildansk.dk
SUMMARY:Mentorsession Rytmisk med Linette Damsted
DESCRIPTION:Mentorsession Rytmisk med Linette Damsted. \nDette arrangement er støttet af Københavns Kommune.
URL:https://spildansk.dk/kalender/mentorsession-rytmisk-med-linette-damsted/
LOCATION:Privatadresse\, Rådhuspladsen 1\, København\, 2100
CATEGORIES:Undervisning
ATTACH;FMTTYPE=image/jpeg:https://spildansk.dk/wp-content/uploads/2019/10/linettedamsted-1.jpg
ORGANIZER;CN="Spil Dansk":MAILTO:info@spildansk.dk
END:VEVENT
BEGIN:VEVENT
DTSTART;TZID=Europe/Copenhagen:20191009T000000
DTEND;TZID=Europe/Copenhagen:20191009T233000
DTSTAMP:20260421T034127
CREATED:20191014T094910Z
LAST-MODIFIED:20191014T095044Z
UID:21385-1570579200-1570663800@spildansk.dk
SUMMARY:Kor Care
DESCRIPTION:Koret ”Med På Noderne”\, der holder til i Smørum\, får besøg af den professionelle korsanger\,  -komponist og -dirigent Poul Emborg\, som afholder en workshop med koret den 9. oktober.
URL:https://spildansk.dk/kalender/kor-care-9/
LOCATION:Konfirmandhuset Smørum\, Flodvej 73 E\, Smørum\, 2765\, Danmark
CATEGORIES:Workshop
ATTACH;FMTTYPE=image/jpeg:https://spildansk.dk/wp-content/uploads/2019/10/Poul-Emborg.jpg
END:VEVENT
END:VCALENDAR