BEGIN:VCALENDAR
VERSION:2.0
PRODID:-//Spil Dansk - ECPv6.5.0//NONSGML v1.0//EN
CALSCALE:GREGORIAN
METHOD:PUBLISH
X-ORIGINAL-URL:https://spildansk.dk
X-WR-CALDESC:Events for Spil Dansk
REFRESH-INTERVAL;VALUE=DURATION:PT1H
X-Robots-Tag:noindex
X-PUBLISHED-TTL:PT1H
BEGIN:VTIMEZONE
TZID:Europe/Copenhagen
BEGIN:DAYLIGHT
TZOFFSETFROM:+0100
TZOFFSETTO:+0200
TZNAME:CEST
DTSTART:20200329T010000
END:DAYLIGHT
BEGIN:STANDARD
TZOFFSETFROM:+0200
TZOFFSETTO:+0100
TZNAME:CET
DTSTART:20201025T010000
END:STANDARD
END:VTIMEZONE
BEGIN:VEVENT
DTSTART;TZID=Europe/Copenhagen:20201029T100000
DTEND;TZID=Europe/Copenhagen:20201029T110000
DTSTAMP:20260423T122007
CREATED:20200915T110508Z
LAST-MODIFIED:20200915T110508Z
UID:24934-1603965600-1603969200@spildansk.dk
SUMMARY:Morgensang
DESCRIPTION:Morgensang\n\n\nEt tilbud om fællessang for alle der har lyst til at starte dagen med fællessang og hyggeligt samvær. Vi mødes omkring flyglet i Sct. Mortens Kirke. Grunden Covid-19 sidder vi med god afstand.. \nDe salmer vi synger er de salmer\, der skal synges ved de kommende søndages gudstjenester
URL:https://spildansk.dk/kalender/morgensang-16/
LOCATION:Sct. Mortens Kirke\, Vester Kirkestræde 7\, Randers C.\, 8900
CATEGORIES:Fællessang
END:VEVENT
BEGIN:VEVENT
DTSTART;TZID=Europe/Copenhagen:20201029T100000
DTEND;TZID=Europe/Copenhagen:20201029T110000
DTSTAMP:20260423T122007
CREATED:20201021T113429Z
LAST-MODIFIED:20201021T113429Z
UID:26426-1603965600-1603969200@spildansk.dk
SUMMARY:Anette Bounaventzen & Pojken Flensborg  - Fællessang for frihed
DESCRIPTION:‘Fællessang for Frihed’ afholdes over hele landet i anledning af ALSANG 2020\, Danmarks største fællessang-initiativ\, og udgivelsen af Højskolesangbogens 19. udgave\, som udkommer den 12. november i år. \nAnette Bounaventzen er uddannet sanger fra Det Jyske Musikkonservatorium\, og arbejder i dag som sanglærer på konservatoriet\, MGK og på musikskoler. Derudover har hun en omfattende sangerkarriere som blandt andet omfatter Den Nye Salmetrio\, som netop nu er aktuel med et album med Leonard Cohen fortolkninger.  \nPojken Flensborg er uddannet pianist fra det rytmiske musikkonservatorium i Århus. Pojken har 14 udgivelser – mest med egetkomponeret materiale – i eget navn samt medvirket på adskillige andre. Han har akkompagneret solister som Sanne Salomonsen\, Stig Rossen\, Sys Bjerre o.m.a samt været kapelmester på adskillige shows og teaterforestillinger. Med sit orkester Nordens Tone har han i de seneste fem år spillet over 200 koncerter og turneret i alle de nordiske lande samt Tyskland og Tjekkiet.
URL:https://spildansk.dk/kalender/anette-bounaventzen-pojken-flensborg-faellessang-for-frihed/
LOCATION:Højboskolen\, Toftevej 53\, Hørning\, 8362
CATEGORIES:Koncert
ATTACH;FMTTYPE=image/jpeg:https://spildansk.dk/wp-content/uploads/2020/10/Fællessang-for-frihed.jpg
END:VEVENT
BEGIN:VEVENT
DTSTART;TZID=Europe/Copenhagen:20201029T100000
DTEND;TZID=Europe/Copenhagen:20201029T110000
DTSTAMP:20260423T122007
CREATED:20201022T114536Z
LAST-MODIFIED:20201022T114536Z
UID:26579-1603965600-1603969200@spildansk.dk
SUMMARY:Ea Philippa
DESCRIPTION:LMS koncert
URL:https://spildansk.dk/kalender/ea-philippa-7/
LOCATION:Hadsund Skole\, Hadsund\, Mariagerfjord\, Danmark
END:VEVENT
BEGIN:VEVENT
DTSTART;TZID=Europe/Copenhagen:20201029T100000
DTEND;TZID=Europe/Copenhagen:20201029T110000
DTSTAMP:20260423T122007
CREATED:20201022T114558Z
LAST-MODIFIED:20201022T114558Z
UID:26601-1603965600-1603969200@spildansk.dk
SUMMARY:Johanna Juhola Trio
DESCRIPTION:LMS koncert
URL:https://spildansk.dk/kalender/johanna-juhola-trio-8/
LOCATION:Lundergårdskolen\, Nordens Alle 15\, Hjørring\, 9800\, Danmark
END:VEVENT
BEGIN:VEVENT
DTSTART;TZID=Europe/Copenhagen:20201029T100000
DTEND;TZID=Europe/Copenhagen:20201029T110000
DTSTAMP:20260423T122007
CREATED:20201022T114601Z
LAST-MODIFIED:20201022T114601Z
UID:26604-1603965600-1603969200@spildansk.dk
SUMMARY:Martin Baltser
DESCRIPTION:LMS koncert
URL:https://spildansk.dk/kalender/martin-baltser-8/
LOCATION:Trekroner Skole\, Trekroner Allé 1\, Roskilde\, 4000\, Danmark
END:VEVENT
BEGIN:VEVENT
DTSTART;TZID=Europe/Copenhagen:20201029T100000
DTEND;TZID=Europe/Copenhagen:20201029T110000
DTSTAMP:20260423T122007
CREATED:20201022T114609Z
LAST-MODIFIED:20201022T114609Z
UID:26610-1603965600-1603969200@spildansk.dk
SUMMARY:Moussa Diallo Trio
DESCRIPTION:LMS koncert
URL:https://spildansk.dk/kalender/moussa-diallo-trio-5/
LOCATION:v/ områderne omkring Roberthus og biblioteket\, Tybovej 2\, Egtved\, 6040\, Danmark
END:VEVENT
BEGIN:VEVENT
DTSTART;TZID=Europe/Copenhagen:20201029T100000
DTEND;TZID=Europe/Copenhagen:20201029T110000
DTSTAMP:20260423T122007
CREATED:20201026T132933Z
LAST-MODIFIED:20201026T135301Z
UID:26801-1603965600-1603969200@spildansk.dk
SUMMARY:Gakkede sange med Tikke Takke
DESCRIPTION:Koncert med det fantastiske børneorkester Tikke Takke for børnehuse fra Roskilde på Gimle. Kom med ind i Tikke Takkes finurlige og skæve univers af rim og remser\, musik og fortælling. \n 
URL:https://spildansk.dk/kalender/gakkede-sange-med-tikke-takke/
LOCATION:Gimle\, Roskilde\, Helligkorsvej 2\, Roskilde\, 4000\, Danmark
CATEGORIES:Musik til børn
ORGANIZER;CN="Roskilde Kulturskole":MAILTO:kulturskolen@roskilde.dk
END:VEVENT
BEGIN:VEVENT
DTSTART;TZID=Europe/Copenhagen:20201029T100000
DTEND;TZID=Europe/Copenhagen:20201029T110000
DTSTAMP:20260423T122007
CREATED:20201027T115956Z
LAST-MODIFIED:20201027T115956Z
UID:26879-1603965600-1603969200@spildansk.dk
SUMMARY:Spil Dansk-koncert med Tikke Takke
DESCRIPTION:Torsdag d. 29. Oktober kl. 10\, midt i Spil Dansk-ugen i Roskilde\, er der koncert med børnejazzorkesteret Tikke Takke på Gimle. Sammen med ”Edderkoppen Bobby” og andre af Tikke Takkes hits spiller orkesteret også sange\, som er blevet lavet sammen med børn fra 4 børnehuse i Roskilde. \nMusiker/komponist Andreas Ugorskij og historiefortæller Hans Laurens har en fest\, når de\ndigter sange og fortællinger med hundredevis af børn rundt omkring i Danmark\, og sidste\nefterår gik turen til fire heldige børnehuse i Roskilde\, hvor de sammen med børnene fik sat\ntekst og musik til 4 helt nye Roskilde sange. \nCorona-udskudt\nDet var ellers planlagt\, at Hans og Andreas skulle have lavet mange flere ”Gakkede sange\nfra Roskilde’\, men pga. corona er huskunstnerprojektet blevet udskudt til foråret. Heldigvis\nhar det været muligt for orkesteret at spille en coronasikker koncert for børnene\, allerede\nher i oktober på Gimle. \n‘Vi er så glade for\, at det lykkedes at få koncerten med Tikke Takke her i Spil dansk-ugen.\nPublikum fra børnehusene kan glæde sig at høre de sange\, som deres kammerater lavede\nsidste år – fremført af et super velspillende band’ siger Clara Vuust\, souschef på Roskilde\nKulturskole. \nDet regner med popkorn\nDa Hans og Andreas var på besøg hos ‘skolopenderne’ i Smedegade børnehuse en\nregnfuld mandag formiddag i oktober sidste år\, blev der budt på popkorn til alle i pausen.\n‘Jeg er popkornpave!’ sagde en af børnene og kastede popkorn op i luften. ‘Den fantasi\ngrebet lige ud af luften blev til sangen Popkornpave’ fortæller Andreas Ugorskij ’Vi møder\ngenerelt en utrolig kreativitet og fantasi hos børnene i Roskilde. Flere af de sange vi skrev\nmed dem sidste år\, er på repertoiret\, når vi spiller skolekoncerter med Tikke Takke Trio.\n‘Popkorn Pave’ og ‘Den magiske bandit’ kommer med på vores kommende album\nudgivelse\, som vi indspiller til januar’ takker Andreas. \nRoskilde Kulturskole står for samarbejdet med Tikke Takke\, børnehusene og Gimle\, og\nkoncerten er støttet af Koda Kultur. \nTikke Takke: Andreas Ugorskij: guitar og vokal\, Hans Laurens: vokal\, Nana Schwartzlose:\nvokal\, Ole Reimer: trompet\, Hans Find Møller: bas\, Morten Ærø: Trommer
URL:https://spildansk.dk/kalender/spil-dansk-koncert-med-tikke-takke/
LOCATION:Gimle\, Roskilde\, Helligkorsvej 2\, Roskilde\, 4000\, Danmark
CATEGORIES:Musik til børn
ATTACH;FMTTYPE=image/jpeg:https://spildansk.dk/wp-content/uploads/2020/10/tikketakke.jpg
ORGANIZER;CN="Gimle":MAILTO:mail@gimle.dk
END:VEVENT
BEGIN:VEVENT
DTSTART;TZID=Europe/Copenhagen:20201029T102500
DTEND;TZID=Europe/Copenhagen:20201029T112500
DTSTAMP:20260423T122007
CREATED:20201022T114412Z
LAST-MODIFIED:20201022T114412Z
UID:26565-1603967100-1603970700@spildansk.dk
SUMMARY:Admiral Awesome
DESCRIPTION:LMS koncert
URL:https://spildansk.dk/kalender/admiral-awesome-12/
LOCATION:Hovedgård Skole\, Hovedgård\, Horsens\, Danmark
END:VEVENT
BEGIN:VEVENT
DTSTART;TZID=Europe/Copenhagen:20201029T103000
DTEND;TZID=Europe/Copenhagen:20201029T113000
DTSTAMP:20260423T122007
CREATED:20200721T120133Z
LAST-MODIFIED:20201015T081933Z
UID:24424-1603967400-1603971000@spildansk.dk
SUMMARY:Blues på bibliotekerne
DESCRIPTION:  \nOPDATERING TORSDAG DEN 15. OKTOBER: Aflyst grundet coronarestriktioner. \n— \nI “Spil Dansk-ugen”\, uge 44\, byder Haderslev Bibliotekerne igen på en times swingende blues med guitaristerne Nils Poulin og Jens Bech. Begge er medlemmer af Poulin Band\, som er kendt for deres medrivende soul/ blues\, så der er lagt op til en rigtig hyggestund med de to erfarne og originale musikere. Der hører en kop kaffe med til de blå toner. Alle er velkomne. \nOm formiddagen spilles på Haderslev Bibliotek\, om eftermiddagen på Vojens Bibliotek
URL:https://spildansk.dk/kalender/blues-paa-bibliotekerne/
LOCATION:Haderslev Bibliotek\, Kulturhuset "BISPEN"\, Bispebro 3\, Haderslev\, 6100
CATEGORIES:Blues
ORGANIZER;CN="Haderslev Bibliotekerne":MAILTO:haderslevbib@haderslev.dk
END:VEVENT
BEGIN:VEVENT
DTSTART;TZID=Europe/Copenhagen:20201029T103000
DTEND;TZID=Europe/Copenhagen:20201029T113000
DTSTAMP:20260423T122007
CREATED:20201005T133717Z
LAST-MODIFIED:20201005T135519Z
UID:25384-1603967400-1603971000@spildansk.dk
SUMMARY:Fællessang for Frihed
DESCRIPTION:Kruse og Kingo kommer for første gang til Syddjurs Kommune og laver Fællessang for Frihed med elever fra folkeskolerne i Syddjurs Kommune. \n  \nKruse skriver således: \nDe sidste år med Spil Dansk har været vildt sjovt og bevægende! At se så mange børn og unge give den gas og sammen løfte musikken!! Wow!! \nNicholas Kingo spiller så det ryger og har også spillet sammen med bl.a. Falullah og Leif Sylvester. \nNicholas og jeg spiller sammen i mit band og vi har lige udgivet min 3. plade med min egen musik. \nDen har fået 5 af 6  både Berlinske\, Politiken og i GAFFA. \nEllers spiller jeg også musikbørneteaterforestillingen ”Norden Rundt” for 3- 5 klasse. Og sammen med Kirsten Juul Seidenfaden og laver vi en sjov kompositions koncert med børn i et projekt sammen med LMS – Levende Musik i skolen. \nAt give videre er noget af det jeg holder allermest af – på alle niveauer. Og synge mange sammen elsker jeg!! \nJeg underviser bla. privat i sang\, teambuilding med sang\, prof. sanger på Anne Rosing Instituttet i Hellerup\, babyer og mødre i baby rytmik.
URL:https://spildansk.dk/kalender/faellessang-for-frihed-3/
LOCATION:Kolind+\, Bugtrupvej 33\, Kolind\, 8560\, Danmark
CATEGORIES:Kor
ATTACH;FMTTYPE=image/jpeg:https://spildansk.dk/wp-content/uploads/2020/10/kruse-og-kingo-scaled.jpg
END:VEVENT
BEGIN:VEVENT
DTSTART;TZID=Europe/Copenhagen:20201029T103000
DTEND;TZID=Europe/Copenhagen:20201029T133000
DTSTAMP:20260423T122007
CREATED:20200915T110944Z
LAST-MODIFIED:20200915T110944Z
UID:24936-1603967400-1603978200@spildansk.dk
SUMMARY:Højskoleforeningen
DESCRIPTION:Højskoleforeningen\nJohanneskirken\, Vorup Boulevard 29\, Randers SV\n\n\nOm Benny Andersens digtning v. Hanne Hjørlund tidl. Sognepræst og provst.. \n“Livet er ikke det værste\, man har.” Med denne linje er tonen slået an til en god formiddag om Benny Andersen\, vores folkekære digter\, der med humor og sproglige finurligheder og skæve synsvinkler indkredser\, hvad det vil sige at være menneske. Han er ikke bare til underholdning – der er en holdning under. Han kalder til menneskeligt nærvær og kredser om livskunsten: “Til stadighed at komme til verden.” Så kom og oplev en formiddag i selskab med Benny Andersen og Hanne Hjørlund
URL:https://spildansk.dk/kalender/hoejskoleforeningen/
LOCATION:Johannes Kirken\, Vorup Boulevard 29\, Randers SV\, 8940
CATEGORIES:Foredrag
END:VEVENT
BEGIN:VEVENT
DTSTART;TZID=Europe/Copenhagen:20201029T104500
DTEND;TZID=Europe/Copenhagen:20201029T114500
DTSTAMP:20260423T122007
CREATED:20201022T114612Z
LAST-MODIFIED:20201022T114612Z
UID:26616-1603968300-1603971900@spildansk.dk
SUMMARY:Rumlerim
DESCRIPTION:LMS koncert
URL:https://spildansk.dk/kalender/rumlerim-5/
LOCATION:Slangerup Skole adf. Byvang\, Strandstræde 24\, Slangerup\, 3550\, Danmark
END:VEVENT
BEGIN:VEVENT
DTSTART;TZID=Europe/Copenhagen:20201029T110000
DTEND;TZID=Europe/Copenhagen:20201029T113000
DTSTAMP:20260423T122007
CREATED:20200925T061708Z
LAST-MODIFIED:20200925T061708Z
UID:25093-1603969200-1603971000@spildansk.dk
SUMMARY:Syng sammen på skolegården
DESCRIPTION:På Gottorp- Skolen har vi i år valgt at synge fællessang ude på skolegården\, da vi ikke må synge indendørs.
URL:https://spildansk.dk/kalender/syng-sammen-paa-skolegaarden/
LOCATION:Gottorp-skolen\, Erdbeerenberg 32\, Schleswig\, D-24837\, Danmark
CATEGORIES:Fællessang,Musik til børn
END:VEVENT
BEGIN:VEVENT
DTSTART;TZID=Europe/Copenhagen:20201029T110000
DTEND;TZID=Europe/Copenhagen:20201029T113000
DTSTAMP:20260423T122007
CREATED:20200928T130133Z
LAST-MODIFIED:20200928T130133Z
UID:25234-1603969200-1603971000@spildansk.dk
SUMMARY:Sang og musik af lokale musikere
DESCRIPTION:Sang og musik
URL:https://spildansk.dk/kalender/sang-og-musik-af-lokale-musikere-4/
LOCATION:Ældrecentret Solvang\, Rolighedsvej 1\, Thyholm\, 7790
CATEGORIES:Kor
END:VEVENT
BEGIN:VEVENT
DTSTART;TZID=Europe/Copenhagen:20201029T110000
DTEND;TZID=Europe/Copenhagen:20201029T120000
DTSTAMP:20260423T122007
CREATED:20201022T114543Z
LAST-MODIFIED:20201022T114543Z
UID:26587-1603969200-1603972800@spildansk.dk
SUMMARY:Goin' Back To New Orleans
DESCRIPTION:LMS koncert
URL:https://spildansk.dk/kalender/goin-back-to-new-orleans-9/
LOCATION:Assens Skole\, Skolegade 5\, Mariager\, 9550\, Danmark
END:VEVENT
BEGIN:VEVENT
DTSTART;TZID=Europe/Copenhagen:20201029T110500
DTEND;TZID=Europe/Copenhagen:20201029T120500
DTSTAMP:20260423T122007
CREATED:20201022T114613Z
LAST-MODIFIED:20201022T114613Z
UID:26618-1603969500-1603973100@spildansk.dk
SUMMARY:Sisters of Jazz
DESCRIPTION:LMS koncert
URL:https://spildansk.dk/kalender/sisters-of-jazz-8/
LOCATION:Parkvejens Skole\, Nølevvej 4\, Odder\, 8300\, Danmark
END:VEVENT
BEGIN:VEVENT
DTSTART;TZID=Europe/Copenhagen:20201029T113000
DTEND;TZID=Europe/Copenhagen:20201029T123000
DTSTAMP:20260423T122007
CREATED:20201022T114541Z
LAST-MODIFIED:20201022T114541Z
UID:26585-1603971000-1603974600@spildansk.dk
SUMMARY:Eastwind
DESCRIPTION:LMS koncert
URL:https://spildansk.dk/kalender/eastwind-9/
LOCATION:Skovvejens Skole\, afd. Undløse\, Øvej 3\, Undløse\, Tølløse\, 4340\, Danmark
END:VEVENT
BEGIN:VEVENT
DTSTART;TZID=Europe/Copenhagen:20201029T114500
DTEND;TZID=Europe/Copenhagen:20201029T123000
DTSTAMP:20260423T122007
CREATED:20200928T125450Z
LAST-MODIFIED:20200930T075322Z
UID:25226-1603971900-1603974600@spildansk.dk
SUMMARY:Et musikalsk foredrag med Julie Maria
DESCRIPTION:Foredrag på Struer Statsgymnasium for eleverne
URL:https://spildansk.dk/kalender/et-musikalsk-foredrag-med-julie-maria-2/
LOCATION:Struer Statsgymnasium\, Jyllandsgade 2\, Struer\, 7600
CATEGORIES:Foredrag
END:VEVENT
BEGIN:VEVENT
DTSTART;TZID=Europe/Copenhagen:20201029T120000
DTEND;TZID=Europe/Copenhagen:20201029T130000
DTSTAMP:20260423T122007
CREATED:20201022T114533Z
LAST-MODIFIED:20201022T114533Z
UID:26577-1603972800-1603976400@spildansk.dk
SUMMARY:Defecto
DESCRIPTION:LMS koncert
URL:https://spildansk.dk/kalender/defecto-6/
LOCATION:Kildebakkeskolen\, Soldalen 8\, Vildbjerg\, 7480\, Danmark
END:VEVENT
BEGIN:VEVENT
DTSTART;TZID=Europe/Copenhagen:20201029T120000
DTEND;TZID=Europe/Copenhagen:20201029T130000
DTSTAMP:20260423T122007
CREATED:20201022T114536Z
LAST-MODIFIED:20201022T114536Z
UID:26580-1603972800-1603976400@spildansk.dk
SUMMARY:Ea Philippa
DESCRIPTION:LMS koncert
URL:https://spildansk.dk/kalender/ea-philippa-8/
LOCATION:Hadsund Skole\, Hadsund\, Mariagerfjord\, Danmark
END:VEVENT
BEGIN:VEVENT
DTSTART;TZID=Europe/Copenhagen:20201029T120000
DTEND;TZID=Europe/Copenhagen:20201029T130000
DTSTAMP:20260423T122007
CREATED:20201022T114554Z
LAST-MODIFIED:20201022T114554Z
UID:26596-1603972800-1603976400@spildansk.dk
SUMMARY:HP Lange & Jarno Varsted
DESCRIPTION:LMS koncert
URL:https://spildansk.dk/kalender/hp-lange-jarno-varsted-8/
LOCATION:Skansevejens Skole\, Skansevej 2\, Nørresundby\, 9400\, Danmark
END:VEVENT
BEGIN:VEVENT
DTSTART;TZID=Europe/Copenhagen:20201029T120000
DTEND;TZID=Europe/Copenhagen:20201029T130000
DTSTAMP:20260423T122007
CREATED:20201022T114558Z
LAST-MODIFIED:20201022T114558Z
UID:26602-1603972800-1603976400@spildansk.dk
SUMMARY:Johanna Juhola Trio
DESCRIPTION:LMS koncert
URL:https://spildansk.dk/kalender/johanna-juhola-trio-9/
LOCATION:Lundergårdskolen\, Nordens Alle 15\, Hjørring\, 9800\, Danmark
END:VEVENT
BEGIN:VEVENT
DTSTART;TZID=Europe/Copenhagen:20201029T120000
DTEND;TZID=Europe/Copenhagen:20201029T130000
DTSTAMP:20260423T122007
CREATED:20201022T114603Z
LAST-MODIFIED:20201022T114603Z
UID:26605-1603972800-1603976400@spildansk.dk
SUMMARY:Martin Baltser
DESCRIPTION:LMS koncert
URL:https://spildansk.dk/kalender/martin-baltser-9/
LOCATION:Trekroner Skole\, Trekroner Allé 1\, Roskilde\, 4000\, Danmark
END:VEVENT
BEGIN:VEVENT
DTSTART;TZID=Europe/Copenhagen:20201029T120000
DTEND;TZID=Europe/Copenhagen:20201029T130000
DTSTAMP:20260423T122007
CREATED:20201022T114610Z
LAST-MODIFIED:20201022T114610Z
UID:26612-1603972800-1603976400@spildansk.dk
SUMMARY:Mzungu Kichaa
DESCRIPTION:LMS koncert
URL:https://spildansk.dk/kalender/mzungu-kichaa-7/
LOCATION:Margretheskolen\, Margrethevej 7\, Gundsømagle\, Roskilde\, 4000\, Danmark
END:VEVENT
BEGIN:VEVENT
DTSTART;TZID=Europe/Copenhagen:20201029T120000
DTEND;TZID=Europe/Copenhagen:20201029T140000
DTSTAMP:20260423T122007
CREATED:20201006T083119Z
LAST-MODIFIED:20201006T100710Z
UID:25413-1603972800-1603980000@spildansk.dk
SUMMARY:Fællessang for Frihed
DESCRIPTION:‘Fællessang for Frihed’ afholdes over hele landet i anledning af ALSANG 2020\, Danmarks største fællessang-initiativ\, og udgivelsen af Højskolesangbogens 19. udgave\, som udkommer den 12. november i år. Arrangementet byder både på traditionsrige og folkekære frihedssange fra Højskolesangbogen\, men også den nye fællessang “Frihedens Lysdøgn“\, som blev skrevet til ALSANG 2020 af Julie Marie\, Nikolaj Busk og Anne Vad. På Randers Statsskole er det Ida Björg Leisin og Thomas Reil\, der står i spidsen for fællessangen med eleverne.
URL:https://spildansk.dk/kalender/faellessang-for-frihed-4/
LOCATION:Randers Statsskole\, Rådmands Boulevard 20\, Randers C\, 8900
CATEGORIES:Fællessang
ATTACH;FMTTYPE=image/jpeg:https://spildansk.dk/wp-content/uploads/2020/10/idabjorgfinal13-kopi-2-scaled.jpg
END:VEVENT
BEGIN:VEVENT
DTSTART;TZID=Europe/Copenhagen:20201029T123000
DTEND;TZID=Europe/Copenhagen:20201029T133000
DTSTAMP:20260423T122007
CREATED:20201022T114549Z
LAST-MODIFIED:20201022T114549Z
UID:26592-1603974600-1603978200@spildansk.dk
SUMMARY:HeartBeat Group
DESCRIPTION:LMS koncert
URL:https://spildansk.dk/kalender/heartbeat-group-10/
LOCATION:Mønsted Skole/Sparkær Skole\, Viborg\, Viborg\, Danmark
END:VEVENT
BEGIN:VEVENT
DTSTART;TZID=Europe/Copenhagen:20201029T123000
DTEND;TZID=Europe/Copenhagen:20201029T140000
DTSTAMP:20260423T122007
CREATED:20201027T151403Z
LAST-MODIFIED:20201027T151403Z
UID:26904-1603974600-1603980000@spildansk.dk
SUMMARY:SPIL DANSK 2020 i Musica Art
DESCRIPTION:Musica Art fejrer musikkens festuge 44 med SPIL DANSK EVENT 2020: \nEvent 1) Torsdag 29. oktober 2020 kl. 12.30-14.00 i Musica Art. Tilmelding påkrævet senest 28. oktober på sms 23303108. \nVi synger fællessange med nye og kendte sange fra vores sangskat\, der vil være solist underholdning og vi byder på kaffe og lidt sødt. Du kan læse mere om vores Covid-19 retningslinjer og info om korsang på www.musicaart.dk – vi gør alt for at skabe trygge rammer. \nSTED: Musica Art\, Strandvejen 163\, 3.th.\, 2900 Hellerup. \nTILMELDING: Tilmelding senest 28/10 2020\, send sms til 23303108 med dit navn og angiv event 1) torsdag 29/10 kl. 12.30. Når du har tilmeldt dig modtager du bekræftelse\, program og sange til at printe og tage med. Først til mølle\, vi har begrænset antal pladser af hensyn til sikkerhed og for at undgå smittefare. Vi holder god afstand og der vil være udluftning undervejs og håndsprit fremme i alle lokaler. \nENTRÉ: 100 kr. overføres via mobile pay til Musica Art: 931991 når du har modtaget din bekræftelse på din plads. Betaling senest 28/10. \nARRANGØR: Musica Art og Spil Dansk. \nMEDVIRKENDE: Korsangere\, musikere og gæster.
URL:https://spildansk.dk/kalender/spil-dansk-2020-i-musica-art/
LOCATION:Musica Art\, Strandvejen 163\, Hellerup\, 2900\, Danmark
CATEGORIES:Fællessang,Workshop
END:VEVENT
BEGIN:VEVENT
DTSTART;TZID=Europe/Copenhagen:20201029T124000
DTEND;TZID=Europe/Copenhagen:20201029T134000
DTSTAMP:20260423T122007
CREATED:20201022T114527Z
LAST-MODIFIED:20201022T114527Z
UID:26572-1603975200-1603978800@spildansk.dk
SUMMARY:Bisse
DESCRIPTION:LMS koncert
URL:https://spildansk.dk/kalender/bisse-7/
LOCATION:Egebjergskolen\, Egebjergvej 165\, Egebjerg\, Horsens\, 8700\, Danmark
END:VEVENT
BEGIN:VEVENT
DTSTART;TZID=Europe/Copenhagen:20201029T124500
DTEND;TZID=Europe/Copenhagen:20201029T134500
DTSTAMP:20260423T122007
CREATED:20201022T114524Z
LAST-MODIFIED:20201022T114524Z
UID:26570-1603975500-1603979100@spildansk.dk
SUMMARY:APHYXION
DESCRIPTION:LMS koncert
URL:https://spildansk.dk/kalender/aphyxion-7/
LOCATION:Mølholm Skole\, Tankegangen 1\, Vejle\, 7100\, Danmark
END:VEVENT
END:VCALENDAR