BEGIN:VCALENDAR
VERSION:2.0
PRODID:-//Spil Dansk - ECPv6.5.0//NONSGML v1.0//EN
CALSCALE:GREGORIAN
METHOD:PUBLISH
X-WR-CALNAME:Spil Dansk
X-ORIGINAL-URL:https://spildansk.dk
X-WR-CALDESC:Events for Spil Dansk
REFRESH-INTERVAL;VALUE=DURATION:PT1H
X-Robots-Tag:noindex
X-PUBLISHED-TTL:PT1H
BEGIN:VTIMEZONE
TZID:Europe/Copenhagen
BEGIN:DAYLIGHT
TZOFFSETFROM:+0100
TZOFFSETTO:+0200
TZNAME:CEST
DTSTART:20200329T010000
END:DAYLIGHT
BEGIN:STANDARD
TZOFFSETFROM:+0200
TZOFFSETTO:+0100
TZNAME:CET
DTSTART:20201025T010000
END:STANDARD
END:VTIMEZONE
BEGIN:VEVENT
DTSTART;TZID=Europe/Copenhagen:20201029T083000
DTEND;TZID=Europe/Copenhagen:20201029T093000
DTSTAMP:20260423T134522
CREATED:20201022T093201Z
LAST-MODIFIED:20201022T093201Z
UID:26540-1603960200-1603963800@spildansk.dk
SUMMARY:Morgensang
DESCRIPTION:Morgensang med sognepræst Bo Breuning Depner og organist Gunner Nielsen. \nEfterfølgende morgenkaffe
URL:https://spildansk.dk/kalender/morgensang-17/
LOCATION:Niløse kirke\, Kongstedvej 19\, Dianalund\, 4293
CATEGORIES:Fællessang
END:VEVENT
BEGIN:VEVENT
DTSTART;TZID=Europe/Copenhagen:20201029T084500
DTEND;TZID=Europe/Copenhagen:20201029T094500
DTSTAMP:20260423T134522
CREATED:20201009T120007Z
LAST-MODIFIED:20201009T120007Z
UID:25796-1603961100-1603964700@spildansk.dk
SUMMARY:Virelai
DESCRIPTION:LMS koncert
URL:https://spildansk.dk/kalender/virelai-8/
LOCATION:Trørødskolen\, Gl. Holtevej 2\, Vedbæk\, 2950\, Danmark
END:VEVENT
BEGIN:VEVENT
DTSTART;TZID=Europe/Copenhagen:20201029T084500
DTEND;TZID=Europe/Copenhagen:20201029T094500
DTSTAMP:20260423T134522
CREATED:20201022T114540Z
LAST-MODIFIED:20201022T114540Z
UID:26584-1603961100-1603964700@spildansk.dk
SUMMARY:Eastwind
DESCRIPTION:LMS koncert
URL:https://spildansk.dk/kalender/eastwind-8/
LOCATION:Katrinedalskolen\, afd. Gislinge Skole\, Skolevej 4\, Gislinge\, 4532\, Danmark
END:VEVENT
BEGIN:VEVENT
DTSTART;TZID=Europe/Copenhagen:20201029T084500
DTEND;TZID=Europe/Copenhagen:20201029T094500
DTSTAMP:20260423T134522
CREATED:20201022T114603Z
LAST-MODIFIED:20201022T114603Z
UID:26606-1603961100-1603964700@spildansk.dk
SUMMARY:Mirja Klippel
DESCRIPTION:LMS koncert
URL:https://spildansk.dk/kalender/mirja-klippel-8/
LOCATION:Hillerødsholmskolen\, Hillerødholmsalle 2\, Hillerød\, 3400\, Danmark
END:VEVENT
BEGIN:VEVENT
DTSTART;TZID=Europe/Copenhagen:20201029T085000
DTEND;TZID=Europe/Copenhagen:20201029T095000
DTSTAMP:20260423T134522
CREATED:20201022T114554Z
LAST-MODIFIED:20201022T114554Z
UID:26597-1603961400-1603965000@spildansk.dk
SUMMARY:HP Lange & Jarno Varsted
DESCRIPTION:LMS koncert
URL:https://spildansk.dk/kalender/hp-lange-jarno-varsted-9/
LOCATION:Svenstrup Skole\, Egemarksvej 1\, Svenstrup\, 9230\, Danmark
END:VEVENT
BEGIN:VEVENT
DTSTART;TZID=Europe/Copenhagen:20201029T090000
DTEND;TZID=Europe/Copenhagen:20201029T100000
DTSTAMP:20260423T134522
CREATED:20201022T114525Z
LAST-MODIFIED:20201022T114525Z
UID:26571-1603962000-1603965600@spildansk.dk
SUMMARY:APHYXION
DESCRIPTION:LMS koncert
URL:https://spildansk.dk/kalender/aphyxion-8/
LOCATION:Vinding Skole\, Vindingvej 54\, Vejle\, 7100\, Danmark
END:VEVENT
BEGIN:VEVENT
DTSTART;TZID=Europe/Copenhagen:20201029T090000
DTEND;TZID=Europe/Copenhagen:20201029T100000
DTSTAMP:20260423T134522
CREATED:20201022T114532Z
LAST-MODIFIED:20201022T114532Z
UID:26576-1603962000-1603965600@spildansk.dk
SUMMARY:Defecto
DESCRIPTION:LMS koncert
URL:https://spildansk.dk/kalender/defecto-5/
LOCATION:Fermaten\, Smallegade 4\, Herning\, 7400\, Danmark
END:VEVENT
BEGIN:VEVENT
DTSTART;TZID=Europe/Copenhagen:20201029T090000
DTEND;TZID=Europe/Copenhagen:20201029T100000
DTSTAMP:20260423T134522
CREATED:20201022T114609Z
LAST-MODIFIED:20201022T114609Z
UID:26611-1603962000-1603965600@spildansk.dk
SUMMARY:Mzungu Kichaa
DESCRIPTION:LMS koncert
URL:https://spildansk.dk/kalender/mzungu-kichaa-6/
LOCATION:Lindebjergskolen\, Roskilde\, Roskilde\, Danmark
END:VEVENT
BEGIN:VEVENT
DTSTART;TZID=Europe/Copenhagen:20201029T090000
DTEND;TZID=Europe/Copenhagen:20201029T100000
DTSTAMP:20260423T134522
CREATED:20201022T114612Z
LAST-MODIFIED:20201022T114612Z
UID:26615-1603962000-1603965600@spildansk.dk
SUMMARY:Rumlerim
DESCRIPTION:LMS koncert
URL:https://spildansk.dk/kalender/rumlerim-4/
LOCATION:Slangerup Skole adf. Byvang\, Strandstræde 24\, Slangerup\, 3550\, Danmark
END:VEVENT
BEGIN:VEVENT
DTSTART;TZID=Europe/Copenhagen:20201029T090000
DTEND;TZID=Europe/Copenhagen:20201029T103000
DTSTAMP:20260423T134522
CREATED:20200928T132108Z
LAST-MODIFIED:20200928T132108Z
UID:25242-1603962000-1603967400@spildansk.dk
SUMMARY:Børnehavebørn synger og leger i kirken
DESCRIPTION:Trods det stigende smittetryk kan det godt lade sig gøre\, at glade børn fra samme stue i børnehaven samles til sanglege og børnesalmer med fagter i den lokale kirke. Sådan gør vi det i Roskilde\, hvor organisten og præsten i Jakobskirken har inviteret børn fra to af Sydbyens børnehuse i SpilDanskUgen. På hver sit tidspunkt\, med vaskede hænder og med god afstand til dem\, som man ikke leger med på sin stue\, naturligvis! For glæden ved at synge sammen og bevæge sig til rytmer skal have lov at brede sig i kroppen og i fællesskabet. Det kan foregå fuldt forsvarligt ud fra sundhedsmyndighedernes vejledning.
URL:https://spildansk.dk/kalender/boernehaveboern-synger-og-leger-i-kirken/
LOCATION:Jakobskirken\, Astersvej 11\, Roskilde\, 4000\, Danmark
CATEGORIES:Musik til børn
ATTACH;FMTTYPE=image/jpeg:https://spildansk.dk/wp-content/uploads/2020/09/20190320_RytmikogSalmer_Sjovmedtoerklaeder_PEDesign.jpg
ORGANIZER;CN="Jakobskirken":MAILTO:info@jakobskirken.dk
END:VEVENT
BEGIN:VEVENT
DTSTART;TZID=Europe/Copenhagen:20201029T090500
DTEND;TZID=Europe/Copenhagen:20201029T100500
DTSTAMP:20260423T134522
CREATED:20201022T114613Z
LAST-MODIFIED:20201022T114613Z
UID:26617-1603962300-1603965900@spildansk.dk
SUMMARY:Sisters of Jazz
DESCRIPTION:LMS koncert
URL:https://spildansk.dk/kalender/sisters-of-jazz-7/
LOCATION:Parkvejens Skole\, Nølevvej 4\, Odder\, 8300\, Danmark
END:VEVENT
BEGIN:VEVENT
DTSTART;TZID=Europe/Copenhagen:20201029T091000
DTEND;TZID=Europe/Copenhagen:20201029T101000
DTSTAMP:20260423T134522
CREATED:20201022T114412Z
LAST-MODIFIED:20201022T114412Z
UID:26564-1603962600-1603966200@spildansk.dk
SUMMARY:Admiral Awesome
DESCRIPTION:LMS koncert
URL:https://spildansk.dk/kalender/admiral-awesome-11/
LOCATION:Hovedgård Skole\, Hovedgård\, Horsens\, Danmark
END:VEVENT
BEGIN:VEVENT
DTSTART;TZID=Europe/Copenhagen:20201029T091500
DTEND;TZID=Europe/Copenhagen:20201029T094500
DTSTAMP:20260423T134522
CREATED:20200929T123836Z
LAST-MODIFIED:20200929T123836Z
UID:25292-1603962900-1603964700@spildansk.dk
SUMMARY:Koncert på Hvidbjerg Vinduet med elever fra Thyholm Skole
DESCRIPTION:koncert
URL:https://spildansk.dk/kalender/koncert-paa-hvidbjerg-vinduet-med-elever-fra-thyholm-skole/
LOCATION:Hvidbjerg Vinduet\, Østergade 24\, Hvidbjerg\, 7790
CATEGORIES:Koncert,Kor
END:VEVENT
BEGIN:VEVENT
DTSTART;TZID=Europe/Copenhagen:20201029T091500
DTEND;TZID=Europe/Copenhagen:20201029T094500
DTSTAMP:20260423T134522
CREATED:20200929T124602Z
LAST-MODIFIED:20201001T074328Z
UID:25299-1603962900-1603964700@spildansk.dk
SUMMARY:Koncert på Hvidbjerg Vinduet med elever fra 1.kl. Thyholm Skole
DESCRIPTION:koncert
URL:https://spildansk.dk/kalender/koncert-paa-hvidbjerg-vinduet-med-elever-fra-thyholm-skole-2/
LOCATION:Hvidbjerg Vinduet\, Østergade 24\, Hvidbjerg\, 7790
END:VEVENT
BEGIN:VEVENT
DTSTART;TZID=Europe/Copenhagen:20201029T091500
DTEND;TZID=Europe/Copenhagen:20201029T101500
DTSTAMP:20260423T134522
CREATED:20201022T114529Z
LAST-MODIFIED:20201022T114529Z
UID:26575-1603962900-1603966500@spildansk.dk
SUMMARY:Bisse
DESCRIPTION:LMS koncert
URL:https://spildansk.dk/kalender/bisse-10/
LOCATION:Lundskolen\, Skolevej 5\, Lund\, Horsens\, 8700\, Danmark
END:VEVENT
BEGIN:VEVENT
DTSTART;TZID=Europe/Copenhagen:20201029T093000
DTEND;TZID=Europe/Copenhagen:20201029T103000
DTSTAMP:20260423T134522
CREATED:20200915T092242Z
LAST-MODIFIED:20201028T140755Z
UID:24899-1603963800-1603967400@spildansk.dk
SUMMARY:Spil Dansk
DESCRIPTION:På grund af Covid-19 bliver dette års Spil Dank / Syng\, Spis og Snak arrangement afviklet online. Skolens elever mødes i den store sal og synger for på en masse gamle og nye danske sange. Alle andre kan følge med på skolens facebookside\, hvor arrangementet bliver livestreamet. Vi håber at kunne lave et livestream\, hvor det er muligt at se det meste af teksten\, så man kan sidde i ro og mag og synge med hjemme fra køkkenet eller stuen\, sammen med en god kop kaffe eller lignende. God fornøjelse.
URL:https://spildansk.dk/kalender/spil-dansk-17/
LOCATION:Boddum-Ydby Friskole og Børnehus\, Ydbyvej 193\, Ydby v/Hurup Thy\, 7760\, Danmark
CATEGORIES:Fællessang
ATTACH;FMTTYPE=image/jpeg:https://spildansk.dk/wp-content/uploads/2020/09/Nyt-logo-1.jpg
ORGANIZER;CN="Boddum-Ydby Friskole og B%C3%B8rnehus":MAILTO:skolen@boddum-ydby-friskole.dk
END:VEVENT
BEGIN:VEVENT
DTSTART;TZID=Europe/Copenhagen:20201029T093000
DTEND;TZID=Europe/Copenhagen:20201029T103000
DTSTAMP:20260423T134522
CREATED:20201025T103533Z
LAST-MODIFIED:20201025T103533Z
UID:26743-1603963800-1603967400@spildansk.dk
SUMMARY:vi synger fælles
DESCRIPTION:vi synger fælles sang\, det er de gode gamle danske børnesange der er i fokus\, og der lægges især vægt på “jeg gik mig over sø og land” som vi har viderefortolket på.
URL:https://spildansk.dk/kalender/vi-synger-faelles/
LOCATION:smilehullet\, 5\, Rødekro\, 6230\, Danmark
CATEGORIES:Fællessang
END:VEVENT
BEGIN:VEVENT
DTSTART;TZID=Europe/Copenhagen:20201029T094500
DTEND;TZID=Europe/Copenhagen:20201029T104500
DTSTAMP:20260423T134522
CREATED:20201022T114552Z
LAST-MODIFIED:20201022T114552Z
UID:26595-1603964700-1603968300@spildansk.dk
SUMMARY:Heebøll&Vinther
DESCRIPTION:LMS koncert
URL:https://spildansk.dk/kalender/heeboellvinther-3/
LOCATION:Pilehaveskolen\, Horsbred 197A\, Vallensbæk\, 2625\, Danmark
END:VEVENT
BEGIN:VEVENT
DTSTART;TZID=Europe/Copenhagen:20201029T095000
DTEND;TZID=Europe/Copenhagen:20201029T105000
DTSTAMP:20260423T134522
CREATED:20201022T114620Z
LAST-MODIFIED:20201022T114620Z
UID:26622-1603965000-1603968600@spildansk.dk
SUMMARY:Virelai
DESCRIPTION:LMS koncert
URL:https://spildansk.dk/kalender/virelai-10/
LOCATION:Trørødskolen\, Gl. Holtevej 2\, Vedbæk\, 2950\, Danmark
END:VEVENT
BEGIN:VEVENT
DTSTART;TZID=Europe/Copenhagen:20201029T095500
DTEND;TZID=Europe/Copenhagen:20201029T105500
DTSTAMP:20260423T134523
CREATED:20201022T114604Z
LAST-MODIFIED:20201022T114604Z
UID:26607-1603965300-1603968900@spildansk.dk
SUMMARY:Mirja Klippel
DESCRIPTION:LMS koncert
URL:https://spildansk.dk/kalender/mirja-klippel-9/
LOCATION:Hillerødsholmskolen\, Hillerødholmsalle 2\, Hillerød\, 3400\, Danmark
END:VEVENT
BEGIN:VEVENT
DTSTART;TZID=Europe/Copenhagen:20201029T100000
DTEND;TZID=Europe/Copenhagen:20201029T110000
DTSTAMP:20260423T134523
CREATED:20200915T110508Z
LAST-MODIFIED:20200915T110508Z
UID:24934-1603965600-1603969200@spildansk.dk
SUMMARY:Morgensang
DESCRIPTION:Morgensang\n\n\nEt tilbud om fællessang for alle der har lyst til at starte dagen med fællessang og hyggeligt samvær. Vi mødes omkring flyglet i Sct. Mortens Kirke. Grunden Covid-19 sidder vi med god afstand.. \nDe salmer vi synger er de salmer\, der skal synges ved de kommende søndages gudstjenester
URL:https://spildansk.dk/kalender/morgensang-16/
LOCATION:Sct. Mortens Kirke\, Vester Kirkestræde 7\, Randers C.\, 8900
CATEGORIES:Fællessang
END:VEVENT
BEGIN:VEVENT
DTSTART;TZID=Europe/Copenhagen:20201029T100000
DTEND;TZID=Europe/Copenhagen:20201029T110000
DTSTAMP:20260423T134523
CREATED:20201021T113429Z
LAST-MODIFIED:20201021T113429Z
UID:26426-1603965600-1603969200@spildansk.dk
SUMMARY:Anette Bounaventzen & Pojken Flensborg  - Fællessang for frihed
DESCRIPTION:‘Fællessang for Frihed’ afholdes over hele landet i anledning af ALSANG 2020\, Danmarks største fællessang-initiativ\, og udgivelsen af Højskolesangbogens 19. udgave\, som udkommer den 12. november i år. \nAnette Bounaventzen er uddannet sanger fra Det Jyske Musikkonservatorium\, og arbejder i dag som sanglærer på konservatoriet\, MGK og på musikskoler. Derudover har hun en omfattende sangerkarriere som blandt andet omfatter Den Nye Salmetrio\, som netop nu er aktuel med et album med Leonard Cohen fortolkninger.  \nPojken Flensborg er uddannet pianist fra det rytmiske musikkonservatorium i Århus. Pojken har 14 udgivelser – mest med egetkomponeret materiale – i eget navn samt medvirket på adskillige andre. Han har akkompagneret solister som Sanne Salomonsen\, Stig Rossen\, Sys Bjerre o.m.a samt været kapelmester på adskillige shows og teaterforestillinger. Med sit orkester Nordens Tone har han i de seneste fem år spillet over 200 koncerter og turneret i alle de nordiske lande samt Tyskland og Tjekkiet.
URL:https://spildansk.dk/kalender/anette-bounaventzen-pojken-flensborg-faellessang-for-frihed/
LOCATION:Højboskolen\, Toftevej 53\, Hørning\, 8362
CATEGORIES:Koncert
ATTACH;FMTTYPE=image/jpeg:https://spildansk.dk/wp-content/uploads/2020/10/Fællessang-for-frihed.jpg
END:VEVENT
BEGIN:VEVENT
DTSTART;TZID=Europe/Copenhagen:20201029T100000
DTEND;TZID=Europe/Copenhagen:20201029T110000
DTSTAMP:20260423T134523
CREATED:20201022T114536Z
LAST-MODIFIED:20201022T114536Z
UID:26579-1603965600-1603969200@spildansk.dk
SUMMARY:Ea Philippa
DESCRIPTION:LMS koncert
URL:https://spildansk.dk/kalender/ea-philippa-7/
LOCATION:Hadsund Skole\, Hadsund\, Mariagerfjord\, Danmark
END:VEVENT
BEGIN:VEVENT
DTSTART;TZID=Europe/Copenhagen:20201029T100000
DTEND;TZID=Europe/Copenhagen:20201029T110000
DTSTAMP:20260423T134523
CREATED:20201022T114558Z
LAST-MODIFIED:20201022T114558Z
UID:26601-1603965600-1603969200@spildansk.dk
SUMMARY:Johanna Juhola Trio
DESCRIPTION:LMS koncert
URL:https://spildansk.dk/kalender/johanna-juhola-trio-8/
LOCATION:Lundergårdskolen\, Nordens Alle 15\, Hjørring\, 9800\, Danmark
END:VEVENT
BEGIN:VEVENT
DTSTART;TZID=Europe/Copenhagen:20201029T100000
DTEND;TZID=Europe/Copenhagen:20201029T110000
DTSTAMP:20260423T134523
CREATED:20201022T114601Z
LAST-MODIFIED:20201022T114601Z
UID:26604-1603965600-1603969200@spildansk.dk
SUMMARY:Martin Baltser
DESCRIPTION:LMS koncert
URL:https://spildansk.dk/kalender/martin-baltser-8/
LOCATION:Trekroner Skole\, Trekroner Allé 1\, Roskilde\, 4000\, Danmark
END:VEVENT
BEGIN:VEVENT
DTSTART;TZID=Europe/Copenhagen:20201029T100000
DTEND;TZID=Europe/Copenhagen:20201029T110000
DTSTAMP:20260423T134523
CREATED:20201022T114609Z
LAST-MODIFIED:20201022T114609Z
UID:26610-1603965600-1603969200@spildansk.dk
SUMMARY:Moussa Diallo Trio
DESCRIPTION:LMS koncert
URL:https://spildansk.dk/kalender/moussa-diallo-trio-5/
LOCATION:v/ områderne omkring Roberthus og biblioteket\, Tybovej 2\, Egtved\, 6040\, Danmark
END:VEVENT
BEGIN:VEVENT
DTSTART;TZID=Europe/Copenhagen:20201029T100000
DTEND;TZID=Europe/Copenhagen:20201029T110000
DTSTAMP:20260423T134523
CREATED:20201026T132933Z
LAST-MODIFIED:20201026T135301Z
UID:26801-1603965600-1603969200@spildansk.dk
SUMMARY:Gakkede sange med Tikke Takke
DESCRIPTION:Koncert med det fantastiske børneorkester Tikke Takke for børnehuse fra Roskilde på Gimle. Kom med ind i Tikke Takkes finurlige og skæve univers af rim og remser\, musik og fortælling. \n 
URL:https://spildansk.dk/kalender/gakkede-sange-med-tikke-takke/
LOCATION:Gimle\, Roskilde\, Helligkorsvej 2\, Roskilde\, 4000\, Danmark
CATEGORIES:Musik til børn
ORGANIZER;CN="Roskilde Kulturskole":MAILTO:kulturskolen@roskilde.dk
END:VEVENT
BEGIN:VEVENT
DTSTART;TZID=Europe/Copenhagen:20201029T100000
DTEND;TZID=Europe/Copenhagen:20201029T110000
DTSTAMP:20260423T134523
CREATED:20201027T115956Z
LAST-MODIFIED:20201027T115956Z
UID:26879-1603965600-1603969200@spildansk.dk
SUMMARY:Spil Dansk-koncert med Tikke Takke
DESCRIPTION:Torsdag d. 29. Oktober kl. 10\, midt i Spil Dansk-ugen i Roskilde\, er der koncert med børnejazzorkesteret Tikke Takke på Gimle. Sammen med ”Edderkoppen Bobby” og andre af Tikke Takkes hits spiller orkesteret også sange\, som er blevet lavet sammen med børn fra 4 børnehuse i Roskilde. \nMusiker/komponist Andreas Ugorskij og historiefortæller Hans Laurens har en fest\, når de\ndigter sange og fortællinger med hundredevis af børn rundt omkring i Danmark\, og sidste\nefterår gik turen til fire heldige børnehuse i Roskilde\, hvor de sammen med børnene fik sat\ntekst og musik til 4 helt nye Roskilde sange. \nCorona-udskudt\nDet var ellers planlagt\, at Hans og Andreas skulle have lavet mange flere ”Gakkede sange\nfra Roskilde’\, men pga. corona er huskunstnerprojektet blevet udskudt til foråret. Heldigvis\nhar det været muligt for orkesteret at spille en coronasikker koncert for børnene\, allerede\nher i oktober på Gimle. \n‘Vi er så glade for\, at det lykkedes at få koncerten med Tikke Takke her i Spil dansk-ugen.\nPublikum fra børnehusene kan glæde sig at høre de sange\, som deres kammerater lavede\nsidste år – fremført af et super velspillende band’ siger Clara Vuust\, souschef på Roskilde\nKulturskole. \nDet regner med popkorn\nDa Hans og Andreas var på besøg hos ‘skolopenderne’ i Smedegade børnehuse en\nregnfuld mandag formiddag i oktober sidste år\, blev der budt på popkorn til alle i pausen.\n‘Jeg er popkornpave!’ sagde en af børnene og kastede popkorn op i luften. ‘Den fantasi\ngrebet lige ud af luften blev til sangen Popkornpave’ fortæller Andreas Ugorskij ’Vi møder\ngenerelt en utrolig kreativitet og fantasi hos børnene i Roskilde. Flere af de sange vi skrev\nmed dem sidste år\, er på repertoiret\, når vi spiller skolekoncerter med Tikke Takke Trio.\n‘Popkorn Pave’ og ‘Den magiske bandit’ kommer med på vores kommende album\nudgivelse\, som vi indspiller til januar’ takker Andreas. \nRoskilde Kulturskole står for samarbejdet med Tikke Takke\, børnehusene og Gimle\, og\nkoncerten er støttet af Koda Kultur. \nTikke Takke: Andreas Ugorskij: guitar og vokal\, Hans Laurens: vokal\, Nana Schwartzlose:\nvokal\, Ole Reimer: trompet\, Hans Find Møller: bas\, Morten Ærø: Trommer
URL:https://spildansk.dk/kalender/spil-dansk-koncert-med-tikke-takke/
LOCATION:Gimle\, Roskilde\, Helligkorsvej 2\, Roskilde\, 4000\, Danmark
CATEGORIES:Musik til børn
ATTACH;FMTTYPE=image/jpeg:https://spildansk.dk/wp-content/uploads/2020/10/tikketakke.jpg
ORGANIZER;CN="Gimle":MAILTO:mail@gimle.dk
END:VEVENT
BEGIN:VEVENT
DTSTART;TZID=Europe/Copenhagen:20201029T102500
DTEND;TZID=Europe/Copenhagen:20201029T112500
DTSTAMP:20260423T134523
CREATED:20201022T114412Z
LAST-MODIFIED:20201022T114412Z
UID:26565-1603967100-1603970700@spildansk.dk
SUMMARY:Admiral Awesome
DESCRIPTION:LMS koncert
URL:https://spildansk.dk/kalender/admiral-awesome-12/
LOCATION:Hovedgård Skole\, Hovedgård\, Horsens\, Danmark
END:VEVENT
BEGIN:VEVENT
DTSTART;TZID=Europe/Copenhagen:20201029T103000
DTEND;TZID=Europe/Copenhagen:20201029T113000
DTSTAMP:20260423T134523
CREATED:20200721T120133Z
LAST-MODIFIED:20201015T081933Z
UID:24424-1603967400-1603971000@spildansk.dk
SUMMARY:Blues på bibliotekerne
DESCRIPTION:  \nOPDATERING TORSDAG DEN 15. OKTOBER: Aflyst grundet coronarestriktioner. \n— \nI “Spil Dansk-ugen”\, uge 44\, byder Haderslev Bibliotekerne igen på en times swingende blues med guitaristerne Nils Poulin og Jens Bech. Begge er medlemmer af Poulin Band\, som er kendt for deres medrivende soul/ blues\, så der er lagt op til en rigtig hyggestund med de to erfarne og originale musikere. Der hører en kop kaffe med til de blå toner. Alle er velkomne. \nOm formiddagen spilles på Haderslev Bibliotek\, om eftermiddagen på Vojens Bibliotek
URL:https://spildansk.dk/kalender/blues-paa-bibliotekerne/
LOCATION:Haderslev Bibliotek\, Kulturhuset "BISPEN"\, Bispebro 3\, Haderslev\, 6100
CATEGORIES:Blues
ORGANIZER;CN="Haderslev Bibliotekerne":MAILTO:haderslevbib@haderslev.dk
END:VEVENT
END:VCALENDAR