BEGIN:VCALENDAR
VERSION:2.0
PRODID:-//Spil Dansk - ECPv6.5.0//NONSGML v1.0//EN
CALSCALE:GREGORIAN
METHOD:PUBLISH
X-WR-CALNAME:Spil Dansk
X-ORIGINAL-URL:https://spildansk.dk
X-WR-CALDESC:Events for Spil Dansk
REFRESH-INTERVAL;VALUE=DURATION:PT1H
X-Robots-Tag:noindex
X-PUBLISHED-TTL:PT1H
BEGIN:VTIMEZONE
TZID:Europe/Copenhagen
BEGIN:DAYLIGHT
TZOFFSETFROM:+0100
TZOFFSETTO:+0200
TZNAME:CEST
DTSTART:20210328T010000
END:DAYLIGHT
BEGIN:STANDARD
TZOFFSETFROM:+0200
TZOFFSETTO:+0100
TZNAME:CET
DTSTART:20211031T010000
END:STANDARD
BEGIN:DAYLIGHT
TZOFFSETFROM:+0100
TZOFFSETTO:+0200
TZNAME:CEST
DTSTART:20220327T010000
END:DAYLIGHT
BEGIN:STANDARD
TZOFFSETFROM:+0200
TZOFFSETTO:+0100
TZNAME:CET
DTSTART:20221030T010000
END:STANDARD
END:VTIMEZONE
BEGIN:VEVENT
DTSTART;TZID=Europe/Copenhagen:20221031T100000
DTEND;TZID=Europe/Copenhagen:20221031T105000
DTSTAMP:20260421T180915
CREATED:20221028T103313Z
LAST-MODIFIED:20221028T103313Z
UID:31535-1667210400-1667213400@spildansk.dk
SUMMARY:Tikke Takke på Gentofte hovedbibliotek
DESCRIPTION:Tikke Takke – Gakket hav-koncert for børn og deres voksne\n\n\n31.10.22\n\n\n\n\n\nTag med Andreas & Tikke Takke ud på et ocean af sprudlende vilde sange!\n\n\n\n\n\nHør sangen om Edderkoppen Bobby\, der elsker havet\, men lider så frygteligt af vandskræk\, at han bliver helt tørstig. Et problem\, som kun en bestemt særlig ven kan hjælpe ham med. Krabben Ken\, der elsker at danse tango – og nipse hele familien i tæerne. Og mange\, mange flere originale og gakkede sange. Tikke Takke er forrygende børnemusik\, der med latinamerikanske rytmer\, swing\, jazz\, hiphop giver børn og voksne en dejlig oplevelse. \nSangene er skabt af musiker og komponist Andreas Ugorskij og historiefortæller Hans Laurens i dialog med tusindvis af børn fra hele landet. Tikke Takke’s nye udgivelse ‘Verdens hurtigste fisk’ er netop udkommet\, – en illustreret musik-børnebog. Inde i bogen findes QR koder til Tikke Takkes musik\, så du kan lytte til Tikke Takke’s fantastiske musik\, mens du læser bogen. \nKoncerten er finansieret af Koda Spil Dansk. \nMusikere:\nAndreas Ugorskij – guitar og vokal\nHans Laurens – vokal\nJohan Segerberg – bas\nBjørn Heebøl – trommer\nNana Schwartzlose – vokal\nOle Reimer – trompet
URL:https://spildansk.dk/kalender/tikke-takke-paa-gentofte-hovedbibliotek/
LOCATION:gentofte hovedbibliotek\, Ahlmanns Allé 6\, Hellerup\, 2900
CATEGORIES:Fællessang,Jazz,Musik til børn
ATTACH;FMTTYPE=image/jpeg:https://spildansk.dk/wp-content/uploads/2022/10/DSC_7407-scaled.jpg
END:VEVENT
BEGIN:VEVENT
DTSTART;TZID=Europe/Copenhagen:20221031T070000
DTEND;TZID=Europe/Copenhagen:20221031T090000
DTSTAMP:20260421T180915
CREATED:20221026T094835Z
LAST-MODIFIED:20221026T094835Z
UID:31478-1667199600-1667206800@spildansk.dk
SUMMARY:Metromorgensang
DESCRIPTION:Kom og syng dagen godt i gang\, når Storbyen Synger byder velkommen til fællessang på Kgs. Nytorv metrostation fra kl 7-9. Sangere fra ensemblet UngKlang synger for. og sangtekster deles rundt. \nDet er gratis at synge med.
URL:https://spildansk.dk/kalender/metromorgensang/
LOCATION:Metroen (Kgs. Nytorv station)\, kongens nytov
CATEGORIES:Fællessang
ATTACH;FMTTYPE=image/jpeg:https://spildansk.dk/wp-content/uploads/2022/10/220127SangensHus01082.jpg
ORGANIZER;CN="Sangkraftcentret Storbyen Synger":MAILTO:syngmed@storbyensynger.dk
END:VEVENT
BEGIN:VEVENT
DTSTART;TZID=Europe/Copenhagen:20221031T000000
DTEND;TZID=Europe/Copenhagen:20221031T000000
DTSTAMP:20260421T180915
CREATED:20221006T111737Z
LAST-MODIFIED:20221006T111737Z
UID:31140-1667174400-1667174400@spildansk.dk
SUMMARY:Spil Dansk på Carolineparken
DESCRIPTION:DeGladeSpillemænd underholder.
URL:https://spildansk.dk/kalender/spil-dansk-paa-carolineparken-2/
LOCATION:Carolineparken\, Carolineparken 1a\, Varde\, 6800
CATEGORIES:Koncert
ATTACH;FMTTYPE=image/jpeg:https://spildansk.dk/wp-content/uploads/2022/10/bannerbillede-spil-dansk-12-scaled.jpg
END:VEVENT
BEGIN:VEVENT
DTSTART;TZID=Europe/Copenhagen:20221030T140000
DTEND;TZID=Europe/Copenhagen:20221030T153000
DTSTAMP:20260421T180915
CREATED:20220901T112028Z
LAST-MODIFIED:20220901T112122Z
UID:30903-1667138400-1667143800@spildansk.dk
SUMMARY:Koncert med Søren Krogh & Janus Bechmann
DESCRIPTION:Søren Krogh – sangskriver\, musiker og sanger – udgiver sit 10. album i slutningen af året efter 9 anmelderroste albums og mere end 2000 koncerter. \nI februar 2018 udgav han sit 9. album Globus\, som blev flittigt spillet på DR. Han vandt i 2016 Danish Music Award-folk som årets sanger og har tidligere også vundet som årets sangskriver i 2013. I 2011 modtog han Gelsted/Kirk/Scherfig-prisen for sit vedholdende arbejde med danske sange. \nTil årets Spil Dansk Dags-koncerter har han sin partner in crime\, guitaristen Janus Bechmann med. Som koncertnavn er Krogh en stor musikalsk oplevelse\, men han er altså også bare en af musikbranchens bedste historiefortællere.
URL:https://spildansk.dk/kalender/koncert-med-soeren-krogh-janus-bechmann/
LOCATION:Thorøhuse Forsamlingshus\, Drejet 7\, Assens\, 5610
CATEGORIES:Koncert
ATTACH;FMTTYPE=image/jpeg:https://spildansk.dk/wp-content/uploads/2022/09/Pressefoto-2020-Krogh-og-Bechmann-med-projektoer-farve-IMG_6828-.jpg
END:VEVENT
BEGIN:VEVENT
DTSTART;TZID=Europe/Copenhagen:20221027T190000
DTEND;TZID=Europe/Copenhagen:20221027T203000
DTSTAMP:20260421T180915
CREATED:20221027T074818Z
LAST-MODIFIED:20221027T074954Z
UID:31514-1666897200-1666902600@spildansk.dk
SUMMARY:Syng Dansk i Fodby Kirke
DESCRIPTION:Igen i år synger Erik Fjordside og\nPernille Wolder for\, akkompagneret\naf vores organist Anja.\nAftenen står i fællessangens tegn. I\npausen vil der være kaffe og kage.
URL:https://spildansk.dk/kalender/syng-dansk-i-fodby-kirke-3/
LOCATION:Fodby Kirke
END:VEVENT
BEGIN:VEVENT
DTSTART;TZID=Europe/Copenhagen:20221027T163000
DTEND;TZID=Europe/Copenhagen:20221027T173000
DTSTAMP:20260421T180915
CREATED:20221024T120411Z
LAST-MODIFIED:20221024T120411Z
UID:31386-1666888200-1666891800@spildansk.dk
SUMMARY:Patientkoncert med kræftpatienternes hus
DESCRIPTION:16.30 – 17.30\nKoncert med Camilla Dayyani\, klaver og sang\nKan musik bruges til at skabe trivsel i en udfordrende\ntid? Kan det påvirke vores humør og skabe positiv\nstemning i krop og sjæl? Ja\, det kan! Kom til koncert\nmed den professionelle jazzsangerinde Camilla Dayyani
URL:https://spildansk.dk/kalender/patientkoncert-med-kraeftpatienternes-hus/
LOCATION:Kræftpatienternes Hus\, Beriderbakken 9\, Vejle\, 7100\, Danmark
CATEGORIES:Koncert
END:VEVENT
BEGIN:VEVENT
DTSTART;TZID=Europe/Copenhagen:20221027T093000
DTEND;TZID=Europe/Copenhagen:20221027T110000
DTSTAMP:20260421T180915
CREATED:20221006T104831Z
LAST-MODIFIED:20221006T105439Z
UID:31116-1666863000-1666868400@spildansk.dk
SUMMARY:International Bamsedag
DESCRIPTION:Der er oplæsning og hygge\, når vi traditionen tro fejrer den Internationale Bamsedag. Hanne Bech læser og fortæller bamsehistorier\, mens Dorthe Bach Jensen\, musiklærer og dukketeaterdirektør\, står for bamsegymnastik og bamsesange. Alle børn får en bamse med hjem.\nDen Internationale Bamsedag blev indført på de nordiske biblioteker i 1999.\nGratis billet skal bestilles på www.musikogbilledskolen.dk/spildansk
URL:https://spildansk.dk/kalender/international-bamsedag-2/
LOCATION:Ølgod Bibliotek\, Vestergade 5\, Ølgod\, 6870
CATEGORIES:Musik til børn
ATTACH;FMTTYPE=image/jpeg:https://spildansk.dk/wp-content/uploads/2022/10/bannerbillede-spil-dansk-6-scaled.jpg
END:VEVENT
BEGIN:VEVENT
DTSTART;TZID=Europe/Copenhagen:20221027T080000
DTEND;TZID=Europe/Copenhagen:20221027T140000
DTSTAMP:20260421T180915
CREATED:20220920T120004Z
LAST-MODIFIED:20220920T120004Z
UID:30988-1666857600-1666879200@spildansk.dk
SUMMARY:Lyden af frihed
DESCRIPTION:Hvad er frihed for skolebørn i år 2022? Dette er temaet for denne workshop\, hvor en gruppe elever på Strandmølleskolen i Assens guides af en professionel komponist i at skabe deres egen “lyd” af frihedsfølelse. Gennem en række legende kompositionsøvelser vil komponisten rammesætte skolebørnenes musikalske skaben. \nAssens Kommune er Spil Dansk Kommune.
URL:https://spildansk.dk/kalender/lyden-af-frihed-10/
LOCATION:Strandmølleskolen\, Damgade 34\, Assens\, 5610
CATEGORIES:Workshop
ATTACH;FMTTYPE=image/jpeg:https://spildansk.dk/wp-content/uploads/2022/09/Lyden-af-frihed.jpg
END:VEVENT
BEGIN:VEVENT
DTSTART;TZID=Europe/Copenhagen:20221026T193000
DTEND;TZID=Europe/Copenhagen:20221026T193000
DTSTAMP:20260421T180915
CREATED:20221006T104607Z
LAST-MODIFIED:20221006T105520Z
UID:31113-1666812600-1666812600@spildansk.dk
SUMMARY:Spil Dansk Fællessang
DESCRIPTION:Fællessang med pianist og lærer på Vardeegnens Efterskole\, Birk Johansen\, som på fornemste vis vil lede os igennem Spil Dansk aftenen ved hjælp af Højskolesangbogen og små anekdoter om sangene. \nArr. Kulturdagene Ølgod
URL:https://spildansk.dk/kalender/spil-dansk-faellessang-8/
LOCATION:Kulturhuset Ølgod\, Vestergade 5\, Ølgod\, 6870
CATEGORIES:Fællessang
ATTACH;FMTTYPE=image/jpeg:https://spildansk.dk/wp-content/uploads/2022/10/bannerbillede-spil-dansk-7-scaled.jpg
END:VEVENT
BEGIN:VEVENT
DTSTART;TZID=Europe/Copenhagen:20221025T093000
DTEND;TZID=Europe/Copenhagen:20221025T120000
DTSTAMP:20260421T180915
CREATED:20221024T120624Z
LAST-MODIFIED:20221024T120624Z
UID:31390-1666690200-1666699200@spildansk.dk
SUMMARY:Emma Hørlyck
DESCRIPTION:Emma Hørlyck sangskriver besøg på Rødkilde Gymnasium
URL:https://spildansk.dk/kalender/emma-hoerlyck/
LOCATION:Rødkilde Gymnasium
CATEGORIES:Undervisning,Koncert,Foredrag
END:VEVENT
BEGIN:VEVENT
DTSTART;TZID=Europe/Copenhagen:20221021T170000
DTEND;TZID=Europe/Copenhagen:20221021T183000
DTSTAMP:20260421T180915
CREATED:20221006T104404Z
LAST-MODIFIED:20221006T105536Z
UID:31109-1666371600-1666377000@spildansk.dk
SUMMARY:Skumringskoncert
DESCRIPTION:Kom til en stemningsfuld og åbenhjertig efterårskoncert med trioen Kirstine Bonde\, Karl Gade og Per Sønderby.\nGratis adgang. OBS! Koncerten foregår udendørs så husk fornuftig påklædning og evt. et tæppe.\nVarm suppe og drikkevarer kan købes.\nSkumringskoncerten er en del af Naturparkugen\, se mere her\nArr. Vardemuseerne\, Naturpark Vesterhavet og Varde Kommune
URL:https://spildansk.dk/kalender/skumringskoncert/
LOCATION:Nymindegab Museum\, Vesterhavsvej 294\, Nymindegab\, 6830
CATEGORIES:Koncert
ATTACH;FMTTYPE=image/jpeg:https://spildansk.dk/wp-content/uploads/2022/10/bannerbillede-spil-dansk-8-scaled.jpg
END:VEVENT
BEGIN:VEVENT
DTSTART;TZID=Europe/Copenhagen:20221006T113000
DTEND;TZID=Europe/Copenhagen:20221103T123000
DTSTAMP:20260421T180915
CREATED:20221006T110128Z
LAST-MODIFIED:20221006T110128Z
UID:31134-1665055800-1667478600@spildansk.dk
SUMMARY:Lungekoret holder åbent hus
DESCRIPTION:Musik og Billedskolens Lungekor synger og træner hver onsdag efterfulgt af en kop kaffe og en småkage. På holdet trænes lungerne via øvelser\, og der er fokus på den dybe afspændte vejrtrækning og glæden ved at synge. Her er altid plads til et godt grin.\nKom og mød koret til åbent hus og syng med.
URL:https://spildansk.dk/kalender/lungekoret-holder-aabent-hus/
LOCATION:Stålværket\, Vestervold 11\, Varde\, 6800\, Danmark
CATEGORIES:Fællessang
ATTACH;FMTTYPE=image/jpeg:https://spildansk.dk/wp-content/uploads/2022/10/bannerbillede-spil-dansk-11-scaled.jpg
ORGANIZER;CN="musik &amp%3B billedskolen Varde":MAILTO:vkm@varde.dk
END:VEVENT
BEGIN:VEVENT
DTSTART;TZID=Europe/Copenhagen:20221002T193000
DTEND;TZID=Europe/Copenhagen:20221002T210000
DTSTAMP:20260421T180915
CREATED:20221023T140640Z
LAST-MODIFIED:20221023T140640Z
UID:31378-1664739000-1664744400@spildansk.dk
SUMMARY:Koncert
DESCRIPTION:koncert med Marilyn Mazur Group \nFredrik Lundin\, sax og fløjte; Krister Jonsson\, guitar; Klavs Hovman\, bas; Marilyn Mazur\, slagtøj
URL:https://spildansk.dk/kalender/koncert-12/
LOCATION:Faxe Musikskole\, afd Haslev\, Præstevænget 23\, Haslev\, 4690
CATEGORIES:Koncert,Jazz
ATTACH;FMTTYPE=image/jpeg:https://spildansk.dk/wp-content/uploads/2022/10/Marilyn-Mazur-Group-PHOTO-by-Nicola-Fasano-1-scaled.jpg
END:VEVENT
BEGIN:VEVENT
DTSTART;TZID=Europe/Copenhagen:20220929T190000
DTEND;TZID=Europe/Copenhagen:20220929T200000
DTSTAMP:20260421T180915
CREATED:20220929T155327Z
LAST-MODIFIED:20220929T155327Z
UID:31067-1664478000-1664481600@spildansk.dk
SUMMARY:Spil dansk koncert
DESCRIPTION:Medvirkende: Sangere fra Rebild Kulturskole\nFløjtelærer fra Rebild Kulturskole : Katrine Halbak Mejer Christensen\nVoksenkoret De Rytmiske Unoder\nSanglærer kulturskolelærer: Lise Linette Lindbøg Behr.\nEt ungdomskor med sangere fra Skørping-Fræer kirkekor og Kulturskolen.\nVi skal også synge fællessange. Per Bach sidder ved orglet.
URL:https://spildansk.dk/kalender/spil-dansk-koncert-29/
LOCATION:Skørping Nykirke\, Kirkevej\, S\, 9520\, Danmark
CATEGORIES:Koncert
END:VEVENT
BEGIN:VEVENT
DTSTART;TZID=Europe/Copenhagen:20220223T130000
DTEND;TZID=Europe/Copenhagen:20220223T143000
DTSTAMP:20260421T180915
CREATED:20211123T095453Z
LAST-MODIFIED:20211123T095453Z
UID:30286-1645621200-1645626600@spildansk.dk
SUMMARY:Pop-Pilot Music Talks
DESCRIPTION:Foredrag med Sara Mouritzen og Marie Hageltorn Christiansen.
URL:https://spildansk.dk/kalender/pop-pilot-music-talks-3/
LOCATION:Hårslev Efterskole\, Hårslevvej 33\, Sandved\, 4262
CATEGORIES:Foredrag
ATTACH;FMTTYPE=image/jpeg:https://spildansk.dk/wp-content/uploads/2021/11/SPIL-DANSK-UGEN-2021-Grafik-kvadrat-scaled-1.jpg
END:VEVENT
BEGIN:VEVENT
DTSTART;TZID=Europe/Copenhagen:20211201T130000
DTEND;TZID=Europe/Copenhagen:20211201T140000
DTSTAMP:20260421T180915
CREATED:20211012T082704Z
LAST-MODIFIED:20211012T082704Z
UID:28975-1638363600-1638367200@spildansk.dk
SUMMARY:Duoen Jensen og Bugge spiller op til Sundhedsbal
DESCRIPTION:Jensen & Bugge står for et ‘Sundhedsbal’ med danseinstruktør onsdag den 1. december kl. 13.00-14.00 på Bofællesskabet Plantagevej\, Plantagevej 1-3 \, 5960 Marstal. \nJensen & Bugge har spillet sammen siden 2001 De er begge udnævnt rigsspillemænd. Dem er der 22 af i Danmark. I 2012 fik duoen Danish Music Awards traditionspris I 2016 blev duoen nomineret til en YAM-award for verdens bedste børnekoncert. Vi har spillet 20 turneer i USA samt turneret i Canada\, Japan\, Færøerne\, Finland\, Norge\, Sverige\, Polen\, Tyskland\, Færøerne og Sydkorea.
URL:https://spildansk.dk/kalender/duoen-jensen-og-bugge-spiller-op-til-sundhedsbal/
LOCATION:Bofællesskabet Plantagevej\, Plantagevej 1-3\, Marstal\, 5960
ORGANIZER;CN="%C3%86r%C3%B8 Folkebibliotek":MAILTO:marstal@arrebib.dk
END:VEVENT
BEGIN:VEVENT
DTSTART;TZID=Europe/Copenhagen:20211130T080000
DTEND;TZID=Europe/Copenhagen:20211130T120000
DTSTAMP:20260421T180915
CREATED:20211026T131638Z
LAST-MODIFIED:20211026T131638Z
UID:29582-1638259200-1638273600@spildansk.dk
SUMMARY:Lyden af frihed
DESCRIPTION:Om workshoppen:\n\nHvad er frihed for skolebørn i år 2021? Under nedlukningen af samfundet har alle danske skolebørn oplevet\, hvad det vil sige at være ufri\, at være hjemsendt uden vished for fremtiden.\nDette er temaet for denne workshop\, hvor klassen guides af en professionel komponist i at skabe deres egen “lyd” af frihedsfølelse.\nGennem en række legende kompositionsøvelser vil komponisten rammesætte skolebørnenes musikalske skaben\, så de oplever friheden ved at skabe deres egen lyd – og hermed udtrykke deres oplevelser af hjemsendelsen.\nArbejdet som komponist er ofte kendetegnende ved\, at man starter ud med en blank tavle\, stilhed og åbenhed – “lyden af frihed” kræver netop at opfindsomheden sættes fri\, hvilket skolebørnene vil lære under workshoppen.\nInde i alle børn er der fyldt med lyd! I mødet med en rigtig komponist kan skolebørn blive inspireret og finde deres egen lyd\, så den kan frisættes og blive hørt.
URL:https://spildansk.dk/kalender/lyden-af-frihed-6/
LOCATION:Sennels skole\, Sennelsvej 122\, Thisted\, 7700\, Danmark
CATEGORIES:Undervisning
END:VEVENT
BEGIN:VEVENT
DTSTART;TZID=Europe/Copenhagen:20211122T143000
DTEND;TZID=Europe/Copenhagen:20211122T153000
DTSTAMP:20260421T180915
CREATED:20211013T102321Z
LAST-MODIFIED:20211013T102321Z
UID:29147-1637591400-1637595000@spildansk.dk
SUMMARY:Pop-Pilot Music Talks
DESCRIPTION:Siden 2012 har ROSA arrangeret Pop-Pilot musikcamps for piger. Music Talks udspringer herfra\, og fællesskab\, empowerment og ligestilling er nøgleord for begge tiltag.\nKønsdebat og ligestilling er en “brandvarm musikpolitisk kartoffel”\, måske mere end nogensinde\, og til baggrund kan disse tre rapporter anbefales: Niras-rapporten om musik og køn fra 2011\, rapporten om kønsdiversitet i musikbranchen fra 2017 og rapporten om elektronisk musik fra 2017.
URL:https://spildansk.dk/kalender/pop-pilot-music-talks-2/
LOCATION:klejtrup Musikefterskole\, Musikbakken 2\,\, Hobro\, 9500
CATEGORIES:Undervisning
END:VEVENT
BEGIN:VEVENT
DTSTART;TZID=Europe/Copenhagen:20211122T093000
DTEND;TZID=Europe/Copenhagen:20211122T120000
DTSTAMP:20260421T180916
CREATED:20211028T124703Z
LAST-MODIFIED:20211028T124703Z
UID:29999-1637573400-1637582400@spildansk.dk
SUMMARY:Lyden af frihed
DESCRIPTION:Kunstner besøg i 7 P på Nordvang skolen.
URL:https://spildansk.dk/kalender/lyden-af-frihed-7/
LOCATION:Nordvang skolen\, Sofielundsvej 120\, Glostrup\, 2600
CATEGORIES:Folk,Workshop
ATTACH;FMTTYPE=image/jpeg:https://spildansk.dk/wp-content/uploads/2021/10/Annelene.jpg
END:VEVENT
BEGIN:VEVENT
DTSTART;TZID=Europe/Copenhagen:20211120T140000
DTEND;TZID=Europe/Copenhagen:20211120T170000
DTSTAMP:20260421T180916
CREATED:20210915T130318Z
LAST-MODIFIED:20210915T131445Z
UID:28338-1637416800-1637427600@spildansk.dk
SUMMARY:Master class med Producer Jonas Rendbo
DESCRIPTION:Du kan møde sangskriver\, sanger og producer Jonas Rendbo ved master class på Glostrup musikskole i forbindelse med musik og ungdomsskolens Musik Camp lørdag den 20. november. Eventet er åbent for alle interesserede\, men henvender sig fortrinsvis til sangskriver\, komponister\, producere\, musikere og DJs i alle aldre. \nJonas fortæller om hvordan han skriver og producerer\, kommer med konkrete eksempler og idéer til hvordan du kan udvikle dit arbejde med musikken og hvordan du få din musik udgivet. Han  fortæller også om sit arbejder med danske og udenlandske artister som\, Outlandish\, Ukendt Kunstner\, Sivas\, Rasmus Seebach\, Ankerstjerne\, Joey Moe\, Barbara Moleko\, Shaka Loveless\, Isam B\, Wafande\, Jamie Kamara\, Marwan\, Nabiha\, Aura\, J-Spliff\, Fallulah\, mfl. \nHer er en enestående chance for at komme helt tæt på og få tips og tricks fra en af DKs rutinerede producere. \nTjek Jonas Rendbo musik ud her \nJonas Music – YouTube
URL:https://spildansk.dk/kalender/master-class-med-producer-jonas-rendbo/
LOCATION:Glostrup Musikskole\, Christiansvej 2\, Glostrup\, 2600
CATEGORIES:Undervisning,Foredrag,Workshop
ORGANIZER;CN="Glostrup Musikskole":MAILTO:musikskolen@glostrup.dk
END:VEVENT
BEGIN:VEVENT
DTSTART;TZID=Europe/Copenhagen:20211116T100000
DTEND;TZID=Europe/Copenhagen:20211116T130000
DTSTAMP:20260421T180916
CREATED:20211010T171122Z
LAST-MODIFIED:20211010T171122Z
UID:28845-1637056800-1637067600@spildansk.dk
SUMMARY:Lyden af Frihed
DESCRIPTION:Hvad er frihed for gymnasieelever i år 2021? Under nedlukningen af samfundet har alle danske elever oplevet\, hvad det vil sige at være ufri\, at være hjemsendt uden vished for fremtiden. \nDette er temaet for denne workshop\, hvor musikeleverne på Gladsaxe Gymnasium guides af en professionel komponist i at skabe deres egen “lyd” af frihedsfølelse.
URL:https://spildansk.dk/kalender/lyden-af-frihed-2/
LOCATION:Gladsaxe Gymnasium\, Buddinge Hovedgade 81\, Soeborg\, 2860\, Danmark
CATEGORIES:Workshop
END:VEVENT
BEGIN:VEVENT
DTSTART;TZID=Europe/Copenhagen:20211115T130000
DTEND;TZID=Europe/Copenhagen:20211115T170000
DTSTAMP:20260421T180916
CREATED:20210930T080329Z
LAST-MODIFIED:20210930T080329Z
UID:28557-1636981200-1636995600@spildansk.dk
SUMMARY:FOF Favrskov Bustur til Retroworld med kaffebord og fællessang
DESCRIPTION:I anledning af Spil Dansk og Alsang initiativerne arrangerer FOF Favrskov \nBustur fra Hinnerup st. til Retroworld\, Rundvisning\, kaffebord og underholdning med fællessang med KreaktivKor\, dirigeret og akkompagneret af Vibeke Hansen. \nTuren er  støttet af Kulturministeriets “1000 nye fællesskaber mod ensomhed”
URL:https://spildansk.dk/kalender/fof-favrskov-bustur-til-retroworld-med-kaffebord-og-faellessang-2/
LOCATION:Retroworld\, Lerbjergvej 31\, Lerbjerg\, Hadsten\, 8370
CATEGORIES:Fællessang
ATTACH;FMTTYPE=image/jpeg:https://spildansk.dk/wp-content/uploads/2021/09/IMG_2423-scaled.jpeg
END:VEVENT
BEGIN:VEVENT
DTSTART;TZID=Europe/Copenhagen:20211115T130000
DTEND;TZID=Europe/Copenhagen:20211115T130000
DTSTAMP:20260421T180916
CREATED:20211018T093947Z
LAST-MODIFIED:20211018T093947Z
UID:29369-1636981200-1636981200@spildansk.dk
SUMMARY:Sundhedsbal
DESCRIPTION:Sundhedsbal på Teglgården\nVi kridter skoene når Jensen og Bugge spiller op til folkedans på Teglgården. \n 
URL:https://spildansk.dk/kalender/sundhedsbal/
LOCATION:Teglgården\, Maribovej 119\, Nakskov\, 4900
ATTACH;FMTTYPE=image/png:https://spildansk.dk/wp-content/uploads/2021/10/60B27AE3-77DE-4039-A59E-37B56BE0EBCA.png
END:VEVENT
BEGIN:VEVENT
DTSTART;TZID=Europe/Copenhagen:20211114T160000
DTEND;TZID=Europe/Copenhagen:20211114T173000
DTSTAMP:20260421T180916
CREATED:20211103T172740Z
LAST-MODIFIED:20211103T173037Z
UID:30230-1636905600-1636911000@spildansk.dk
SUMMARY:Koncert med Trio Lido
DESCRIPTION:Stemningsfuld koncert med værker for klarinettrio af Max Bruch\, Carl Frühling og John Ireland. Trio Lido består af Jens Vrå\, klarinet\, Hannah-Rae Hampson\, cello\, og Fabiana Biasini\, klaver. \nTrio Lido har eksisteret i tre år\, og den har fra start haft som mål at gå på opdagelse i de mange værker\, som af forskellige årsager er forsvundet fra koncertscenerne. Der er mange perler imellem\, og ved denne koncert præsenteres to af dem\, nemlig den østrigske komponist Carl Frühlings klarinettrio opus 40 og den engelske komponist John Irelands klarinetrio i D-mol. \nUdover disse to værker spilles der uddrag fra “Acht Stücke\, op. 83” af Max Bruch. Et værk\, der – fuldt fortjent – stadig ofte kan høres i koncertsalene. \nAlle Trio Lidos medlemmer er erfarne kammermusikere\, som har optrådt ved koncerter og kammermusikfestivaler rundt om i verden. De har rødder i Danmark\, England og Italien\, men er nu alle bosat i København\, hvor de har fundet sammen om dette projekt. \nBilletter kan købes ved indgangen ellers online hos billetto.dk \n\nEntré: 100 kr
URL:https://spildansk.dk/kalender/koncert-med-trio-lido/
LOCATION:Sorgenfri Kirke\, Hummeltoften 1\, Virum\, 2830\, Danmark
CATEGORIES:Koncert,Klassisk
ATTACH;FMTTYPE=image/jpeg:https://spildansk.dk/wp-content/uploads/2021/11/triolido2-1-scaled.jpg
END:VEVENT
BEGIN:VEVENT
DTSTART;TZID=Europe/Copenhagen:20211113T160000
DTEND;TZID=Europe/Copenhagen:20211113T170000
DTSTAMP:20260421T180916
CREATED:20211001T162055Z
LAST-MODIFIED:20211001T162055Z
UID:28655-1636819200-1636822800@spildansk.dk
SUMMARY:Himmel og Jord - Korworkshop
DESCRIPTION:130 sangere opfører korværket ’Himmel og Jord’ – med muntre og alvorlige toner og tanker om liv og død. Under ledelse af John Høybye. \nJohn Høybyes eftertragtede korworkshop med sangere fra hele København og Nordsjælland har i snart mange år været en del af Furesøs Spil Dansk fejring. Sangerne mødes i fire workshops i efteråret for at indstudere værket. \nTeksterne er af Grethe Risbjerg Thomsen\, Lars Ole Bonde\, Eva Chortsen\, Niels Erik Nielsen og Halfdan Rasmussen. John Høybyes musik følger teksternes vekslen mellem det alvorlige og det muntre\, og som altid hos Høybye\ner det et mix af klassisk korklang og rytmisk drive. Koret akkompagneres af professionelle musikere fra Furesø Musikskole. \nBilletter på furbib.dk
URL:https://spildansk.dk/kalender/himmel-og-jord-korworkshop/
LOCATION:Galaksen\, Bymidten 48\, Værløse\, 3500
CATEGORIES:Koncert
ATTACH;FMTTYPE=image/jpeg:https://spildansk.dk/wp-content/uploads/2021/10/Korworkshop.jpg
END:VEVENT
BEGIN:VEVENT
DTSTART;TZID=Europe/Copenhagen:20211112T200000
DTEND;TZID=Europe/Copenhagen:20211112T220000
DTSTAMP:20260421T180916
CREATED:20211015T094635Z
LAST-MODIFIED:20211015T094635Z
UID:29310-1636747200-1636754400@spildansk.dk
SUMMARY:Michelle Birkballe
DESCRIPTION:Michelle regnes som en af Danmarks bedste blues og rock sangerinder.
URL:https://spildansk.dk/kalender/michelle-birkballe/
LOCATION:Hyllested Forsamlingshus
CATEGORIES:Blues,Rock
ATTACH;FMTTYPE=image/jpeg:https://spildansk.dk/wp-content/uploads/2021/10/michellebirkballeweb@2x.jpg
END:VEVENT
BEGIN:VEVENT
DTSTART;TZID=Europe/Copenhagen:20211112T200000
DTEND;TZID=Europe/Copenhagen:20211112T220000
DTSTAMP:20260421T180916
CREATED:20211015T093739Z
LAST-MODIFIED:20211015T093739Z
UID:29307-1636747200-1636754400@spildansk.dk
SUMMARY:Michael Falch & The Band
DESCRIPTION:Michael Falch har det seneste årti gennemgået en enestående opblomstring\, kunstnerisk såvel som kommercielt. Han har ikke tilladt rusten at få ro\, efter at coronaen udsatte hans store reunion-turné med MALURT. \n”Forår i Brystet” er et nyt soloalbum fra Michael Falch\, det udkom den 9. oktober 2020. Og når coronaen endelig er lettet\, så er Michael Falch klar til med Dét Band omkring sig til at drage på en landsdækkende tur i efteråret 2021. Han kommer med bandet til Fuglsøcentret den 12. november 2021.
URL:https://spildansk.dk/kalender/michael-falch-the-band/
LOCATION:fuglsøcentret\, Dragsmurvej 6\, Knebel\, 8420\, Danmark
CATEGORIES:Pop,Rock
ATTACH;FMTTYPE=image/png:https://spildansk.dk/wp-content/uploads/2021/10/Michael-Falch.png
END:VEVENT
BEGIN:VEVENT
DTSTART;TZID=Europe/Copenhagen:20211112T200000
DTEND;TZID=Europe/Copenhagen:20211112T210000
DTSTAMP:20260421T180916
CREATED:20211014T115539Z
LAST-MODIFIED:20211014T115539Z
UID:29240-1636747200-1636750800@spildansk.dk
SUMMARY:Koncert med Veronica Mortensen Trio
DESCRIPTION:Koncert – Veronica Mortensen Trio \nVeronica Mortensen er en af landets mest interessante sangerinder på den danske jazzhimmel. Hendes varme og ligefremme tilgang til den nordiske jazzgenre er højt elsket af publikummer overalt\, og anmeldere roser hendes udgivelser og livekoncerter til skyerne. \nMed fem albums i eget navn\, en lang række koncerter i ind- og udland samt gæsteoptrædener i et utal af Big Bands i bagagen\, er hun en særdeles velbevandret musiker. Udover at være en skattet sangerinde er hun en yderst begavet sangskriver\, hvilket blandt andet har indbragt hende et hæderslegat af komponistforeningen “Danske Populær Autorer”. \nFlere af hendes numre er desuden i rotation på DR’s radiokanal P8 Jazz. Mød en af vores bedste sangerinder\, med en varm og ligefrem tilgang til jazzen. \nSom publikum kan man forvente at opleve en kunstner med noget på hjerte\, melodiøse kompositioner med teksten i fokus og en koncert med masser af nærvær og varme.
URL:https://spildansk.dk/kalender/koncert-med-veronica-mortensen-trio/
LOCATION:Biograf- & Kulturhuset Kom-Bi\, Nyvej 3\, Hornslet\, 8543
CATEGORIES:Koncert
ATTACH;FMTTYPE=image/jpeg:https://spildansk.dk/wp-content/uploads/2021/10/Veronica-Mortensen-Photo-by-Ida-Wang.jpg
ORGANIZER;CN="Biograf- &amp%3B Kulturhuset Kom-Bi":MAILTO:kombi@kombi.dk
END:VEVENT
BEGIN:VEVENT
DTSTART;TZID=Europe/Copenhagen:20211112T000000
DTEND;TZID=Europe/Copenhagen:20211112T170000
DTSTAMP:20260421T180916
CREATED:20211012T090754Z
LAST-MODIFIED:20211012T090754Z
UID:29012-1636675200-1636736400@spildansk.dk
SUMMARY:Komponist i klassen
DESCRIPTION:Tine Louise Kortemand er video- lyd- og performancekunstner\, og i en workshop elever fra Starup Skole inviteres eleverne ind i den spændende proces at skabe deres egen musik.\nArr. Spil Dansk Styregruppen\nFredag d. 12/11 på Starup Skole – lukket arrangement
URL:https://spildansk.dk/kalender/komponist-i-klassen-6/
LOCATION:Starup Skole
CATEGORIES:Workshop
ATTACH;FMTTYPE=image/jpeg:https://spildansk.dk/wp-content/uploads/2021/10/SPIL-DANSK-UGEN-2021-Grafik-kvadrat-1-varde-kommune-10-scaled.jpg
ORGANIZER;CN="Spil Dansk Styregruppen Varde Kommune":MAILTO:pvoo@varde.dk
END:VEVENT
BEGIN:VEVENT
DTSTART;TZID=Europe/Copenhagen:20211111T190000
DTEND;TZID=Europe/Copenhagen:20211210T210000
DTSTAMP:20260421T180916
CREATED:20211013T124533Z
LAST-MODIFIED:20211013T124533Z
UID:29110-1636657200-1639170000@spildansk.dk
SUMMARY:Syng i Den Blå med Couragekoret
DESCRIPTION:Kom og vær med til at synge såvel kendte som nye sange fra højskolesangbogen torsdag den 11.11 kl. 19 – 21 på Kulturhotellet i Rønde. Organist Annelise Jensen Mørke vil vælge nogle sange og både spille til og fortælle lidt om dem. Hun vil også være åben for\, at deltagerne vælger sange. \nCouragekoret vil deltage og optræde med et par numre. \nEntre: kr. 30\,- \nVel mødt! \nTilmelding: tlf. 61667007 eller mail: info@dag-aftenskolen.dk
URL:https://spildansk.dk/kalender/syng-i-den-blaa-med-couragekoret/
LOCATION:KulturHotellet i Rønde\, Hovedgaden 10\, Rønde\, 8410
CATEGORIES:Fællessang
ATTACH;FMTTYPE=image/jpeg:https://spildansk.dk/wp-content/uploads/2021/10/images.jpg
ORGANIZER;CN="dag- og aftenskolen i R%C3%B8nde":MAILTO:info@dag-aftenskolen.dk
END:VEVENT
END:VCALENDAR