BEGIN:VCALENDAR
VERSION:2.0
PRODID:-//Spil Dansk - ECPv6.5.0//NONSGML v1.0//EN
CALSCALE:GREGORIAN
METHOD:PUBLISH
X-WR-CALNAME:Spil Dansk
X-ORIGINAL-URL:https://spildansk.dk
X-WR-CALDESC:Events for Spil Dansk
REFRESH-INTERVAL;VALUE=DURATION:PT1H
X-Robots-Tag:noindex
X-PUBLISHED-TTL:PT1H
BEGIN:VTIMEZONE
TZID:Europe/Copenhagen
BEGIN:DAYLIGHT
TZOFFSETFROM:+0100
TZOFFSETTO:+0200
TZNAME:CEST
DTSTART:20220327T010000
END:DAYLIGHT
BEGIN:STANDARD
TZOFFSETFROM:+0200
TZOFFSETTO:+0100
TZNAME:CET
DTSTART:20221030T010000
END:STANDARD
END:VTIMEZONE
BEGIN:VEVENT
DTSTART;TZID=Europe/Copenhagen:20221031T190000
DTEND;TZID=Europe/Copenhagen:20221031T210000
DTSTAMP:20260421T210021
CREATED:20221025T120314Z
LAST-MODIFIED:20221025T124842Z
UID:31442-1667242800-1667250000@spildansk.dk
SUMMARY:Maria Faust Sacrum Facere Organ
DESCRIPTION:Billet: Maria Faust | Billetkøb Jazzcup (eventim-light.com) \nDen herboende estiske komponist\, saxofonist og orkesterleder Maria Faust har allerede sat bemærkelsesværdige musikalske spor\, der har sendt hende og hendes bands på rejser til koncertsale og musikfestivaler i store dele af verden. Maria Faust er vokset op under det kommunistiske styre i Estland\, hun er til dels klassisk uddannet\, men sammenligner gerne sin musikskole med en “kaserne for børnesoldater”. På konservatoriet følte hun heller ikke\, der var plads til hende. Mozart skulle lyde som Mozart\, Bach som Bach og hun mistede passionen for klassisk musik. I Tallinn fik jazzen og improvisationsmusikken tag i hende\, men for at komme videre måtte hun ud af landet og flyttede til Danmark. Hun passede heller ikke ind i jazzens verden. Og sådan er det\, Maria Faust spiller og komponerer ikke efter bogen og har ingen interesse i at gøre det. Som kunstner er hun er en sand musikalsk opdagelsesrejsende med fundament i både klassisk og improviseret musik og en af de kunstnere\, som lyttere bør følge med åbent sind og ører for at opleve\, hvad der nu sker. Maria begyndte at skrive musik for orgel i 2017 og har siden turneret sammen med den sekstet\, der medvirker på albummet ORGAN med dens kompositioner for kirkeorgel og blæsere og som vi også kommer til at høre ved koncerten i Tysk Reformert Kirke med dets nyrestaurerede orgel i centrum\, mandag d. 31. oktober kl. 19:00 – ”… et enestående værk af stor sakral skønhed.” Berlingske Tidende \nMaria Faust (as)\, Ned Ferm (ts)\, Francesco Bigoni (cl)\, Tobias Wiklund (tp)\, Mads Hyhne (tb)\, Jonatan Ahlbom (tuba)\, Jakob Davidsen (kirkeorgel) \n 
URL:https://spildansk.dk/kalender/maria-faust-sacrum-facere-organ/
LOCATION:Reformert Kirke\, Gothersgade 111\, København K\, 1123
CATEGORIES:Jazz
ATTACH;FMTTYPE=image/jpeg:https://spildansk.dk/wp-content/uploads/2022/10/Maria-Faust.jpg
ORGANIZER;CN="Jazzcup":MAILTO:jazzklubben@jazzklubben.dk.
END:VEVENT
BEGIN:VEVENT
DTSTART;TZID=Europe/Copenhagen:20221031T190000
DTEND;TZID=Europe/Copenhagen:20221031T210000
DTSTAMP:20260421T210021
CREATED:20221012T074355Z
LAST-MODIFIED:20221012T074355Z
UID:31246-1667242800-1667250000@spildansk.dk
SUMMARY:Spil dansk aften
DESCRIPTION:Vestermarkskirken inviterer atter til spil dansk aften og i år får vi igen besøg af to kendte musikere og sangere – nemlig Ronnie Olesen og Mona Britt Nykjær. De vil lede os i sang og krydre det med anekdoter og historier mellem indslagene.
URL:https://spildansk.dk/kalender/spil-dansk-aften-6/
LOCATION:Vestermarkskirken\, Nymarksvej 3\, Grindsted\, 7200\, Danmark
CATEGORIES:Koncert
ATTACH;FMTTYPE=image/jpeg:https://spildansk.dk/wp-content/uploads/2022/10/Mona-og-Ronnie.jpeg
ORGANIZER;CN="Vestermarkskirken":MAILTO:clstephan@hotmail.com
END:VEVENT
BEGIN:VEVENT
DTSTART;TZID=Europe/Copenhagen:20221031T190000
DTEND;TZID=Europe/Copenhagen:20221031T204500
DTSTAMP:20260421T210021
CREATED:20221102T141754Z
LAST-MODIFIED:20221102T141754Z
UID:31649-1667242800-1667249100@spildansk.dk
SUMMARY:Spil Dansk Koncert Ringkøbing
DESCRIPTION:Vær med\, når juniorspillemændene og elever fra guitar\, bas\, violin og saxofon spiller op til en festlig koncertaften\, hvor vi hylder dansk musik\, sprog og kultur. Koncerten holdes som en del af den nationale Spil Dansk Uge i uge 44\, hvor hele landet sætter fokus på al den gode danske musik.
URL:https://spildansk.dk/kalender/spil-dansk-koncert-ringkoebing/
LOCATION:Kulturskolen Ringkøbing-Skjern\, Rindumvej 1\, Ringkøbing\, 6950
CATEGORIES:Koncert
ATTACH;FMTTYPE=image/jpeg:https://spildansk.dk/wp-content/uploads/2022/11/311022_FB_SpilDanskKoncert_Ringkoebing.jpg
ORGANIZER;CN="Kulturskolen Ringk%C3%B8bing-Skjern":MAILTO:kulturskolen@rksk.dk
END:VEVENT
BEGIN:VEVENT
DTSTART;TZID=Europe/Copenhagen:20221031T190000
DTEND;TZID=Europe/Copenhagen:20221031T203000
DTSTAMP:20260421T210021
CREATED:20221028T142634Z
LAST-MODIFIED:20221028T142634Z
UID:31582-1667242800-1667248200@spildansk.dk
SUMMARY:Syng dansk - med viborgkoret og Viborg spillefolk
DESCRIPTION:Viborgkoret synger en buket af gamle og nye sange for og med publikum i anledning af Spil Dansk ugen. Viborg Spillefolk akkompagnerer med lystig folkemusik. \nViborgkoret er blandet dame- og herrekor\, der øver i Houlkær Kirke hver mandag. Dirigent for koret er Karl Alfred Petersen.
URL:https://spildansk.dk/kalender/syng-dansk-med-viborgkoret-og-viborg-spillefolk/
LOCATION:houlkær kirke\, Odshøjvej 7 A\, Viborg\, 8800
CATEGORIES:Koncert,Dansktop,Fællessang,Kor
ATTACH;FMTTYPE=image/jpeg:https://spildansk.dk/wp-content/uploads/2022/10/EFDBA759-B60F-4DA0-AF63-383C83E27DB7.jpeg
END:VEVENT
BEGIN:VEVENT
DTSTART;TZID=Europe/Copenhagen:20221031T190000
DTEND;TZID=Europe/Copenhagen:20221031T190000
DTSTAMP:20260421T210021
CREATED:20221006T104956Z
LAST-MODIFIED:20221006T105400Z
UID:31119-1667242800-1667242800@spildansk.dk
SUMMARY:Halloween Koncert
DESCRIPTION:Gys med klaverelever\, der i samarbejde med billedkunst-\nelever inviterer til temakoncert.
URL:https://spildansk.dk/kalender/halloween-koncert/
LOCATION:Stålværket\, Vestervold 11\, Varde\, 6800\, Danmark
CATEGORIES:Koncert
ATTACH;FMTTYPE=image/jpeg:https://spildansk.dk/wp-content/uploads/2022/10/bannerbillede-spil-dansk-5-scaled.jpg
ORGANIZER;CN="musik &amp%3B billedskolen Varde":MAILTO:vkm@varde.dk
END:VEVENT
BEGIN:VEVENT
DTSTART;TZID=Europe/Copenhagen:20221031T170000
DTEND;TZID=Europe/Copenhagen:20221031T183000
DTSTAMP:20260421T210021
CREATED:20220830T073217Z
LAST-MODIFIED:20220830T073217Z
UID:30865-1667235600-1667241000@spildansk.dk
SUMMARY:Carl og Anne Marie. Musikken\, kunsten og kærligheden
DESCRIPTION:Oplev en bevægende fortælling om kærligheden mellem komponisten Carl Nielsen og kunstneren Anne Marie. Beretningen skildrer kønsroller\, verdenskrig og trange kår i begyndelsen af det 20. århundrede\, og er tilsat billeder af hendes værker og toner af hans værk. \nForedrag ved Jakob Bahr\, klassisk pianist og underviser ved Det Jyske Musikkonservatorium\, Tine Popp Madsen\, bibliotekar og litteraturformidler\, og Frederik Schøler\, kulturformidler og projektmager.
URL:https://spildansk.dk/kalender/carl-og-anne-marie-musikken-kunsten-og-kaerligheden/
LOCATION:Biblioteket Gråsten\, Ahlmannsparken\, Ahlefeldvej 4\, Gråsten\, 6300
CATEGORIES:Foredrag
ATTACH;FMTTYPE=image/jpeg:https://spildansk.dk/wp-content/uploads/2022/08/Carl-NielsenOgAnne-Marie_Frederik-Bahr-scaled.jpg
ORGANIZER;CN="Biblioteket S%C3%B8nderborg":MAILTO:biblioteket@sonderborg.dk
END:VEVENT
BEGIN:VEVENT
DTSTART;TZID=Europe/Copenhagen:20221031T150000
DTEND;TZID=Europe/Copenhagen:20221105T150500
DTSTAMP:20260421T210021
CREATED:20220920T111423Z
LAST-MODIFIED:20220920T114345Z
UID:30974-1667228400-1667660700@spildansk.dk
SUMMARY:Højskolesange fra Skt. Nikolai kirke
DESCRIPTION:Kirketårnet spiller melodier fra højskolesangbogen kl. 15.00 mandag-fredag.
URL:https://spildansk.dk/kalender/hoejskolesange-fra-skt-nikolai-kirke/
LOCATION:Skt. Nikolaj Kirke\, Kirkestræde 2A\, Holbæk\, 4300
END:VEVENT
BEGIN:VEVENT
DTSTART;TZID=Europe/Copenhagen:20221031T140000
DTEND;TZID=Europe/Copenhagen:20221031T153000
DTSTAMP:20260421T210021
CREATED:20221024T121025Z
LAST-MODIFIED:20221024T121025Z
UID:31399-1667224800-1667230200@spildansk.dk
SUMMARY:Operaklubben Spil Dansk
DESCRIPTION:Operaklubben Spil Dansk
URL:https://spildansk.dk/kalender/operaklubben-spil-dansk/
LOCATION:Vejle Bibliotek\, Willy Sørensens Plads 1\, Vejle\, 7100
END:VEVENT
BEGIN:VEVENT
DTSTART;TZID=Europe/Copenhagen:20221031T133000
DTEND;TZID=Europe/Copenhagen:20221031T153000
DTSTAMP:20260421T210021
CREATED:20221014T112836Z
LAST-MODIFIED:20221014T112836Z
UID:31301-1667223000-1667230200@spildansk.dk
SUMMARY:Liva Weel koncert med lærere fra Holbæk Kulturskole
DESCRIPTION:På plejecenter Stenhusbakken
URL:https://spildansk.dk/kalender/liva-weel-koncert-med-laerere-fra-holbaek-kulturskole-3/
LOCATION:Stenhusbakken\, Stenhusvej 21\, Holbæk\, 4300
CATEGORIES:Koncert
ATTACH;FMTTYPE=image/png:https://spildansk.dk/wp-content/uploads/2022/10/profilbillede-k-2.png
END:VEVENT
BEGIN:VEVENT
DTSTART;TZID=Europe/Copenhagen:20221031T130000
DTEND;TZID=Europe/Copenhagen:20221031T160000
DTSTAMP:20260421T210021
CREATED:20221010T075635Z
LAST-MODIFIED:20221010T075635Z
UID:31226-1667221200-1667232000@spildansk.dk
SUMMARY:SPIL DANSK på Museum Vestfyn– vi synger og nørkler sammen
DESCRIPTION:Tag dit kreative projekt under armen og tilbring nogle hyggelige timer i andres selskab med sang og nørkleri i CAFÉ ERNST. \nI anledning af Spil Dansk Ugen\, der fejres landet over i uge 44\, åbner Museum Vestfyn dørene for kreative og sangglade sjæle mandag d. 31. oktober\, kl. 13-16. Vi synger sange fra højskolesangbogen og akkompagneres af klaver\, mens vi hygger med vores kreative sysler. \nDer vil være gratis traktement. \n  \nSted: CAFÉ ERNST/Museum Vestfyn\, Østergade 57\, 5610 Assens \nTid: 31. oktober\, 13-16 (sang fra kl. 14-15)
URL:https://spildansk.dk/kalender/spil-dansk-paa-museum-vestfyn-vi-synger-og-noerkler-sammen/
LOCATION:Museum Vestfyn\, Østergade 57\, Assens\, 5610
CATEGORIES:Fællessang
ATTACH;FMTTYPE=image/jpeg:https://spildansk.dk/wp-content/uploads/2022/10/Spil-Dansk_signatur.jpg
END:VEVENT
BEGIN:VEVENT
DTSTART;TZID=Europe/Copenhagen:20221031T130000
DTEND;TZID=Europe/Copenhagen:20221031T150000
DTSTAMP:20260421T210021
CREATED:20220921T085749Z
LAST-MODIFIED:20220921T085749Z
UID:31016-1667221200-1667228400@spildansk.dk
SUMMARY:Syng & Spil med Harmonika og Kor
DESCRIPTION:Hyggelig eftermiddag med fællessang og optræden. Alle er velkommen til at deltage. Sanghæfter udleveres. Der er gratis adgang. Arrangementet er en del af Spil Dansk Ugen.\nOrkesterleder: Jens Peter Jensen. Forsanger i harmonikaorkestret: Vinnie Jensen. Korleder: Lina Zinglersen.
URL:https://spildansk.dk/kalender/syng-spil-med-harmonika-og-kor-2/
LOCATION:HOM Krovejen 26\, Gundestrup\, 4571 Grevinge\, Krovejen 26\, Gundestrup\, Grevinge\, 4571
CATEGORIES:Koncert,Fællessang
ATTACH;FMTTYPE=image/png:https://spildansk.dk/wp-content/uploads/2022/09/Syng-og-Spil-efteraarssange.png
END:VEVENT
BEGIN:VEVENT
DTSTART;TZID=Europe/Copenhagen:20221031T123000
DTEND;TZID=Europe/Copenhagen:20221031T133000
DTSTAMP:20260421T210021
CREATED:20221024T120914Z
LAST-MODIFIED:20221024T120914Z
UID:31395-1667219400-1667223000@spildansk.dk
SUMMARY:Babulja
DESCRIPTION:LMS skolekoncert
URL:https://spildansk.dk/kalender/babulja/
LOCATION:Egtved skole
CATEGORIES:Koncert
END:VEVENT
BEGIN:VEVENT
DTSTART;TZID=Europe/Copenhagen:20221031T120000
DTEND;TZID=Europe/Copenhagen:20221031T143000
DTSTAMP:20260421T210021
CREATED:20221030T112246Z
LAST-MODIFIED:20221030T112246Z
UID:31593-1667217600-1667226600@spildansk.dk
SUMMARY:Workshop med komponist
DESCRIPTION:6.b får besøg af komponisten Toke Odin
URL:https://spildansk.dk/kalender/workshop-med-komponist/
LOCATION:Højboskolen\, Toftevej 53\, Hørning\, 8362
CATEGORIES:Undervisning
END:VEVENT
BEGIN:VEVENT
DTSTART;TZID=Europe/Copenhagen:20221031T120000
DTEND;TZID=Europe/Copenhagen:20221031T130000
DTSTAMP:20260421T210021
CREATED:20220920T110007Z
LAST-MODIFIED:20221014T114323Z
UID:30969-1667217600-1667221200@spildansk.dk
SUMMARY:Drop-in sang Holbæk Bibliotek
DESCRIPTION:Kom til en hyggelig formiddag\, hvor vi synger danske sange sammen.
URL:https://spildansk.dk/kalender/drop-in-sang-holbaek-bibliotek/
LOCATION:Holbæk Bibliotek\, Nygade 9-13\, Holbæk\, 4300\, Danmark
CATEGORIES:Fællessang
ATTACH;FMTTYPE=image/jpeg:https://spildansk.dk/wp-content/uploads/2022/09/Morgensang1-1-scaled.jpg
ORGANIZER;CN="Holb%C3%A6k Bibliotek":MAILTO:holbib@holb.dk
END:VEVENT
BEGIN:VEVENT
DTSTART;TZID=Europe/Copenhagen:20221031T120000
DTEND;TZID=Europe/Copenhagen:20221031T123000
DTSTAMP:20260421T210021
CREATED:20221021T105038Z
LAST-MODIFIED:20221025T090417Z
UID:31355-1667217600-1667219400@spildansk.dk
SUMMARY:Middagskoncert med Astrid Schick
DESCRIPTION:Vi får besøg af Astrid Schick – sangskriver fra MGK – som optræder med egne kompositioner.\n\n\n\n\n\nSom en del af Spil Dansk Ugen giver Astrid Schick middagskoncert på biblioteket. \nHun fremfører  egne numre og koncerten byder på både danske og engelsksprogede tekstuniverser. Sangerinden går på MGK på Frederiksberg\, og har sangskrivning som hovedfag. \nPROGRAM:  \n12.00-12-20: Astrid Schick med Lukas Karlsmose Boel på kor og guitar. \nAstrid Schick er en spirende sangerinde og sangskriver\, der med rødder i den amerikanske folk/rock\, formidler ungdommens smeltegryde af melankoli\, begær og længsel gennem narrative sange. Astrids unikke stemme tager dig i hånden gennem et univers af fængende melodier og vokalbårne arrangementer. Med sig live\, har hun Lukas Karlsmose Boel på guitar og kor. Du kan allerede nu få en forsmag på Astrids musik på Soundcloud. \nFri entré \nSpil Dansk Ugen – musiklivets festuge –  fejres over hele landet i uge 44 med fokus på musik og masser af koncerter. Musikken kan være i alle genrer og på alverdens sprog\, blot den er skabt eller produceret af danske komponister og sangskrivere. \nMere om Spil Dansk Ugen: https://www.spildansk.dk/ \n 
URL:https://spildansk.dk/kalender/koncert-med-unge-sangskrivere/
LOCATION:Biblioteket Frederiksberg\, Falkoner Plads 3\, Frederiksberg\, 2000
CATEGORIES:Folk,Indie,Rock
ATTACH;FMTTYPE=image/jpeg:https://spildansk.dk/wp-content/uploads/2022/10/IMG_5314-Astrid-Schick-scaled.jpg
ORGANIZER;CN="Biblioteket Frederiksberg":MAILTO:biblioteket@frederiksberg.dk
END:VEVENT
BEGIN:VEVENT
DTSTART;TZID=Europe/Copenhagen:20221031T110000
DTEND;TZID=Europe/Copenhagen:20221031T120000
DTSTAMP:20260421T210021
CREATED:20221007T132853Z
LAST-MODIFIED:20221007T133209Z
UID:31166-1667214000-1667217600@spildansk.dk
SUMMARY:Liva Weel koncert med lærere fra Holbæk Kulturskole
DESCRIPTION:For ansatte i Holbæk Kommune
URL:https://spildansk.dk/kalender/liva-weel-koncert-med-laerere-fra-holbaek-kulturskole-2/
LOCATION:Kanalstræde 2\, Holbæk\, 4300
CATEGORIES:Koncert,Fællessang
ATTACH;FMTTYPE=image/png:https://spildansk.dk/wp-content/uploads/2022/10/profilbillede-k.png
END:VEVENT
BEGIN:VEVENT
DTSTART;TZID=Europe/Copenhagen:20221031T100000
DTEND;TZID=Europe/Copenhagen:20221031T110000
DTSTAMP:20260421T210021
CREATED:20221014T112516Z
LAST-MODIFIED:20221014T112516Z
UID:31298-1667210400-1667214000@spildansk.dk
SUMMARY:Skolekoncert på Nr. Jernløse skole
DESCRIPTION:Koncert med undervisere fra Holbæk Kulturskole – for skolens indskoling
URL:https://spildansk.dk/kalender/skolekoncert-paa-nr-jernloese-skole-2/
LOCATION:Nr. Jernløse skole\, Gl. Skovvej 150B\, Regstrup\, 4420
CATEGORIES:Koncert
ATTACH;FMTTYPE=image/png:https://spildansk.dk/wp-content/uploads/2022/10/Skaermbillede-44-4.png
END:VEVENT
BEGIN:VEVENT
DTSTART;TZID=Europe/Copenhagen:20221031T100000
DTEND;TZID=Europe/Copenhagen:20221031T110000
DTSTAMP:20260421T210021
CREATED:20220920T105415Z
LAST-MODIFIED:20221014T114056Z
UID:30956-1667210400-1667214000@spildansk.dk
SUMMARY:Drop in-sang på Jyderup Bibliotek
DESCRIPTION:Kom til en hyggelig formiddag\, hvor vi synger danske sange sammen.\n\n\n\n\n\n 
URL:https://spildansk.dk/kalender/drop-in-sang-paa-jyderup-bibliotek/
LOCATION:Jyderup Bibliotek\, Skarridsøgade 37\, Jyderup\, 4450
CATEGORIES:Fællessang
ATTACH;FMTTYPE=image/jpeg:https://spildansk.dk/wp-content/uploads/2022/09/Morgensang1-scaled.jpg
ORGANIZER;CN="Holb%C3%A6k Bibliotek":MAILTO:holbib@holb.dk
END:VEVENT
BEGIN:VEVENT
DTSTART;TZID=Europe/Copenhagen:20221031T100000
DTEND;TZID=Europe/Copenhagen:20221031T105000
DTSTAMP:20260421T210021
CREATED:20221028T103313Z
LAST-MODIFIED:20221028T103313Z
UID:31535-1667210400-1667213400@spildansk.dk
SUMMARY:Tikke Takke på Gentofte hovedbibliotek
DESCRIPTION:Tikke Takke – Gakket hav-koncert for børn og deres voksne\n\n\n31.10.22\n\n\n\n\n\nTag med Andreas & Tikke Takke ud på et ocean af sprudlende vilde sange!\n\n\n\n\n\nHør sangen om Edderkoppen Bobby\, der elsker havet\, men lider så frygteligt af vandskræk\, at han bliver helt tørstig. Et problem\, som kun en bestemt særlig ven kan hjælpe ham med. Krabben Ken\, der elsker at danse tango – og nipse hele familien i tæerne. Og mange\, mange flere originale og gakkede sange. Tikke Takke er forrygende børnemusik\, der med latinamerikanske rytmer\, swing\, jazz\, hiphop giver børn og voksne en dejlig oplevelse. \nSangene er skabt af musiker og komponist Andreas Ugorskij og historiefortæller Hans Laurens i dialog med tusindvis af børn fra hele landet. Tikke Takke’s nye udgivelse ‘Verdens hurtigste fisk’ er netop udkommet\, – en illustreret musik-børnebog. Inde i bogen findes QR koder til Tikke Takkes musik\, så du kan lytte til Tikke Takke’s fantastiske musik\, mens du læser bogen. \nKoncerten er finansieret af Koda Spil Dansk. \nMusikere:\nAndreas Ugorskij – guitar og vokal\nHans Laurens – vokal\nJohan Segerberg – bas\nBjørn Heebøl – trommer\nNana Schwartzlose – vokal\nOle Reimer – trompet
URL:https://spildansk.dk/kalender/tikke-takke-paa-gentofte-hovedbibliotek/
LOCATION:gentofte hovedbibliotek\, Ahlmanns Allé 6\, Hellerup\, 2900
CATEGORIES:Fællessang,Jazz,Musik til børn
ATTACH;FMTTYPE=image/jpeg:https://spildansk.dk/wp-content/uploads/2022/10/DSC_7407-scaled.jpg
END:VEVENT
BEGIN:VEVENT
DTSTART;TZID=Europe/Copenhagen:20221031T070000
DTEND;TZID=Europe/Copenhagen:20221031T090000
DTSTAMP:20260421T210021
CREATED:20221026T094835Z
LAST-MODIFIED:20221026T094835Z
UID:31478-1667199600-1667206800@spildansk.dk
SUMMARY:Metromorgensang
DESCRIPTION:Kom og syng dagen godt i gang\, når Storbyen Synger byder velkommen til fællessang på Kgs. Nytorv metrostation fra kl 7-9. Sangere fra ensemblet UngKlang synger for. og sangtekster deles rundt. \nDet er gratis at synge med.
URL:https://spildansk.dk/kalender/metromorgensang/
LOCATION:Metroen (Kgs. Nytorv station)\, kongens nytov
CATEGORIES:Fællessang
ATTACH;FMTTYPE=image/jpeg:https://spildansk.dk/wp-content/uploads/2022/10/220127SangensHus01082.jpg
ORGANIZER;CN="Sangkraftcentret Storbyen Synger":MAILTO:syngmed@storbyensynger.dk
END:VEVENT
BEGIN:VEVENT
DTSTART;TZID=Europe/Copenhagen:20221031T000000
DTEND;TZID=Europe/Copenhagen:20221031T000000
DTSTAMP:20260421T210021
CREATED:20221006T111737Z
LAST-MODIFIED:20221006T111737Z
UID:31140-1667174400-1667174400@spildansk.dk
SUMMARY:Spil Dansk på Carolineparken
DESCRIPTION:DeGladeSpillemænd underholder.
URL:https://spildansk.dk/kalender/spil-dansk-paa-carolineparken-2/
LOCATION:Carolineparken\, Carolineparken 1a\, Varde\, 6800
CATEGORIES:Koncert
ATTACH;FMTTYPE=image/jpeg:https://spildansk.dk/wp-content/uploads/2022/10/bannerbillede-spil-dansk-12-scaled.jpg
END:VEVENT
BEGIN:VEVENT
DTSTART;TZID=Europe/Copenhagen:20221030T140000
DTEND;TZID=Europe/Copenhagen:20221030T153000
DTSTAMP:20260421T210021
CREATED:20220901T112028Z
LAST-MODIFIED:20220901T112122Z
UID:30903-1667138400-1667143800@spildansk.dk
SUMMARY:Koncert med Søren Krogh & Janus Bechmann
DESCRIPTION:Søren Krogh – sangskriver\, musiker og sanger – udgiver sit 10. album i slutningen af året efter 9 anmelderroste albums og mere end 2000 koncerter. \nI februar 2018 udgav han sit 9. album Globus\, som blev flittigt spillet på DR. Han vandt i 2016 Danish Music Award-folk som årets sanger og har tidligere også vundet som årets sangskriver i 2013. I 2011 modtog han Gelsted/Kirk/Scherfig-prisen for sit vedholdende arbejde med danske sange. \nTil årets Spil Dansk Dags-koncerter har han sin partner in crime\, guitaristen Janus Bechmann med. Som koncertnavn er Krogh en stor musikalsk oplevelse\, men han er altså også bare en af musikbranchens bedste historiefortællere.
URL:https://spildansk.dk/kalender/koncert-med-soeren-krogh-janus-bechmann/
LOCATION:Thorøhuse Forsamlingshus\, Drejet 7\, Assens\, 5610
CATEGORIES:Koncert
ATTACH;FMTTYPE=image/jpeg:https://spildansk.dk/wp-content/uploads/2022/09/Pressefoto-2020-Krogh-og-Bechmann-med-projektoer-farve-IMG_6828-.jpg
END:VEVENT
BEGIN:VEVENT
DTSTART;TZID=Europe/Copenhagen:20221027T190000
DTEND;TZID=Europe/Copenhagen:20221027T203000
DTSTAMP:20260421T210021
CREATED:20221027T074818Z
LAST-MODIFIED:20221027T074954Z
UID:31514-1666897200-1666902600@spildansk.dk
SUMMARY:Syng Dansk i Fodby Kirke
DESCRIPTION:Igen i år synger Erik Fjordside og\nPernille Wolder for\, akkompagneret\naf vores organist Anja.\nAftenen står i fællessangens tegn. I\npausen vil der være kaffe og kage.
URL:https://spildansk.dk/kalender/syng-dansk-i-fodby-kirke-3/
LOCATION:Fodby Kirke
END:VEVENT
BEGIN:VEVENT
DTSTART;TZID=Europe/Copenhagen:20221027T163000
DTEND;TZID=Europe/Copenhagen:20221027T173000
DTSTAMP:20260421T210021
CREATED:20221024T120411Z
LAST-MODIFIED:20221024T120411Z
UID:31386-1666888200-1666891800@spildansk.dk
SUMMARY:Patientkoncert med kræftpatienternes hus
DESCRIPTION:16.30 – 17.30\nKoncert med Camilla Dayyani\, klaver og sang\nKan musik bruges til at skabe trivsel i en udfordrende\ntid? Kan det påvirke vores humør og skabe positiv\nstemning i krop og sjæl? Ja\, det kan! Kom til koncert\nmed den professionelle jazzsangerinde Camilla Dayyani
URL:https://spildansk.dk/kalender/patientkoncert-med-kraeftpatienternes-hus/
LOCATION:Kræftpatienternes Hus\, Beriderbakken 9\, Vejle\, 7100\, Danmark
CATEGORIES:Koncert
END:VEVENT
BEGIN:VEVENT
DTSTART;TZID=Europe/Copenhagen:20221027T093000
DTEND;TZID=Europe/Copenhagen:20221027T110000
DTSTAMP:20260421T210021
CREATED:20221006T104831Z
LAST-MODIFIED:20221006T105439Z
UID:31116-1666863000-1666868400@spildansk.dk
SUMMARY:International Bamsedag
DESCRIPTION:Der er oplæsning og hygge\, når vi traditionen tro fejrer den Internationale Bamsedag. Hanne Bech læser og fortæller bamsehistorier\, mens Dorthe Bach Jensen\, musiklærer og dukketeaterdirektør\, står for bamsegymnastik og bamsesange. Alle børn får en bamse med hjem.\nDen Internationale Bamsedag blev indført på de nordiske biblioteker i 1999.\nGratis billet skal bestilles på www.musikogbilledskolen.dk/spildansk
URL:https://spildansk.dk/kalender/international-bamsedag-2/
LOCATION:Ølgod Bibliotek\, Vestergade 5\, Ølgod\, 6870
CATEGORIES:Musik til børn
ATTACH;FMTTYPE=image/jpeg:https://spildansk.dk/wp-content/uploads/2022/10/bannerbillede-spil-dansk-6-scaled.jpg
END:VEVENT
BEGIN:VEVENT
DTSTART;TZID=Europe/Copenhagen:20221027T080000
DTEND;TZID=Europe/Copenhagen:20221027T140000
DTSTAMP:20260421T210021
CREATED:20220920T120004Z
LAST-MODIFIED:20220920T120004Z
UID:30988-1666857600-1666879200@spildansk.dk
SUMMARY:Lyden af frihed
DESCRIPTION:Hvad er frihed for skolebørn i år 2022? Dette er temaet for denne workshop\, hvor en gruppe elever på Strandmølleskolen i Assens guides af en professionel komponist i at skabe deres egen “lyd” af frihedsfølelse. Gennem en række legende kompositionsøvelser vil komponisten rammesætte skolebørnenes musikalske skaben. \nAssens Kommune er Spil Dansk Kommune.
URL:https://spildansk.dk/kalender/lyden-af-frihed-10/
LOCATION:Strandmølleskolen\, Damgade 34\, Assens\, 5610
CATEGORIES:Workshop
ATTACH;FMTTYPE=image/jpeg:https://spildansk.dk/wp-content/uploads/2022/09/Lyden-af-frihed.jpg
END:VEVENT
BEGIN:VEVENT
DTSTART;TZID=Europe/Copenhagen:20221026T193000
DTEND;TZID=Europe/Copenhagen:20221026T193000
DTSTAMP:20260421T210021
CREATED:20221006T104607Z
LAST-MODIFIED:20221006T105520Z
UID:31113-1666812600-1666812600@spildansk.dk
SUMMARY:Spil Dansk Fællessang
DESCRIPTION:Fællessang med pianist og lærer på Vardeegnens Efterskole\, Birk Johansen\, som på fornemste vis vil lede os igennem Spil Dansk aftenen ved hjælp af Højskolesangbogen og små anekdoter om sangene. \nArr. Kulturdagene Ølgod
URL:https://spildansk.dk/kalender/spil-dansk-faellessang-8/
LOCATION:Kulturhuset Ølgod\, Vestergade 5\, Ølgod\, 6870
CATEGORIES:Fællessang
ATTACH;FMTTYPE=image/jpeg:https://spildansk.dk/wp-content/uploads/2022/10/bannerbillede-spil-dansk-7-scaled.jpg
END:VEVENT
BEGIN:VEVENT
DTSTART;TZID=Europe/Copenhagen:20221025T093000
DTEND;TZID=Europe/Copenhagen:20221025T120000
DTSTAMP:20260421T210021
CREATED:20221024T120624Z
LAST-MODIFIED:20221024T120624Z
UID:31390-1666690200-1666699200@spildansk.dk
SUMMARY:Emma Hørlyck
DESCRIPTION:Emma Hørlyck sangskriver besøg på Rødkilde Gymnasium
URL:https://spildansk.dk/kalender/emma-hoerlyck/
LOCATION:Rødkilde Gymnasium
CATEGORIES:Undervisning,Koncert,Foredrag
END:VEVENT
BEGIN:VEVENT
DTSTART;TZID=Europe/Copenhagen:20221021T170000
DTEND;TZID=Europe/Copenhagen:20221021T183000
DTSTAMP:20260421T210021
CREATED:20221006T104404Z
LAST-MODIFIED:20221006T105536Z
UID:31109-1666371600-1666377000@spildansk.dk
SUMMARY:Skumringskoncert
DESCRIPTION:Kom til en stemningsfuld og åbenhjertig efterårskoncert med trioen Kirstine Bonde\, Karl Gade og Per Sønderby.\nGratis adgang. OBS! Koncerten foregår udendørs så husk fornuftig påklædning og evt. et tæppe.\nVarm suppe og drikkevarer kan købes.\nSkumringskoncerten er en del af Naturparkugen\, se mere her\nArr. Vardemuseerne\, Naturpark Vesterhavet og Varde Kommune
URL:https://spildansk.dk/kalender/skumringskoncert/
LOCATION:Nymindegab Museum\, Vesterhavsvej 294\, Nymindegab\, 6830
CATEGORIES:Koncert
ATTACH;FMTTYPE=image/jpeg:https://spildansk.dk/wp-content/uploads/2022/10/bannerbillede-spil-dansk-8-scaled.jpg
END:VEVENT
BEGIN:VEVENT
DTSTART;TZID=Europe/Copenhagen:20221006T113000
DTEND;TZID=Europe/Copenhagen:20221103T123000
DTSTAMP:20260421T210021
CREATED:20221006T110128Z
LAST-MODIFIED:20221006T110128Z
UID:31134-1665055800-1667478600@spildansk.dk
SUMMARY:Lungekoret holder åbent hus
DESCRIPTION:Musik og Billedskolens Lungekor synger og træner hver onsdag efterfulgt af en kop kaffe og en småkage. På holdet trænes lungerne via øvelser\, og der er fokus på den dybe afspændte vejrtrækning og glæden ved at synge. Her er altid plads til et godt grin.\nKom og mød koret til åbent hus og syng med.
URL:https://spildansk.dk/kalender/lungekoret-holder-aabent-hus/
LOCATION:Stålværket\, Vestervold 11\, Varde\, 6800\, Danmark
CATEGORIES:Fællessang
ATTACH;FMTTYPE=image/jpeg:https://spildansk.dk/wp-content/uploads/2022/10/bannerbillede-spil-dansk-11-scaled.jpg
ORGANIZER;CN="musik &amp%3B billedskolen Varde":MAILTO:vkm@varde.dk
END:VEVENT
END:VCALENDAR