BEGIN:VCALENDAR
VERSION:2.0
PRODID:-//Spil Dansk - ECPv6.5.0//NONSGML v1.0//EN
CALSCALE:GREGORIAN
METHOD:PUBLISH
X-ORIGINAL-URL:https://spildansk.dk
X-WR-CALDESC:Events for Spil Dansk
REFRESH-INTERVAL;VALUE=DURATION:PT1H
X-Robots-Tag:noindex
X-PUBLISHED-TTL:PT1H
BEGIN:VTIMEZONE
TZID:Europe/Copenhagen
BEGIN:DAYLIGHT
TZOFFSETFROM:+0100
TZOFFSETTO:+0200
TZNAME:CEST
DTSTART:20200329T010000
END:DAYLIGHT
BEGIN:STANDARD
TZOFFSETFROM:+0200
TZOFFSETTO:+0100
TZNAME:CET
DTSTART:20201025T010000
END:STANDARD
END:VTIMEZONE
BEGIN:VEVENT
DTSTART;TZID=Europe/Copenhagen:20201028T110000
DTEND;TZID=Europe/Copenhagen:20201030T130000
DTSTAMP:20260423T051954
CREATED:20201020T093121Z
LAST-MODIFIED:20201020T093254Z
UID:26129-1603882800-1604062800@spildansk.dk
SUMMARY:Lav musik til en film
DESCRIPTION:Som en del af Spil Dansk-ugen\, har vi gjort det muligt at prøve kræfter med hvordan man skaber musik til film. I vores biografrum\, viser vi kortfilmen ”Pusten” instrueret af Kathrine Vintersborg. Men I skal ikke bare se filmen\, for vi har stillet instrumenter frem\, så børnene sammen med deres voksne kan skabe livemusik til filmen. Tilmelding nødvendigt:\n28.okt. kl. 11-12 https://www.roskildebib.dk/…/saet-livemusik-til-en-film-0\n28/10 kl. 12.30 – 13.30 https://www.roskildebib.dk/…/saet-livemusik-til-en-film\n30/10 kl. 11-12 https://www.roskildebib.dk/…/hvad-sker-der-med-film…\n30/10 kl. 12.30-13.30 https://www.roskildebib.dk/…/hvad-sker-der-med-film…
URL:https://spildansk.dk/kalender/lav-musik-til-en-film/
LOCATION:Algade 31 – kreativt hus for børn\, Algade 31\, Roskilde\, 4000
CATEGORIES:Filmkoncert,Musik til børn
ATTACH;FMTTYPE=image/jpeg:https://spildansk.dk/wp-content/uploads/2020/10/06-10-17-Rytmisk-Center-Low-YHA-13-of-27.jpg
ORGANIZER;CN="Algade 31 - kreativt hus for b%C3%B8rn":MAILTO:bibalgade31@roskilde.dk
END:VEVENT
BEGIN:VEVENT
DTSTART;TZID=Europe/Copenhagen:20201028T111500
DTEND;TZID=Europe/Copenhagen:20201028T121500
DTSTAMP:20260423T051954
CREATED:20201009T115842Z
LAST-MODIFIED:20201009T115842Z
UID:25784-1603883700-1603887300@spildansk.dk
SUMMARY:Eastwind
DESCRIPTION:LMS koncert
URL:https://spildansk.dk/kalender/eastwind-6/
LOCATION:Kildedamsskolen afd. St. Merløse\, Holbækvej 30 B-D\, Store Merløse\, 4370\, Danmark
END:VEVENT
BEGIN:VEVENT
DTSTART;TZID=Europe/Copenhagen:20201028T113000
DTEND;TZID=Europe/Copenhagen:20201028T123000
DTSTAMP:20260423T051954
CREATED:20201009T115847Z
LAST-MODIFIED:20201009T115847Z
UID:25785-1603884600-1603888200@spildansk.dk
SUMMARY:Admiral Awesome
DESCRIPTION:LMS koncert
URL:https://spildansk.dk/kalender/admiral-awesome-7/
LOCATION:Højvangskolen\, Højvangsallé 20\, Horsens\, 8700\, Danmark
END:VEVENT
BEGIN:VEVENT
DTSTART;TZID=Europe/Copenhagen:20201028T115500
DTEND;TZID=Europe/Copenhagen:20201028T125500
DTSTAMP:20260423T051954
CREATED:20201009T115853Z
LAST-MODIFIED:20201009T115853Z
UID:25786-1603886100-1603889700@spildansk.dk
SUMMARY:Ea Philippa
DESCRIPTION:LMS koncert
URL:https://spildansk.dk/kalender/ea-philippa-6/
LOCATION:Koldby Skole\, Limfjordsgade 9\, Koldby\, Snedsted\, 7752\, Danmark
END:VEVENT
BEGIN:VEVENT
DTSTART;TZID=Europe/Copenhagen:20201028T120000
DTEND;TZID=Europe/Copenhagen:20201028T130000
DTSTAMP:20260423T051954
CREATED:20200905T163059Z
LAST-MODIFIED:20200907T110018Z
UID:24817-1603886400-1603890000@spildansk.dk
SUMMARY:Magali Michaut Koncert
DESCRIPTION:Charmerende fransk folkemusik.\n“En fløjlsstemme\, nøjagtige præcise fingre på guitaren\, lyrisk violin\, en brusende bølge af klaver … Magali Michaut spinder små magiske øjeblikke af den slags du kan farer vild i.” Ved at blande påvirkninger fra klassisk musik\, franske chansons og folkeballader\, præsenterer hun stærke og poetiske tekster og transporterer dig ud i Paris’ gader og rundt omkring i hele verden.\n\nHun var finalist i “Concours de la Chanson 2017” arrangeret af Alliance Française i La Haye. Magali Michaut er en fransk sangskriver bosat i København. Efter at have spillet violin i symfoniorkestre i Paris\, Cambridge\, Toronto og Amsterdam\, debuterede Magali på den hollandske sangskriverscene i 2014 og udførte sine sange på engelsk og fransk – og på guitar\, klaver og ukulele. Hendes debut-EP ‘Bonjour’ fra 2016 har ført hende til koncerter i ti lande (Holland\, USA\, Danmark\, Sverige\, Tyskland\, Estland\, Italien\, Frankrig\, Irland\, Grønland).
URL:https://spildansk.dk/kalender/magali-michaut-koncert/
LOCATION:Roskilde Bibliotek\, Dronning Margrethesvej 14\, 4000\, Roskilde\, Danmark
CATEGORIES:Koncert,Folk,Indie,Pop,Singer-songwriter,World
ATTACH;FMTTYPE=image/jpeg:https://spildansk.dk/wp-content/uploads/2020/09/Magali-Portrait-Low-Res-61.jpg
ORGANIZER;CN="Roskilde Bibliotekerne":MAILTO:mellemreolerne@roskilde.dk
END:VEVENT
BEGIN:VEVENT
DTSTART;TZID=Europe/Copenhagen:20201028T120000
DTEND;TZID=Europe/Copenhagen:20201028T130000
DTSTAMP:20260423T051954
CREATED:20201009T115859Z
LAST-MODIFIED:20201009T115859Z
UID:25787-1603886400-1603890000@spildansk.dk
SUMMARY:HeartBeat Group
DESCRIPTION:LMS koncert
URL:https://spildansk.dk/kalender/heartbeat-group-7/
LOCATION:Sydvestmors Friskole\, Næssundvej 325\, Karby\, 7960\, Danmark
END:VEVENT
BEGIN:VEVENT
DTSTART;TZID=Europe/Copenhagen:20201028T120000
DTEND;TZID=Europe/Copenhagen:20201028T130000
DTSTAMP:20260423T051954
CREATED:20201009T115910Z
LAST-MODIFIED:20201009T115910Z
UID:25788-1603886400-1603890000@spildansk.dk
SUMMARY:Goin' Back To New Orleans
DESCRIPTION:LMS koncert
URL:https://spildansk.dk/kalender/goin-back-to-new-orleans-8/
LOCATION:Lærkeskolen\, Præstegårdsvej 30\, Stenløse\, 3660\, Danmark
END:VEVENT
BEGIN:VEVENT
DTSTART;TZID=Europe/Copenhagen:20201028T120000
DTEND;TZID=Europe/Copenhagen:20201028T130000
DTSTAMP:20260423T051954
CREATED:20201026T080003Z
LAST-MODIFIED:20201026T080003Z
UID:26757-1603886400-1603890000@spildansk.dk
SUMMARY:Musik i arbejdstøjet med Micky Skeel
DESCRIPTION:Koncert med Micky Skeel på Walthers Musikcafé i Skanderborg for Pilgrim.  \nMicky Skeel var i 2010 med til at starte gruppen PULS. De havde flere sange der opnåede guld og platin heriblandt “Dope” og “Ingen Som Du”. I 3 år spillede de flere hundrede diskotek og festivaljobs. Efter tiden med PULS gik Micky solo og har udgivet nogle danske numre så som “Kys Ham Nu” der gik guld. I 2019 skiftede han det danske sprog ud med det engelske\, efter et 2 årigt ophold i LA\, og har siden udgivet 6 singler. “Boy You’re Good” er den der har klaret sig bedst med knap 4 millioner streams. \nVed siden af sit virke som artist arbejder Micky som sangskriver og har skrevet sange til blandt andet Måns Zelmerlöw\, Cliff Richards og Gulddreng.
URL:https://spildansk.dk/kalender/musik-i-arbejdstoejet-med-micky-skeel/
LOCATION:Walthers Musikcafé\, Adelgade 125\, Skanderborg\, 8660\, Danmark
CATEGORIES:Koncert
ATTACH;FMTTYPE=image/jpeg:https://spildansk.dk/wp-content/uploads/2020/10/Micky-Skeel-scaled.jpg
END:VEVENT
BEGIN:VEVENT
DTSTART;TZID=Europe/Copenhagen:20201028T120000
DTEND;TZID=Europe/Copenhagen:20201028T160000
DTSTAMP:20260423T051954
CREATED:20200924T145855Z
LAST-MODIFIED:20200924T145855Z
UID:25084-1603886400-1603900800@spildansk.dk
SUMMARY:Tue West
DESCRIPTION:Tue West giver en 2. g klasse på Rosborg Gymnasium en sangskriver Workshop. \nRosborg Gymnasium deltager hvert år i trekantens gymnasie MGP hvor eleverne skriver deres egne sange. Workshoppen med Tue West kan være med til at give dem redskaber og viden til at skrive endnu bedre tekster.
URL:https://spildansk.dk/kalender/tue-west/
LOCATION:Rosborg Gymnasium\, Vestre Engvej 61\, Vejle\, 7100
CATEGORIES:Singer-songwriter,Workshop
END:VEVENT
BEGIN:VEVENT
DTSTART;TZID=Europe/Copenhagen:20201028T121500
DTEND;TZID=Europe/Copenhagen:20201028T131500
DTSTAMP:20260423T051954
CREATED:20201009T115917Z
LAST-MODIFIED:20201009T115917Z
UID:25789-1603887300-1603890900@spildansk.dk
SUMMARY:Mirja Klippel
DESCRIPTION:LMS koncert
URL:https://spildansk.dk/kalender/mirja-klippel-7/
LOCATION:Lille Næstved Skole afd. Herlufsholmvej\, Herlufsholmvej 16\, Næstved\, 4700\, Danmark
END:VEVENT
BEGIN:VEVENT
DTSTART;TZID=Europe/Copenhagen:20201028T122500
DTEND;TZID=Europe/Copenhagen:20201028T132500
DTSTAMP:20260423T051954
CREATED:20201009T115923Z
LAST-MODIFIED:20201009T115923Z
UID:25790-1603887900-1603891500@spildansk.dk
SUMMARY:Bisse
DESCRIPTION:LMS koncert
URL:https://spildansk.dk/kalender/bisse-6/
LOCATION:Bavnebakken\, Støvring\, Rebild\, Danmark
END:VEVENT
BEGIN:VEVENT
DTSTART;TZID=Europe/Copenhagen:20201028T123000
DTEND;TZID=Europe/Copenhagen:20201028T133000
DTSTAMP:20260423T051954
CREATED:20201009T115929Z
LAST-MODIFIED:20201009T115929Z
UID:25791-1603888200-1603891800@spildansk.dk
SUMMARY:HP Lange & Jarno Varsted
DESCRIPTION:LMS koncert
URL:https://spildansk.dk/kalender/hp-lange-jarno-varsted-7/
LOCATION:Vinding Skole\, Vindingvej 54\, Vejle\, 7100\, Danmark
END:VEVENT
BEGIN:VEVENT
DTSTART;TZID=Europe/Copenhagen:20201028T123000
DTEND;TZID=Europe/Copenhagen:20201028T133000
DTSTAMP:20260423T051954
CREATED:20201009T115936Z
LAST-MODIFIED:20201009T115936Z
UID:25792-1603888200-1603891800@spildansk.dk
SUMMARY:Admiral Awesome
DESCRIPTION:LMS koncert
URL:https://spildansk.dk/kalender/admiral-awesome-8/
LOCATION:Højvangskolen\, Højvangsallé 20\, Horsens\, 8700\, Danmark
END:VEVENT
BEGIN:VEVENT
DTSTART;TZID=Europe/Copenhagen:20201028T124500
DTEND;TZID=Europe/Copenhagen:20201028T134500
DTSTAMP:20260423T051954
CREATED:20201009T115947Z
LAST-MODIFIED:20201009T115947Z
UID:25793-1603889100-1603892700@spildansk.dk
SUMMARY:APHYXION
DESCRIPTION:LMS koncert
URL:https://spildansk.dk/kalender/aphyxion-6/
LOCATION:Hjordkær Skole\, Birkholm 7\, Hjordkær\, Rødekro\, 6230\, Danmark
END:VEVENT
BEGIN:VEVENT
DTSTART;TZID=Europe/Copenhagen:20201028T130500
DTEND;TZID=Europe/Copenhagen:20201028T140500
DTSTAMP:20260423T051954
CREATED:20201009T115952Z
LAST-MODIFIED:20201009T115952Z
UID:25794-1603890300-1603893900@spildansk.dk
SUMMARY:Sisters of Jazz
DESCRIPTION:LMS koncert
URL:https://spildansk.dk/kalender/sisters-of-jazz-6/
LOCATION:Sejergårdsskolen\, Tølløse\, Holbæk\, Danmark
END:VEVENT
BEGIN:VEVENT
DTSTART;TZID=Europe/Copenhagen:20201028T133000
DTEND;TZID=Europe/Copenhagen:20201028T160000
DTSTAMP:20260423T051954
CREATED:20200901T075409Z
LAST-MODIFIED:20200901T075958Z
UID:24769-1603891800-1603900800@spildansk.dk
SUMMARY:Spil Dansk ugen i Solrød
DESCRIPTION:Spil dansk er fejring af dansk musik \nDet foregår over hele landet i uge 44. \nAFC er med\, og inviterer til en hyggelig eftermiddag\, hvor vi skal synge mange dejlige danske sange—både ældre og nyere. Ledsaget af musik. \nI pausen er der kaffe og kage \nBillet købes på afcfrivil.nemtilmeld.dk \n 
URL:https://spildansk.dk/kalender/spil-dansk-ugen-i-solroed/
LOCATION:Solrød Aktivitets- og Frivilligcenter\, Solrød Center 85\, Solrød\, 2680 Solrød Strand
CATEGORIES:Alternative
ATTACH;FMTTYPE=image/png:https://spildansk.dk/wp-content/uploads/2020/09/Spil-dansk-2020.png
END:VEVENT
BEGIN:VEVENT
DTSTART;TZID=Europe/Copenhagen:20201028T140000
DTEND;TZID=Europe/Copenhagen:20201028T143000
DTSTAMP:20260423T051954
CREATED:20201019T132315Z
LAST-MODIFIED:20201019T132315Z
UID:26026-1603893600-1603895400@spildansk.dk
SUMMARY:"Fællessang for frihed" - Regitze & Mathias
DESCRIPTION:‘Fællessang for Frihed’ afholdes over hele landet i anledning af ALSANG 2020\, Danmarks største fællessang-initiativ\, og udgivelsen af Højskolesangbogens 19. udgave\, som udkommer den 12. november i år. \nArrangementet byder både på traditionsrige og folkekære frihedssange fra Højskolesangbogen. \n‘Fællessang for Frihed’ akkompagneres af Regitze Glenthøj (voc) & Mads Granum (pno)\, der leder publikum sikkert gennem repertoiret af markante danske frihedssange. \nArrangementet præsenteres i samarbejde med Spil Dansk-ugen. \nGratis adgang.
URL:https://spildansk.dk/kalender/faellessang-for-frihed-regitze-mathias-3/
LOCATION:Dalby Ældrecenter\, Lindhardsvej 5\, Haslev\, 4690
CATEGORIES:Koncert,Fællessang
ATTACH;FMTTYPE=image/jpeg:https://spildansk.dk/wp-content/uploads/2020/10/uzyGU2Nw.jpeg
END:VEVENT
BEGIN:VEVENT
DTSTART;TZID=Europe/Copenhagen:20201028T140000
DTEND;TZID=Europe/Copenhagen:20201028T145000
DTSTAMP:20260423T051955
CREATED:20200915T105227Z
LAST-MODIFIED:20200915T105227Z
UID:24928-1603893600-1603896600@spildansk.dk
SUMMARY:Børnekor
DESCRIPTION:Børnekor\n\n\nGår du i 2.\, 3 eller 4. klasse\, og kan du lide at synge? Så kom og vær med i Sct. Clemens Kirkes Børnekor.. \nSted: Sct. Clemens Kirke Tid: Hver onsdag kl. 14.00 – 14.50 (Første gang onsdag 2. september)I Sct. Clemens Kirkes Børnekor synger vi både rytmisk og klassisk\, og vi skal medvirke ved en række gudstjenester\, koncerter og andre spændende aktiviteter i løbet af året.Det er gratis at deltage.Info og tilmelding: Kontakt Mads Wadmann\, korleder og organist\, på tlf. 22830282 eller mail: madswadman@hotmail.com
URL:https://spildansk.dk/kalender/boernekor-2/
LOCATION:Sct. Clemens Kirke\, Parkboulevarden 15\, Randers\, 8900
CATEGORIES:Fællessang
END:VEVENT
BEGIN:VEVENT
DTSTART;TZID=Europe/Copenhagen:20201028T140000
DTEND;TZID=Europe/Copenhagen:20201028T150000
DTSTAMP:20260423T051955
CREATED:20200910T131042Z
LAST-MODIFIED:20200910T131214Z
UID:24837-1603893600-1603897200@spildansk.dk
SUMMARY:Koncert med Sct. Ibs Skoles kor
DESCRIPTION:Traditionen tro kan du igen i år opleve Sct. Ibs Skoles kor give koncert i Spil Dansk ugen. Koret synger rytmiske sange på dansk og engelsk og giver koncerter lokalt og i udlandet. Rebekka Gjerløv Christiensen og Jacob Steffensen leder koret.
URL:https://spildansk.dk/kalender/koncert-med-sct-ibs-skoles-kor/
LOCATION:Horsens Bibliotek\, Tobaksgården 12\, Horsens\, 8700\, Danmark
CATEGORIES:Koncert
ORGANIZER;CN="Horsens Bibliotek":MAILTO:bibhk@horsens.dk
END:VEVENT
BEGIN:VEVENT
DTSTART;TZID=Europe/Copenhagen:20201028T150000
DTEND;TZID=Europe/Copenhagen:20201028T153000
DTSTAMP:20260423T051955
CREATED:20200928T082323Z
LAST-MODIFIED:20200928T082323Z
UID:25173-1603897200-1603899000@spildansk.dk
SUMMARY:KUNSTFRØ
DESCRIPTION:Den brune kuffert – en koncertfortælling for børn (4-7 år). \nMin oldefar var både rar og klog – og en lille smule skør. Han havde engang en kuffert. Det sagde han i hvert fald. Den lignede en helt almindelig kuffert. Men den var slet ikke almindelig. Den var fyldt med eventyr og musik. \n“Du skal lytte”\, sagde oldefar. “Engang\, når du bliver parat\, vil du kunne høre\, hvor den er.”\n“Oldefar fortæller røverhistorier”\, sagde de voksne. Og da han døde\, talte ingen længere om kufferten. \nMen så skete der noget i går aftes: Alle andre sov\, og der var helt stille i huset. Sådan en særlig stilhed\, der får tankerne til at flyve. Jeg kom til at tænke på oldefars historie – og pludselig kunne jeg høre lyden.”\nFortællingen handler om de mangfoldige eventyr\, der udspiller sig i lydene omkring os\, hvis vi lærer at lytte til dem. \nKUNSTFRØ blev dannet i 2008 og spillede til at begynde med udelukkende for babyer og forældre. Idéen var baseret på Cecilia Engelbrecht Heick’s album\, “Sange til dig“\, der var udkommet samme år\, og som er rettet mod at bruge musik som en bevidst del af kommunikationen mellem babyer og forældre. Siden har ensemblet lavet flere koncertproduktioner målrettet forskellige aldersgrupper og spillet mere end 50 koncerter over hele landet i større eller mindre konstellationer. \nLINE UP\nCecilia Engelbrecht Heick (sang\, fortælling mm.)\nThomas Clausen (klaver)\nThomas Fonnesbæk (kontrabas)
URL:https://spildansk.dk/kalender/kunstfroe/
LOCATION:Tobaksgaarden\, Tobaksgådern 7\, Assens\, 5610\, Danmark
CATEGORIES:Koncert,Musik til børn
ATTACH;FMTTYPE=image/png:https://spildansk.dk/wp-content/uploads/2020/09/kunstfrø-1.png
ORGANIZER;CN="Tobaksgaarden":MAILTO:post@tobaksgaarden.dk
END:VEVENT
BEGIN:VEVENT
DTSTART;TZID=Europe/Copenhagen:20201028T150000
DTEND;TZID=Europe/Copenhagen:20201028T163000
DTSTAMP:20260423T051955
CREATED:20200915T105801Z
LAST-MODIFIED:20200915T105801Z
UID:24930-1603897200-1603902600@spildansk.dk
SUMMARY:Pigekor
DESCRIPTION:Pigekoret har eksisteret i 6 år\, og er i denne sæson for piger i 5. 8. Klasse. Koret tæller 14 dygtige korpiger ved sæsonslutning i juni 2020.. \nSted: Sct. Clemens Kirke Tid: Hver onsdag kl. 15-00-16.30* Første gang: Onsdag 2. september Vi synger primært 3- og 4-stemmige satser\, både rytmiske og klassiske. Koret medvirker ved en række gudstjenester og koncerter i løbet af året. Der vil endvidere blive arrangeret et par weekend-workshops samt en hyttetur i foråret. Det er gratis at være med i Pigekoret. Det kræver en lille stemmeprøve at blive optaget. Info og tilmelding: Kontakt Mads Wadmann\, korleder og organist\, på tlf. 22830282 eller mail:
URL:https://spildansk.dk/kalender/pigekor/
LOCATION:Sct. Clemens Kirke\, Parkboulevarden 15\, Randers\, 8900
CATEGORIES:Fællessang
END:VEVENT
BEGIN:VEVENT
DTSTART;TZID=Europe/Copenhagen:20201028T160000
DTEND;TZID=Europe/Copenhagen:20201028T170000
DTSTAMP:20260423T051955
CREATED:20200925T062130Z
LAST-MODIFIED:20200928T065816Z
UID:25095-1603900800-1603904400@spildansk.dk
SUMMARY:Børne- og familiekoncert
DESCRIPTION:Wenzell & Bugge er en spændende og energisk blanding af violinist og spillemand Kristian Bugge og den internationale slagtøjssolist\, Ronni Kot Wenzell. \nSammen sætter de virtuost noget af vores ældste musik sammen på kryds og tværs i nye sjove fortolkninger\, nye lyd-universer og masser af høj energi. Duoen har spillet op mod 1.000 koncerter sammen og har gennem flere år været utrolig populære til børne- og familiekoncerter rundt i Skandinavien.
URL:https://spildansk.dk/kalender/boerne-og-familiekoncert-2/
LOCATION:Domus Salen\, Ved Sønderåen 1\, Vejle\, 7100
CATEGORIES:Folk,Klassisk,Musik til børn
ATTACH;FMTTYPE=image/jpeg:https://spildansk.dk/wp-content/uploads/2020/09/Wenzell-Bugge-profil-billede1440x700px.jpg
END:VEVENT
BEGIN:VEVENT
DTSTART;TZID=Europe/Copenhagen:20201028T160000
DTEND;TZID=Europe/Copenhagen:20201028T170000
DTSTAMP:20260423T051955
CREATED:20201013T082037Z
LAST-MODIFIED:20201013T082037Z
UID:25845-1603900800-1603904400@spildansk.dk
SUMMARY:Wenzell & Bugge
DESCRIPTION:Wenzell & Bugge lover masser af høj energi til denne familie-koncert i Domus – Vejle Musikskole. I et møde mellem klassisk musik og folkemusik opstår et bredt spænd mellem det stærkt energiske til det mere drømmende og lyrisk eventyrlige. \nDet er en ny og anderledes musikalsk oplevelse der præsenteres – med instrumenter som marimba – vibrafon – spansk cajon og naturligvis violin.
URL:https://spildansk.dk/kalender/wenzell-bugge-5/
LOCATION:Domus Salen\, Ved Sønderåen 1\, Veh
CATEGORIES:Koncert
ORGANIZER;CN="Vejle Musikskole":MAILTO:stekb@vejle.dk
END:VEVENT
BEGIN:VEVENT
DTSTART;TZID=Europe/Copenhagen:20201028T163000
DTEND;TZID=Europe/Copenhagen:20201028T163000
DTSTAMP:20260423T051955
CREATED:20201013T081439Z
LAST-MODIFIED:20201013T081822Z
UID:25846-1603902600-1603902600@spildansk.dk
SUMMARY:Fællessang
DESCRIPTION:Kom til fællessang på Helsinge bibliotek. \nVi synger en masse kendte danske sange og hylder de danske kunstnere. Fællessang er for alle\, stor og små. \nVi holder afstand og glæder os til en dejlig time sammen. \n 
URL:https://spildansk.dk/kalender/faellessang-39/
LOCATION:Helsinge Bibliotek\, Skolegade 43\, Helsinge\, 3200\, Danmark
CATEGORIES:Fællessang
END:VEVENT
BEGIN:VEVENT
DTSTART;TZID=Europe/Copenhagen:20201028T163000
DTEND;TZID=Europe/Copenhagen:20201028T173000
DTSTAMP:20260423T051955
CREATED:20200702T120802Z
LAST-MODIFIED:20200924T075754Z
UID:24384-1603902600-1603906200@spildansk.dk
SUMMARY:Koncert og fællesdans med Phønix
DESCRIPTION:Phønix er et veletableret band på den danske folkemusikscene. De fortolker danske og nordiske folkeviser og sange\, komponere nye dansemelodier og skaber på den måde en moderne blanding af fortid og nutid. Kvartetens helt unikke lyd og smittende spilleglæde\, har ført dem rundt i hele verden\, til små intime club scener\, store koncertsale\, internationale festival scener\, forsamlingshuse og gymnastiksale\, hvor de har spillet for både voksne\, familier\, børn og unge. Phønix har udgivet 9 cd’er og har modtaget 4 Danish Music Award for disse.
URL:https://spildansk.dk/kalender/koncert-og-faellesdans-med-phoenix/
LOCATION:Næsteved Gymnasium\, Nygårdsvej 43\, 4700\, Næstved
CATEGORIES:Koncert,Folk
ATTACH;FMTTYPE=image/jpeg:https://spildansk.dk/wp-content/uploads/2020/07/PhonixPress1-scaled.jpg
END:VEVENT
BEGIN:VEVENT
DTSTART;TZID=Europe/Copenhagen:20201028T170000
DTEND;TZID=Europe/Copenhagen:20201028T210000
DTSTAMP:20260423T051955
CREATED:20200827T110328Z
LAST-MODIFIED:20200916T125049Z
UID:24730-1603904400-1603918800@spildansk.dk
SUMMARY:Kvindelige forbilleder
DESCRIPTION:Kvindelig Forbilleder Billetter \n\nDen 28. oktober bliver der fokus på kvindelige forbilleder i Kulturhuset.\n\n\n\n\n\nKom til koncertforedrag med Laura Illeborg – og få oplæg om tre fantastiske kvinder med særlig tilknytning til Randers med dig undervejs! Arrangementet starter nemlig med en vandring rundt i Randers Kunstmuseums samling\, hvor du får introduktioner til billedhuggeren Helen Schou\, forfatteren Karin Michaelis og kvindesagsforkæmperen Pauline Worm i timerne op til koncerten. En let aftenanretning fra Kulturhusets cafe er inkluderet i billetprisen. \nLaura Illeborg har igennem efterhånden tre årtier insisteret på at skrive og udgive sine egne sange. Hun har holdt fast i sin egen helt personlige stil og hun er en af vores væsentligste\, nulevende sangskrivere. Ikke mindre end ti albums er det efterhånden blevet til\, godt halvdelen i eget navn\, og sangene tager altid et nært udgangspunkt\, som bredes ud og løftes op. Det være et strejf\, en blomst eller en solnedgang\, som væves ind i Lauras egne erfaringer og observationer som ung pige\, mor eller nu moden kvinde. Laura tager aldrig den store megafon frem\, men rammer sine lyttere blidt og skarpt med poesi og eftertanke. \nPauline Frederikke Worm (1825–1883) var datter af sognepræsten Peter Worm og Louise Theodora Petrine Hjort. Tidlig var hun blevet grebet af tanken om kvindernes ligestilling og kæmpede for den indtil det sidste. Pauline Worm var i 1865 den første danske kvinde\, der holdt et offentligt foredrag\, og udgav senere flere småskrifter\, samt talrige artikler og digte i blade og tidsskrifter som varm talsmand for modersmålet\,  fædrelandet og dets forsvar. \nKarin Michaëlis (1872-1950) solgte millioner af bøger i sin samtid og var en verdensdame og velgører i stort format. Hun holdt foredrag for tusinder af mennesker i mange lande\, forsvarede de svage\, lavede sin egen flygtningelejr og gik personligt op imod Hitler\, hvilket kostede hende dyrt. Alligevel har hun været stort set glemt i nutiden\, og det skal der laves om på. \nHelen Schou (1905-2006) var hverken født eller bosat i Randers\, men satte som billedhugger et markant aftryk i Randers med skulpturen Den Jyske Hingst (1969). Som en af få danske kvindelige kunstnere bevægede Schou sig med dette monument og rytterstatuen af Christian den X i Århus ind på et traditionsbundet og mandsdomineret kunstnerisk felt\, hvad der vakte stor debat i samtiden. \nOplæggene om Worm\, Michaëlis og Schou forestås af hhv. arkivar Tina Knudsen Jensen\, Museum Østjylland\, cand.mag. Inger Kaad\, Randers Bibliotek og museumsdirektør Lise Jeppesen\, Randers Kunstmuseum. \n\n\n\n  \n  \n  \n  \n  \n 
URL:https://spildansk.dk/kalender/kvindelige-forbilleder-4/
LOCATION:Randers Kunstmuseum\, Stemannsgade 2\, 2.\, Randers C\, 8900
CATEGORIES:Koncert
ATTACH;FMTTYPE=image/jpeg:https://spildansk.dk/wp-content/uploads/2020/08/Laura-Illeborg-scaled.jpg
END:VEVENT
BEGIN:VEVENT
DTSTART;TZID=Europe/Copenhagen:20201028T180000
DTEND;TZID=Europe/Copenhagen:20201028T190000
DTSTAMP:20260423T051955
CREATED:20201007T222219Z
LAST-MODIFIED:20201007T222336Z
UID:25487-1603908000-1603911600@spildansk.dk
SUMMARY:Syng Dansk koncert med MidtVest Pigekorene - koncert nr. 1
DESCRIPTION:MidtVest Børnekor\, Juniorkor og Pigekor synger dansk på Herning Gymnasium som en del af Spil Dansk Ugen. En tradition vi er særligt glade for\, idet det altid er noget særligt\, når alle tre kor laver koncert sammen. Velkommen til en festlig aften i sangens tegn! I år laver vi to koncerter samme aften for at imødegå den store efterspørgsel.
URL:https://spildansk.dk/kalender/syng-dansk-koncert-med-midtvest-pigekorene-3/
LOCATION:Herning Gymnasium\, H.P. Hansens Vej 8\, Herning\, 7400\, Danmark
CATEGORIES:Koncert
END:VEVENT
BEGIN:VEVENT
DTSTART;TZID=Europe/Copenhagen:20201028T180000
DTEND;TZID=Europe/Copenhagen:20201028T200000
DTSTAMP:20260423T051955
CREATED:20200915T102530Z
LAST-MODIFIED:20200915T102530Z
UID:24912-1603908000-1603915200@spildansk.dk
SUMMARY:Stig Skovlind - LIVE - UDSOLGT - koncertoptagelse til DK4
DESCRIPTION:Med hittet ‘Jeg skal hilse fra Havana’ åbner der sig nye muligheder for sangskriver Stig Skovlind og hans utroligt velspillende Kaffeorkester. De latininspirerede rytmer kæler for Stig’s danske poesi på en blid og insiterende måde. En anmelder påstår nu\, at det kun er et spørgsmål om tid før koncertstemningen fra Stig’s hjemby Helsingør\, breder sig til resten af DK.\nDK4 indspiller en koncert der varer omkring 50 minutter. Materialet bliver efterfølgende bearbejdet og programsat til visning på DK4. Visningsdatoer vil blive sendt til alle billetkøbere.\n\nStemning:\nMan ankommer til studiet i pænt og måske farverigt tøj – lidt inspireret af Caribien’s lette\, lyse og klare farver. Ikke nogen tvang. Du tager tilgengæld dit gode humør frem og øver dig i de ni sange hjemmefra så vi kan få noget medrivende menneskekor med fra salen. (Heller ingen tvang)\n\nTidsplan:\nPublikum ankommer kl. 18\nKlar til optagelse kl. 18.50\nKoncert kl. 19 til 20\n\nBilletprisen\nBilletprisen afspejler at jeg (Stig Skovlind) selv honorerer bandet på aftenen og man er velkommen til at støtte yderligere ved donation som netop beskrevet.\n\nDrikkelse:\nDK4 sørger for lidt drikkevarer som er inkl. i billetprisen\n\nVIP tilbud fremover\nDu kan blive sponsor og støtte mit projekt på min hjemmeside ved at klikke på fanebladet donation. Det vil gøre at du når det kan lade sig gøre får tilbud og indbydelse til særlige aktiviteter før alle andre.\n\nVel mødt\nKH. Stig Skovlind
URL:https://spildansk.dk/kalender/stig-skovlind-live-udsolgt-koncertoptagelse-til-dk4/
LOCATION:DK4 – Studie 55\, Titangade 55\, København N\, 2200
CATEGORIES:Singer-songwriter,World
ATTACH;FMTTYPE=image/jpeg:https://spildansk.dk/wp-content/uploads/2020/09/119552583_3823374637692568_9032342601927026005_o.jpg
ORGANIZER;CN="Coffeeshop Records":MAILTO:stig@skovlind.dk
END:VEVENT
BEGIN:VEVENT
DTSTART;TZID=Europe/Copenhagen:20201028T180000
DTEND;TZID=Europe/Copenhagen:20201028T200000
DTSTAMP:20260423T051955
CREATED:20201020T122026Z
LAST-MODIFIED:20201020T122026Z
UID:26237-1603908000-1603915200@spildansk.dk
SUMMARY:Syng\, Spis og Snak
DESCRIPTION:“Fællessang\, fællesspisning og gode samtaler” er hovedingredienserne i dette arrangement\, hvor VGE inviterer alle aldre indenfor i fællessangens poetiske univers. \nTilmelding nødvendig på www.vge.dk
URL:https://spildansk.dk/kalender/syng-spis-og-snak-2/
LOCATION:vardeegnens gymnasieforberedende Efterskole\, Danmark
CATEGORIES:Fællessang
ATTACH;FMTTYPE=image/jpeg:https://spildansk.dk/wp-content/uploads/2020/10/SpilDansk-2019-VARDE-KULTUNAUT-sort-web-1.jpg
ORGANIZER;CN="Spil Dansk Styregruppen Varde Kommune":MAILTO:pvoo@varde.dk
END:VEVENT
BEGIN:VEVENT
DTSTART;TZID=Europe/Copenhagen:20201028T183000
DTEND;TZID=Europe/Copenhagen:20201028T200000
DTSTAMP:20260423T051955
CREATED:20201012T123626Z
LAST-MODIFIED:20201027T085538Z
UID:25830-1603909800-1603915200@spildansk.dk
SUMMARY:Opvarmning af Skive Musikskoles MGK-elever
DESCRIPTION:Skive Musikskoles MGK-elever varmer op for Marilyn Mazur Group. \nPladsreservation er nødvendig. Billetter bookes ved at sende en mail med: titel på arrangement\, ønsket antal billetter – og navn\, mail og tlf.nr. \nDer vil være et begrænset antal pladser ved de forskellige arrangementer! Derfor er det vigtigt med tilmeldinger/pladsreservationer. Billetter uddeles efter først-til-mølle-princippet. Og vi opretter venteliste\, så man kan komme i kø. \nHusk at melde afbud\, hvis du bliver forhindret. \nTilmeldinger foregår via mail: abrh@skivekommune.dk
URL:https://spildansk.dk/kalender/opvarmning-af-skive-musikskoles-mgk-elever/
LOCATION:Skive Theater\, Theaterpladsen 10\, Skive\, 7800\, Danmark
CATEGORIES:Koncert
ORGANIZER;CN="skive musikskole":MAILTO:mail@skivemusikskole.dk
END:VEVENT
END:VCALENDAR