BEGIN:VCALENDAR
VERSION:2.0
PRODID:-//Spil Dansk - ECPv6.5.0//NONSGML v1.0//EN
CALSCALE:GREGORIAN
METHOD:PUBLISH
X-WR-CALNAME:Spil Dansk
X-ORIGINAL-URL:https://spildansk.dk
X-WR-CALDESC:Events for Spil Dansk
REFRESH-INTERVAL;VALUE=DURATION:PT1H
X-Robots-Tag:noindex
X-PUBLISHED-TTL:PT1H
BEGIN:VTIMEZONE
TZID:Europe/Copenhagen
BEGIN:DAYLIGHT
TZOFFSETFROM:+0100
TZOFFSETTO:+0200
TZNAME:CEST
DTSTART:20190331T010000
END:DAYLIGHT
BEGIN:STANDARD
TZOFFSETFROM:+0200
TZOFFSETTO:+0100
TZNAME:CET
DTSTART:20191027T010000
END:STANDARD
END:VTIMEZONE
BEGIN:VEVENT
DTSTART;TZID=Europe/Copenhagen:20191031T170000
DTEND;TZID=Europe/Copenhagen:20191031T180000
DTSTAMP:20260423T071159
CREATED:20190925T084312Z
LAST-MODIFIED:20190925T084312Z
UID:20488-1572541200-1572544800@spildansk.dk
SUMMARY:Kærlighed i ord og toner
DESCRIPTION:Der er musik i Gimsing Kirke ved Henny Gundel Gyde og Anders Bech Hald.
URL:https://spildansk.dk/kalender/kaerlighed-i-ord-og-toner/
LOCATION:Gimsing Kirke\, Hjermvej 53 a\, Struer\, 7600
END:VEVENT
BEGIN:VEVENT
DTSTART;TZID=Europe/Copenhagen:20191031T170000
DTEND;TZID=Europe/Copenhagen:20191031T180000
DTSTAMP:20260423T071159
CREATED:20190903T110939Z
LAST-MODIFIED:20190903T110939Z
UID:19926-1572541200-1572544800@spildansk.dk
SUMMARY:Fællessang i kirken
DESCRIPTION:Vi fejrer den danske sang med fællessang og ønskekoncert i kirken. Der er frit valg blandt salmebogen\, højskolesangbogen og vores eget sanghæfte.
URL:https://spildansk.dk/kalender/faellessang-i-kirken/
LOCATION:Marie Magdalene Kirke\, Bøjstrupvej 30\, Ryomgård\, 8550\, Danmark
CATEGORIES:Fællessang
ATTACH;FMTTYPE=image/jpeg:https://spildansk.dk/wp-content/uploads/2019/09/vignet-sangaften.jpg
ORGANIZER;CN="marie magdalene sogn":MAILTO:biba@km.dk
END:VEVENT
BEGIN:VEVENT
DTSTART;TZID=Europe/Copenhagen:20191031T170000
DTEND;TZID=Europe/Copenhagen:20191031T173000
DTSTAMP:20260423T071159
CREATED:20191024T163926Z
LAST-MODIFIED:20191024T163926Z
UID:22782-1572541200-1572543000@spildansk.dk
SUMMARY:Fyraftenssang i MarKant
DESCRIPTION:Kom og vær med\, når KORiøs\, koret som hver tirsdag øver i MarKant\, giver smagsprøver på det repertoire\, som de har arbejdet med i deres første sæson.\n\n\n\n\n\nI anledning af Spil Dansk Ugen serverer de en pose gode\, blandede numre – både a cappella numre fra den danske sangskat og rytmiske numre med akkompagnement. \nKORiøs består af 32 korister med en god fordeling af mænd og kvinder. Koret synger blandt andet en række arrangementer af Line Groth\, som for tiden en af de absolut bedste korarrangører i Danmark. Det er bl.a. numre med musik af Mads Langer\, Maria Key og Peter Bjørnskov\, men også mere ukendte numre af andre arrangører. Du kan godt glæde dig til at opleve korets alsidighed og et repertoire\, der spænder fra rock over pop til jazz. \nIngen tilmelding – bare kig forbi.
URL:https://spildansk.dk/kalender/fyraftenssang-i-markant/
LOCATION:Børkop Bibliotek\, Ågade 6\, Børkop\, 7080
CATEGORIES:Kor
ATTACH;FMTTYPE=image/png:https://spildansk.dk/wp-content/uploads/2019/10/noder_sang_colourbox1165731.png
ORGANIZER;CN="Vejle Bibliotekerne":MAILTO:palar@vejlebib.dk
END:VEVENT
BEGIN:VEVENT
DTSTART;TZID=Europe/Copenhagen:20191031T170000
DTEND;TZID=Europe/Copenhagen:20191031T170000
DTSTAMP:20260423T071159
CREATED:20190828T114113Z
LAST-MODIFIED:20190828T114113Z
UID:19839-1572541200-1572541200@spildansk.dk
SUMMARY:Spil Dansk: Visesang på byens ældste værtshus
DESCRIPTION:Vestergades Café åbner dørene for visesang i forbindelse med Spil Dansk ugen 2019. Byens spillemand Martin Pedersen spiller op og Claus Ørsted synger. Operasangerinden Sophia Frovin vil også være en del af arrangementet. \nSpil Dansk er musiklivets festuge\, der altid foregår i uge 44. Siden 2001 har Spil Dansk været Danmarks største musikbegivenhed i al sin bredde og mangfoldighed af arrangementer. Turbinen\, Randers Bibliotek\, Randers Kommune og Randers Eventsekretariat er lokale arrangører. Det sker i samarbejde med blandt andre lokale bands\, musikkorps\, -ensembler og -kor. Målet er blandt andet at skabe glæde og øge kendskabet til musik med dansk afsæt – herunder udfolde musikken i nye og anderledes rammer.
URL:https://spildansk.dk/kalender/spil-dansk-visesang-paa-byens-aeldste-vaertshus/
LOCATION:Vestergades Café\, Vestergade 8\, Randers C\, 8900
CATEGORIES:Opera,Viser
END:VEVENT
BEGIN:VEVENT
DTSTART;TZID=Europe/Copenhagen:20191031T163000
DTEND;TZID=Europe/Copenhagen:20191031T200000
DTSTAMP:20260423T071159
CREATED:20190926T174413Z
LAST-MODIFIED:20190926T174509Z
UID:20595-1572539400-1572552000@spildansk.dk
SUMMARY:Stort landsby børne- og ungekor
DESCRIPTION:På Hørby Efterskole samles alle børn og unge fra lokalsamfundet med efterskolens elever til et stort fælles- børne- og ungekor. Fælleskoret består af børn helt fra dagplejealderen og op til unge mennesker i 17-årsalderen. \nHer bliver den danske musik og den danske sang hyldet ved fællessang med alle deltagere og med sang fra det store børne- og ungekor. \nArrangementet er åben for ALLE\, og alle aldersgrupper er velkomne og kan få noget ud af dette arrangement. \nEfter det store fælleskors optræden\, er det muligt at tilmelde sig spisning på efterskolen\, og herefter vil efterskolens performancehold optræde med teaterkoncerten “De smukke unge mennesker”\, hvilket er en hyldest til den store danske kunstner Kim Larsen. \nHør eventuelt mere om arrangementet på Hørby Efterskole eller på Hørby Efterskoles facebookside.
URL:https://spildansk.dk/kalender/stort-landsby-boerne-og-ungekor/
LOCATION:Hørby Efterskole\, Snedkergårdsvej 11\, Hørby\, Sæby\, 9300\, Danmark
CATEGORIES:Fællessang,Kor
END:VEVENT
BEGIN:VEVENT
DTSTART;TZID=Europe/Copenhagen:20191031T163000
DTEND;TZID=Europe/Copenhagen:20191031T171500
DTSTAMP:20260423T071159
CREATED:20190827T072322Z
LAST-MODIFIED:20190827T074320Z
UID:19755-1572539400-1572542100@spildansk.dk
SUMMARY:Så Syng Da! (Fællessang i caféen)
DESCRIPTION:Hele familien kan være med\, når Tobaksgaarden og Assens Musikskole sammen inviterer inden for i caféen. \nSangerinden Kristine Eiler Ernst synger for akkompagneret af Rikke Barsøe Florens på tværfløjte og Birgit Nedergaard Madsen ved klaveret. \nVi fejrer den danske sangskat med “Så Syng Da!” i anledning af SPIL DANSK med børnenes sange\, fars sange\, mormors sange\, gode klassikere og nye hits på programmet. \nArrangement er blevet en rigtig hyggelig tradition 2-3 gange om året. \nCaféen serverer altid noget let i dagens anledning. Der er også noget for børn. Hvis man ønsker at spise\, skal man reservere bord forinden på tlf.: 64 71 20 31. \n 
URL:https://spildansk.dk/kalender/saa-syng-da-faellessangcafe/
LOCATION:Tobaksgaarden\, Tobaksgådern 7\, Assens\, 5610\, Danmark
CATEGORIES:Fællessang
ATTACH;FMTTYPE=image/jpeg:https://spildansk.dk/wp-content/uploads/2019/08/Så-syng-da-pressebillede-foto-Rasmus-Bukholt-vandret-2.jpg
ORGANIZER;CN="assens musikskole":MAILTO:musikskolen@assens.dk
END:VEVENT
BEGIN:VEVENT
DTSTART;TZID=Europe/Copenhagen:20191031T160000
DTEND;TZID=Europe/Copenhagen:20191031T183000
DTSTAMP:20260423T071159
CREATED:20190906T072224Z
LAST-MODIFIED:20190917T090339Z
UID:19960-1572537600-1572546600@spildansk.dk
SUMMARY:Spil Dansk: Dansk musik til “Tjek på trivslen”
DESCRIPTION:“Tjek på Trivslen” er et tilbud på Randers Sundhedscenter\, der foregår som gruppeforløb. Der arbejdes med stress\, mindfulness\, egenomsorg\, konflikthåndtering\, tankers magt og mere livskvalitet. I uge 44 vil holdet som en del af Spil Dansk 2019 bruge dansk produceret afspændingsmusik. Arrangementet er lukket. \nSpil Dansk er musiklivets festuge\, der altid foregår i uge 44. Siden 2001 har Spil Dansk været Danmarks største musikbegivenhed i al sin bredde og mangfoldighed af arrangementer. Turbinen\, Randers Bibliotek\, Randers Kommune og Randers Eventsekretariat er lokale arrangører. Det sker i samarbejde med blandt andre lokale bands\, musikkorps\, -ensembler og -kor. Målet er blandt andet at skabe glæde og øge kendskabet til musik med dansk afsæt – herunder udfolde musikken i nye og anderledes rammer.
URL:https://spildansk.dk/kalender/spil-dansk-dansk-musik-til-tjek-paa-trivslen/
LOCATION:Randers Sundhedscenter\, Thors Bakke\, Biografgade 3\, Randers C\, 8900
CATEGORIES:Alternative
END:VEVENT
BEGIN:VEVENT
DTSTART;TZID=Europe/Copenhagen:20191031T160000
DTEND;TZID=Europe/Copenhagen:20191031T173000
DTSTAMP:20260423T071159
CREATED:20191028T082901Z
LAST-MODIFIED:20191028T082901Z
UID:22904-1572537600-1572543000@spildansk.dk
SUMMARY:Kristina´s Vokalvirtuoser
DESCRIPTION:Klynger af skønne sangklange med Kristina Hedelius Strikkertsens musikskoleelever.
URL:https://spildansk.dk/kalender/kristinas-vokalvirtuoser-2/
LOCATION:Ringe bibliotek\, Algade 40\, Ringe\, 5750\, Danmark
CATEGORIES:Koncert
ORGANIZER;CN="Faaborg Midtfyn Musikskole":MAILTO:Musikskolen@fmk.dk
END:VEVENT
BEGIN:VEVENT
DTSTART;TZID=Europe/Copenhagen:20191031T160000
DTEND;TZID=Europe/Copenhagen:20191031T173000
DTSTAMP:20260423T071159
CREATED:20190919T102236Z
LAST-MODIFIED:20190919T102236Z
UID:20325-1572537600-1572543000@spildansk.dk
SUMMARY:Såstifikerede sangere synger seje schlagobers
DESCRIPTION:Musikskolens sangelever underholder med en blandet buket sange – i mange genrer.
URL:https://spildansk.dk/kalender/saastifikerede-sangere-synger-seje-schlagobers-2/
LOCATION:Ringe Bibliotek\, Algade 40\, Ringe\, 5750\, Danmark
ORGANIZER;CN="Faaborg Midtfyn Musikskole":MAILTO:Musikskolen@fmk.dk
END:VEVENT
BEGIN:VEVENT
DTSTART;TZID=Europe/Copenhagen:20191031T160000
DTEND;TZID=Europe/Copenhagen:20191031T173000
DTSTAMP:20260423T071159
CREATED:20190919T102228Z
LAST-MODIFIED:20190919T102228Z
UID:20324-1572537600-1572543000@spildansk.dk
SUMMARY:Såstifikerede sangere synger seje schlagobers
DESCRIPTION:Musikskolens sangelever underholder med en blandet buket sange – i mange genrer.
URL:https://spildansk.dk/kalender/saastifikerede-sangere-synger-seje-schlagobers/
LOCATION:Ringe Bibliotek\, Algade 40\, Ringe\, 5750\, Danmark
ORGANIZER;CN="Faaborg Midtfyn Musikskole":MAILTO:Musikskolen@fmk.dk
END:VEVENT
BEGIN:VEVENT
DTSTART;TZID=Europe/Copenhagen:20191031T160000
DTEND;TZID=Europe/Copenhagen:20191031T173000
DTSTAMP:20260423T071159
CREATED:20190827T084801Z
LAST-MODIFIED:20190827T084801Z
UID:19778-1572537600-1572543000@spildansk.dk
SUMMARY:Spil Dansk: Koncert og fællessang med Randers Musikskole
DESCRIPTION:De dygtige elever fra Randers Musikskole spiller dansk i biblioteksrummet – suppleret med fællessang for alle. \nMusikglæden er stor og talenterne mange blandt eleverne på Randers Musikskole. Vi glæder os til at få dem tilbage på scenen til eftermiddagskoncert i forbindelse med Spil dansk-ugen! Undervejs i programmet vil der være fællessange indlagt\, så alle kan få rørt stemmebåndene. \nSpil Dansk er musiklivets festuge\, der altid foregår i uge 44. Siden 2001 har Spil Dansk været Danmarks største musikbegivenhed i al sin bredde og mangfoldighed af arrangementer. Turbinen\, Randers Bibliotek\, Randers Kommune og Randers Eventsekretariat er lokale arrangører. Det sker i samarbejde med blandt andre lokale bands\, musikkorps\, -ensembler og -kor. Målet er blandt andet at skabe glæde og øge kendskabet til musik med dansk afsæt – herunder udfolde musikken i nye og anderledes rammer.
URL:https://spildansk.dk/kalender/spil-dansk-koncert-og-faellessang-med-randers-musikskole/
LOCATION:Randers Bibliotek\, Stemannsgade 2\, Randers C\, 8900\, Danmark
CATEGORIES:Fællessang
ORGANIZER;CN="Randers Bibliotek":MAILTO:mk@randersbib.dk
END:VEVENT
BEGIN:VEVENT
DTSTART;TZID=Europe/Copenhagen:20191031T160000
DTEND;TZID=Europe/Copenhagen:20191031T170000
DTSTAMP:20260423T071159
CREATED:20191014T130504Z
LAST-MODIFIED:20191014T130504Z
UID:21494-1572537600-1572541200@spildansk.dk
SUMMARY:Artist in Business
DESCRIPTION:Artist in Business – musikalsk underholdning for en virksomhed.  I år har Egedal Kommune valgt Smørum Golfklub på grund af deres store engagement med kommunens unge mennesker og byder golfklubbens 60 ansatte til en koncert med den erfarne musiker Rasmus Hedeboe torsdag den 31. oktober. \nLæs mere om Hedeboe her
URL:https://spildansk.dk/kalender/artist-in-business-2/
LOCATION:Smørum Golfklub\, Skebjergvej 46\, Smørum\, 2765
CATEGORIES:Folk,Pop
ATTACH;FMTTYPE=image/jpeg:https://spildansk.dk/wp-content/uploads/2019/10/HedeboePresse-1440x700.jpg
END:VEVENT
BEGIN:VEVENT
DTSTART;TZID=Europe/Copenhagen:20191031T160000
DTEND;TZID=Europe/Copenhagen:20191031T170000
DTSTAMP:20260423T071159
CREATED:20190911T101152Z
LAST-MODIFIED:20190911T101152Z
UID:20193-1572537600-1572541200@spildansk.dk
SUMMARY:Spil Dansk Dag på Skælskør Bibliotek & Borgerservice
DESCRIPTION:Igen i år fejrer vi Spil Dansk Ugen med en dag med fokus på dansk musik i samarbejde med Slagelse Musikskole. Lærere og elever fra musikskolen kommer og spiller et varieret repertoire af musikstykker. Se det endelige program på biblioteket eller bibliotekets hjemmeside\, når dagen nærmer sig.
URL:https://spildansk.dk/kalender/spil-dansk-dag-paa-skaelskoer-bibliotek-borgerservice/
LOCATION:Skælskør Bibliotek & Borgerservice\, Vestergade 4\, 4230 Skælskør\, 4230
CATEGORIES:Alternative
ORGANIZER;CN="Slagelse Bibliotekerne &amp%3B Borgerservice":MAILTO:arlar@slagelse.dk
END:VEVENT
BEGIN:VEVENT
DTSTART;TZID=Europe/Copenhagen:20191031T160000
DTEND;TZID=Europe/Copenhagen:20191031T170000
DTSTAMP:20260423T071159
CREATED:20190911T101012Z
LAST-MODIFIED:20190911T101012Z
UID:20191-1572537600-1572541200@spildansk.dk
SUMMARY:Spil Dansk Dag på Korsør Bibliotek & Borgerservice
DESCRIPTION:Igen i år fejrer vi Spil Dansk Ugen med en dag med fokus på dansk musik i samarbejde med Slagelse Musikskole. Lærere og elever fra musikskolen kommer og spiller et varieret repertoire af musikstykker. Se det endelige program på biblioteket eller bibliotekets hjemmeside\, når dagen nærmer sig.
URL:https://spildansk.dk/kalender/spil-dansk-dag-paa-korsoer-bibliotek-borgerservice/
LOCATION:Korsør Bibliotek & Borgerservice\, Bernstensgade 3\, Korsør\, 4220 Korsør
CATEGORIES:Alternative
ORGANIZER;CN="Slagelse Bibliotekerne &amp%3B Borgerservice":MAILTO:arlar@slagelse.dk
END:VEVENT
BEGIN:VEVENT
DTSTART;TZID=Europe/Copenhagen:20191031T160000
DTEND;TZID=Europe/Copenhagen:20191031T170000
DTSTAMP:20260423T071159
CREATED:20190911T100825Z
LAST-MODIFIED:20190911T100825Z
UID:20189-1572537600-1572541200@spildansk.dk
SUMMARY:Spil Dansk dag På Slagelse Bibliotek & Borgerservice
DESCRIPTION:Igen i år fejrer vi Spil Dansk Ugen med en dag med fokus på dansk musik i samarbejde med Slagelse Musikskole. Lærere og elever fra musikskolen kommer og spiller et varieret repertoire af musikstykker. Se det endelige program på biblioteket eller bibliotekets hjemmeside\, når dagen nærmer sig.
URL:https://spildansk.dk/kalender/spil-dansk-dag-paa-slagelse-bibliotek-borgerservice/
LOCATION:Slagelse Bibliotek & Borgerservice\, Stenstuegade 3\, Slagelse\, 4200
CATEGORIES:Alternative
ORGANIZER;CN="Slagelse Bibliotekerne &amp%3B Borgerservice":MAILTO:arlar@slagelse.dk
END:VEVENT
BEGIN:VEVENT
DTSTART;TZID=Europe/Copenhagen:20191031T160000
DTEND;TZID=Europe/Copenhagen:20191031T160000
DTSTAMP:20260423T071159
CREATED:20191003T105306Z
LAST-MODIFIED:20191003T124357Z
UID:20824-1572537600-1572537600@spildansk.dk
SUMMARY:Børn og Bigband
DESCRIPTION:Korleder Anders Møller tager børn fra 3. klasser fra kommunens skoler på en musikalsk rejse sammen med Ekko\, Esbjerg Kommunes Kreative Orkester og West Coast Bigband under ledelse af Torben Iversen.
URL:https://spildansk.dk/kalender/boern-og-bigband/
LOCATION:Varde Gymnasium\, Frisvadsvej 72\, Varde\, 6800
CATEGORIES:Jazz,Kor
ATTACH;FMTTYPE=image/png:https://spildansk.dk/wp-content/uploads/2019/10/grafik-facebook-banner-10.png
ORGANIZER;CN="Spil Dansk Styregruppen Varde Kommune":MAILTO:pvoo@varde.dk
END:VEVENT
BEGIN:VEVENT
DTSTART;TZID=Europe/Copenhagen:20191031T150000
DTEND;TZID=Europe/Copenhagen:20191031T180000
DTSTAMP:20260423T071159
CREATED:20191022T130551Z
LAST-MODIFIED:20191022T130551Z
UID:22253-1572534000-1572544800@spildansk.dk
SUMMARY:Åbent studie på Kaosambassaden
DESCRIPTION:Har du nogensinde tænkt: ”Jeg kunne godt tænke mig at indspille en sang”\, men samtidig tænkt: ”Nej\, jeg synger ikke godt nok\, og det er sikkert også meget dyrt”\, så er det her\, du skal læse videre: \nPå Kaosambassaden i Randers Centrum er etableret et studie\, der dagligt bruges flittigt af unge mennesker i alderen 15-25 år.\nHer kan man helt gratis (og med de evner\, man nu har) prøve at indspille/indsynge en sang under kyndig vejledning fra Torben fra Kaosambassaden. Enten til noget musik\, man selv har lavet eller sammen med et nummer fra YouTube. Hvad den færdige indspilning skal bruges til\, bestemmer du selv. \nI forbindelse med Spil Dansk vil studiet stå åbent for dig\, der bare vil prøve\, hvordan det er at synge i en rigtig studiemikrofon \nKaosambassaden\, Stemannsgade 9D\, 8900 Randers C – Tirsdag d. 29/10 kl. 15-18 \nKaosambassaden\, Stemannsgade 9D\, 8900 Randers C – Torsdag d. 31/10 kl. 15-18 \n  \nhttps://ungdomsskolen.randers.dk/fritidsmiljoeer/kaosambassaden/
URL:https://spildansk.dk/kalender/aabent-studie-paa-kaosambassaden-2/
LOCATION:Kaosambassaden\, Stemannsgade 9 D\, Randers C\, 8900\, Danmark
CATEGORIES:Workshop
ATTACH;FMTTYPE=image/jpeg:https://spildansk.dk/wp-content/uploads/2019/10/Spildanskmiclogo2-1.jpg
ORGANIZER;CN="Kaosambassaden%2C Randers Ungdomsskole":MAILTO:torben.mohlenberg@randers.dk
END:VEVENT
BEGIN:VEVENT
DTSTART;TZID=Europe/Copenhagen:20191031T150000
DTEND;TZID=Europe/Copenhagen:20191031T160000
DTSTAMP:20260423T071159
CREATED:20190919T130744Z
LAST-MODIFIED:20190919T130744Z
UID:20345-1572534000-1572537600@spildansk.dk
SUMMARY:Mek Pek\, søn & Onkel Tot - Åh abe
DESCRIPTION:Mek Pek har gennem de sidste 2 årtier opbygget et solidt image som børnenes ven. Med en udsædvanlig energi\, humor og oprigtig glæde underholder han børn\, deres forældre og alle andre barnlige sjæle. Mek Pek er efterhånden godt kendt i Danmark. Med cirka 100 koncerter om året\, kan man godt undre sig over\, hvorfor et show med Mek Pek aldrig bliver kedelig eller triviel opvisning.\nSvaret ligger i Mek Peks eminente sans for det enkelte publikum. Hvert eneste job er for ham en ny og spændende udfordring\, og det er hver gang lige vigtigt for ham\, at publikum får en god oplevelse med hjem.
URL:https://spildansk.dk/kalender/mek-pek-soen-onkel-tot-aah-abe/
LOCATION:Richter\, Søborg\, Gladsaxe\, Danmark
CATEGORIES:Musik til børn
ATTACH;FMTTYPE=image/jpeg:https://spildansk.dk/wp-content/uploads/2019/09/IMG_6822.jpg
END:VEVENT
BEGIN:VEVENT
DTSTART;TZID=Europe/Copenhagen:20191031T150000
DTEND;TZID=Europe/Copenhagen:20191031T160000
DTSTAMP:20260423T071159
CREATED:20190912T102017Z
LAST-MODIFIED:20190912T102017Z
UID:20212-1572534000-1572537600@spildansk.dk
SUMMARY:Vi synger sammen
DESCRIPTION:Jennumparkens Børnekor og førskolebørnene fra Børnehuset Jennumparken synger for og med deres familier
URL:https://spildansk.dk/kalender/vi-synger-sammen-2/
LOCATION:Jennumparkens fritidshjem\, Gl. Jennumvej 2\, Randers NØ\, 8930
CATEGORIES:Fællessang
ATTACH;FMTTYPE=image/jpeg:https://spildansk.dk/wp-content/uploads/2019/09/IMG_9541.jpg
ORGANIZER;CN="Jennumparkens fritidshjem":MAILTO:jennumparken.fritidshjem@randers.dk
END:VEVENT
BEGIN:VEVENT
DTSTART;TZID=Europe/Copenhagen:20191031T150000
DTEND;TZID=Europe/Copenhagen:20191031T160000
DTSTAMP:20260423T071200
CREATED:20190904T103043Z
LAST-MODIFIED:20190917T090512Z
UID:19949-1572534000-1572537600@spildansk.dk
SUMMARY:Spil Dansk: Randers Hamonikaklub på Vorup Plejehjem
DESCRIPTION:Friske og hyggelige spillere i Randers Harmonikaklub synger og spiller traditionel dansk harmonikamusik og dansktopsange på Vorup Plejehjem d. 31. oktober kl. 15.00-16.00. Gode historier og en hyggelig stemning er en stor del af arrangementet. Arrangementet er lukket. \nSpil Dansk er musiklivets festuge\, der altid foregår i uge 44. Siden 2001 har Spil Dansk været Danmarks største musikbegivenhed i al sin bredde og mangfoldighed af arrangementer. Turbinen\, Randers Bibliotek\, Randers Kommune og Randers Eventsekretariat er lokale arrangører. Det sker i samarbejde med blandt andre lokale bands\, musikkorps\, -ensembler og -kor. Målet er blandt andet at skabe glæde og øge kendskabet til musik med dansk afsæt – herunder udfolde musikken i nye og anderledes rammer.
URL:https://spildansk.dk/kalender/spil-dansk-randers-hamonikaklub-paa-vorup-plejehjem/
LOCATION:Vorup Plejehjem\, Bøsbrovej 70\, Randers SV\, 8940
CATEGORIES:Dansktop
ATTACH;FMTTYPE=image/jpeg:https://spildansk.dk/wp-content/uploads/2019/09/Randers-Harmonikaklub-2.jpg
END:VEVENT
BEGIN:VEVENT
DTSTART;TZID=Europe/Copenhagen:20191031T150000
DTEND;TZID=Europe/Copenhagen:20191031T153000
DTSTAMP:20260423T071200
CREATED:20190911T111733Z
LAST-MODIFIED:20190911T111733Z
UID:20198-1572534000-1572535800@spildansk.dk
SUMMARY:Spil Dansk Fællessang
DESCRIPTION:Kom og syng med på den årlige Spil Dansk Dag.\nVi synger sammen i Farum Kulturhus\, Caféen om formiddagen og i foyeren på Furesø Rådhus om eftermiddagen. Mød bare op med din helt personlige sangstemme og nyd at synge sammen med andre sangglade. Det er lysten og samværet der tæller. \nSom sædvanligt er sanglærer Marianne C. Eriksen fra Furesø Musikskole vores friske og kyndige guide.
URL:https://spildansk.dk/kalender/spil-dansk-faellessang-4/
LOCATION:Furesø rådhus\, Stiager 2\, Værløse\, 3500
CATEGORIES:Fællessang
ATTACH;FMTTYPE=image/jpeg:https://spildansk.dk/wp-content/uploads/2019/09/07Faellessang3.-MikkelArnfred-1.jpg
END:VEVENT
BEGIN:VEVENT
DTSTART;TZID=Europe/Copenhagen:20191031T143000
DTEND;TZID=Europe/Copenhagen:20191031T160000
DTSTAMP:20260423T071200
CREATED:20191028T082125Z
LAST-MODIFIED:20191028T082125Z
UID:22901-1572532200-1572537600@spildansk.dk
SUMMARY:Gågaderæs med Pias violiner
DESCRIPTION:Violinlærer Pia Mortensen fiser rundt med sine elever på Faaborg gågade\, og giver pop-op-koncerter i udvalgte forretninger.
URL:https://spildansk.dk/kalender/gaagaderaes-med-pias-violiner/
LOCATION:Faaborg gågade\, Østergade\, Faaborg\, 5600
CATEGORIES:Koncert
ORGANIZER;CN="Faaborg Midtfyn Musikskole":MAILTO:Musikskolen@fmk.dk
END:VEVENT
BEGIN:VEVENT
DTSTART;TZID=Europe/Copenhagen:20191031T143000
DTEND;TZID=Europe/Copenhagen:20191031T153000
DTSTAMP:20260423T071200
CREATED:20191001T125342Z
LAST-MODIFIED:20191001T125342Z
UID:20718-1572532200-1572535800@spildansk.dk
SUMMARY:Koncert på Ældrecentret Solvang
DESCRIPTION:Thyholm Kirkes Børnekor synger på Ældrecentret Solvang.
URL:https://spildansk.dk/kalender/koncert-paa-aeldrecentret-solvang/
LOCATION:Ældrecentret Solvang\, Rolighedsvej 1\, Thyholm\, 7790
END:VEVENT
BEGIN:VEVENT
DTSTART;TZID=Europe/Copenhagen:20191031T143000
DTEND;TZID=Europe/Copenhagen:20191031T153000
DTSTAMP:20260423T071200
CREATED:20190924T121034Z
LAST-MODIFIED:20190924T121040Z
UID:20463-1572532200-1572535800@spildansk.dk
SUMMARY:Fællessang på Cafe Kilen
DESCRIPTION:Per Odgaard spiller op til fællessang på Cafe Kilen.
URL:https://spildansk.dk/kalender/faellessang-paa-cafe-kilen/
LOCATION:Cafe Kilen\, Voldgade 14\, Struer\, 7600
END:VEVENT
BEGIN:VEVENT
DTSTART;TZID=Europe/Copenhagen:20191031T140000
DTEND;TZID=Europe/Copenhagen:20191031T153000
DTSTAMP:20260423T071200
CREATED:20191023T082309Z
LAST-MODIFIED:20191023T082309Z
UID:22383-1572530400-1572535800@spildansk.dk
SUMMARY:SYNG DANSK med Næstved-koret
DESCRIPTION:Næstved-koret kommer på SYMFONIEN d. 31. oktober kl. 14.00 – 15.30. for at fejre SPIL DANSK DAGEN. \nKom og hyg dig sammen med andre og SYNG DANSK sammen med alle os og koret. \nDer severes kaffe og kage. Tilmelding på tlf. 55881890.
URL:https://spildansk.dk/kalender/syng-dansk-med-naestved-koret/
LOCATION:SYMFONIEN\, Aktivitetscenter\, Enggårdsvej 1\, Næstved\, 4700\, Danmark
ORGANIZER;CN="Karin M. M.":MAILTO:kamon@naestved.dk
END:VEVENT
BEGIN:VEVENT
DTSTART;TZID=Europe/Copenhagen:20191031T130000
DTEND;TZID=Europe/Copenhagen:20191031T140000
DTSTAMP:20260423T071200
CREATED:20191007T121355Z
LAST-MODIFIED:20191007T121355Z
UID:20965-1572526800-1572530400@spildansk.dk
SUMMARY:Stor ”Spil-dansk” koncert på Vrå Højskole
DESCRIPTION:  \nVær med\, når Vrå Højskole fejrer ”Spil-dansk-dagen” torsdag den 31. oktober sammen med nordjyske gymnasie- og efterskoleelever. \nUge 44 hylder hele Danmark danske sange og musikere. Vrå Højskole fejrer ”Spil-dansk-ugen” med fællessang i stor skala sammen med nordjyske gymnasie- og efterskoleelever. \n– Vi har allerede 150 deltagere og har plads til 300. Det hele kulminerer i en stor fælles koncert klokken 13:00\, hvor alle er velkomne til at komme og synge med\, siger Jeanne Ørvad\, der er musiklærer på Vrå Højskole og sammen med kollegaen Anders HU Nielsen står for ”Spil-dansk-dagen”. \nRepertoiret lyder blandt andet på ”Se nu stiger solen”\, der er skrevet af Jakob Knudsen netop på Vrå Højskole. Koret skal også synge ”Du kom med alt det der var dig”\, ”Vårvise”\, ”Sensommervise”\, ”Noget om helte”\, ”En lærke letted” og ”Man binder os på mund og hånd”. \n– Vi har efterhånden haft traditionen med ”Spil-dansk-dagen” i mange år\, og vi håber\, at mange har lyst til at komme og overvære koncerten i Kunstsalen\, siger Jeanne Ørvad. \nKoncerten klokken 13:00\, har fri entre og kræver ingen tilmelding. For yderligere info: kontakt Jeanne Ørvad\, tlf. 51 72 10 94 / jeanne@vraahojskole.dk
URL:https://spildansk.dk/kalender/stor-spil-dansk-koncert-paa-vraa-hoejskole/
LOCATION:Vrå Højskole\, Højskolevej 1\, Vrå\, 9760\, Danmark
CATEGORIES:Fællessang
ATTACH;FMTTYPE=image/jpeg:https://spildansk.dk/wp-content/uploads/2019/10/Spil-Dansk-Dag-på-Vrå-Højskole.jpg
ORGANIZER;CN="Vr%C3%A5 H%C3%B8jskole":MAILTO:jeanne@vraahojskole.dk
END:VEVENT
BEGIN:VEVENT
DTSTART;TZID=Europe/Copenhagen:20191031T125500
DTEND;TZID=Europe/Copenhagen:20191031T133000
DTSTAMP:20260423T071200
CREATED:20191002T081135Z
LAST-MODIFIED:20191002T081135Z
UID:20749-1572526500-1572528600@spildansk.dk
SUMMARY:Tidsmaskinen
DESCRIPTION:Sekstet af musikere\, alle lærere i Assens Musikskole\, har sat sig for at spille dansk musik fra folk over 80’er pop til nye hits for en hel masse skolebørn. \nTurnéen kommer forbi fem skoler på to dage\, hvor bandet spiller for over 1.000 elever.
URL:https://spildansk.dk/kalender/tidsmaskinen-5/
LOCATION:Tallerupskolen\, Lilleskovvej\, Tommerup\, 5690
CATEGORIES:Musik til børn
ATTACH;FMTTYPE=image/jpeg:https://spildansk.dk/wp-content/uploads/2019/10/MusikOplevelsesDag-foto-Rasmus-Bukholt-1.jpg
ORGANIZER;CN="Assens Musikskole":MAILTO:musikskolen@assens.dk
END:VEVENT
BEGIN:VEVENT
DTSTART;TZID=Europe/Copenhagen:20191031T123000
DTEND;TZID=Europe/Copenhagen:20191031T133000
DTSTAMP:20260423T071200
CREATED:20191023T105330Z
LAST-MODIFIED:20191023T105330Z
UID:22541-1572525000-1572528600@spildansk.dk
SUMMARY:Verdenssange med Vingefang
DESCRIPTION:LMS-Familiekoncert i forbindelse med Spil Dansk Ugen 2019.
URL:https://spildansk.dk/kalender/verdenssange-med-vingefang-5/
LOCATION:Sundskolen\, Linde Alle 36\, Nykøbing F\, 4800\, Denmark
END:VEVENT
BEGIN:VEVENT
DTSTART;TZID=Europe/Copenhagen:20191031T122000
DTEND;TZID=Europe/Copenhagen:20191031T132000
DTSTAMP:20260423T071200
CREATED:20191023T104802Z
LAST-MODIFIED:20191023T104802Z
UID:22492-1572524400-1572528000@spildansk.dk
SUMMARY:Hjertelys
DESCRIPTION:LMS-Familiekoncert i forbindelse med Spil Dansk Ugen 2019.
URL:https://spildansk.dk/kalender/hjertelys/
LOCATION:Davidskolen\, Østergade 13\, Aakirkeby\, 3720\, Denmark
END:VEVENT
BEGIN:VEVENT
DTSTART;TZID=Europe/Copenhagen:20191031T121500
DTEND;TZID=Europe/Copenhagen:20191031T131500
DTSTAMP:20260423T071200
CREATED:20191023T105254Z
LAST-MODIFIED:20191023T105254Z
UID:22536-1572524100-1572527700@spildansk.dk
SUMMARY:Cirkeline og Coco rejser til Afrika
DESCRIPTION:LMS-Familiekoncert i forbindelse med Spil Dansk Ugen 2019.
URL:https://spildansk.dk/kalender/cirkeline-og-coco-rejser-til-afrika-6/
LOCATION:Sindal Skole\, Sindal\, Hjørring\, Danmark
END:VEVENT
END:VCALENDAR