BEGIN:VCALENDAR
VERSION:2.0
PRODID:-//Spil Dansk - ECPv6.5.0//NONSGML v1.0//EN
CALSCALE:GREGORIAN
METHOD:PUBLISH
X-WR-CALNAME:Spil Dansk
X-ORIGINAL-URL:https://spildansk.dk
X-WR-CALDESC:Events for Spil Dansk
REFRESH-INTERVAL;VALUE=DURATION:PT1H
X-Robots-Tag:noindex
X-PUBLISHED-TTL:PT1H
BEGIN:VTIMEZONE
TZID:Europe/Copenhagen
BEGIN:DAYLIGHT
TZOFFSETFROM:+0100
TZOFFSETTO:+0200
TZNAME:CEST
DTSTART:20180325T010000
END:DAYLIGHT
BEGIN:STANDARD
TZOFFSETFROM:+0200
TZOFFSETTO:+0100
TZNAME:CET
DTSTART:20181028T010000
END:STANDARD
END:VTIMEZONE
BEGIN:VEVENT
DTSTART;TZID=Europe/Copenhagen:20181102T110000
DTEND;TZID=Europe/Copenhagen:20181102T120000
DTSTAMP:20260423T235738
CREATED:20181003T125941Z
LAST-MODIFIED:20181003T125941Z
UID:15990-1541156400-1541160000@spildansk.dk
SUMMARY:Spil Dansk i Medborgerhuset
DESCRIPTION:Søren Storm\, violin og Lasse Toft Eriksen\, klaver\, underholder med populær dansk musik\, og inviterer til fællessang.
URL:https://spildansk.dk/kalender/spil-dansk-i-medborgerhuset/
LOCATION:Medborgerhuset Varde\, Danmark
CATEGORIES:Fællessang,Klassisk
ATTACH;FMTTYPE=image/png:https://spildansk.dk/wp-content/uploads/2018/10/begivenhed-banner-spil-dansk-2018-7.png
END:VEVENT
BEGIN:VEVENT
DTSTART;TZID=Europe/Copenhagen:20181102T103000
DTEND;TZID=Europe/Copenhagen:20181102T103000
DTSTAMP:20260423T235738
CREATED:20180910T080515Z
LAST-MODIFIED:20180910T080515Z
UID:14701-1541154600-1541154600@spildansk.dk
SUMMARY:Morgensang med Skoleforeningen
DESCRIPTION:„Old school-morgensang“ på den gamle Christian Paulsen-Skole.  \nVarighed: ca. 25 minutter.
URL:https://spildansk.dk/kalender/morgensang-med-skoleforeningen-2/
LOCATION:CfU Samlingssalen\, Südergraben 36\, Flensborg\, 24937\, Danmark
CATEGORIES:Fællessang
END:VEVENT
BEGIN:VEVENT
DTSTART;TZID=Europe/Copenhagen:20181102T100200
DTEND;TZID=Europe/Copenhagen:20181102T101300
DTSTAMP:20260423T235738
CREATED:20181023T171415Z
LAST-MODIFIED:20181023T171415Z
UID:17405-1541152920-1541153580@spildansk.dk
SUMMARY:Humaniora synger morgensang
DESCRIPTION:Fællessang for alle på Søndre Campus  \nNu falmer skoven tekst: N. F. S. Grundtvig 1844\, musik: J. H. Nebelong 1889 \nÅrstiderne (Vasketøj vajer for vinden) tekst og musik: Benny Andersen 1972 \nLangebro tekst: Gasolin 1971\, musik: skotsk/ engelsk folkesang\, “Geordie” \nAvenuen tekst: Anders og Peter Lund Madsen 2004\, musik: Kim Larsen 2004 \nHow deep is your love tekst og musik: Barry Gibb\, Maurice Gibb og Robin Gibb 1977
URL:https://spildansk.dk/kalender/humaniora-synger-morgensang-2/
LOCATION:Søndre Campus\, Humaniora\, Bygn. 13\, Torvet\, Karen Blixens Plads 8\, København S\, 2300\, Danmark
CATEGORIES:Fællessang
ATTACH;FMTTYPE=image/jpeg:https://spildansk.dk/wp-content/uploads/2018/10/Morgensang-dec.17-4.jpg
END:VEVENT
BEGIN:VEVENT
DTSTART;TZID=Europe/Copenhagen:20181102T100000
DTEND;TZID=Europe/Copenhagen:20181102T143000
DTSTAMP:20260423T235738
CREATED:20181026T103722Z
LAST-MODIFIED:20181026T103722Z
UID:17647-1541152800-1541169000@spildansk.dk
SUMMARY:Andreas Seebach besøger Strandmølleskolen i Assens
DESCRIPTION:Andreas Seebach besøger Strandmølleskolen i Assens og vil arbejde med 6. klasse og sangskrivning.
URL:https://spildansk.dk/kalender/andreas-seebach-besoeger-strandmoelleskolen-i-assens/
LOCATION:Strandmølleskolen\, Damgade 34\, Assens\, 5610
CATEGORIES:Hiphop
ATTACH;FMTTYPE=image/jpeg:https://spildansk.dk/wp-content/uploads/2018/10/Logo.jpg
ORGANIZER;CN="AssensBibliotekerne":MAILTO:assensbib@assens.dk
END:VEVENT
BEGIN:VEVENT
DTSTART;TZID=Europe/Copenhagen:20181102T100000
DTEND;TZID=Europe/Copenhagen:20181102T140000
DTSTAMP:20260423T235738
CREATED:20181011T110922Z
LAST-MODIFIED:20181122T103646Z
UID:16591-1541152800-1541167200@spildansk.dk
SUMMARY:Sangskriverworkshop
DESCRIPTION:Workshop\, hvor børnene kommer gennem en kreativ proces\, som ender ud i et færdigt resultat – deres egen klassesang.
URL:https://spildansk.dk/kalender/sangskriverworkshop-3/
LOCATION:Mørke Skole\, Kirkevej 13\, Mørke\, 8544
CATEGORIES:Workshop
END:VEVENT
BEGIN:VEVENT
DTSTART;TZID=Europe/Copenhagen:20181102T100000
DTEND;TZID=Europe/Copenhagen:20181102T140000
DTSTAMP:20260423T235738
CREATED:20181011T110917Z
LAST-MODIFIED:20181122T103655Z
UID:16589-1541152800-1541167200@spildansk.dk
SUMMARY:Sangskriverworkshop
DESCRIPTION:Workshop\, hvor børnene kommer gennem en kreativ proces\, som ender ud i et færdigt resultat – deres egen klassesang.
URL:https://spildansk.dk/kalender/sangskriverworkshop-2/
LOCATION:Mørke Skole\, Kirkevej 13\, Mørke\, 8544
CATEGORIES:Workshop
END:VEVENT
BEGIN:VEVENT
DTSTART;TZID=Europe/Copenhagen:20181102T100000
DTEND;TZID=Europe/Copenhagen:20181102T110000
DTSTAMP:20260423T235738
CREATED:20181023T132626Z
LAST-MODIFIED:20181023T132626Z
UID:17333-1541152800-1541156400@spildansk.dk
SUMMARY:"Det bedste til mig og mine venner - en hyldest til Kim Larsen"
DESCRIPTION:Fællessamling for hele Vittenbergskolen med masser af musik af Kim Larsen. Fællessang samt indslag fra skolens 8. årgang samt sammenspilshold.
URL:https://spildansk.dk/kalender/det-bedste-til-mig-og-mine-venner-en-hyldest-til-kim-larsen/
LOCATION:Vittenbergskolen\, Haulundvej 3\, Ribe\, 6760
CATEGORIES:Fællessang,Musik til børn
END:VEVENT
BEGIN:VEVENT
DTSTART;TZID=Europe/Copenhagen:20181102T100000
DTEND;TZID=Europe/Copenhagen:20181102T110000
DTSTAMP:20260423T235738
CREATED:20180921T072346Z
LAST-MODIFIED:20180921T072346Z
UID:15469-1541152800-1541156400@spildansk.dk
SUMMARY:Fællessang
DESCRIPTION:Alle børn og voksne på skolen mødes og synger 6 af de 18 sange som fællessang.
URL:https://spildansk.dk/kalender/faellessang-27/
LOCATION:Terndrup Skole
CATEGORIES:Fællessang
END:VEVENT
BEGIN:VEVENT
DTSTART;TZID=Europe/Copenhagen:20181102T100000
DTEND;TZID=Europe/Copenhagen:20181102T110000
DTSTAMP:20260423T235738
CREATED:20180907T113432Z
LAST-MODIFIED:20180907T113432Z
UID:14636-1541152800-1541156400@spildansk.dk
SUMMARY:Koncert v/ Lidt i ni
DESCRIPTION:I anledningen af Spil Dansk ugen inviterer Lidt i ni til lyttemusik og fællessang i caféen. Lidt i ni er en musikalsk samspilsgruppe\, som øver hver fredag på Åpark Centret. \nIngen tilmelding.
URL:https://spildansk.dk/kalender/koncert-v-lidt-i-ni/
LOCATION:Åpark Centret\, Løvenørnsgade 21\, Horsens\, 8700
CATEGORIES:Fællessang,Folk
END:VEVENT
BEGIN:VEVENT
DTSTART;TZID=Europe/Copenhagen:20181102T100000
DTEND;TZID=Europe/Copenhagen:20181102T103000
DTSTAMP:20260423T235738
CREATED:20181018T111417Z
LAST-MODIFIED:20181018T111417Z
UID:16995-1541152800-1541154600@spildansk.dk
SUMMARY:Morgensang på Mariager Bibliotek
DESCRIPTION:Fredag d. 2. november kl. 10 er både Hobro\, Mariager og Hadsund Bibliotek klar med en kop kaffe og fælles skønsang til at sparke dagen godt i gang. \nVi garanterer en hyggelig morgen\, så smør stemmebåndet og mød bare op på dit lokale bibliotek.
URL:https://spildansk.dk/kalender/morgensang-paa-mariager-bibliotek/
LOCATION:Mariager Bibliotek\, Teglgade 6\, Mariager\, 9550
CATEGORIES:Fællessang
ATTACH;FMTTYPE=image/jpeg:https://spildansk.dk/wp-content/uploads/2018/10/birds-2672101_1920-5.jpg
END:VEVENT
BEGIN:VEVENT
DTSTART;TZID=Europe/Copenhagen:20181102T100000
DTEND;TZID=Europe/Copenhagen:20181102T103000
DTSTAMP:20260423T235738
CREATED:20181018T110449Z
LAST-MODIFIED:20181018T110449Z
UID:16992-1541152800-1541154600@spildansk.dk
SUMMARY:Morgensang på Hadsund Bibliotek
DESCRIPTION:Fredag d. 2. november kl. 10 er både Hobro\, Mariager og Hadsund Bibliotek klar med en kop kaffe og fælles skønsang til at sparke dagen godt i gang. \nVi garanterer en hyggelig morgen\, så smør stemmebåndet og mød bare op på dit lokale bibliotek. Det er ganske gratis at være med\, og helt uden tilmelding
URL:https://spildansk.dk/kalender/morgensang-paa-hadsund-bibliotek/
LOCATION:Hadsund Bibliotek\, Kirkegade 2-4\, Hadsund\, 9560
CATEGORIES:Fællessang
ATTACH;FMTTYPE=image/jpeg:https://spildansk.dk/wp-content/uploads/2018/10/birds-2672101_1920-4.jpg
END:VEVENT
BEGIN:VEVENT
DTSTART;TZID=Europe/Copenhagen:20181102T100000
DTEND;TZID=Europe/Copenhagen:20181102T103000
DTSTAMP:20260423T235738
CREATED:20181018T093919Z
LAST-MODIFIED:20181018T093919Z
UID:16969-1541152800-1541154600@spildansk.dk
SUMMARY:Morgensang på Hobro Bibliotek
DESCRIPTION:Fredag d. 2. november kl. 10 er både Hobro\, Mariager og Hadsund Bibliotek klar med en kop kaffe og fælles skønsang til at sparke dagen godt i gang. I Hobro får vi\, lige som sidste år\, besøg af et lokalt kor\, som kommer og synger for\, mens personalet rømmer stemmen og fører an i både Hadsund og Mariager. \nVi garanterer en hyggelig morgen\, så smør stemmebåndet og mød bare op på dit lokale bibliotek. Det er ganske gratis at være med\, og helt uden tilmelding.
URL:https://spildansk.dk/kalender/morgensang-paa-hobro-bibliotek/
LOCATION:Hobro Bibliotek\, Adelgade 28\, Hobro\, 9500
CATEGORIES:Fællessang
ATTACH;FMTTYPE=image/jpeg:https://spildansk.dk/wp-content/uploads/2018/10/birds-2672101_1920.jpg
END:VEVENT
BEGIN:VEVENT
DTSTART;TZID=Europe/Copenhagen:20181102T100000
DTEND;TZID=Europe/Copenhagen:20181102T103000
DTSTAMP:20260423T235738
CREATED:20180910T131047Z
LAST-MODIFIED:20180910T131047Z
UID:14798-1541152800-1541154600@spildansk.dk
SUMMARY:Lungekoret synger på DS Stål
DESCRIPTION:Der er lagt op til en fællessangskoncert med fokus på den danske sang når Lungekoret fra Mariagerfjord Kulturskole besøger DS Stål i Hobro.
URL:https://spildansk.dk/kalender/lungekoret-synger-paa-ds-staal/
LOCATION:Hobro
CATEGORIES:Fællessang
ATTACH;FMTTYPE=image/jpeg:https://spildansk.dk/wp-content/uploads/2018/09/lungekor.jpg
END:VEVENT
BEGIN:VEVENT
DTSTART;TZID=Europe/Copenhagen:20181102T093000
DTEND;TZID=Europe/Copenhagen:20181102T113000
DTSTAMP:20260423T235738
CREATED:20181030T151726Z
LAST-MODIFIED:20181030T151726Z
UID:17833-1541151000-1541158200@spildansk.dk
SUMMARY:Spil Dansk Fællessange i Kirkecafeen
DESCRIPTION:Cafeen er åben hver fredag fra 9.30 – 11.30 året rundt. \nKaffe\, lækre boller og snak \n– og altid med 3-4 danske fællessange  \nGratis adgang\, men kaffe og boller koster 10 kroner
URL:https://spildansk.dk/kalender/spil-dansk-faellessange-i-kirkecafeen/
LOCATION:Sognegården hinnerup\, Aadalsvej 10\, Hinnerup\, 8382
CATEGORIES:Fællessang
ATTACH;FMTTYPE=image/jpeg:https://spildansk.dk/wp-content/uploads/2018/10/IMG_0355.jpg
END:VEVENT
BEGIN:VEVENT
DTSTART;TZID=Europe/Copenhagen:20181102T093000
DTEND;TZID=Europe/Copenhagen:20181102T103000
DTSTAMP:20260423T235738
CREATED:20181002T112025Z
LAST-MODIFIED:20181002T112855Z
UID:15877-1541151000-1541154600@spildansk.dk
SUMMARY:Små synger sammen
DESCRIPTION:I Syddjurs Kommune har man valgt at flytte Små synger sammen til Spil Dansk-ugen. \nI år handler det om bier\nTemaet for årets Små synger sammen er valgt i samarbejde med Ramasjang og De Grønne Spirer\, som sammen sætter fokus på bierne. For Små synger sammens vedkommende betyder det\, at årets sangforslag og inspirationsmateriale tager udgangspunkt i bier i musikken: fra Bamse og Kyllings ’Brum brum’ til gode gamle ’Sur\, sur\, sur’. \nTemaet er insekter – sange og opgaver\nHer er en liste over sange\, som I måske kender\, og har lyst til at øve på inden koncerten: \n\nJeg har fanget mig en myg\nSur sur sur\nBrum brum\nMariehønen Evigglad\nLille Peter Edderkop\nSommerfuglen (Mel: bjørnen sover)\n\nTilmelding:\nFor at vi har en fornemmelse af\, hvor mange vi bliver\, må I meget gerne tilmelde jer via følgende link:\nKom-Bi: https://goo.gl/forms/KB7OCG8KtatbSbvy2
URL:https://spildansk.dk/kalender/smaa-synger-sammen-2/
LOCATION:Kom-bi\, Nyvej 3\, Hornslet\, 8543\, Danmark
CATEGORIES:Musik til børn
ATTACH;FMTTYPE=image/jpeg:https://spildansk.dk/wp-content/uploads/2018/10/Små-synger-sammen-1.jpg
ORGANIZER;CN="Kulturafdelingen%2C Syddjurs Kommune":MAILTO:ligl@syddjurs.dk
END:VEVENT
BEGIN:VEVENT
DTSTART;TZID=Europe/Copenhagen:20181102T090000
DTEND;TZID=Europe/Copenhagen:20181102T130000
DTSTAMP:20260423T235738
CREATED:20181017T114528Z
LAST-MODIFIED:20181017T114528Z
UID:16943-1541149200-1541163600@spildansk.dk
SUMMARY:Sangskriverworkshop med Andreas Seebach
DESCRIPTION:4 timers workshop med en professionel sangskriver\, der laver en sang med børnene.
URL:https://spildansk.dk/kalender/sangskriverworkshop-med-andreas-seebach-2/
LOCATION:Strandmølleskolen\, Damgade 34\, Assens\, 5610
CATEGORIES:Workshop
END:VEVENT
BEGIN:VEVENT
DTSTART;TZID=Europe/Copenhagen:20181102T090000
DTEND;TZID=Europe/Copenhagen:20181102T113000
DTSTAMP:20260423T235738
CREATED:20180930T184240Z
LAST-MODIFIED:20180930T184901Z
UID:15775-1541149200-1541158200@spildansk.dk
SUMMARY:HALFDANS UNIVERS – med 3-5 årige\, Hanne Tofte Jespersen & Katrine Suwalski
DESCRIPTION:HALFDANS UNIVERS – SYNG & SPIL DANSK 2018 i 4 Børnehuse i Roskilde Kommune:\nHer får bilerne vinger og fuglene hjul – vi tæller stjernerne og månen…\nHalfdans univers åbner alle sanser\, stimulerer sprog og skaber glæde\ngennem musik og dans. Målgruppe: de 3-5 årige og deres pædagoger.\nDe to musikere Hanne og Katrine kommer ud og lærer børn &\nvoksne en stribe sange til Halfdan Rasmussen børnerim. Vi synger og danser sammen!\nPædagogerne får tillige inspiration til at synge godt med børnehavebørn.
URL:https://spildansk.dk/kalender/halfdans-univers-med-3-5-aarige-hanne-tofte-jespersen-katrine-suwalski-4/
LOCATION:Vognmandsparkens Børnehave\, Gartnervang 13\, Roskilde\, 4000
CATEGORIES:Musik til børn,Workshop
ATTACH;FMTTYPE=image/jpeg:https://spildansk.dk/wp-content/uploads/2018/09/PR_SPILDANSK18_HalfdansUnivers_sange_3-5arige-3.jpg
ORGANIZER;CN="DMF-Roskilde":MAILTO:hanne@dmfroskilde.dk
END:VEVENT
BEGIN:VEVENT
DTSTART;TZID=Europe/Copenhagen:20181102T083000
DTEND;TZID=Europe/Copenhagen:20181102T093000
DTSTAMP:20260423T235738
CREATED:20181010T152814Z
LAST-MODIFIED:20181010T152814Z
UID:16557-1541147400-1541151000@spildansk.dk
SUMMARY:Fællessang for alle
DESCRIPTION:Friskolen i Lemming inviterer alle interesserede\, lokale\, familie\, venner\, skoletilbud – ja ALLE til morgensang i skolens sal. Vi skal synge sammen ca 30 -45 min og derefter er der en kop kaffe/the til de fremmødte. Vi glæder os til at byde jer indenfor – også dig der ikke har direkte tilknytning til friskolen….!
URL:https://spildansk.dk/kalender/faellessang-for-alle/
LOCATION:Friskolen i Lemming\, Lemming Bygade 2a\, Lemming\, 8632
CATEGORIES:Fællessang,Musik til børn
ATTACH;FMTTYPE=image/jpeg:https://spildansk.dk/wp-content/uploads/2018/10/friskolen-i-lemming-logo.jpg
ORGANIZER;CN="Friskolen i Lemming":MAILTO:friskolenilemming@gmail.com
END:VEVENT
BEGIN:VEVENT
DTSTART;TZID=Europe/Copenhagen:20181102T080000
DTEND;TZID=Europe/Copenhagen:20181102T150000
DTSTAMP:20260423T235738
CREATED:20181002T085314Z
LAST-MODIFIED:20181002T085314Z
UID:15834-1541145600-1541170800@spildansk.dk
SUMMARY:Sangskriver workshop
DESCRIPTION:Sangskriver workshop med Linette Damsted (MOZAÍK) samt producer/cowriter Olle Markensten for musikinteresserede elever fra 6. – 9. årgang på Samsø Skole og Samsø Frie Skole.
URL:https://spildansk.dk/kalender/sangskriver-workshop/
LOCATION:Sambiosen\, Pillemarksvej 1\, Samsø\, 8305
CATEGORIES:Workshop
END:VEVENT
BEGIN:VEVENT
DTSTART;TZID=Europe/Copenhagen:20181102T080000
DTEND;TZID=Europe/Copenhagen:20181102T090000
DTSTAMP:20260423T235738
CREATED:20181010T181807Z
LAST-MODIFIED:20181010T181807Z
UID:16564-1541145600-1541149200@spildansk.dk
SUMMARY:Peter Wallin på Vejen Friskole
DESCRIPTION:Komponist og musiker Peter Wallin gæster Vejen Friskole for at give børn og voksne en uforglemmelig musikoplevelse.
URL:https://spildansk.dk/kalender/peter-wallin-paa-vejen-friskole/
LOCATION:Vejen Friskole\, Læborgvej 14\, Vejen\, 6600
CATEGORIES:Alternative,Klassisk
END:VEVENT
BEGIN:VEVENT
DTSTART;TZID=Europe/Copenhagen:20181102T080000
DTEND;TZID=Europe/Copenhagen:20181102T084500
DTSTAMP:20260423T235738
CREATED:20181028T123002Z
LAST-MODIFIED:20181030T070152Z
UID:17713-1541145600-1541148300@spildansk.dk
SUMMARY:Åben morgensang
DESCRIPTION:Friskolens børn fra 0.-5. klasse præsenterer noget af det de arbejder med i musiktimerne i øjeblikket – sammenspilsnumre\, fællessange mm.
URL:https://spildansk.dk/kalender/aaben-morgensang-4/
LOCATION:Friskolen Asgaard\, Herningvej 70b\, Vildbjerg\, 7480
CATEGORIES:Fællessang
ATTACH;FMTTYPE=image/jpeg:https://spildansk.dk/wp-content/uploads/2018/10/Cafeaften.jpg
END:VEVENT
BEGIN:VEVENT
DTSTART;TZID=Europe/Copenhagen:20181102T080000
DTEND;TZID=Europe/Copenhagen:20181102T083000
DTSTAMP:20260423T235738
CREATED:20181028T204936Z
LAST-MODIFIED:20181028T204936Z
UID:17743-1541145600-1541147400@spildansk.dk
SUMMARY:Fællessamling
DESCRIPTION:Fællessamling  for børn\, personale og forældre \nFællessang og optræden
URL:https://spildansk.dk/kalender/faellessamling-4/
LOCATION:Korsholm skole\, Damsbrovej 63\, Foldby pr Hinnerup\, 8382
CATEGORIES:Fællessang,Musik til børn
END:VEVENT
BEGIN:VEVENT
DTSTART;TZID=Europe/Copenhagen:20181102T080000
DTEND;TZID=Europe/Copenhagen:20181102T083000
DTSTAMP:20260423T235738
CREATED:20181023T155453Z
LAST-MODIFIED:20181023T155453Z
UID:17410-1541145600-1541147400@spildansk.dk
SUMMARY:Hele skolen synger dansk
DESCRIPTION:Tønder Grundskole afslutter SpilDanskUgen med 5 fællessange i Aulaen
URL:https://spildansk.dk/kalender/hele-skolen-synger-dansk/
LOCATION:Tønder Grundskole\, Holmevej\, Tønder\, 6270\, Danmark
CATEGORIES:Fællessang
END:VEVENT
BEGIN:VEVENT
DTSTART;TZID=Europe/Copenhagen:20181101T220000
DTEND;TZID=Europe/Copenhagen:20181101T230000
DTSTAMP:20260423T235738
CREATED:20181008T110212Z
LAST-MODIFIED:20181012T144009Z
UID:16143-1541109600-1541113200@spildansk.dk
SUMMARY:Medarbejderarrangement: koncert/artist-talk
DESCRIPTION:Sif Graversen Duo besøger Celsa Steel Service i Ølstykke. Arrangementet er for virksomhedens medarbejdere.
URL:https://spildansk.dk/kalender/medarbejderarrangement-koncert-artist-talk/
LOCATION:Celsa Steel Service\, Frodebjergvej 6\, Ølstykke\, 3650
CATEGORIES:Foredrag,Pop
ATTACH;FMTTYPE=image/jpeg:https://spildansk.dk/wp-content/uploads/2018/10/Egedal-logo.jpg
END:VEVENT
BEGIN:VEVENT
DTSTART;TZID=Europe/Copenhagen:20181101T210000
DTEND;TZID=Europe/Copenhagen:20181101T233000
DTSTAMP:20260423T235738
CREATED:20181015T080815Z
LAST-MODIFIED:20181015T080815Z
UID:16781-1541106000-1541115000@spildansk.dk
SUMMARY:The Doors Tribute
DESCRIPTION:Genskaber magien og intensiteten af The Doors’ musikalske katalog i en udsøgt koncertoplevelse. \nThe Doors Tribute hylder legenderne ved at genskabe magien og intensiteten af The Doors’ musikalske katalog i en udsøgt koncertoplevelse. Det er et must-see for alle Doors-fans og for alle der ønsker\, at opdage og opleve en fantastisk og unik genskabelse af deres musik. \nVed brug af vintage udstyr og moderne instrumenter til at replikere fornemmelsen og auraen fra de originale studieoptagelser\, er målet at give et publikum et fuldstændigt live-spektrum af The Doors’ mange facetter og alsidighed. \nDette er IKKE det lidt vanlige kopi og look-a-like kostume-show! Medlemmerne af The Doors Tribute er ikke kun et regulært A-hold af velkendte og etablerede professionelle musikere og kunstnere\, men har et tilhørsforhold i stil og musikalsk arv\, der komplimenterer den oprindelige \nDoors besætning. Man kan sige\, at deres engagement i denne musik er et udslag af lige dele kærlighed\, respekt & beundring: ”Vi føler os ret beærede over muligheden for\, at viderelevere denne legendariske musik til en ny generation af potentielle lyttere og give den ældre et nostalgisk glimt tilbage til en tid\, hvor konventionerne blev udfordret og der for alvor var revolution i luften.”
URL:https://spildansk.dk/kalender/the-doors-tribute/
LOCATION:Tante olga\, Søndergade 6\, Randers C.\, 8900
CATEGORIES:Rock
ATTACH;FMTTYPE=image/jpeg:https://spildansk.dk/wp-content/uploads/2018/10/bfaed645-2d29-4c33-89af-5ee5e9c338d1.jpg
ORGANIZER;CN="Tante Olga":MAILTO:info@tanteolga.dk
END:VEVENT
BEGIN:VEVENT
DTSTART;TZID=Europe/Copenhagen:20181101T203000
DTEND;TZID=Europe/Copenhagen:20181101T223000
DTSTAMP:20260423T235738
CREATED:20181002T094938Z
LAST-MODIFIED:20181002T095233Z
UID:15847-1541104200-1541111400@spildansk.dk
SUMMARY:Mirja Klippel / Skanderborg
DESCRIPTION:PRISBELØNNET FINSK SINGER-SONGWRITER\n– giver koncert på Walthers Musikcafé \n— \nMirja Klippel har støt opbygget sig et navn på den internationale sangskriverscene. Med en EP og en Danish Music Award Folk i kategorien Årets Sangskriver (2016) bag sig\, er hun nu klar med sit første fuldlængde album\, River of Silver\, som hun tager med under armen til Spil Dansk Ugen. \nSangskriveren Mirja Klippel gør sig indenfor melodiøse og poetiske sange\, der bæres frem af et dæmpet og nærværende udtryk. Musikken sættes i scene af hendes insisterende vokal og akustiske guitar\, som understøttes og bakkes op af hendes faste musikalske samarbejdspartner\, Alex Jønssons vokal og elektriske guitar. Og live er musikken en helt særlig og intim oplevelse\, hvor man løftes og fanges ind af de atmosfæriske lydbilleder og dragende sange. \nMed River of Silver har Mirja Klippel skabt et album\, der med udspring i det nære og personlige trækker linjer\, ikke bare til den omliggende verdens sociale uretfærdighed og snærende bånd\, men også til håbet om en bedre fremtid. Som hun selv siger: ”Jeg skriver sange for at få verden til at give mening. Om mennesker\, deres følelser og handlinger… og konsekvenser. Min egen historie og fremtid.” \nMirja Klippel har de seneste år turneret intensivt i ind- og udland\, og optrådt i alt fra stuer i Østjylland\, til trækirker i Finland og etablerede festivaller i bl.a. Grønland. I 2019 tager hun på en større turné\, der – udover Danmark – bl.a. bringer hende til Tyskland\, Finland og Rusland. \n“Jeg er begyndt af forvente mig intet mindre end det ypperste fra de to og endnu engang blev hverken jeg – eller publikum – skuffet” – Artist in the Spotlight \nhttps://www.mirjaklippel.com \nhttps://www.facebook.com/mirjaklippel
URL:https://spildansk.dk/kalender/mirja-klippel-skanderborg/
LOCATION:Walthers Musikcafé\, Adelgade 125\, Skanderborg\, 8660\, Danmark
CATEGORIES:Folk,Singer-songwriter
ATTACH;FMTTYPE=image/jpeg:https://spildansk.dk/wp-content/uploads/2018/10/Mirja-2-photo-by-Kim-Wendt.jpg
END:VEVENT
BEGIN:VEVENT
DTSTART;TZID=Europe/Copenhagen:20181101T203000
DTEND;TZID=Europe/Copenhagen:20181101T223000
DTSTAMP:20260423T235738
CREATED:20180921T122744Z
LAST-MODIFIED:20180921T123524Z
UID:15487-1541104200-1541111400@spildansk.dk
SUMMARY:Feridah Rose
DESCRIPTION:Varme rytmer og en stemme\, der vibrerer af solskin. Feridah tager os med på opdagelse i afrikanske musiktraditioner og blander det med pop\, soul\, jazz og funk. Sangene er på engelsk med afstik­kere til swahili og sangerindens modersmål\, luganda. \nTorsdag 1. nov. Døre 20.00 // Show 20.30 // 70 kr + gebyr/80 kr i døren\nBilletter: https://billetto.dk/da/e/feridah-rose-billetter-296978
URL:https://spildansk.dk/kalender/feridah-rose/
LOCATION:kulturstationen Vanløse\, Frode Jacobsens Palds 4\, 1\, Vanløse\, 2720\, Danmark
CATEGORIES:Funk,Jazz
ATTACH;FMTTYPE=image/png:https://spildansk.dk/wp-content/uploads/2018/09/feridah.png
ORGANIZER;CN="kulturstationen Vanl%C3%B8se":MAILTO:sarafu@kff.kk.dk
END:VEVENT
BEGIN:VEVENT
DTSTART;TZID=Europe/Copenhagen:20181101T200000
DTEND;TZID=Europe/Copenhagen:20181101T230000
DTSTAMP:20260423T235738
CREATED:20181030T123005Z
LAST-MODIFIED:20181030T123005Z
UID:17817-1541102400-1541113200@spildansk.dk
SUMMARY:TÅRN på Pumpehuset
DESCRIPTION:Efter to fuldlængdealbum udgivet i henholdsvis ’16 og ’17 er TÅRN nu ud med de to nye singler ’Frihed i Forfald’ og ’Sendt Afsted’\, hvor først nævnte er i rotation på P6 BEAT. De to singler er blevet til i samarbejde med producer Søren Buhl Fra Blaue Blume\, som også producerede bandets debutalbum ’Ud Ad Mit Vindue’. Det er første indspilninger\, der er blevet til i helhjertet samarbejde med bassist Ida Urd og pianist Peter Sabroe\, som begge er blevet indlemmet i bandet siden indspilningen er albummet ’Velkommen Indenfor’\, hvor de begge bidrog\, såvel som de har været en fast bestandel af TÅRN live siden da. Med over 40 koncerter i 2017 og en nylig hæder i form af Odense Live Prisen er bandet vokset og vokset i styrke til deres mange koncerter og de har i år helliget tiden til indspilningerne af deres kommende 3. album. Men de kan nu opleves live i Spil Dansk Ugen i Pumpehuset d. 1. november\, hvor de også spiller helt nye numre. \nLink til arrangement: https://pumpehuset.dk/koncerter/tarn/ \nBilletpris: 140 kr. + gebyr: \nDøre åbner kl. 20:00\nKoncertstart: kl. 21:00 \nLink til TÅRNs facebook: https://www.facebook.com/taarnmusik
URL:https://spildansk.dk/kalender/taarn-paa-pumpehuset/
LOCATION:Pumpehuset\, Studiestræde 52\, København V\, 1554\, Danmark
CATEGORIES:Alternative,Rock
ATTACH;FMTTYPE=image/jpeg:https://spildansk.dk/wp-content/uploads/2018/10/TAARN-spil-dansk.jpg
ORGANIZER;CN="NORDIC MUSIC SOCIETY":MAILTO:jon.madsen@nordic-music.dk
END:VEVENT
BEGIN:VEVENT
DTSTART;TZID=Europe/Copenhagen:20181101T200000
DTEND;TZID=Europe/Copenhagen:20181101T230000
DTSTAMP:20260423T235738
CREATED:20181029T140229Z
LAST-MODIFIED:20181029T140229Z
UID:17781-1541102400-1541113200@spildansk.dk
SUMMARY:TÅRN
DESCRIPTION:Efter to fuldlængde albums udgav de danske indie pop-rockere i TÅRN i sommers blot to singler ’Frihed i Forfald’ og ’Sendt Afsted’\, som med tilhørende livevideoer satte streg under TÅRN som er et fuldblods liveband. TÅRNs musikalske rødder stikker både tilbage til 70’ernes dansksprogede singer-songwriter\, såvel som deres fødder er plantet i nutiden i stil med navne som Carl Emil Petersen\, Fribytterdrømme og Aksglæde. De kan opleves live under Spil Dansk Ugen i Pumpehuset i København 1. november\, 2. november på Headquarters i Aarhus og på 1000Fryd i Aalborg d. 3. november.
URL:https://spildansk.dk/kalender/taarn-2/
LOCATION:Pumpehuset\, Studiestræde 52\, København V\, 1554\, Danmark
CATEGORIES:Alternative
ATTACH;FMTTYPE=image/jpeg:https://spildansk.dk/wp-content/uploads/2018/10/TÅRN-spil-dansk.jpg
END:VEVENT
BEGIN:VEVENT
DTSTART;TZID=Europe/Copenhagen:20181101T200000
DTEND;TZID=Europe/Copenhagen:20181101T230000
DTSTAMP:20260423T235738
CREATED:20181003T174928Z
LAST-MODIFIED:20181003T174928Z
UID:16018-1541102400-1541113200@spildansk.dk
SUMMARY:Peter og Mads Marckmann live på Gustav Wieds
DESCRIPTION:En aften med åbenhjertig\, sårbar og til tider vild bluesy stuff med eget materiale og lånte sange fra Povl Dissing med flere. Musikken leveres af godt sammentømret duo – faktisk far og søn – på Western-guitar\, elguitar og percussion
URL:https://spildansk.dk/kalender/peter-og-mads-marckmann-live-paa-gustav-wieds/
LOCATION:Gustav Wieds vinstue\, Hersegade 11\, Roskilde\, 4000\, Danmark
CATEGORIES:Blues,Singer-songwriter
ATTACH;FMTTYPE=image/jpeg:https://spildansk.dk/wp-content/uploads/2018/10/Billede-2.jpg
END:VEVENT
END:VCALENDAR