BEGIN:VCALENDAR
VERSION:2.0
PRODID:-//Spil Dansk - ECPv6.5.0//NONSGML v1.0//EN
CALSCALE:GREGORIAN
METHOD:PUBLISH
X-WR-CALNAME:Spil Dansk
X-ORIGINAL-URL:https://spildansk.dk
X-WR-CALDESC:Events for Spil Dansk
REFRESH-INTERVAL;VALUE=DURATION:PT1H
X-Robots-Tag:noindex
X-PUBLISHED-TTL:PT1H
BEGIN:VTIMEZONE
TZID:Europe/Copenhagen
BEGIN:DAYLIGHT
TZOFFSETFROM:+0100
TZOFFSETTO:+0200
TZNAME:CEST
DTSTART:20180325T010000
END:DAYLIGHT
BEGIN:STANDARD
TZOFFSETFROM:+0200
TZOFFSETTO:+0100
TZNAME:CET
DTSTART:20181028T010000
END:STANDARD
END:VTIMEZONE
BEGIN:VEVENT
DTSTART;TZID=Europe/Copenhagen:20181102T170000
DTEND;TZID=Europe/Copenhagen:20181102T180000
DTSTAMP:20260423T221347
CREATED:20181023T115543Z
LAST-MODIFIED:20181023T115543Z
UID:17247-1541178000-1541181600@spildansk.dk
SUMMARY:Samsø Sangsild
DESCRIPTION:Samsø Sangsild står for en lille times underholdning i Smagen af Øen.\nSamsø Sangsild optræder med revyinspirerede sange samt originale sange med aktuelt indhold krydret med flotte kjoler og humor. \nPris: Fri entré\nSted: Smagen af Øen\, Nordby
URL:https://spildansk.dk/kalender/samsoe-sangsild/
LOCATION:Smagen af øen\, Nordby Hovedgade 15\, Samsø\, 8305
CATEGORIES:Fællessang,Viser
END:VEVENT
BEGIN:VEVENT
DTSTART;TZID=Europe/Copenhagen:20181102T170000
DTEND;TZID=Europe/Copenhagen:20181102T180000
DTSTAMP:20260423T221347
CREATED:20181009T115320Z
LAST-MODIFIED:20181009T120551Z
UID:16337-1541178000-1541181600@spildansk.dk
SUMMARY:Familiekoncert med Phønix for flygtninge og reformramte familier
DESCRIPTION:Phønix har spillet dansk folkemusik for børn og familier fra Beijing til Toronto og Wien til Helsinki og har gang på gang oplevet at musik nedbryder grænser og giver en fantastisk fællesskabs-oplevelse\, og i disse tider\, hvor der tales så meget om hvad der er dansk\, vil vi gerne samle folk og vise at den traditionelle danske musikkultur\, som vores repertoire jo bygger på\, i den grad er inkluderende\, åben og i konstant udvikling i samspillet menneskene imellem.\nKoncerten arrangeres i samarbejde med Venligboerne\, Næstehjælperne\, 2 timer om ugen og Bolbro Brugerhus
URL:https://spildansk.dk/kalender/familiekoncert-for-flygtninge-og-reformramte-familier/
LOCATION:Bolbro Brugerhus\, Stadionvej 50\, 5200\, Odense V\, Danmark
CATEGORIES:Folk,Musik til børn
ATTACH;FMTTYPE=image/jpeg:https://spildansk.dk/wp-content/uploads/2018/10/PhonixPress2.jpg
END:VEVENT
BEGIN:VEVENT
DTSTART;TZID=Europe/Copenhagen:20181102T170000
DTEND;TZID=Europe/Copenhagen:20181102T180000
DTSTAMP:20260423T221347
CREATED:20180628T103317Z
LAST-MODIFIED:20180905T143256Z
UID:13369-1541178000-1541181600@spildansk.dk
SUMMARY:Il Cantico – Sankt Annæ Pigekor og Sankt Annæ Gymnasiums Kammerkor
DESCRIPTION:Sankt Annæ Pigekor og Sankt Annæ Gymnasiums Kammerkor gennemfører i efteråret 2018 et fælles koncertprojekt i Spil Dansk-ugen\, bl.a. med et helt nyt værk for trestemmigt pigekor og otte-stemmigt blandet kor af Flemming Windekilde; Der Abend. Kompositionen tager udgangspunkt i Schillers digt af samme navn. Desuden opføres Windekildes Il Cantico delle Creature (den hellige Frans af Assisis Solsang)\, hvor der indgår slagtøj\, samt danske korsatser og fællessange.\n\nBegge kor hører begge hjemme på Sankt Annæ Gymnasium\, og er blandt landets bedste ungdomskor.\nSankt Annæ Pigekor har H.K.H. Prinsesse Benedikte som protektor\, og har vundet adskillige guldpriser til Internationale konkurrencer\, senest ved den Internationale Robert Schumann korkonkurrence 2018 i Zwickau.\nGymnasiekammerkoret består af ca. 30 af Sankt Annæ Gymnasiums dygtigste sangere\, og synger koncerter på et højt niveau\, senest har de opført Distlers Totentanz i Mariakirken i Lübeck og på Kulturnatten i København.\n\n\nSankt Annæ Pigekor dirigeres af Anne Marie Granau.\nSankt Annæ Gymnasiums Kammerkor dirigeres af Flemming Windekilde.\n\n\nBilletsalg:\nhttps://billetto.dk/da/e/il-cantico-spil-dansk-koncert-billetter-307506
URL:https://spildansk.dk/kalender/il-cantico-sankt-annae-pigekor-og-sankt-annae-gymnasiums-kammerkor/
LOCATION:Holmens Kirke\, Holmens Kanal 21\, København K\, 1060
CATEGORIES:Klassisk,Kor
ATTACH;FMTTYPE=image/png:https://spildansk.dk/wp-content/uploads/2018/06/Collage-Il-Cantico-2018.png
END:VEVENT
BEGIN:VEVENT
DTSTART;TZID=Europe/Copenhagen:20181102T170000
DTEND;TZID=Europe/Copenhagen:20181102T173000
DTSTAMP:20260423T221347
CREATED:20181009T085002Z
LAST-MODIFIED:20181009T085002Z
UID:16207-1541178000-1541179800@spildansk.dk
SUMMARY:Lidt af hvert - Amager Harmonikaklub
DESCRIPTION:Få en festlig start på weekenden\, når harmonikaklubbengiver koncert på torvet i Vestamagercenter.
URL:https://spildansk.dk/kalender/lidt-af-hvert-amager-harmonikaklub/
LOCATION:Vestamagercenteret
CATEGORIES:Alternative
END:VEVENT
BEGIN:VEVENT
DTSTART;TZID=Europe/Copenhagen:20181102T163000
DTEND;TZID=Europe/Copenhagen:20181102T173000
DTSTAMP:20260423T221347
CREATED:20181003T130617Z
LAST-MODIFIED:20181003T130617Z
UID:15997-1541176200-1541179800@spildansk.dk
SUMMARY:Musikalsk Fredagsbar - syng med på danske hits
DESCRIPTION:Det er første fredagsbar i år i Kulturdagene. Vi synger gamle hits\, fra populære danske sangskrivere\, sammen med NC\, som tager sin guitar med. Oplev stemningen på Ølgod Bryghus.
URL:https://spildansk.dk/kalender/musikalsk-fredagsbar-syng-med-paa-danske-hits/
LOCATION:Ølgod Bryghus
CATEGORIES:Viser
ATTACH;FMTTYPE=image/png:https://spildansk.dk/wp-content/uploads/2018/10/begivenhed-banner-spil-dansk-2018-9.png
END:VEVENT
BEGIN:VEVENT
DTSTART;TZID=Europe/Copenhagen:20181102T163000
DTEND;TZID=Europe/Copenhagen:20181102T173000
DTSTAMP:20260423T221347
CREATED:20181001T123819Z
LAST-MODIFIED:20181001T123819Z
UID:15790-1541176200-1541179800@spildansk.dk
SUMMARY:Spil Dansk Cafékoncert i bageriet
DESCRIPTION:Nyd en kop kaffe til musik for klaver og sang. Velkommen i det dejlige lokale hos Ejvinds Bageri i Ringkøbing.
URL:https://spildansk.dk/kalender/spil-dansk-cafekoncert-i-bageriet/
LOCATION:Ejvinds Bageri\, Nygade 21\, Ringkøbing\, 6950
CATEGORIES:Pop,Singer-songwriter
ATTACH;FMTTYPE=image/jpeg:https://spildansk.dk/wp-content/uploads/2018/10/Spil-dansk-021118.jpg
ORGANIZER;CN="Musikskolen Ringk%C3%B8bing-Skjern":MAILTO:musikskolen@rksk.dk
END:VEVENT
BEGIN:VEVENT
DTSTART;TZID=Europe/Copenhagen:20181102T163000
DTEND;TZID=Europe/Copenhagen:20181102T173000
DTSTAMP:20260423T221347
CREATED:20180914T075102Z
LAST-MODIFIED:20181028T084047Z
UID:15247-1541176200-1541179800@spildansk.dk
SUMMARY:Syng med AOF-koret
DESCRIPTION:Koncert og fællessang med AOF-koret
URL:https://spildansk.dk/kalender/syng-med-aof-koret/
LOCATION:Bytorv Horsens\, Søndergade 10\, Horsens\, 8700
CATEGORIES:Kor
ATTACH;FMTTYPE=image/jpeg:https://spildansk.dk/wp-content/uploads/2018/09/Kor-billede1.jpg
END:VEVENT
BEGIN:VEVENT
DTSTART;TZID=Europe/Copenhagen:20181102T160000
DTEND;TZID=Europe/Copenhagen:20181102T183000
DTSTAMP:20260423T221347
CREATED:20181012T142201Z
LAST-MODIFIED:20181021T152610Z
UID:16667-1541174400-1541183400@spildansk.dk
SUMMARY:Pop-up vokalkoncerter
DESCRIPTION:Sangelever og –lærere fra Egedal Musikskole giver små koncerter i og omkring Egedal Centret og Stenløse Kulturhus. Måske er du heldig at møde dem.
URL:https://spildansk.dk/kalender/pop-up-vokalkoncerter-2/
LOCATION:Egedal Centret\, Egedal Centret\, Stenløse\, 3660\, Danmark
CATEGORIES:Kor,Pop
ATTACH;FMTTYPE=image/png:https://spildansk.dk/wp-content/uploads/2018/10/Brevhoved-kun-logo.png
END:VEVENT
BEGIN:VEVENT
DTSTART;TZID=Europe/Copenhagen:20181102T160000
DTEND;TZID=Europe/Copenhagen:20181102T170000
DTSTAMP:20260423T221347
CREATED:20181003T130116Z
LAST-MODIFIED:20181003T130116Z
UID:15993-1541174400-1541178000@spildansk.dk
SUMMARY:Koncert og Syng Med
DESCRIPTION:Blåvandshuk Skoles Mini- og Skolekor synger danske sange og inviterer til fællessang med forældre\, bedsteforældre\, søskende mv. Medbring gerne kaffe selv.
URL:https://spildansk.dk/kalender/koncert-og-syng-med/
LOCATION:blåvandshuk Skole
CATEGORIES:Fællessang,Kor
ATTACH;FMTTYPE=image/png:https://spildansk.dk/wp-content/uploads/2018/10/begivenhed-banner-spil-dansk-2018-8.png
END:VEVENT
BEGIN:VEVENT
DTSTART;TZID=Europe/Copenhagen:20181102T153000
DTEND;TZID=Europe/Copenhagen:20181102T183000
DTSTAMP:20260423T221347
CREATED:20180907T085154Z
LAST-MODIFIED:20180907T154841Z
UID:14581-1541172600-1541183400@spildansk.dk
SUMMARY:Josefine Cronholm release for pladen EMBER
DESCRIPTION:Pladerelase for JOSEFINE CRONHOLMs nye plade EMBER hvor hun synger med Torben Snekkestad (s)\, Makiko Hiraboyashi (p)\, Thomas Anderson (b)\, Lisbeth Diers (d)
URL:https://spildansk.dk/kalender/josefine-cronholm-release-for-pladen-ember/
LOCATION:Jazzcup\, Gothersgade 107\, København\, 1123\, Danmark
CATEGORIES:Jazz
ATTACH;FMTTYPE=image/jpeg:https://spildansk.dk/wp-content/uploads/2018/09/SPILD-DANSK-JOSEFINE-MED-COVER.jpg
END:VEVENT
BEGIN:VEVENT
DTSTART;TZID=Europe/Copenhagen:20181102T143000
DTEND;TZID=Europe/Copenhagen:20181102T153000
DTSTAMP:20260423T221347
CREATED:20180928T083538Z
LAST-MODIFIED:20181002T070837Z
UID:15734-1541169000-1541172600@spildansk.dk
SUMMARY:Mellemblond på Birkerød Gymnasium
DESCRIPTION:Danske Mellemblond besøger Birkerød Gymnasium. Dansk beat-poesi i en “setting”\, hvor der er masser af kultur\, men sjældent af netop denne type. Kristoffer Munck Mortensen vil forsøge at påvirke Danmarks ungdom med tekster fulde af stof til eftertanke\, groovy dansksproget rockmusik og psykedeliske vibrationer. Mellemblond vil en række stærke sange fra det aktuelle album Guldlokzonen\, hvor sangen “Vinterskæbner” for tiden er i rotation på P6 Beat. Koncerten er støttet af Kodas Kulturelle midler.
URL:https://spildansk.dk/kalender/mellemblond-paa-birkeroed-gymnasium/
LOCATION:birkerød gymnasium\, Søndervangen 56\, Birkerød\, DK-3460
CATEGORIES:Rock
ATTACH;FMTTYPE=image/jpeg:https://spildansk.dk/wp-content/uploads/2018/09/GULDLOKSTREAM.jpeg
ORGANIZER;CN="M%C3%B8s M%C3%B8s":MAILTO:mosbabymos@gmail.com
END:VEVENT
BEGIN:VEVENT
DTSTART;TZID=Europe/Copenhagen:20181102T141500
DTEND;TZID=Europe/Copenhagen:20181102T150000
DTSTAMP:20260423T221347
CREATED:20181031T131502Z
LAST-MODIFIED:20181031T131502Z
UID:17880-1541168100-1541170800@spildansk.dk
SUMMARY:Faaborg Børnemusikfestival
DESCRIPTION:75 børn fra børnehaver fra Faaborg\, Horne\, Vester Åby og Svanninge optræder i børnemusikfestivalen ”Havet” i Svanningehallen.\nTil børnemusikfestivalen vil man kunne opleve mange af havets dyr og fantasidyr: Frække hajer\, små koralfisk\, blæksprutter og krokodiller. Der er drilagtige monsterfisk og lygtefisk\, der lyser i mørket. Kong Neptun på sin trone og gopler\, der svømmer rundt omkring.\nSom noget nyt i år deltager 5. klasse fra Brahesminde Skole i Svanninge som kor på sangene.\nBørn og personale fra børnehaverne har\, sammen med lærere fra Faaborg-Midtfyn Musikskole\, skrevet og komponeret sangene til denne dybhavsforestillingen. Der bliver super lyd. Faaborg Sommerspil sørger for podier og flot lys. Svanninge boldklub hjælper til med tilskuerpodierne. Fredag d. 2. november møder alle børnene til de første prøver kl. 10.30. Børnemusikfestivalen er åben for alle kl. 12.45 eller kl. 14.15. Pensionister fra lokalområdet inviteres også med. Entré 25 kr. for voksne. Børn gratis.
URL:https://spildansk.dk/kalender/faaborg-boernemusikfestival-2/
LOCATION:Svanningehallen\, Kirkegyden 29\, Svanninge\, 5642 Millinge
CATEGORIES:Musik til børn
ATTACH;FMTTYPE=image/jpeg:https://spildansk.dk/wp-content/uploads/2018/10/DSC_0329-1.jpg
ORGANIZER;CN="Faaborg Midtfyn Musikskole":MAILTO:Musikskolen@fmk.dk
END:VEVENT
BEGIN:VEVENT
DTSTART;TZID=Europe/Copenhagen:20181102T140000
DTEND;TZID=Europe/Copenhagen:20181102T210000
DTSTAMP:20260423T221347
CREATED:20180930T124750Z
LAST-MODIFIED:20180930T124750Z
UID:15759-1541167200-1541192400@spildansk.dk
SUMMARY:Kim Larsen Marathon
DESCRIPTION:Kom og syng med. \nFællessange veksler med solister og grupper\, der spiller deres Kim Larsen favoritsang. \n 
URL:https://spildansk.dk/kalender/kim-larsen-marathon/
LOCATION:Kristofferskolen 4000 Roskilde\, Linkøpingvej 183\, Roskilde\, 4000
CATEGORIES:Fællessang
ATTACH;FMTTYPE=image/jpeg:https://spildansk.dk/wp-content/uploads/2018/09/snapshot.jpg
ORGANIZER;CN="lars shiller":MAILTO:mail@shiller.dk
END:VEVENT
BEGIN:VEVENT
DTSTART;TZID=Europe/Copenhagen:20181102T133000
DTEND;TZID=Europe/Copenhagen:20181102T150000
DTSTAMP:20260423T221347
CREATED:20181011T213850Z
LAST-MODIFIED:20181011T213850Z
UID:16623-1541165400-1541170800@spildansk.dk
SUMMARY:Roskilde Spillemandslaug spiller op til dans
DESCRIPTION:Vi gentager succen fra sidste år\, hvor Roskilde Spillemandslaug med caller og dansere byder op til fællesdans med musikeleverne på Roskilde Gymnasium.
URL:https://spildansk.dk/kalender/roskilde-spillemandslaug-spiller-op-til-dans/
LOCATION:Roskilde Gymnasium\, Domkirkepladsen\, Roskilde\, 4000\, Danmark
CATEGORIES:Folk
ATTACH;FMTTYPE=image/jpeg:https://spildansk.dk/wp-content/uploads/2018/10/IMG_20171103_145245.jpg
END:VEVENT
BEGIN:VEVENT
DTSTART;TZID=Europe/Copenhagen:20181102T133000
DTEND;TZID=Europe/Copenhagen:20181102T150000
DTSTAMP:20260423T221347
CREATED:20180924T084816Z
LAST-MODIFIED:20180924T084816Z
UID:15544-1541165400-1541170800@spildansk.dk
SUMMARY:Michaut/Perkins Koncert på Plejecenter Nybodergården
DESCRIPTION:Michaut/Perkins will play two sets of original music for the residents of Plejecenter Nybodergården.
URL:https://spildansk.dk/kalender/michaut-perkins-koncert-paa-plejecenter-nybodergaarden/
LOCATION:Plejecenter Nybodergården\, Kronprinsessegade 61\, København K\, 1306
CATEGORIES:Singer-songwriter
ATTACH;FMTTYPE=image/png:https://spildansk.dk/wp-content/uploads/2018/09/Screen-Shot-2018-09-24-at-10.43.21-AM.png
END:VEVENT
BEGIN:VEVENT
DTSTART;TZID=Europe/Copenhagen:20181102T130000
DTEND;TZID=Europe/Copenhagen:20181102T140000
DTSTAMP:20260423T221347
CREATED:20181015T122819Z
LAST-MODIFIED:20181015T122819Z
UID:16825-1541163600-1541167200@spildansk.dk
SUMMARY:Koncert med Michael Trier hos Perron 4
DESCRIPTION:Beboerne hos Perron 4 får besøg af den lokale sanger Michael Trier til en koncert kun for dem. \nMusiker Michael Trier har gjort det til sit varemærke at levere intime koncerter med en helt særlig energi i rummet\, hvor man kommer helt tæt på sangene\, musikken og på en selv.\n\n– Det var mega god aften. Musik der både får en til at tænke og reflektere – og man bliver fuldstændig glad i låget og fyldt med ny energi! \nDet er en af de mange anmeldelser\, der er strømmet ind på Michael Triers facebook-side\, siden han tilbød at spille koncerter i folk private hjem. \nDenne oplevelse har Turbinen valgt at give videre til Perron 4\, der er et bosted for socialt udsatte.
URL:https://spildansk.dk/kalender/koncert-med-michael-trier-hos-perron-4/
LOCATION:Perron 4\, Jernbanegade 4D\, Randers\, 8900\, Danmark
CATEGORIES:Singer-songwriter
ATTACH;FMTTYPE=image/jpeg:https://spildansk.dk/wp-content/uploads/2018/10/Michael-Trier.jpg
ORGANIZER;CN="Turbinen":MAILTO:jh@vaerket.dk
END:VEVENT
BEGIN:VEVENT
DTSTART;TZID=Europe/Copenhagen:20181102T124500
DTEND;TZID=Europe/Copenhagen:20181102T134500
DTSTAMP:20260423T221347
CREATED:20181031T130901Z
LAST-MODIFIED:20181031T130901Z
UID:17876-1541162700-1541166300@spildansk.dk
SUMMARY:Faaborg Børnemusikfestival
DESCRIPTION:75 børn fra børnehaver fra Faaborg\, Horne\, Vester Åby og Svanninge optræde i børnemusikfestivalen ”Havet” i Svanningehallen.\nTil børnemusikfestivalen vil man kunne opleve mange af havets dyr og fantasidyr: Frække hajer\, små koralfisk\, blæksprutter og krokodiller. Der er drilagtige monsterfisk og lygtefisk\, der lyser i mørket. Kong Neptun på sin trone og gopler\, der svømmer rundt omkring.\nSom noget nyt i år deltager 5. klasse fra Brahesminde Skole i Svanninge som kor på sangene.\nBørn og personale fra børnehaverne har\, sammen med lærere fra Faaborg-Midtfyn Musikskole\, skrevet og komponeret sangene til denne dybhavsforestillingen. Der bliver super lyd. Faaborg Sommerspil sørger for podier og flot lys. Svanninge boldklub hjælper til med tilskuerpodierne. Fredag d. 2. november møder alle børnene til de første prøver kl. 10.30. Børnemusikfestivalen er åben for alle kl. 12.45 eller kl. 14.15. Pensionister fra lokalområdet inviteres også med. Entré 25 kr. for voksne. Børn gratis.
URL:https://spildansk.dk/kalender/faaborg-boernemusikfestival/
LOCATION:Svanningehallen\, Kirkegyden 29\, Svanninge\, 5642 Millinge
CATEGORIES:Musik til børn
ATTACH;FMTTYPE=image/jpeg:https://spildansk.dk/wp-content/uploads/2018/10/DSC_0329.jpg
ORGANIZER;CN="Faaborg Midtfyn Musikskole":MAILTO:Musikskolen@fmk.dk
END:VEVENT
BEGIN:VEVENT
DTSTART;TZID=Europe/Copenhagen:20181102T123000
DTEND;TZID=Europe/Copenhagen:20181102T143000
DTSTAMP:20260423T221347
CREATED:20181016T141950Z
LAST-MODIFIED:20181016T141950Z
UID:16921-1541161800-1541169000@spildansk.dk
SUMMARY:Jazz caravan
DESCRIPTION:Jazz musik spillet for de unge
URL:https://spildansk.dk/kalender/jazz-caravan-5/
LOCATION:viborg gymnasium\, skjaldehøjvej 12\, viborg\, 8800
CATEGORIES:Jazz
ORGANIZER;CN="Viborg Bibliotekerne":MAILTO:kv@viborg.dk
END:VEVENT
BEGIN:VEVENT
DTSTART;TZID=Europe/Copenhagen:20181102T120000
DTEND;TZID=Europe/Copenhagen:20181102T130000
DTSTAMP:20260423T221347
CREATED:20181011T211350Z
LAST-MODIFIED:20181012T190219Z
UID:16618-1541160000-1541163600@spildansk.dk
SUMMARY:Morten Grønvad på Roskilde Gymnasium
DESCRIPTION:Et inspirerende møde med en musiker og instrumentalist\, der kompromisløst er gået “all in” for musikken som udøvende\, skabende og formidlende kunstner.. Gennem en minikoncert\, musikeksempler\, fortællinger og gode råd vil I få et indblik i\, hvordan et langt musikerliv er skruet sammen\, hvilke udfordringer man møder og hvilke forudsætninger der skal til for at opnå en bæredygtig tilværelse i og med musikken.
URL:https://spildansk.dk/kalender/morten-groenvad-paa-roskilde-gymnasium/
LOCATION:Roskilde Gymnasium\, Domkirkepladsen\, Roskilde\, 4000\, Danmark
CATEGORIES:Elektronisk,Jazz
ATTACH;FMTTYPE=image/jpeg:https://spildansk.dk/wp-content/uploads/2018/10/Morten-Grønvad.jpg
END:VEVENT
BEGIN:VEVENT
DTSTART;TZID=Europe/Copenhagen:20181102T120000
DTEND;TZID=Europe/Copenhagen:20181102T130000
DTSTAMP:20260423T221347
CREATED:20181011T093222Z
LAST-MODIFIED:20181011T093222Z
UID:16584-1541160000-1541163600@spildansk.dk
SUMMARY:Fællessamling
DESCRIPTION:Hele skolen samles og fejrer Spil Dansk. \nVi synge udvalgte sange fra fælleslisten. \n 
URL:https://spildansk.dk/kalender/faellessamling-3/
LOCATION:Lem Stationsskole\, Skolegade 34\, Lem St.\, 6940
CATEGORIES:Fællessang
END:VEVENT
BEGIN:VEVENT
DTSTART;TZID=Europe/Copenhagen:20181102T110000
DTEND;TZID=Europe/Copenhagen:20181102T120000
DTSTAMP:20260423T221347
CREATED:20181003T125941Z
LAST-MODIFIED:20181003T125941Z
UID:15990-1541156400-1541160000@spildansk.dk
SUMMARY:Spil Dansk i Medborgerhuset
DESCRIPTION:Søren Storm\, violin og Lasse Toft Eriksen\, klaver\, underholder med populær dansk musik\, og inviterer til fællessang.
URL:https://spildansk.dk/kalender/spil-dansk-i-medborgerhuset/
LOCATION:Medborgerhuset Varde\, Danmark
CATEGORIES:Fællessang,Klassisk
ATTACH;FMTTYPE=image/png:https://spildansk.dk/wp-content/uploads/2018/10/begivenhed-banner-spil-dansk-2018-7.png
END:VEVENT
BEGIN:VEVENT
DTSTART;TZID=Europe/Copenhagen:20181102T103000
DTEND;TZID=Europe/Copenhagen:20181102T103000
DTSTAMP:20260423T221347
CREATED:20180910T080515Z
LAST-MODIFIED:20180910T080515Z
UID:14701-1541154600-1541154600@spildansk.dk
SUMMARY:Morgensang med Skoleforeningen
DESCRIPTION:„Old school-morgensang“ på den gamle Christian Paulsen-Skole.  \nVarighed: ca. 25 minutter.
URL:https://spildansk.dk/kalender/morgensang-med-skoleforeningen-2/
LOCATION:CfU Samlingssalen\, Südergraben 36\, Flensborg\, 24937\, Danmark
CATEGORIES:Fællessang
END:VEVENT
BEGIN:VEVENT
DTSTART;TZID=Europe/Copenhagen:20181102T100200
DTEND;TZID=Europe/Copenhagen:20181102T101300
DTSTAMP:20260423T221347
CREATED:20181023T171415Z
LAST-MODIFIED:20181023T171415Z
UID:17405-1541152920-1541153580@spildansk.dk
SUMMARY:Humaniora synger morgensang
DESCRIPTION:Fællessang for alle på Søndre Campus  \nNu falmer skoven tekst: N. F. S. Grundtvig 1844\, musik: J. H. Nebelong 1889 \nÅrstiderne (Vasketøj vajer for vinden) tekst og musik: Benny Andersen 1972 \nLangebro tekst: Gasolin 1971\, musik: skotsk/ engelsk folkesang\, “Geordie” \nAvenuen tekst: Anders og Peter Lund Madsen 2004\, musik: Kim Larsen 2004 \nHow deep is your love tekst og musik: Barry Gibb\, Maurice Gibb og Robin Gibb 1977
URL:https://spildansk.dk/kalender/humaniora-synger-morgensang-2/
LOCATION:Søndre Campus\, Humaniora\, Bygn. 13\, Torvet\, Karen Blixens Plads 8\, København S\, 2300\, Danmark
CATEGORIES:Fællessang
ATTACH;FMTTYPE=image/jpeg:https://spildansk.dk/wp-content/uploads/2018/10/Morgensang-dec.17-4.jpg
END:VEVENT
BEGIN:VEVENT
DTSTART;TZID=Europe/Copenhagen:20181102T100000
DTEND;TZID=Europe/Copenhagen:20181102T143000
DTSTAMP:20260423T221347
CREATED:20181026T103722Z
LAST-MODIFIED:20181026T103722Z
UID:17647-1541152800-1541169000@spildansk.dk
SUMMARY:Andreas Seebach besøger Strandmølleskolen i Assens
DESCRIPTION:Andreas Seebach besøger Strandmølleskolen i Assens og vil arbejde med 6. klasse og sangskrivning.
URL:https://spildansk.dk/kalender/andreas-seebach-besoeger-strandmoelleskolen-i-assens/
LOCATION:Strandmølleskolen\, Damgade 34\, Assens\, 5610
CATEGORIES:Hiphop
ATTACH;FMTTYPE=image/jpeg:https://spildansk.dk/wp-content/uploads/2018/10/Logo.jpg
ORGANIZER;CN="AssensBibliotekerne":MAILTO:assensbib@assens.dk
END:VEVENT
BEGIN:VEVENT
DTSTART;TZID=Europe/Copenhagen:20181102T100000
DTEND;TZID=Europe/Copenhagen:20181102T140000
DTSTAMP:20260423T221347
CREATED:20181011T110922Z
LAST-MODIFIED:20181122T103646Z
UID:16591-1541152800-1541167200@spildansk.dk
SUMMARY:Sangskriverworkshop
DESCRIPTION:Workshop\, hvor børnene kommer gennem en kreativ proces\, som ender ud i et færdigt resultat – deres egen klassesang.
URL:https://spildansk.dk/kalender/sangskriverworkshop-3/
LOCATION:Mørke Skole\, Kirkevej 13\, Mørke\, 8544
CATEGORIES:Workshop
END:VEVENT
BEGIN:VEVENT
DTSTART;TZID=Europe/Copenhagen:20181102T100000
DTEND;TZID=Europe/Copenhagen:20181102T140000
DTSTAMP:20260423T221347
CREATED:20181011T110917Z
LAST-MODIFIED:20181122T103655Z
UID:16589-1541152800-1541167200@spildansk.dk
SUMMARY:Sangskriverworkshop
DESCRIPTION:Workshop\, hvor børnene kommer gennem en kreativ proces\, som ender ud i et færdigt resultat – deres egen klassesang.
URL:https://spildansk.dk/kalender/sangskriverworkshop-2/
LOCATION:Mørke Skole\, Kirkevej 13\, Mørke\, 8544
CATEGORIES:Workshop
END:VEVENT
BEGIN:VEVENT
DTSTART;TZID=Europe/Copenhagen:20181102T100000
DTEND;TZID=Europe/Copenhagen:20181102T110000
DTSTAMP:20260423T221347
CREATED:20181023T132626Z
LAST-MODIFIED:20181023T132626Z
UID:17333-1541152800-1541156400@spildansk.dk
SUMMARY:"Det bedste til mig og mine venner - en hyldest til Kim Larsen"
DESCRIPTION:Fællessamling for hele Vittenbergskolen med masser af musik af Kim Larsen. Fællessang samt indslag fra skolens 8. årgang samt sammenspilshold.
URL:https://spildansk.dk/kalender/det-bedste-til-mig-og-mine-venner-en-hyldest-til-kim-larsen/
LOCATION:Vittenbergskolen\, Haulundvej 3\, Ribe\, 6760
CATEGORIES:Fællessang,Musik til børn
END:VEVENT
BEGIN:VEVENT
DTSTART;TZID=Europe/Copenhagen:20181102T100000
DTEND;TZID=Europe/Copenhagen:20181102T110000
DTSTAMP:20260423T221347
CREATED:20180921T072346Z
LAST-MODIFIED:20180921T072346Z
UID:15469-1541152800-1541156400@spildansk.dk
SUMMARY:Fællessang
DESCRIPTION:Alle børn og voksne på skolen mødes og synger 6 af de 18 sange som fællessang.
URL:https://spildansk.dk/kalender/faellessang-27/
LOCATION:Terndrup Skole
CATEGORIES:Fællessang
END:VEVENT
BEGIN:VEVENT
DTSTART;TZID=Europe/Copenhagen:20181102T100000
DTEND;TZID=Europe/Copenhagen:20181102T110000
DTSTAMP:20260423T221347
CREATED:20180907T113432Z
LAST-MODIFIED:20180907T113432Z
UID:14636-1541152800-1541156400@spildansk.dk
SUMMARY:Koncert v/ Lidt i ni
DESCRIPTION:I anledningen af Spil Dansk ugen inviterer Lidt i ni til lyttemusik og fællessang i caféen. Lidt i ni er en musikalsk samspilsgruppe\, som øver hver fredag på Åpark Centret. \nIngen tilmelding.
URL:https://spildansk.dk/kalender/koncert-v-lidt-i-ni/
LOCATION:Åpark Centret\, Løvenørnsgade 21\, Horsens\, 8700
CATEGORIES:Fællessang,Folk
END:VEVENT
BEGIN:VEVENT
DTSTART;TZID=Europe/Copenhagen:20181102T100000
DTEND;TZID=Europe/Copenhagen:20181102T103000
DTSTAMP:20260423T221347
CREATED:20181018T111417Z
LAST-MODIFIED:20181018T111417Z
UID:16995-1541152800-1541154600@spildansk.dk
SUMMARY:Morgensang på Mariager Bibliotek
DESCRIPTION:Fredag d. 2. november kl. 10 er både Hobro\, Mariager og Hadsund Bibliotek klar med en kop kaffe og fælles skønsang til at sparke dagen godt i gang. \nVi garanterer en hyggelig morgen\, så smør stemmebåndet og mød bare op på dit lokale bibliotek.
URL:https://spildansk.dk/kalender/morgensang-paa-mariager-bibliotek/
LOCATION:Mariager Bibliotek\, Teglgade 6\, Mariager\, 9550
CATEGORIES:Fællessang
ATTACH;FMTTYPE=image/jpeg:https://spildansk.dk/wp-content/uploads/2018/10/birds-2672101_1920-5.jpg
END:VEVENT
END:VCALENDAR