BEGIN:VCALENDAR
VERSION:2.0
PRODID:-//Spil Dansk - ECPv6.5.0//NONSGML v1.0//EN
CALSCALE:GREGORIAN
METHOD:PUBLISH
X-ORIGINAL-URL:https://spildansk.dk
X-WR-CALDESC:Events for Spil Dansk
REFRESH-INTERVAL;VALUE=DURATION:PT1H
X-Robots-Tag:noindex
X-PUBLISHED-TTL:PT1H
BEGIN:VTIMEZONE
TZID:Europe/Copenhagen
BEGIN:DAYLIGHT
TZOFFSETFROM:+0100
TZOFFSETTO:+0200
TZNAME:CEST
DTSTART:20200329T010000
END:DAYLIGHT
BEGIN:STANDARD
TZOFFSETFROM:+0200
TZOFFSETTO:+0100
TZNAME:CET
DTSTART:20201025T010000
END:STANDARD
END:VTIMEZONE
BEGIN:VEVENT
DTSTART;TZID=Europe/Copenhagen:20201027T153000
DTEND;TZID=Europe/Copenhagen:20201027T163000
DTSTAMP:20260423T012922
CREATED:20201005T090853Z
LAST-MODIFIED:20201005T090900Z
UID:25371-1603812600-1603816200@spildansk.dk
SUMMARY:Koncert/fællessang med Kristian Bach
DESCRIPTION:Kristian Bach er en engageret og passioneret sanger og sangskriver\, der gennem sine sange forener det lyriske og meget personlige. \nEr aktiv formidler af den danske sangskat og har været med til at skabe arrangementer over hele landet.\nUnderviser i musik og leder forskellige kor både for unge og ældre\,
URL:https://spildansk.dk/kalender/koncert-faellessang-med-kristian-bach/
LOCATION:Neurocenter Lemvig\, Østergade 30\, Lemvig
CATEGORIES:Koncert,Fællessang
END:VEVENT
BEGIN:VEVENT
DTSTART;TZID=Europe/Copenhagen:20201027T160000
DTEND;TZID=Europe/Copenhagen:20201027T170000
DTSTAMP:20260423T012922
CREATED:20200924T134253Z
LAST-MODIFIED:20200924T134253Z
UID:25081-1603814400-1603818000@spildansk.dk
SUMMARY:Musikskolekoncert
DESCRIPTION:Vejle musikskoles Børkop-afdeling spiller koncert i Markant.
URL:https://spildansk.dk/kalender/musikskolekoncert/
LOCATION:Børkop Bibliotek\, Ågade 6\, Børkop\, 7080
CATEGORIES:Koncert
ATTACH;FMTTYPE=image/png:https://spildansk.dk/wp-content/uploads/2020/09/SpilDanskUgen2020_Blaa_Splash-1.png
END:VEVENT
BEGIN:VEVENT
DTSTART;TZID=Europe/Copenhagen:20201027T160000
DTEND;TZID=Europe/Copenhagen:20201027T170000
DTSTAMP:20260423T012922
CREATED:20200929T114906Z
LAST-MODIFIED:20200929T114906Z
UID:25277-1603814400-1603818000@spildansk.dk
SUMMARY:Bibliotekskoncert med Paderup Gymnasium
DESCRIPTION:Hvis du er til dansk rytmisk musik og har mod på også at høre det i nye udgaver\, har de musikglade elever fra Paderup Gymnasium et godt tilbud til dig! I anledning af Spil Dansk-ugen optræder de nemlig med et program bestående af danske numre i mere eller mindre genkendelige forklædninger. \nDe dygtige musikelever fra Paderup har efterhånden tradition for at give prøver på deres spil i uge 44 – en tradition\, som vi på biblioteket er rigtig glade for. Mød op i udlånet på Hovedbiblioteket og få en god musikalsk stund! Det er gratis at komme ind til koncerten\, og ingen tilmelding er nødvendig. \nSpil Dansk er musiklivets festuge\, der altid foregår i uge 44. Siden 2001 har Spil Dansk været Danmarks største musikbegivenhed i al sin bredde og mangfoldighed af arrangementer. Turbinen\, Randers Bibliotek\, Randers Kommune og Randers Eventsekretariat er lokale arrangører. Det sker i samarbejde med blandt andre lokale bands\, musikkorps\, -ensembler og -kor. Målet er blandt andet at skabe glæde og øge kendskabet til musik med dansk afsæt – herunder udfolde musikken i nye og anderledes rammer.
URL:https://spildansk.dk/kalender/bibliotekskoncert-med-paderup-gymnasium/
LOCATION:Randers Bibliotek\, Stemannsgade 2\, Randers C\, 8900\, Danmark
CATEGORIES:Koncert
ATTACH;FMTTYPE=image/jpeg:https://spildansk.dk/wp-content/uploads/2020/09/Paderup-904.jpg
ORGANIZER;CN="Randers Bibliotek":MAILTO:mk@randersbib.dk
END:VEVENT
BEGIN:VEVENT
DTSTART;TZID=Europe/Copenhagen:20201027T180000
DTEND;TZID=Europe/Copenhagen:20201027T190000
DTSTAMP:20260423T012922
CREATED:20200915T085214Z
LAST-MODIFIED:20200915T085214Z
UID:24889-1603821600-1603825200@spildansk.dk
SUMMARY:Bersærk: "Sol"-albumkoncert
DESCRIPTION:De hedenske heavyrockere Bersærk er gået fra sejr til sejr siden starten på deres togt i 2012. Bandet har vundet det danske metal- og rock-publikum med deres unikke tung-rock\, og live er bandet en uovertruffen enhed\, der trækker fulde huse. \nBersærk er nu klar med deres tredje album betitlet ‘SOL’ – en episk plade\, der viser nye sider af bandet og beskriver menneskets kamp gennem krig\, død og forfald\, for omsider at nå til genfødsel og sejr. De ti nye sange udspiller sig som altid i Bersærks mytiske univers\, hvor fortidens nordiske livsverden får nyt liv i en nutidig kontekst\, alt sammen energisk tilvejebragt af bandets groovende melodiske tung-rock og alsidige sangskrivnings-talent. \n’SOL’ er et ambitiøst værk\, der indeholder større kontraster end tidligere udgivelser og udvider deres musikalske og lyriske ambitioner\, men det er stadig en Bersærk-plade i al sin ligefremme og energiske jordbundethed. Denne udgivelse\, har Bersærk valgt at fejre med en koncert på Bremen Teater\, hvor det fulde album spilles fra start til slut. Dette er en unik og enestående mulighed\, for at høre og opleve ’SOL’ i intime rammer\, og for at møde et Bersærk der står stærkere end nogensinde. Det visuelle\, lyriske og musikalske budskab vil blive forenet\, og publikum vil møde ind til en albumoplevelse\, ud over det sædvanlige.
URL:https://spildansk.dk/kalender/bersaerk-sol-albumkoncert/
LOCATION:Bremen Teater\, Nyropsgade 39-41\, Kbh. K\, 1602
CATEGORIES:Metal
ATTACH;FMTTYPE=image/jpeg:https://spildansk.dk/wp-content/uploads/2020/09/bersærk.jpg
END:VEVENT
BEGIN:VEVENT
DTSTART;TZID=Europe/Copenhagen:20201027T180000
DTEND;TZID=Europe/Copenhagen:20201027T223000
DTSTAMP:20260423T012922
CREATED:20200922T082416Z
LAST-MODIFIED:20200922T083030Z
UID:25016-1603821600-1603837800@spildansk.dk
SUMMARY:Teitur
DESCRIPTION:Den færøskfødte Teitur Lassen er efterhånden en erfaren herre på den nordiske musikscene. Med to danske Grammy Awards\, otte studiealbums og over 1000 koncerter i bagagen har Teitur bevist sit \ntalent for at fange lytteren i et intenst og forførende greb. Hits som ’Louis Louis’\, ’I Was Just Thinking’ og ‘Josephine’ har cementeret hans status som en yderst indfølende sangskriver. \nTeiturs musik har også opnået international anerkendelse\, og han har flere gange varmet op for singer-songwriter John Mayer\, som tidligere har udtalt\, at Teiturs debutalbum fra 2003 ’Poetry & Aeroplanes’ var ét af de bedste album i mange år. Siden debutpladen er Teiturs kunstneriske ambitionsniveau kun steget\, hvilket tydeligt kommer til udtryk på det seneste album ‘I Want To Be Kind’ fra 2018. Senest demonstrerede Teitur sin store musikalitet for den brede befolkning gennem sin deltagelse i den nyeste sæson af TV2s populære musikprogram ”Toppen af Poppen”.  Her overgik han sig selv uge efter uge og imponerede og rørte sine medmusikanter med helt specielle og yderst musikalske versioner af deres sange. \nNår Teitur gæster Kulturloft som en del af sin forårsturné i 2020 bliver han akkompagneret af multi-instrumentalisten Gustaf Ljunggren. De vil sammen optræde med en blanding af numre fra Teiturs seneste album\, helt nye sange og selvfølgelige de kendte og elskede publikumsfavoritter.
URL:https://spildansk.dk/kalender/teitur/
LOCATION:Kulturloft\, Maltvej 12\, Ebeltoft\, 8400
CATEGORIES:Koncert
ATTACH;FMTTYPE=image/jpeg:https://spildansk.dk/wp-content/uploads/2020/09/teitur_presse-2-scaled.jpeg
END:VEVENT
BEGIN:VEVENT
DTSTART;TZID=Europe/Copenhagen:20201027T190000
DTEND;TZID=Europe/Copenhagen:20201027T190000
DTSTAMP:20260423T012922
CREATED:20201026T091244Z
LAST-MODIFIED:20201026T091453Z
UID:26772-1603825200-1603825200@spildansk.dk
SUMMARY:Et musikalsk foredrag med Søren Frost
DESCRIPTION:Mød den fantastiske trommeslager Søren Frost\, som har spillet med internationale stjerner. \nEgedal Bibliotekerne er igen i år med til at fejre Spil-Dansk ugen. Der sker når Søren Frost besøger Ølstykke Bibliotek og holder et musikalsk foredrag. \nSøren Frost er født 1965 og har spillet professionelt siden 1983\, bla. med Klüvers Big Band\, Poul Krebs\, Danser Med Drenge\, Sp-Just-Frost\, og DR Big Band siden 1988. \nHan har lavet clinics og workshops over det meste af verden og spillet eller indspillet med Dr. John\, Mike Stern\, Randy Brecker\, John Scofield\, Thad Jones\, Dianne Reeves\, Robben Ford\, Bob Mintzer\, Ivan Lins\, Richard Bona og Curtis Steigers. \nFrost har som den eneste dansker designet sin signatur lilletromme\, sammen med Yamaha drums. \nSpiller pt. udover DR Big Band\, med Kjeld Lauritsen/Miriam Mandipira/Per Gade\, Tuesday Night Brass Band og Allan Mortensen/Jens Jefsen Quartet. Musisk genre er jazz\, rock\, new orleans funk and beyond. \nEntré: Gratis adgang\, men med billet \nEn del af “Spil Dansk” \nCOVID-19: Egedal Bibliotekerne overholder myndighedernes gældende retningslinjer\, derfor kan der forekomme justeringer. På dagen hjælper vi hinanden\, så alle får en god oplevelse.
URL:https://spildansk.dk/kalender/et-musikalsk-foredrag-med-soeren-frost/
LOCATION:Ølstykke Bibliotek\, Østervej 1A\, Ølstykke\, 3650
CATEGORIES:Funk,Jazz,Rock
ATTACH;FMTTYPE=image/jpeg:https://spildansk.dk/wp-content/uploads/2020/10/Søren-Frost-i-studiet.jpg
END:VEVENT
BEGIN:VEVENT
DTSTART;TZID=Europe/Copenhagen:20201027T190000
DTEND;TZID=Europe/Copenhagen:20201027T200000
DTSTAMP:20260423T012922
CREATED:20200819T110044Z
LAST-MODIFIED:20200819T110044Z
UID:24545-1603825200-1603828800@spildansk.dk
SUMMARY:Spil Dansk - Et musikalsk foredrag v/ Elisabeth Gjerluff Nielsen
DESCRIPTION:I anledning af Spil Dansk Ugen får vi besøg af forfatter\, sangskriver og komponist Elisabeth Gjerluff Nielsen. \nElisabeth har i over 40 år beskæftiget sig med dansksproget sangskrivning og det er efterhånden blevet til 30 albumudgivelser. Elisabeth har også skrevet flere store hits til andre danske artister bl.a. Søs Fenger og Sanne Salomonsen. \nHendes musikkarriere startede i gruppen Voxpop 1980-83. Senere fulgte en solokarriere\, som blev lanceret med debutalbummet Elisabeth i 1984. \nHun har desuden skrevet et hav af sange til børn\, som datteren Rosa (fra Rouladegade) i dag bl.a. turnerer og underholder næste generation med. \nDet er ikke et foredrag- ikke en koncert\, men Et Musikalsk Foredrag\, hvor Elisabeth som eneste aktør på scenen\, foretager en rejse gennem egne sange\, synger og fortæller om sine erfaringer gennem et langt liv i musik/sangskrivningens tjeneste.
URL:https://spildansk.dk/kalender/spil-dansk-et-musikalsk-foredrag-v-elisabeth-gjerluff-nielsen/
LOCATION:Ringkøbing Rådhushal\, Ved Fjorden 6\, Ringkøbing\, 6950
CATEGORIES:Foredrag
ATTACH;FMTTYPE=image/jpeg:https://spildansk.dk/wp-content/uploads/2020/08/20201027-elisabeth-gerluff.jpg
END:VEVENT
BEGIN:VEVENT
DTSTART;TZID=Europe/Copenhagen:20201027T190000
DTEND;TZID=Europe/Copenhagen:20201027T200000
DTSTAMP:20260423T012922
CREATED:20201021T082831Z
LAST-MODIFIED:20201021T082831Z
UID:26358-1603825200-1603828800@spildansk.dk
SUMMARY:Spil Dansk - fællessang
DESCRIPTION:En times corona-sikker fællessang i Havdrup Sognehus\, Bistrupvang 33\, 4622 Havdrup. Tilmelding nødvendig via www.havdrupkirke.dk. \nNyt og gammelt\, højskolesang\, pop og salmer. Fællessangen ledes af pianist Peter Plougmann og kirke- og kulturmedarbejder Anette Løndal Hemmingsen
URL:https://spildansk.dk/kalender/spil-dansk-faellessang-5/
LOCATION:Havdrup Sognehus\, Bistrupvang 33\, Havdrup\, 4622\, Danmark
CATEGORIES:Fællessang
END:VEVENT
BEGIN:VEVENT
DTSTART;TZID=Europe/Copenhagen:20201027T190000
DTEND;TZID=Europe/Copenhagen:20201027T203000
DTSTAMP:20260423T012922
CREATED:20200702T064538Z
LAST-MODIFIED:20201012T094346Z
UID:24378-1603825200-1603830600@spildansk.dk
SUMMARY:AFLYST! Revysangens Genklang – revyviser fra den danske sangskat
DESCRIPTION:Revysangens Genklang er en duo bestående af Birgitte Antonius og John Skou\, der har specialiseret sig i revyviser og historien bag de enkelte viser. I kan derfor forvente en musikalsk tidsrejse med nedslag i dansk revys historie med nogle af de sange\, der har betydet mest for både revyen og revyvisetraditionen. Der bliver fremført viser af bl.a. Liva Weel\, Dirch Passer\, Elga Olga\, Preben Uglebjerg\, Marguerite Viby og Lily Broberg. \nOg mon ikke Jacob Gades : ”Maggiduddi og jeg” er med\, nu da komponisten faktisk boede i Thorøhuse
URL:https://spildansk.dk/kalender/revysangens-genklang-revyviser-fra-den-danske-sangskat/
LOCATION:Thorøhuse Forsamlingshus\, Drejet 7\, Assens\, 5610
CATEGORIES:Dansktop
ORGANIZER;CN="AssensBibliotekerne":MAILTO:mipou@assens.dk
END:VEVENT
BEGIN:VEVENT
DTSTART;TZID=Europe/Copenhagen:20201027T190000
DTEND;TZID=Europe/Copenhagen:20201027T203000
DTSTAMP:20260423T012922
CREATED:20201023T121203Z
LAST-MODIFIED:20201023T121203Z
UID:26674-1603825200-1603830600@spildansk.dk
SUMMARY:Musikalsk Foredrag med Esben Just
DESCRIPTION:Esben Just’s musikalske foredrag: New Orleans har altid været min inspiration og de oplevelser jeg har haft dernede\, kommer til at danne grundlag for det musikalske foredrag.
URL:https://spildansk.dk/kalender/musikalsk-foredrag-med-esben-just/
LOCATION:Sct. Peders Kirkeplads 14 C\, Sct. Peders Kirkeplads 14 >C\, Næstved\, 4700\, Danmark
CATEGORIES:Foredrag
ATTACH;FMTTYPE=image/jpeg:https://spildansk.dk/wp-content/uploads/2020/10/Esben-Just-scaled.jpg
ORGANIZER;CN="Musikaftenskolerne i N%C3%A6stved":MAILTO:bent.kvaerndrup@gmail.com
END:VEVENT
BEGIN:VEVENT
DTSTART;TZID=Europe/Copenhagen:20201027T190000
DTEND;TZID=Europe/Copenhagen:20201027T210000
DTSTAMP:20260423T012922
CREATED:20200915T103848Z
LAST-MODIFIED:20200915T103848Z
UID:24920-1603825200-1603832400@spildansk.dk
SUMMARY:Folkekor
DESCRIPTION:Tirsdag den 27. oktober 2020\, kl. 19.\n\n\nSct. Clemens kirkes Folkekor øver sidste tirsdag i hver måned fra kl. 19-21.30\, og med opstart tirsdag d. 29. september. Folkekoret er for alle der har lyst til at synge. Koret synger næsten altid på dansk og ofte 3-stemmigt.. \nRepertoiret spænder fra danske sange og salmer til populære rytmiske små satser. Korprøven starter altid med opvarmning af kroppen og stemmen efterfulgt af ca. en halv times fællessang fra højskolesangbogen. Herefter er der indstudering af diverse korsatser og ikke mindst den hyggelige kaffepause! Der er efterhånden en række traditioner i koret. Bl.a. medvirker vi ved “Vi synger Julen ind” og “Vi synger sommeren ind” samt Grundlovsdag. Derudover synger koret til et par gudstjenester hvert år. Koret ledes af en af kirkens organister og Rita Rasmussen (tlf. 20322370)
URL:https://spildansk.dk/kalender/folkekor-2/
LOCATION:Sct. Clemens Kirke\, Parkboulevarden 15\, Randers\, 8900
CATEGORIES:Fællessang
END:VEVENT
BEGIN:VEVENT
DTSTART;TZID=Europe/Copenhagen:20201027T190000
DTEND;TZID=Europe/Copenhagen:20201027T210000
DTSTAMP:20260423T012922
CREATED:20200924T125909Z
LAST-MODIFIED:20200924T134741Z
UID:25077-1603825200-1603832400@spildansk.dk
SUMMARY:Martin Lutz Group
DESCRIPTION:15 år med den samme grundstamme af musikere i orkestret. Det er et aldeles enestående og vel-sammenspillet orkester\, vi skal høre. Musikken i det seks-personer store orkester vil trække på jazzens “world music”-rødder\, dvs. Afrika og Sydamerika. \nJacob Rose – sax\, Jesper Møller – sax\, Mads Ole Erhardsen – sax\, Martin Lutz: piano\, Lars Johnsen – bas\, Ricco Victor – trommer
URL:https://spildansk.dk/kalender/martin-lutz-group/
LOCATION:Bygningen\, Ved Anlæget 14B\, Vejle\, 7100\, Danmark
CATEGORIES:Jazz
ATTACH;FMTTYPE=image/jpeg:https://spildansk.dk/wp-content/uploads/2020/09/lutz-1-768x646-1.jpeg
END:VEVENT
BEGIN:VEVENT
DTSTART;TZID=Europe/Copenhagen:20201027T190000
DTEND;TZID=Europe/Copenhagen:20201027T210000
DTSTAMP:20260423T012922
CREATED:20200928T080435Z
LAST-MODIFIED:20200928T080435Z
UID:25165-1603825200-1603832400@spildansk.dk
SUMMARY:Anne Dorte Michelsen og Maria Bramsen
DESCRIPTION:Anne Dorte Michelsen Maria Bramsen har med deres store katalog af moderne klassikere\, en særlig plads i den danske sangkanon. Flere generationer kender kan synge med på deres tekster melodier. \nNu inviterer Anne Dorte Maria deres akustiske orkester publikum indt til en stemningsfuld varm koncert i en ræke smukke\, danske kirkerum. \nUnder Coronakrisen oplevede vi\, hvordan sangene kan binde os sammen\, skabe glæde fællesskab\, både når vi lytter når vi synger med – der vil være mulighed for begge dele\, når Anne Dorte Maria giver plads til både de store hits de stille sange. \nAkompagnementet til koncerterne er skræddersyet kirkerummets akustik giver særligt plads til stemmer ord\nuden at miste den nerve kropslighed der er kendetegnende for musikken. \nOrkestret: Guitar\, sang: Johan Jørgensen – Keyboards\, sang: Thorval Naur Nørremølle – Lydteknik design: Finn Jansen \nCovid-19 – Vi følger Sundhedsstyrelsens anbefalinger for hygiejne regler for afstand.
URL:https://spildansk.dk/kalender/anne-dorte-michelsen-og-maria-bramsen/
LOCATION:Ågård Frimenighedskirke\, Kirkebakken 6\, Ågård\, Egtved\, 6040
CATEGORIES:Pop
ATTACH;FMTTYPE=image/jpeg:https://spildansk.dk/wp-content/uploads/2020/09/W604H340_pop6.jpg
END:VEVENT
BEGIN:VEVENT
DTSTART;TZID=Europe/Copenhagen:20201027T190000
DTEND;TZID=Europe/Copenhagen:20201027T210000
DTSTAMP:20260423T012922
CREATED:20201002T120416Z
LAST-MODIFIED:20201002T120517Z
UID:25362-1603825200-1603832400@spildansk.dk
SUMMARY:Pladevennerne (Spil Dansk-udgave)
DESCRIPTION:Find dine bedste danske vinylplader frem og hør dem sammen med andre ligesindede ”pladevenner”. Temaet er: Folk\, viser og ballader. \nMedbring et par af dine favoritplader med danske kunstnere indenfor folk-/visetraditionen. Så gør de andre deltagere det samme\, og I skiftes til at introducere jeres musik. På den måde kan alle deltagere blive inspireret. Der er grobund for nogle gode musikalske snakke denne aften! \nOBS! Det er vigtigt at tilmelde sig arrangementet\, så vi kender antal deltagere og kan overholde afstandskrav m.m. Tilmelding til Vibeke Sølling (visje@naestved.dk).
URL:https://spildansk.dk/kalender/pladevennerne-spil-dansk-udgave/
LOCATION:Næstved Bibliotek\, Kvægtorvet 4-6\, Næstved\, 4700\, Danmark
CATEGORIES:Folk
END:VEVENT
BEGIN:VEVENT
DTSTART;TZID=Europe/Copenhagen:20201027T190000
DTEND;TZID=Europe/Copenhagen:20201027T220000
DTSTAMP:20260423T012922
CREATED:20201016T091437Z
LAST-MODIFIED:20201016T091437Z
UID:25948-1603825200-1603836000@spildansk.dk
SUMMARY:SPIL DANSK I VESTHHUSET
DESCRIPTION:Midt i en Coronatid\, er vi meget glade for at kunne tilbyde en hyggelig aften i Vesthhuset med underholdning af sangskriverklubben.dk´s medlemmer. \nBemærk venligst at der\, grundet Corona restriktionerne kun må være Max. 50 personer til stede (de optrædende inklusive!)
URL:https://spildansk.dk/kalender/spil-dansk-i-vesthhuset-2/
LOCATION:Vesthhuset\, Frederiksbergvej 22\, Sorø\, 4180\, Danmark
CATEGORIES:Koncert,Folk,Pop
ATTACH;FMTTYPE=image/png:https://spildansk.dk/wp-content/uploads/2020/10/SPIL-DANSK-2020.png
ORGANIZER;CN="Vesthhuset":MAILTO:petervesth@me.com
END:VEVENT
BEGIN:VEVENT
DTSTART;TZID=Europe/Copenhagen:20201027T193000
DTEND;TZID=Europe/Copenhagen:20201027T203000
DTSTAMP:20260423T012922
CREATED:20200930T093043Z
LAST-MODIFIED:20200930T093043Z
UID:25314-1603827000-1603830600@spildansk.dk
SUMMARY:"På opfordring" - sangtime med Jørgen Jeppesen
DESCRIPTION:Sangtime hvor du bestemmer hvad vi synger. Organisten spiller til. Vi synger efter højskolesangbogen og “100 salmer”.
URL:https://spildansk.dk/kalender/paa-opfordring-sangtime-med-joergen-jeppesen/
LOCATION:Struer Kirke\, Kirkegade 42 B\, Struer\, 7600
CATEGORIES:Fællessang
END:VEVENT
BEGIN:VEVENT
DTSTART;TZID=Europe/Copenhagen:20201027T193000
DTEND;TZID=Europe/Copenhagen:20201027T203000
DTSTAMP:20260423T012922
CREATED:20201006T082721Z
LAST-MODIFIED:20201006T082721Z
UID:25411-1603827000-1603830600@spildansk.dk
SUMMARY:Marinehjemmeværnet
DESCRIPTION:MARINEHJEMMEVÆRNETS MUSIK- & TAMBURKORPS er landets ældste eksisterende hjemmeværns orkester (Randers Hjemmeværnsorkester)​
URL:https://spildansk.dk/kalender/marinehjemmevaernet/
LOCATION:Randers Kloster\, Blegdammen 5\, Randers C\, 8900
CATEGORIES:Koncert
END:VEVENT
BEGIN:VEVENT
DTSTART;TZID=Europe/Copenhagen:20201027T193000
DTEND;TZID=Europe/Copenhagen:20201027T213000
DTSTAMP:20260423T012922
CREATED:20200915T104408Z
LAST-MODIFIED:20200915T104517Z
UID:24922-1603827000-1603834200@spildansk.dk
SUMMARY:Koncert i Dronningborg Kirke
DESCRIPTION:Koncert i Dronningborg kirke\n\n\nMed Kai Stensgaard på marimba
URL:https://spildansk.dk/kalender/koncert-i-dronningborg-kirke/
LOCATION:Dronningborg Kirke\, Egholmsvej 8\, Randers NØ\, 8930
CATEGORIES:Koncert
END:VEVENT
BEGIN:VEVENT
DTSTART;TZID=Europe/Copenhagen:20201027T200000
DTEND;TZID=Europe/Copenhagen:20201027T213000
DTSTAMP:20260423T012922
CREATED:20201021T073008Z
LAST-MODIFIED:20201021T073008Z
UID:26353-1603828800-1603834200@spildansk.dk
SUMMARY:Koncert med TrineLise Væring med Band
DESCRIPTION:Der er ikke mange kunstnere\, der\, som Trinelise Væring\, igen og igen formår at udfordre sit talent med nye rammer. Igennem en lang og alsidig karriere har hun været vidt omkring både i egne projekter og i de forskellige bands og samarbejder\, hun har indgået i.\nDer er både memphis soul\, jazz og rootsrock i shakeren\, når Trinelise Væring – med en voksen kunstners autoritet – træder ind på scenen. Med sig har hun sit 8 mands (4 k/4 m) store band\, med sydende Hammond-orgel\, blæsere riffs\, kor\, twangy guitar og ikke mindst sin karakteristiske stemme og iørefaldende sangskrivning. Seneste album ”Du går ind af en dør” er blevet rost til skyerne af Politikken\, Weekendavisen\, Gaffa og Jazzspecial. \nVæring skriver skæve ørehængere med tekster der tager fat\, der hvor de fleste popsangerinder giver op\, dér hvor voksenlivet udfordrer både kærligheden og selvet.\nTrinelise stiller med fuldt band og samme flotte holdopstilling som på albummet: Trinelise Væring: vokal/guitar\, Una Skott guitar/kor\, Otto Sidenius: Hammond orgel\, Maj Berit Guassora: trompet Flugehorn/kor\, Mia Engsager: basun/kor\, Fredrik Lundin: bariton-/tenorsax/fløjter\, Jeppe Skovbakke: El-bas/kor\, Anders Provis: trommer \nPavillonsalen – hyggelig caféopstilling \nDørene åbnes kl. 19:00.\nBilletpris 145\,- kr. / i døren 165\,- kr.\nBilletpris for UNGBILLET – under 22 år i forsalg 75\,- kr. Gyldigt ID medbringes. \nKørestolsplads inkl. ledsager kan købes hos Pavillionen på tlf: 8632 1633
URL:https://spildansk.dk/kalender/koncert-med-trinelise-vaering-med-band/
LOCATION:Kulturhuset Pavillonen\, Kærvej 11\, Grenaa\, 8500
CATEGORIES:Koncert,Jazz
ORGANIZER;CN="Pavillonen":MAILTO:kontor@pavillonen.dk
END:VEVENT
BEGIN:VEVENT
DTSTART;TZID=Europe/Copenhagen:20201028T000000
DTEND;TZID=Europe/Copenhagen:20201028T000000
DTSTAMP:20260423T012922
CREATED:20201020T122252Z
LAST-MODIFIED:20201020T122356Z
UID:26241-1603843200-1603843200@spildansk.dk
SUMMARY:Tekst og Musik
DESCRIPTION:Tosprogede  klasser fra Campus arbejder med danske sange og giver koncert på Campus sammen med Lasse Bo Nielsen fra Musik & Billedskolen.
URL:https://spildansk.dk/kalender/tekst-og-musik/
LOCATION:Varde Gymnasium\, Frisvadsvej 72\, Varde\, 6800
CATEGORIES:Undervisning
ATTACH;FMTTYPE=image/jpeg:https://spildansk.dk/wp-content/uploads/2020/10/SpilDansk-2019-VARDE-KULTUNAUT-sort-web-2.jpg
ORGANIZER;CN="Spil Dansk Styregruppen Varde Kommune":MAILTO:pvoo@varde.dk
END:VEVENT
BEGIN:VEVENT
DTSTART;TZID=Europe/Copenhagen:20201028T000000
DTEND;TZID=Europe/Copenhagen:20201028T000000
DTSTAMP:20260423T012922
CREATED:20201020T122736Z
LAST-MODIFIED:20201020T122736Z
UID:26246-1603843200-1603843200@spildansk.dk
SUMMARY:Rend & Hop
DESCRIPTION:Workshop med Sten Elten for børn\, der er tilknyttet Rend & Hop projektet.
URL:https://spildansk.dk/kalender/rend-hop/
LOCATION:Stålværket\, Vestervold 11\, Varde\, 6800\, Danmark
CATEGORIES:Workshop
ATTACH;FMTTYPE=image/jpeg:https://spildansk.dk/wp-content/uploads/2020/10/SpilDansk-2019-VARDE-KULTUNAUT-sort-web-3.jpg
ORGANIZER;CN="Spil Dansk Styregruppen Varde Kommune":MAILTO:pvoo@varde.dk
END:VEVENT
BEGIN:VEVENT
DTSTART;TZID=Europe/Copenhagen:20201028T000000
DTEND;TZID=Europe/Copenhagen:20201028T000000
DTSTAMP:20260423T012922
CREATED:20201020T123247Z
LAST-MODIFIED:20201020T123247Z
UID:26250-1603843200-1603843200@spildansk.dk
SUMMARY:Fællessang for skoler
DESCRIPTION:Alle skoler i Varde Kommune er inviteret til fællessang med band fra Musik & Billedskolen\nSkolerne deltager via livestreaming fra Blåbjergskolen afd. Outrup .
URL:https://spildansk.dk/kalender/faellessang-for-skoler/
LOCATION:Outrup Skole\, Varde Kommune\, Storegade 59\, Outrup\, 6855\, Danmark
CATEGORIES:Fællessang
ATTACH;FMTTYPE=image/jpeg:https://spildansk.dk/wp-content/uploads/2020/10/SpilDansk-2019-VARDE-KULTUNAUT-sort-web-4.jpg
ORGANIZER;CN="musik &amp%3B billedskolen Varde":MAILTO:vkm@varde.dk
END:VEVENT
BEGIN:VEVENT
DTSTART;TZID=Europe/Copenhagen:20201028T082000
DTEND;TZID=Europe/Copenhagen:20201028T092000
DTSTAMP:20260423T012922
CREATED:20201009T115548Z
LAST-MODIFIED:20201009T115548Z
UID:25758-1603873200-1603876800@spildansk.dk
SUMMARY:Admiral Awesome
DESCRIPTION:LMS koncert
URL:https://spildansk.dk/kalender/admiral-awesome-6/
LOCATION:Gedved Skole\, Kirkevej 16\, Gedved\, 8751\, Danmark
END:VEVENT
BEGIN:VEVENT
DTSTART;TZID=Europe/Copenhagen:20201028T083000
DTEND;TZID=Europe/Copenhagen:20201028T090000
DTSTAMP:20260423T012922
CREATED:20201001T073501Z
LAST-MODIFIED:20201001T073501Z
UID:25343-1603873800-1603875600@spildansk.dk
SUMMARY:3. klasse fra Thyholm Skole synger ved Thyholm Børnehus
DESCRIPTION:3.klasses elever synger
URL:https://spildansk.dk/kalender/3-klasse-fra-thyholm-skole-synger-ved-thyholm-boernehus/
LOCATION:Thyholm Børnehus\, Rughavevej 18\, Hvidbjerg\, 7790
CATEGORIES:Kor
END:VEVENT
BEGIN:VEVENT
DTSTART;TZID=Europe/Copenhagen:20201028T084500
DTEND;TZID=Europe/Copenhagen:20201028T094500
DTSTAMP:20260423T012922
CREATED:20201009T115553Z
LAST-MODIFIED:20201009T115553Z
UID:25759-1603874700-1603878300@spildansk.dk
SUMMARY:Stine Michel med Orkester
DESCRIPTION:LMS koncert
URL:https://spildansk.dk/kalender/stine-michel-med-orkester-2/
LOCATION:Bankagerskolen\, Horsens\, Horsens\, Danmark
END:VEVENT
BEGIN:VEVENT
DTSTART;TZID=Europe/Copenhagen:20201028T084500
DTEND;TZID=Europe/Copenhagen:20201028T094500
DTSTAMP:20260423T012922
CREATED:20201009T115559Z
LAST-MODIFIED:20201009T115559Z
UID:25760-1603874700-1603878300@spildansk.dk
SUMMARY:Mirja Klippel
DESCRIPTION:LMS koncert
URL:https://spildansk.dk/kalender/mirja-klippel-5/
LOCATION:Lille Næstved Skole afd. Herlufsholmvej\, Herlufsholmvej 16\, Næstved\, 4700\, Danmark
END:VEVENT
BEGIN:VEVENT
DTSTART;TZID=Europe/Copenhagen:20201028T085000
DTEND;TZID=Europe/Copenhagen:20201028T095000
DTSTAMP:20260423T012922
CREATED:20201009T115605Z
LAST-MODIFIED:20201009T115605Z
UID:25761-1603875000-1603878600@spildansk.dk
SUMMARY:HeartBeat Group
DESCRIPTION:LMS koncert
URL:https://spildansk.dk/kalender/heartbeat-group-6/
LOCATION:Bjergby Friskole\, Friskolevej 13\, Bjergby\, Erslev\, 7950\, Danmark
END:VEVENT
BEGIN:VEVENT
DTSTART;TZID=Europe/Copenhagen:20201028T085000
DTEND;TZID=Europe/Copenhagen:20201028T095000
DTSTAMP:20260423T012922
CREATED:20201009T115611Z
LAST-MODIFIED:20201009T115611Z
UID:25762-1603875000-1603878600@spildansk.dk
SUMMARY:Bisse
DESCRIPTION:LMS koncert
URL:https://spildansk.dk/kalender/bisse-5/
LOCATION:Sortebakkeskolen\, Løgstørvej 161\, Nørager\, 9610\, Danmark
END:VEVENT
BEGIN:VEVENT
DTSTART;TZID=Europe/Copenhagen:20201028T085500
DTEND;TZID=Europe/Copenhagen:20201028T095500
DTSTAMP:20260423T012922
CREATED:20201009T115622Z
LAST-MODIFIED:20201009T115622Z
UID:25763-1603875300-1603878900@spildansk.dk
SUMMARY:Eastwind
DESCRIPTION:LMS koncert
URL:https://spildansk.dk/kalender/eastwind-5/
LOCATION:Kildedamsskolen afd. Ugerløse\, Hovedgaden 42\, Ugerløse\, 4350\, Danmark
END:VEVENT
BEGIN:VEVENT
DTSTART;TZID=Europe/Copenhagen:20201028T090000
DTEND;TZID=Europe/Copenhagen:20201028T090000
DTSTAMP:20260423T012922
CREATED:20201021T142523Z
LAST-MODIFIED:20201021T142523Z
UID:26487-1603875600-1603875600@spildansk.dk
SUMMARY:Jorden Rundt
DESCRIPTION:Børnebanditterne tager publikum med jorden rundt til de mest markante musikkulturer.
URL:https://spildansk.dk/kalender/jorden-rundt/
LOCATION:Næstved Bibliotek\, Kvægtorvet 4-6\, Næstved\, 4700\, Danmark
CATEGORIES:Musik til børn
ATTACH;FMTTYPE=image/jpeg:https://spildansk.dk/wp-content/uploads/2020/10/885902A6-A2F3-45DE-848D-570D36A1C9EE.jpeg
END:VEVENT
END:VCALENDAR