BEGIN:VCALENDAR
VERSION:2.0
PRODID:-//Spil Dansk - ECPv6.5.0//NONSGML v1.0//EN
CALSCALE:GREGORIAN
METHOD:PUBLISH
X-WR-CALNAME:Spil Dansk
X-ORIGINAL-URL:https://spildansk.dk
X-WR-CALDESC:Events for Spil Dansk
REFRESH-INTERVAL;VALUE=DURATION:PT1H
X-Robots-Tag:noindex
X-PUBLISHED-TTL:PT1H
BEGIN:VTIMEZONE
TZID:Europe/Copenhagen
BEGIN:DAYLIGHT
TZOFFSETFROM:+0100
TZOFFSETTO:+0200
TZNAME:CEST
DTSTART:20200329T010000
END:DAYLIGHT
BEGIN:STANDARD
TZOFFSETFROM:+0200
TZOFFSETTO:+0100
TZNAME:CET
DTSTART:20201025T010000
END:STANDARD
END:VTIMEZONE
BEGIN:VEVENT
DTSTART;TZID=Europe/Copenhagen:20201027T113000
DTEND;TZID=Europe/Copenhagen:20201027T121500
DTSTAMP:20260423T011717
CREATED:20200915T103533Z
LAST-MODIFIED:20200915T103533Z
UID:24879-1603798200-1603800900@spildansk.dk
SUMMARY:Babysalmesang med Birgitte Debel Krag
DESCRIPTION:27. Okt Andet\nBabysalmesang er for de helt små mellem 0 og 10 mdr. og deres voksne. I kurset kan man hente inspiration til\, hvordan man selv kan synge\, danse og lege musik og livsglæde ind i barnet. Der kræves ingen forudsætninger..\n\n\n\nAlle kan være med J Babysalmesang er en sjov og utraditionel måde at udvide sit sang- og salmekendskab på\, i et herligt samspil med sit barn og andre forældre og børn. Vi synger og danser til både gamle salmer og nyere småbørnssange\, flyver med tørklæder\, vugger\, bruger rasleæg mm. Alt sammen i en hyggelig og afslappet atmosfære i kirkerummet. Bagefter er der mulighed for en forfriskning i Clemenshuset. Det musikalske samvær styrker det intense nærvær barn og forældre imellem og er med til at udvikle barnets sanser\, sprog og følelsesliv. Musikpædagog Birgitte Debel Krag\, Randers Musikskole leder forløbet. Hvem? Småbørn mellem 0 og 10 mdr. og deres Voksne. Hvornår? 11 tirsdage kl. 11.30-12.15 (minus tirsdag 13/10). Start 8. september Hvor? Sct. Clemens kirke\, Parkboulevarden 15\, 8900 Randers C Pris? Gratis Tilmelding\, er nødvendigt pga. begrænset deltagerantal\, til: Kirkekontoret tlf. 8712 4110 eller mail: kirkekontor@sct-clemens.dk
URL:https://spildansk.dk/kalender/babysalmesang-med-birgitte-debel-krag/
LOCATION:Sct. Clemens Kirke\, Parkboulevarden 15\, Randers\, 8900
CATEGORIES:Musik til børn
END:VEVENT
BEGIN:VEVENT
DTSTART;TZID=Europe/Copenhagen:20201027T113000
DTEND;TZID=Europe/Copenhagen:20201027T123000
DTSTAMP:20260423T011717
CREATED:20201009T115418Z
LAST-MODIFIED:20201009T115418Z
UID:25746-1603798200-1603801800@spildansk.dk
SUMMARY:Eastwind
DESCRIPTION:LMS koncert
URL:https://spildansk.dk/kalender/eastwind-4/
LOCATION:Gåsetårnskolen\, afd. Marienberg\, Parkvænget 12\, Vordingborg\, 4760\, Danmark
END:VEVENT
BEGIN:VEVENT
DTSTART;TZID=Europe/Copenhagen:20201027T120000
DTEND;TZID=Europe/Copenhagen:20201027T130000
DTSTAMP:20260423T011717
CREATED:20201009T115424Z
LAST-MODIFIED:20201009T115424Z
UID:25747-1603800000-1603803600@spildansk.dk
SUMMARY:Goin' Back To New Orleans
DESCRIPTION:LMS koncert
URL:https://spildansk.dk/kalender/goin-back-to-new-orleans-5/
LOCATION:Hampelandskolen inkl. Toftehøjskolen\, Hampelandvej 7\, Ølstykke\, 3650\, Danmark
END:VEVENT
BEGIN:VEVENT
DTSTART;TZID=Europe/Copenhagen:20201027T121000
DTEND;TZID=Europe/Copenhagen:20201027T131000
DTSTAMP:20260423T011717
CREATED:20201009T115436Z
LAST-MODIFIED:20201009T115436Z
UID:25748-1603800600-1603804200@spildansk.dk
SUMMARY:Charanga Copenhagen
DESCRIPTION:LMS koncert
URL:https://spildansk.dk/kalender/charanga-copenhagen-5/
LOCATION:Byskolen\, Nørrevold 13\, Nakskov\, 4900\, Danmark
END:VEVENT
BEGIN:VEVENT
DTSTART;TZID=Europe/Copenhagen:20201027T121500
DTEND;TZID=Europe/Copenhagen:20201027T131500
DTSTAMP:20260423T011717
CREATED:20201009T115441Z
LAST-MODIFIED:20201009T115441Z
UID:25749-1603800900-1603804500@spildansk.dk
SUMMARY:Mzungu Kichaa
DESCRIPTION:LMS koncert
URL:https://spildansk.dk/kalender/mzungu-kichaa-4/
LOCATION:Stubbæk Skole\, Stubbæk Skolegade 1-3\, Stubbæk\, Aabenraa\, 6200\, Danmark
END:VEVENT
BEGIN:VEVENT
DTSTART;TZID=Europe/Copenhagen:20201027T122000
DTEND;TZID=Europe/Copenhagen:20201027T132000
DTSTAMP:20260423T011717
CREATED:20201009T115447Z
LAST-MODIFIED:20201009T115447Z
UID:25750-1603801200-1603804800@spildansk.dk
SUMMARY:Bisse
DESCRIPTION:LMS koncert
URL:https://spildansk.dk/kalender/bisse-4/
LOCATION:Skødstrup Skole\, Skødstrup\, Aarhus\, Danmark
END:VEVENT
BEGIN:VEVENT
DTSTART;TZID=Europe/Copenhagen:20201027T122000
DTEND;TZID=Europe/Copenhagen:20201027T132000
DTSTAMP:20260423T011717
CREATED:20201009T115452Z
LAST-MODIFIED:20201009T115452Z
UID:25751-1603801200-1603804800@spildansk.dk
SUMMARY:Johanna Juhola Trio
DESCRIPTION:LMS koncert
URL:https://spildansk.dk/kalender/johanna-juhola-trio-5/
LOCATION:Langhøjskolen\, Bakkegårdsvej 8\, Vivild\, Allingåbro\, 8961\, Danmark
END:VEVENT
BEGIN:VEVENT
DTSTART;TZID=Europe/Copenhagen:20201027T123000
DTEND;TZID=Europe/Copenhagen:20201027T133000
DTSTAMP:20260423T011717
CREATED:20201009T115458Z
LAST-MODIFIED:20201009T115458Z
UID:25752-1603801800-1603805400@spildansk.dk
SUMMARY:HP Lange & Jarno Varsted
DESCRIPTION:LMS koncert
URL:https://spildansk.dk/kalender/hp-lange-jarno-varsted-5/
LOCATION:Petersmindeskolen\, Petersmindevej 25\, Vejle\, 7100\, Danmark
END:VEVENT
BEGIN:VEVENT
DTSTART;TZID=Europe/Copenhagen:20201027T123000
DTEND;TZID=Europe/Copenhagen:20201027T133000
DTSTAMP:20260423T011717
CREATED:20201009T115511Z
LAST-MODIFIED:20201009T115511Z
UID:25753-1603801800-1603805400@spildansk.dk
SUMMARY:Virelai
DESCRIPTION:LMS koncert
URL:https://spildansk.dk/kalender/virelai-5/
LOCATION:Pilegårdsskolen\, Ole Klokkers Vej 17\, Kastrup\, 2770\, Danmark
END:VEVENT
BEGIN:VEVENT
DTSTART;TZID=Europe/Copenhagen:20201027T123000
DTEND;TZID=Europe/Copenhagen:20201027T133000
DTSTAMP:20260423T011717
CREATED:20201009T115516Z
LAST-MODIFIED:20201009T115516Z
UID:25754-1603801800-1603805400@spildansk.dk
SUMMARY:Sisters of Jazz
DESCRIPTION:LMS koncert
URL:https://spildansk.dk/kalender/sisters-of-jazz-4/
LOCATION:Rynkevangskolen\, Møllevej 10\, Kalundborg\, 4400\, Danmark
END:VEVENT
BEGIN:VEVENT
DTSTART;TZID=Europe/Copenhagen:20201027T130000
DTEND;TZID=Europe/Copenhagen:20201027T140000
DTSTAMP:20260423T011717
CREATED:20201009T115522Z
LAST-MODIFIED:20201009T115522Z
UID:25755-1603803600-1603807200@spildansk.dk
SUMMARY:HeartBeat Group
DESCRIPTION:LMS koncert
URL:https://spildansk.dk/kalender/heartbeat-group-5/
LOCATION:Hobro Søndre Skole\, Skolegade 10\, Hobro\, 9500\, Danmark
END:VEVENT
BEGIN:VEVENT
DTSTART;TZID=Europe/Copenhagen:20201027T130000
DTEND;TZID=Europe/Copenhagen:20201027T140000
DTSTAMP:20260423T011717
CREATED:20201009T115528Z
LAST-MODIFIED:20201009T115528Z
UID:25756-1603803600-1603807200@spildansk.dk
SUMMARY:Goin' Back To New Orleans
DESCRIPTION:LMS koncert
URL:https://spildansk.dk/kalender/goin-back-to-new-orleans-6/
LOCATION:Hampelandskolen inkl. Toftehøjskolen\, Hampelandvej 7\, Ølstykke\, 3650\, Danmark
END:VEVENT
BEGIN:VEVENT
DTSTART;TZID=Europe/Copenhagen:20201027T130000
DTEND;TZID=Europe/Copenhagen:20201027T140000
DTSTAMP:20260423T011717
CREATED:20201009T115536Z
LAST-MODIFIED:20201009T115536Z
UID:25757-1603803600-1603807200@spildansk.dk
SUMMARY:Admiral Awesome
DESCRIPTION:LMS koncert
URL:https://spildansk.dk/kalender/admiral-awesome-5/
LOCATION:Gråsten Skole\, Gråsten\, Sønderborg\, Danmark
END:VEVENT
BEGIN:VEVENT
DTSTART;TZID=Europe/Copenhagen:20201027T130000
DTEND;TZID=Europe/Copenhagen:20201027T150000
DTSTAMP:20260423T011717
CREATED:20201020T135913Z
LAST-MODIFIED:20201020T135921Z
UID:26307-1603803600-1603810800@spildansk.dk
SUMMARY:BO SCHIØLER & SKAVANKERNE
DESCRIPTION:En akustisk senior-koncert. \nBo Schiøler\, der er bedst kendt som sangskiver og dramatiker for børn og unge på Vesterbro Ungdomsgård\, blev pensionist i 2011. Bo beskriver det selv sådan:\n“Det var en kæmpe omvæltning. Jeg sad og stirrede på tapetet … ud i afgrunden og det dybe mørke. Telefonen var tavs. Vækkeuret var overflødigt. Som for så mange andre seniorer var det store spørsmål: HVAD NU? \nMen\, så dyrkede jeg en masse franske sangere. Når de må være følsomme\, må vi nordboere også. Dejligt! Frihed! Også i den 3. alder rimer HJERTE på SMERTE!” \nSå jo\, Bo blev front-figur i orkestret “Skavankerne” som spiller seniorsange.\nInd imellem sangeksempler\, fortæller Bo muntert (og alvorligt) – om livet som pensionist. \nFORMÅL: At skabe glæde uden omsvøb. Til fornøjelse og eftertanke.
URL:https://spildansk.dk/kalender/bo-schioeler-skavankerne/
LOCATION:kulturhuset islands brygge\, islands brygge 18\, København s\, 2300\, Danmark
CATEGORIES:Singer-songwriter
ATTACH;FMTTYPE=image/jpeg:https://spildansk.dk/wp-content/uploads/2020/10/BoSchiøler-Skavankerne-6-version-3.jpeg
ORGANIZER;CN="Kulturhuset Islands Brygge":MAILTO:em1v@kk.dk
END:VEVENT
BEGIN:VEVENT
DTSTART;TZID=Europe/Copenhagen:20201027T130000
DTEND;TZID=Europe/Copenhagen:20201027T153000
DTSTAMP:20260423T011717
CREATED:20201020T150420Z
LAST-MODIFIED:20201020T150420Z
UID:26304-1603803600-1603812600@spildansk.dk
SUMMARY:BO SCHIØLER & SKAVANKERNE
DESCRIPTION:En akustisk senior-koncert. \n\n\n\n\nBo Schiøler\, der er bedst kendt som sangskiver og dramatiker for børn og unge på Vesterbro Ungdomsgård\, blev pensionist i 2011. Bo beskriver det selv sådan:\n“Det var en kæmpe omvæltning. Jeg sad og stirrede på tapetet … ud i afgrunden og det dybe mørke. Telefonen var tavs. Vækkeuret var overflødigt. Som for så mange andre seniorer var det store spørsmål: HVAD NU? \nMen\, så dyrkede jeg en masse franske sangere. Når de må være følsomme\, må vi nordboere også. \nDejligt! Frihed! Også i den 3. alder rimer HJERTE på SMERTE!” \nSå jo\, Bo blev front-figur i orkestret “Skavankerne” som spiller seniorsange.\nInd imellem sangeksempler\, fortæller Bo muntert (og alvorligt) – om livet som pensionist. \nFORMÅL: At skabe glæde uden omsvøb. Til fornøjelse og eftertanke.
URL:https://spildansk.dk/kalender/bo-schioeler-skavankerne-2/
LOCATION:kulturhuset islands brygge\, islands brygge 18\, København s\, 2300\, Danmark
CATEGORIES:Singer-songwriter
ATTACH;FMTTYPE=image/jpeg:https://spildansk.dk/wp-content/uploads/2020/10/BoSchiøler-Skavankerne-7-version-3-scaled.jpg
END:VEVENT
BEGIN:VEVENT
DTSTART;TZID=Europe/Copenhagen:20201027T143000
DTEND;TZID=Europe/Copenhagen:20201027T150000
DTSTAMP:20260423T011717
CREATED:20200928T124703Z
LAST-MODIFIED:20200928T124718Z
UID:25221-1603809000-1603810800@spildansk.dk
SUMMARY:Koncert med Thyholm Pastorats Børnekor
DESCRIPTION:Koncert i Værestedet
URL:https://spildansk.dk/kalender/koncert-med-thyholm-pastorats-boernekor/
LOCATION:Værestedet\, Nørregade 12 A\, 7790\, Thyholm
CATEGORIES:Kor
END:VEVENT
BEGIN:VEVENT
DTSTART;TZID=Europe/Copenhagen:20201027T150000
DTEND;TZID=Europe/Copenhagen:20201027T160000
DTSTAMP:20260423T011717
CREATED:20201019T103457Z
LAST-MODIFIED:20201019T110027Z
UID:25978-1603810800-1603814400@spildansk.dk
SUMMARY:OS TO i Farvemøllen
DESCRIPTION:OS TO er et nyt skud på den danske popstamme.  Med delikate 80er referencer og Camilla Papes indtagende lyriske vokal i front vil der være masser af nærvær og vellyd at hente på denne efterårs eftermiddag. \nJohan Ask og Camilla Pape har tidligere udgivet under navnet Eugenia\, men deres lyd har ændret sig – lyrikken og musikken er blevet er blevet mere nær og mere tilgængelig. Derfor er den mere abstrakte reference til kunstens verden blevet skiftet ud med lige præcis det de er: OS TO. Denne eftermiddag i Farvemøllen er første gang bandet betræder livescenen under deres nye navn og med deres helt nye materiale\, hvor første single “De Smukke Unge” udkommer d 23 oktober – fredagen inden koncerten. \nDette arrangement er støttet af Kodas kulturelle midler.
URL:https://spildansk.dk/kalender/os-to-i-farvemoellen/
LOCATION:farvemøllen\, Dortheavej 4\, KBH NV\, 2400
CATEGORIES:Alternative,Indie,Pop
ATTACH;FMTTYPE=image/jpeg:https://spildansk.dk/wp-content/uploads/2020/10/OSTO_Pressebillede04_Farve_Credit_JulieMontauk-mindre-2-scaled.jpg
ORGANIZER;CN="M%C3%B8s M%C3%B8s":MAILTO:lauritz@mosmoscph.com
END:VEVENT
BEGIN:VEVENT
DTSTART;TZID=Europe/Copenhagen:20201027T150000
DTEND;TZID=Europe/Copenhagen:20201027T160000
DTSTAMP:20260423T011717
CREATED:20201027T082950Z
LAST-MODIFIED:20201027T084137Z
UID:26839-1603810800-1603814400@spildansk.dk
SUMMARY:Hit med sangskriveren
DESCRIPTION:Mads Westfall er en af landets førende visesangere\, kendt fra den populære trio Halfdanskerne. Han har for tiden stor succes med sit 6. solo-album ”WESTFALLS VISER”\, og også på scenen har hanfuld fokus på visemusikken. Her får I hans egne oversættelser og fortolkninger af de allermest kendte viser af danske og nordiske vise-digtere\, og en række af hans egne velskrevne sange. Oplev et underholdende soloshow\, hvor en vellydende stemme\, lækkert guitarspil og begavet og morsom underholdning går hånd i hånd.
URL:https://spildansk.dk/kalender/hit-med-sangskriveren-8/
LOCATION:Kulturhavn Gilleleje\, Peter Fjelstrupsvej 12\, Gilleleje\, 3250
CATEGORIES:Koncert
END:VEVENT
BEGIN:VEVENT
DTSTART;TZID=Europe/Copenhagen:20201027T150000
DTEND;TZID=Europe/Copenhagen:20201027T170000
DTSTAMP:20260423T011717
CREATED:20201021T094233Z
LAST-MODIFIED:20201021T094233Z
UID:26382-1603810800-1603818000@spildansk.dk
SUMMARY:Fætter og kusine sang
DESCRIPTION:Hygge sang med faster.
URL:https://spildansk.dk/kalender/faetter-og-kusine-sang/
LOCATION:privat
CATEGORIES:Fællessang
END:VEVENT
BEGIN:VEVENT
DTSTART;TZID=Europe/Copenhagen:20201027T153000
DTEND;TZID=Europe/Copenhagen:20201027T160000
DTSTAMP:20260423T011717
CREATED:20200929T123213Z
LAST-MODIFIED:20200929T123237Z
UID:25288-1603812600-1603814400@spildansk.dk
SUMMARY:Friluftskoncert foran SPAR Hvidbjerg med Thyholm Pastorats Børnekor
DESCRIPTION:Koncert
URL:https://spildansk.dk/kalender/friluftskoncert-foran-spar-hvidbjerg-med-thyholm-pastorats-boernekor/
LOCATION:SPAR Hvidbjerg\, Bredgade 3\, Hvidbjerg\, 7790
CATEGORIES:Koncert,Kor
END:VEVENT
BEGIN:VEVENT
DTSTART;TZID=Europe/Copenhagen:20201027T153000
DTEND;TZID=Europe/Copenhagen:20201027T163000
DTSTAMP:20260423T011717
CREATED:20201005T090853Z
LAST-MODIFIED:20201005T090900Z
UID:25371-1603812600-1603816200@spildansk.dk
SUMMARY:Koncert/fællessang med Kristian Bach
DESCRIPTION:Kristian Bach er en engageret og passioneret sanger og sangskriver\, der gennem sine sange forener det lyriske og meget personlige. \nEr aktiv formidler af den danske sangskat og har været med til at skabe arrangementer over hele landet.\nUnderviser i musik og leder forskellige kor både for unge og ældre\,
URL:https://spildansk.dk/kalender/koncert-faellessang-med-kristian-bach/
LOCATION:Neurocenter Lemvig\, Østergade 30\, Lemvig
CATEGORIES:Koncert,Fællessang
END:VEVENT
BEGIN:VEVENT
DTSTART;TZID=Europe/Copenhagen:20201027T160000
DTEND;TZID=Europe/Copenhagen:20201027T170000
DTSTAMP:20260423T011717
CREATED:20200924T134253Z
LAST-MODIFIED:20200924T134253Z
UID:25081-1603814400-1603818000@spildansk.dk
SUMMARY:Musikskolekoncert
DESCRIPTION:Vejle musikskoles Børkop-afdeling spiller koncert i Markant.
URL:https://spildansk.dk/kalender/musikskolekoncert/
LOCATION:Børkop Bibliotek\, Ågade 6\, Børkop\, 7080
CATEGORIES:Koncert
ATTACH;FMTTYPE=image/png:https://spildansk.dk/wp-content/uploads/2020/09/SpilDanskUgen2020_Blaa_Splash-1.png
END:VEVENT
BEGIN:VEVENT
DTSTART;TZID=Europe/Copenhagen:20201027T160000
DTEND;TZID=Europe/Copenhagen:20201027T170000
DTSTAMP:20260423T011717
CREATED:20200929T114906Z
LAST-MODIFIED:20200929T114906Z
UID:25277-1603814400-1603818000@spildansk.dk
SUMMARY:Bibliotekskoncert med Paderup Gymnasium
DESCRIPTION:Hvis du er til dansk rytmisk musik og har mod på også at høre det i nye udgaver\, har de musikglade elever fra Paderup Gymnasium et godt tilbud til dig! I anledning af Spil Dansk-ugen optræder de nemlig med et program bestående af danske numre i mere eller mindre genkendelige forklædninger. \nDe dygtige musikelever fra Paderup har efterhånden tradition for at give prøver på deres spil i uge 44 – en tradition\, som vi på biblioteket er rigtig glade for. Mød op i udlånet på Hovedbiblioteket og få en god musikalsk stund! Det er gratis at komme ind til koncerten\, og ingen tilmelding er nødvendig. \nSpil Dansk er musiklivets festuge\, der altid foregår i uge 44. Siden 2001 har Spil Dansk været Danmarks største musikbegivenhed i al sin bredde og mangfoldighed af arrangementer. Turbinen\, Randers Bibliotek\, Randers Kommune og Randers Eventsekretariat er lokale arrangører. Det sker i samarbejde med blandt andre lokale bands\, musikkorps\, -ensembler og -kor. Målet er blandt andet at skabe glæde og øge kendskabet til musik med dansk afsæt – herunder udfolde musikken i nye og anderledes rammer.
URL:https://spildansk.dk/kalender/bibliotekskoncert-med-paderup-gymnasium/
LOCATION:Randers Bibliotek\, Stemannsgade 2\, Randers C\, 8900\, Danmark
CATEGORIES:Koncert
ATTACH;FMTTYPE=image/jpeg:https://spildansk.dk/wp-content/uploads/2020/09/Paderup-904.jpg
ORGANIZER;CN="Randers Bibliotek":MAILTO:mk@randersbib.dk
END:VEVENT
BEGIN:VEVENT
DTSTART;TZID=Europe/Copenhagen:20201027T180000
DTEND;TZID=Europe/Copenhagen:20201027T190000
DTSTAMP:20260423T011717
CREATED:20200915T085214Z
LAST-MODIFIED:20200915T085214Z
UID:24889-1603821600-1603825200@spildansk.dk
SUMMARY:Bersærk: "Sol"-albumkoncert
DESCRIPTION:De hedenske heavyrockere Bersærk er gået fra sejr til sejr siden starten på deres togt i 2012. Bandet har vundet det danske metal- og rock-publikum med deres unikke tung-rock\, og live er bandet en uovertruffen enhed\, der trækker fulde huse. \nBersærk er nu klar med deres tredje album betitlet ‘SOL’ – en episk plade\, der viser nye sider af bandet og beskriver menneskets kamp gennem krig\, død og forfald\, for omsider at nå til genfødsel og sejr. De ti nye sange udspiller sig som altid i Bersærks mytiske univers\, hvor fortidens nordiske livsverden får nyt liv i en nutidig kontekst\, alt sammen energisk tilvejebragt af bandets groovende melodiske tung-rock og alsidige sangskrivnings-talent. \n’SOL’ er et ambitiøst værk\, der indeholder større kontraster end tidligere udgivelser og udvider deres musikalske og lyriske ambitioner\, men det er stadig en Bersærk-plade i al sin ligefremme og energiske jordbundethed. Denne udgivelse\, har Bersærk valgt at fejre med en koncert på Bremen Teater\, hvor det fulde album spilles fra start til slut. Dette er en unik og enestående mulighed\, for at høre og opleve ’SOL’ i intime rammer\, og for at møde et Bersærk der står stærkere end nogensinde. Det visuelle\, lyriske og musikalske budskab vil blive forenet\, og publikum vil møde ind til en albumoplevelse\, ud over det sædvanlige.
URL:https://spildansk.dk/kalender/bersaerk-sol-albumkoncert/
LOCATION:Bremen Teater\, Nyropsgade 39-41\, Kbh. K\, 1602
CATEGORIES:Metal
ATTACH;FMTTYPE=image/jpeg:https://spildansk.dk/wp-content/uploads/2020/09/bersærk.jpg
END:VEVENT
BEGIN:VEVENT
DTSTART;TZID=Europe/Copenhagen:20201027T180000
DTEND;TZID=Europe/Copenhagen:20201027T223000
DTSTAMP:20260423T011717
CREATED:20200922T082416Z
LAST-MODIFIED:20200922T083030Z
UID:25016-1603821600-1603837800@spildansk.dk
SUMMARY:Teitur
DESCRIPTION:Den færøskfødte Teitur Lassen er efterhånden en erfaren herre på den nordiske musikscene. Med to danske Grammy Awards\, otte studiealbums og over 1000 koncerter i bagagen har Teitur bevist sit \ntalent for at fange lytteren i et intenst og forførende greb. Hits som ’Louis Louis’\, ’I Was Just Thinking’ og ‘Josephine’ har cementeret hans status som en yderst indfølende sangskriver. \nTeiturs musik har også opnået international anerkendelse\, og han har flere gange varmet op for singer-songwriter John Mayer\, som tidligere har udtalt\, at Teiturs debutalbum fra 2003 ’Poetry & Aeroplanes’ var ét af de bedste album i mange år. Siden debutpladen er Teiturs kunstneriske ambitionsniveau kun steget\, hvilket tydeligt kommer til udtryk på det seneste album ‘I Want To Be Kind’ fra 2018. Senest demonstrerede Teitur sin store musikalitet for den brede befolkning gennem sin deltagelse i den nyeste sæson af TV2s populære musikprogram ”Toppen af Poppen”.  Her overgik han sig selv uge efter uge og imponerede og rørte sine medmusikanter med helt specielle og yderst musikalske versioner af deres sange. \nNår Teitur gæster Kulturloft som en del af sin forårsturné i 2020 bliver han akkompagneret af multi-instrumentalisten Gustaf Ljunggren. De vil sammen optræde med en blanding af numre fra Teiturs seneste album\, helt nye sange og selvfølgelige de kendte og elskede publikumsfavoritter.
URL:https://spildansk.dk/kalender/teitur/
LOCATION:Kulturloft\, Maltvej 12\, Ebeltoft\, 8400
CATEGORIES:Koncert
ATTACH;FMTTYPE=image/jpeg:https://spildansk.dk/wp-content/uploads/2020/09/teitur_presse-2-scaled.jpeg
END:VEVENT
BEGIN:VEVENT
DTSTART;TZID=Europe/Copenhagen:20201027T190000
DTEND;TZID=Europe/Copenhagen:20201027T190000
DTSTAMP:20260423T011717
CREATED:20201026T091244Z
LAST-MODIFIED:20201026T091453Z
UID:26772-1603825200-1603825200@spildansk.dk
SUMMARY:Et musikalsk foredrag med Søren Frost
DESCRIPTION:Mød den fantastiske trommeslager Søren Frost\, som har spillet med internationale stjerner. \nEgedal Bibliotekerne er igen i år med til at fejre Spil-Dansk ugen. Der sker når Søren Frost besøger Ølstykke Bibliotek og holder et musikalsk foredrag. \nSøren Frost er født 1965 og har spillet professionelt siden 1983\, bla. med Klüvers Big Band\, Poul Krebs\, Danser Med Drenge\, Sp-Just-Frost\, og DR Big Band siden 1988. \nHan har lavet clinics og workshops over det meste af verden og spillet eller indspillet med Dr. John\, Mike Stern\, Randy Brecker\, John Scofield\, Thad Jones\, Dianne Reeves\, Robben Ford\, Bob Mintzer\, Ivan Lins\, Richard Bona og Curtis Steigers. \nFrost har som den eneste dansker designet sin signatur lilletromme\, sammen med Yamaha drums. \nSpiller pt. udover DR Big Band\, med Kjeld Lauritsen/Miriam Mandipira/Per Gade\, Tuesday Night Brass Band og Allan Mortensen/Jens Jefsen Quartet. Musisk genre er jazz\, rock\, new orleans funk and beyond. \nEntré: Gratis adgang\, men med billet \nEn del af “Spil Dansk” \nCOVID-19: Egedal Bibliotekerne overholder myndighedernes gældende retningslinjer\, derfor kan der forekomme justeringer. På dagen hjælper vi hinanden\, så alle får en god oplevelse.
URL:https://spildansk.dk/kalender/et-musikalsk-foredrag-med-soeren-frost/
LOCATION:Ølstykke Bibliotek\, Østervej 1A\, Ølstykke\, 3650
CATEGORIES:Funk,Jazz,Rock
ATTACH;FMTTYPE=image/jpeg:https://spildansk.dk/wp-content/uploads/2020/10/Søren-Frost-i-studiet.jpg
END:VEVENT
BEGIN:VEVENT
DTSTART;TZID=Europe/Copenhagen:20201027T190000
DTEND;TZID=Europe/Copenhagen:20201027T200000
DTSTAMP:20260423T011717
CREATED:20200819T110044Z
LAST-MODIFIED:20200819T110044Z
UID:24545-1603825200-1603828800@spildansk.dk
SUMMARY:Spil Dansk - Et musikalsk foredrag v/ Elisabeth Gjerluff Nielsen
DESCRIPTION:I anledning af Spil Dansk Ugen får vi besøg af forfatter\, sangskriver og komponist Elisabeth Gjerluff Nielsen. \nElisabeth har i over 40 år beskæftiget sig med dansksproget sangskrivning og det er efterhånden blevet til 30 albumudgivelser. Elisabeth har også skrevet flere store hits til andre danske artister bl.a. Søs Fenger og Sanne Salomonsen. \nHendes musikkarriere startede i gruppen Voxpop 1980-83. Senere fulgte en solokarriere\, som blev lanceret med debutalbummet Elisabeth i 1984. \nHun har desuden skrevet et hav af sange til børn\, som datteren Rosa (fra Rouladegade) i dag bl.a. turnerer og underholder næste generation med. \nDet er ikke et foredrag- ikke en koncert\, men Et Musikalsk Foredrag\, hvor Elisabeth som eneste aktør på scenen\, foretager en rejse gennem egne sange\, synger og fortæller om sine erfaringer gennem et langt liv i musik/sangskrivningens tjeneste.
URL:https://spildansk.dk/kalender/spil-dansk-et-musikalsk-foredrag-v-elisabeth-gjerluff-nielsen/
LOCATION:Ringkøbing Rådhushal\, Ved Fjorden 6\, Ringkøbing\, 6950
CATEGORIES:Foredrag
ATTACH;FMTTYPE=image/jpeg:https://spildansk.dk/wp-content/uploads/2020/08/20201027-elisabeth-gerluff.jpg
END:VEVENT
BEGIN:VEVENT
DTSTART;TZID=Europe/Copenhagen:20201027T190000
DTEND;TZID=Europe/Copenhagen:20201027T200000
DTSTAMP:20260423T011717
CREATED:20201021T082831Z
LAST-MODIFIED:20201021T082831Z
UID:26358-1603825200-1603828800@spildansk.dk
SUMMARY:Spil Dansk - fællessang
DESCRIPTION:En times corona-sikker fællessang i Havdrup Sognehus\, Bistrupvang 33\, 4622 Havdrup. Tilmelding nødvendig via www.havdrupkirke.dk. \nNyt og gammelt\, højskolesang\, pop og salmer. Fællessangen ledes af pianist Peter Plougmann og kirke- og kulturmedarbejder Anette Løndal Hemmingsen
URL:https://spildansk.dk/kalender/spil-dansk-faellessang-5/
LOCATION:Havdrup Sognehus\, Bistrupvang 33\, Havdrup\, 4622\, Danmark
CATEGORIES:Fællessang
END:VEVENT
BEGIN:VEVENT
DTSTART;TZID=Europe/Copenhagen:20201027T190000
DTEND;TZID=Europe/Copenhagen:20201027T203000
DTSTAMP:20260423T011717
CREATED:20200702T064538Z
LAST-MODIFIED:20201012T094346Z
UID:24378-1603825200-1603830600@spildansk.dk
SUMMARY:AFLYST! Revysangens Genklang – revyviser fra den danske sangskat
DESCRIPTION:Revysangens Genklang er en duo bestående af Birgitte Antonius og John Skou\, der har specialiseret sig i revyviser og historien bag de enkelte viser. I kan derfor forvente en musikalsk tidsrejse med nedslag i dansk revys historie med nogle af de sange\, der har betydet mest for både revyen og revyvisetraditionen. Der bliver fremført viser af bl.a. Liva Weel\, Dirch Passer\, Elga Olga\, Preben Uglebjerg\, Marguerite Viby og Lily Broberg. \nOg mon ikke Jacob Gades : ”Maggiduddi og jeg” er med\, nu da komponisten faktisk boede i Thorøhuse
URL:https://spildansk.dk/kalender/revysangens-genklang-revyviser-fra-den-danske-sangskat/
LOCATION:Thorøhuse Forsamlingshus\, Drejet 7\, Assens\, 5610
CATEGORIES:Dansktop
ORGANIZER;CN="AssensBibliotekerne":MAILTO:mipou@assens.dk
END:VEVENT
BEGIN:VEVENT
DTSTART;TZID=Europe/Copenhagen:20201027T190000
DTEND;TZID=Europe/Copenhagen:20201027T203000
DTSTAMP:20260423T011717
CREATED:20201023T121203Z
LAST-MODIFIED:20201023T121203Z
UID:26674-1603825200-1603830600@spildansk.dk
SUMMARY:Musikalsk Foredrag med Esben Just
DESCRIPTION:Esben Just’s musikalske foredrag: New Orleans har altid været min inspiration og de oplevelser jeg har haft dernede\, kommer til at danne grundlag for det musikalske foredrag.
URL:https://spildansk.dk/kalender/musikalsk-foredrag-med-esben-just/
LOCATION:Sct. Peders Kirkeplads 14 C\, Sct. Peders Kirkeplads 14 >C\, Næstved\, 4700\, Danmark
CATEGORIES:Foredrag
ATTACH;FMTTYPE=image/jpeg:https://spildansk.dk/wp-content/uploads/2020/10/Esben-Just-scaled.jpg
ORGANIZER;CN="Musikaftenskolerne i N%C3%A6stved":MAILTO:bent.kvaerndrup@gmail.com
END:VEVENT
END:VCALENDAR