BEGIN:VCALENDAR
VERSION:2.0
PRODID:-//Spil Dansk - ECPv6.5.0//NONSGML v1.0//EN
CALSCALE:GREGORIAN
METHOD:PUBLISH
X-ORIGINAL-URL:https://spildansk.dk
X-WR-CALDESC:Events for Spil Dansk
REFRESH-INTERVAL;VALUE=DURATION:PT1H
X-Robots-Tag:noindex
X-PUBLISHED-TTL:PT1H
BEGIN:VTIMEZONE
TZID:Europe/Copenhagen
BEGIN:DAYLIGHT
TZOFFSETFROM:+0100
TZOFFSETTO:+0200
TZNAME:CEST
DTSTART:20200329T010000
END:DAYLIGHT
BEGIN:STANDARD
TZOFFSETFROM:+0200
TZOFFSETTO:+0100
TZNAME:CET
DTSTART:20201025T010000
END:STANDARD
END:VTIMEZONE
BEGIN:VEVENT
DTSTART;TZID=Europe/Copenhagen:20201027T091000
DTEND;TZID=Europe/Copenhagen:20201027T101000
DTSTAMP:20260422T163936
CREATED:20201009T115245Z
LAST-MODIFIED:20201009T115245Z
UID:25732-1603789800-1603793400@spildansk.dk
SUMMARY:Sisters of Jazz
DESCRIPTION:LMS koncert
URL:https://spildansk.dk/kalender/sisters-of-jazz-3/
LOCATION:Rynkevangskolen\, Møllevej 10\, Kalundborg\, 4400\, Danmark
END:VEVENT
BEGIN:VEVENT
DTSTART;TZID=Europe/Copenhagen:20201027T093000
DTEND;TZID=Europe/Copenhagen:20201027T103000
DTSTAMP:20260422T163936
CREATED:20200915T072516Z
LAST-MODIFIED:20200915T072516Z
UID:24872-1603791000-1603794600@spildansk.dk
SUMMARY:Babysalmesang
DESCRIPTION:Babysalmesang\n\n\nTirsdag den 27. oktober 2020\, kl. 09.30.\nSpentrup Kirke\, Hastrupvej 1\, Spentrup
URL:https://spildansk.dk/kalender/babysalmesang-3/
LOCATION:Spentrup Kirke\, Hastrupvej 1\, 8981 Spentrup\, Spentrup
CATEGORIES:Musik til børn
END:VEVENT
BEGIN:VEVENT
DTSTART;TZID=Europe/Copenhagen:20201027T094500
DTEND;TZID=Europe/Copenhagen:20201027T104500
DTSTAMP:20260422T163936
CREATED:20201009T115255Z
LAST-MODIFIED:20201009T115255Z
UID:25733-1603791900-1603795500@spildansk.dk
SUMMARY:Johanna Juhola Trio
DESCRIPTION:LMS koncert
URL:https://spildansk.dk/kalender/johanna-juhola-trio-4/
LOCATION:Rougsøskolen (Ørsted Børneby)\, Rougsøvej 168\, Ørsted\, 8950\, Danmark
END:VEVENT
BEGIN:VEVENT
DTSTART;TZID=Europe/Copenhagen:20201027T095000
DTEND;TZID=Europe/Copenhagen:20201027T105000
DTSTAMP:20260422T163936
CREATED:20201009T115300Z
LAST-MODIFIED:20201009T115300Z
UID:25734-1603792200-1603795800@spildansk.dk
SUMMARY:Stine Michel med Orkester
DESCRIPTION:LMS koncert
URL:https://spildansk.dk/kalender/stine-michel-med-orkester/
LOCATION:Lynghedeskolen afd. Søndre\, Tinghusgade 3\, Grindsted\, 7200\, Danmark
END:VEVENT
BEGIN:VEVENT
DTSTART;TZID=Europe/Copenhagen:20201027T095000
DTEND;TZID=Europe/Copenhagen:20201027T105000
DTSTAMP:20260422T163936
CREATED:20201009T115306Z
LAST-MODIFIED:20201009T115306Z
UID:25735-1603792200-1603795800@spildansk.dk
SUMMARY:Asbjørn
DESCRIPTION:LMS koncert
URL:https://spildansk.dk/kalender/asbjoern-4/
LOCATION:Susåskolen afd. Holsted\, Holsted Allé 30\, Næstved\, 4700\, Danmark
END:VEVENT
BEGIN:VEVENT
DTSTART;TZID=Europe/Copenhagen:20201027T095500
DTEND;TZID=Europe/Copenhagen:20201027T105500
DTSTAMP:20260422T163936
CREATED:20201009T115311Z
LAST-MODIFIED:20201009T115311Z
UID:25736-1603792500-1603796100@spildansk.dk
SUMMARY:Charanga Copenhagen
DESCRIPTION:LMS koncert
URL:https://spildansk.dk/kalender/charanga-copenhagen-4/
LOCATION:Rødby Skole\, Byskolevej 1\, Rødby\, 4970\, Danmark
END:VEVENT
BEGIN:VEVENT
DTSTART;TZID=Europe/Copenhagen:20201027T100000
DTEND;TZID=Europe/Copenhagen:20201027T100000
DTSTAMP:20260422T163936
CREATED:20201022T090131Z
LAST-MODIFIED:20201022T090131Z
UID:26526-1603792800-1603792800@spildansk.dk
SUMMARY:Sundhedsbal m Bragr og danseinstruktør Frederik Pustelnik
DESCRIPTION:Trad. dansebal og koncert med www.bragr.dk
URL:https://spildansk.dk/kalender/sundhedsbal-m-bragr-og-danseinstruktoer-frederik-pustelnik/
LOCATION:Skanderborg Aktivitetsceter\, Dyrehaven 10D\, Skanderborg\, 8660
CATEGORIES:Folk
ATTACH;FMTTYPE=image/jpeg:https://spildansk.dk/wp-content/uploads/2020/10/3C39CCD3-67A1-4B95-86E5-7EBBDD507EEC.jpeg
END:VEVENT
BEGIN:VEVENT
DTSTART;TZID=Europe/Copenhagen:20201027T100000
DTEND;TZID=Europe/Copenhagen:20201027T110000
DTSTAMP:20260422T163936
CREATED:20200915T072926Z
LAST-MODIFIED:20200915T072926Z
UID:24875-1603792800-1603796400@spildansk.dk
SUMMARY:Sangcafé
DESCRIPTION:Sangcafé\n\n\nVi mødes og synger sange fra højskolesangbogen i kirkens konfirmandlokale. Vi begynder med at synge en halv snes sange udvalgt af organisten\, og til slut er der mulighed for selv at komme med sangønsker.. \nI pausen kan man få kaffe og rundstykker til 10 kr. Kom alene eller tag en god sangkammerat under armen!
URL:https://spildansk.dk/kalender/sangcafe-3/
LOCATION:Sankt Andreas Kirke\, Hadsundvej 81\, Randers NØ\, 8930
CATEGORIES:Fællessang
END:VEVENT
BEGIN:VEVENT
DTSTART;TZID=Europe/Copenhagen:20201027T100000
DTEND;TZID=Europe/Copenhagen:20201027T110000
DTSTAMP:20260422T163936
CREATED:20200924T123340Z
LAST-MODIFIED:20200924T134633Z
UID:25073-1603792800-1603796400@spildansk.dk
SUMMARY:Kaya Brüel og Ole Kibsgaard
DESCRIPTION:Lukket koncert på Institutionen Galaxen
URL:https://spildansk.dk/kalender/kaya-bruel-og-ole-kibsgaard/
LOCATION:Galaxen\, Finlandsvej 21-27\, Vejle\, 7100
CATEGORIES:Musik til børn
ATTACH;FMTTYPE=image/png:https://spildansk.dk/wp-content/uploads/2020/09/SpilDanskUgen2020_Blaa_Splash.png
END:VEVENT
BEGIN:VEVENT
DTSTART;TZID=Europe/Copenhagen:20201027T100000
DTEND;TZID=Europe/Copenhagen:20201027T110000
DTSTAMP:20260422T163936
CREATED:20200930T112548Z
LAST-MODIFIED:20200930T113308Z
UID:25318-1603792800-1603796400@spildansk.dk
SUMMARY:A-Lene med drengene spiller børnehavekoncert
DESCRIPTION:Så bliver der gang i de gode\, gamle sange! Der er tradition for at afholde koncerter med børnemusik i Kulturhuset i Randers\, men i disse COVID-19-tider må vi tænke alternativt\, og derfor kommer A-Lene med Drengene til Asferg. A-Lene med Drengene giver ”Mariehønen Evigglad” og ”Hjulene på bussen” en ordentlig gang gyngende rock\, så børn og voksne i alle aldre må synge med. \nI forgrunden har vi Lene Johnsen\, som er et kendt ansigt i det musikalske Randers. Med sin smittende livsglæde leder hun flere kor og underviser i musik. Bag sig har hun et hold garvede drenge\, der spiller musik i vidt forskellige sammenhænge: Peter Elmelund på guitar\, Niels Ole Husum på bas\, og bag trommerne Thomas Ingemann. \nHoldet har spillet til flere bamsebal på Randers Bibliotek og er en del af husorkestret til det årlige ”Små synger sammen” på Østervold\, hvor tusindvis af børnehavebørn i september oplever\, hvor fedt det er at synge sammen\, når man er så mange.
URL:https://spildansk.dk/kalender/a-lene-med-drengene-spiller-boernehavekoncert/
LOCATION:Træningshuset i Asferg\, Søndergade 17 B\, Fårup\, 8990
CATEGORIES:Koncert,Musik til børn
ATTACH;FMTTYPE=image/jpeg:https://spildansk.dk/wp-content/uploads/2020/09/A-Lene-med-Drengene-mindre.jpg
ORGANIZER;CN="Randers Bibliotek":MAILTO:mk@randersbib.dk
END:VEVENT
BEGIN:VEVENT
DTSTART;TZID=Europe/Copenhagen:20201027T100000
DTEND;TZID=Europe/Copenhagen:20201027T110000
DTSTAMP:20260422T163936
CREATED:20201009T115318Z
LAST-MODIFIED:20201009T115318Z
UID:25737-1603792800-1603796400@spildansk.dk
SUMMARY:Admiral Awesome
DESCRIPTION:LMS koncert
URL:https://spildansk.dk/kalender/admiral-awesome-4/
LOCATION:Dybbøl-Skolen\, Gl. Åbenråvej 20\, Sønderborg\, 6400\, Danmark
END:VEVENT
BEGIN:VEVENT
DTSTART;TZID=Europe/Copenhagen:20201027T100000
DTEND;TZID=Europe/Copenhagen:20201027T110000
DTSTAMP:20260422T163936
CREATED:20201009T115329Z
LAST-MODIFIED:20201009T115329Z
UID:25738-1603792800-1603796400@spildansk.dk
SUMMARY:APHYXION
DESCRIPTION:LMS koncert
URL:https://spildansk.dk/kalender/aphyxion-4/
LOCATION:Augustenborg Skole\, Augustenborg\, Sønderborg\, Danmark
END:VEVENT
BEGIN:VEVENT
DTSTART;TZID=Europe/Copenhagen:20201027T100000
DTEND;TZID=Europe/Copenhagen:20201027T110000
DTSTAMP:20260422T163936
CREATED:20201009T115334Z
LAST-MODIFIED:20201009T115334Z
UID:25739-1603792800-1603796400@spildansk.dk
SUMMARY:Andreas Tophøj & Rune Barslund
DESCRIPTION:LMS koncert
URL:https://spildansk.dk/kalender/andreas-tophoej-rune-barslund/
LOCATION:Maribo Skole Østofteafdelingen\, Østofte Gade 42\, Nørreballe\, 4951\, Danmark
END:VEVENT
BEGIN:VEVENT
DTSTART;TZID=Europe/Copenhagen:20201027T100000
DTEND;TZID=Europe/Copenhagen:20201027T110000
DTSTAMP:20260422T163936
CREATED:20201020T103036Z
LAST-MODIFIED:20201020T103036Z
UID:26162-1603792800-1603796400@spildansk.dk
SUMMARY:De små synger i kirken
DESCRIPTION:Byens mindste mødes i kirken\, hvor de synger med og for hinanden
URL:https://spildansk.dk/kalender/de-smaa-synger-i-kirken-4/
LOCATION:Stillinge Kirke\, Stillingevej 55\, Slagelse\, 4200\, Danmark
CATEGORIES:Fællessang
END:VEVENT
BEGIN:VEVENT
DTSTART;TZID=Europe/Copenhagen:20201027T100000
DTEND;TZID=Europe/Copenhagen:20201027T110000
DTSTAMP:20260422T163936
CREATED:20201023T113559Z
LAST-MODIFIED:20201023T115140Z
UID:26654-1603792800-1603796400@spildansk.dk
SUMMARY:LMS Skolekoncert med Drums Across
DESCRIPTION:LMS Skolekoncert. Arrangementet er støttet af Københavns Kommune.
URL:https://spildansk.dk/kalender/lms-skolekoncert-med-drums-across/
LOCATION:Guldberg Skole\, Stevnsgade 38\, København N\, 2200\, Danmark
CATEGORIES:Musik til børn
ATTACH;FMTTYPE=image/jpeg:https://spildansk.dk/wp-content/uploads/2020/09/Drums-Across-scaled.jpg
END:VEVENT
BEGIN:VEVENT
DTSTART;TZID=Europe/Copenhagen:20201027T100000
DTEND;TZID=Europe/Copenhagen:20201027T110000
DTSTAMP:20260422T163936
CREATED:20201026T132333Z
LAST-MODIFIED:20201026T133618Z
UID:26797-1603792800-1603796400@spildansk.dk
SUMMARY:Sange om dyr – koncert for børnehuse
DESCRIPTION:Roskilde bibliotek og Roskilde Kulturskole inviterer til Spil Dansk koncert på bibliotekets udendørsscene. Her skal vi sammen med nogle skønne musikere fra Roskilde Kulturskole synge sange om en masse spændende dyr\, der bor ude i junglen. \nArrangementet er gratis\, men tilmelding til biblioteket nødvendig.
URL:https://spildansk.dk/kalender/sange-om-dyr-koncert-for-boernehuse/
LOCATION:Roskilde Bibliotek\, Dronning Margrethesvej 14\, 4000\, Roskilde\, Danmark
CATEGORIES:Fællessang,Jazz
ATTACH;FMTTYPE=image/jpeg:https://spildansk.dk/wp-content/uploads/2020/10/Børnekor.jpg
ORGANIZER;CN="Roskilde Bibliotekerne":MAILTO:mellemreolerne@roskilde.dk
END:VEVENT
BEGIN:VEVENT
DTSTART;TZID=Europe/Copenhagen:20201027T100000
DTEND;TZID=Europe/Copenhagen:20201027T120000
DTSTAMP:20260422T163936
CREATED:20200915T073241Z
LAST-MODIFIED:20200915T073241Z
UID:24877-1603792800-1603800000@spildansk.dk
SUMMARY:Højskoleformiddage
DESCRIPTION:Højskoleformiddage\n\n\nSognegården ved Dronningborg Kirke\, Egholmsvej 8A\, Randers NØ\nAlsang under krigen og opblomstring i foråret..
URL:https://spildansk.dk/kalender/hoejskoleformiddage/
LOCATION:Sognegården i Dronningborg\, Egholmvej 8A\, Randers NØ\, 8930
CATEGORIES:Fællessang
END:VEVENT
BEGIN:VEVENT
DTSTART;TZID=Europe/Copenhagen:20201027T100000
DTEND;TZID=Europe/Copenhagen:20201027T120000
DTSTAMP:20260422T163936
CREATED:20201015T125156Z
LAST-MODIFIED:20201015T125156Z
UID:25887-1603792800-1603800000@spildansk.dk
SUMMARY:Koncert med orkesteret Nostalgia under ledelse af Otto Lindum
DESCRIPTION:Mød op og hør orkestret Nostalgia under ledelse af Otto Lindum. \nOrkestret spiller udelukkende danske melodier. \nKoncerten starter kl. 10.00 med en indlagt pause\, hvor der serveres kaffe og rundstykker. Derefter fortsætter koncerten til kl. 12.00. \nDer er tilmelding og af hensyn til Covid19-restriktioner\, som vil være efter “først til mølle” princippet.\nTilmelding til Inge Lise Johnsen tlf: 97568205 eller 61775871
URL:https://spildansk.dk/kalender/koncert-med-orkesteret-nostalgia-under-ledelse-af-otto-lindum/
LOCATION:Lem Kulturhus\, Vejbyvej 5\, Spøttrup\, 7860
CATEGORIES:Koncert
END:VEVENT
BEGIN:VEVENT
DTSTART;TZID=Europe/Copenhagen:20201027T100500
DTEND;TZID=Europe/Copenhagen:20201027T110500
DTSTAMP:20260422T163936
CREATED:20201009T115339Z
LAST-MODIFIED:20201009T115339Z
UID:25740-1603793100-1603796700@spildansk.dk
SUMMARY:Bisse
DESCRIPTION:LMS koncert
URL:https://spildansk.dk/kalender/bisse-3/
LOCATION:Skødstrup Skole\, Skødstrup\, Aarhus\, Danmark
END:VEVENT
BEGIN:VEVENT
DTSTART;TZID=Europe/Copenhagen:20201027T100500
DTEND;TZID=Europe/Copenhagen:20201027T110500
DTSTAMP:20260422T163936
CREATED:20201009T115344Z
LAST-MODIFIED:20201009T115344Z
UID:25741-1603793100-1603796700@spildansk.dk
SUMMARY:Virelai
DESCRIPTION:LMS koncert
URL:https://spildansk.dk/kalender/virelai-4/
LOCATION:Pilegårdsskolen\, Ole Klokkers Vej 17\, Kastrup\, 2770\, Danmark
END:VEVENT
BEGIN:VEVENT
DTSTART;TZID=Europe/Copenhagen:20201027T101500
DTEND;TZID=Europe/Copenhagen:20201027T111500
DTSTAMP:20260422T163936
CREATED:20201009T115351Z
LAST-MODIFIED:20201009T115351Z
UID:25742-1603793700-1603797300@spildansk.dk
SUMMARY:Martin Baltser
DESCRIPTION:LMS koncert
URL:https://spildansk.dk/kalender/martin-baltser-4/
LOCATION:Kulsbjerg Skole\, afd. Stensved\, Stensved\, Vordingborg\, Danmark
END:VEVENT
BEGIN:VEVENT
DTSTART;TZID=Europe/Copenhagen:20201027T101500
DTEND;TZID=Europe/Copenhagen:20201027T111500
DTSTAMP:20260422T163936
CREATED:20201009T115402Z
LAST-MODIFIED:20201009T115402Z
UID:25743-1603793700-1603797300@spildansk.dk
SUMMARY:Mirja Klippel
DESCRIPTION:LMS koncert
URL:https://spildansk.dk/kalender/mirja-klippel-4/
LOCATION:Holmegaardskolen afd. Fensmark\, Villavej 2\, Fensmark\, Holmegaard\, 4684\, Danmark
END:VEVENT
BEGIN:VEVENT
DTSTART;TZID=Europe/Copenhagen:20201027T102000
DTEND;TZID=Europe/Copenhagen:20201027T112000
DTSTAMP:20260422T163936
CREATED:20201009T115407Z
LAST-MODIFIED:20201009T115407Z
UID:25744-1603794000-1603797600@spildansk.dk
SUMMARY:HP Lange & Jarno Varsted
DESCRIPTION:LMS koncert
URL:https://spildansk.dk/kalender/hp-lange-jarno-varsted-4/
LOCATION:Petersmindeskolen\, Petersmindevej 25\, Vejle\, 7100\, Danmark
END:VEVENT
BEGIN:VEVENT
DTSTART;TZID=Europe/Copenhagen:20201027T103000
DTEND;TZID=Europe/Copenhagen:20201027T110000
DTSTAMP:20260422T163936
CREATED:20201021T140536Z
LAST-MODIFIED:20201021T140536Z
UID:26478-1603794600-1603796400@spildansk.dk
SUMMARY:Koncert
DESCRIPTION:Koncert med sangerinden Mai Skytte og guitaristen Lasse.
URL:https://spildansk.dk/kalender/koncert-9/
LOCATION:Agersted Kirke
CATEGORIES:Pop
ORGANIZER;CN="Agersted Friskole":MAILTO:anettebilde2@gmail.com
END:VEVENT
BEGIN:VEVENT
DTSTART;TZID=Europe/Copenhagen:20201027T103000
DTEND;TZID=Europe/Copenhagen:20201027T140500
DTSTAMP:20260422T163936
CREATED:20200928T124316Z
LAST-MODIFIED:20200930T075107Z
UID:25217-1603794600-1603807500@spildansk.dk
SUMMARY:Komponist i klassen med Tine Louise Kortermand
DESCRIPTION:Limfjordsskolen afholder koncert for eleverne.
URL:https://spildansk.dk/kalender/komponist-i-klassen-med-tine-louise-kortermand-2/
LOCATION:Limfjordsskolen\, Drøwten\, struer\, 7600
CATEGORIES:Koncert
END:VEVENT
BEGIN:VEVENT
DTSTART;TZID=Europe/Copenhagen:20201027T110000
DTEND;TZID=Europe/Copenhagen:20201027T113000
DTSTAMP:20260422T163936
CREATED:20200928T125022Z
LAST-MODIFIED:20200928T125022Z
UID:25224-1603796400-1603798200@spildansk.dk
SUMMARY:Sang og musik af lokale musikere
DESCRIPTION:Sang og musik af lokale musikere på Solvang
URL:https://spildansk.dk/kalender/sang-og-musik-af-lokale-musikere-2/
LOCATION:Ældrecentret Solvang\, Rolighedsvej 1\, Thyholm\, 7790
CATEGORIES:Kor
END:VEVENT
BEGIN:VEVENT
DTSTART;TZID=Europe/Copenhagen:20201027T110000
DTEND;TZID=Europe/Copenhagen:20201027T120000
DTSTAMP:20260422T163936
CREATED:20201009T115413Z
LAST-MODIFIED:20201009T115413Z
UID:25745-1603796400-1603800000@spildansk.dk
SUMMARY:Ea Philippa
DESCRIPTION:LMS koncert
URL:https://spildansk.dk/kalender/ea-philippa-4/
LOCATION:Kulturhuset i Skanderborg\, Parkvej 10\, Skanderborg\, 8660\, Danmark
END:VEVENT
BEGIN:VEVENT
DTSTART;TZID=Europe/Copenhagen:20201027T110000
DTEND;TZID=Europe/Copenhagen:20201027T150000
DTSTAMP:20260422T163936
CREATED:20200928T122458Z
LAST-MODIFIED:20200928T122458Z
UID:25196-1603796400-1603810800@spildansk.dk
SUMMARY:SANGSKRIVER-WORKSHOP FRA KODA med Nana Jacobi
DESCRIPTION:  \nPop-artist\, sangskriver og iværksætter Nana Jacobi er i sommeren 2020 radio-aktuel med den powerfulde\, dramatiske uptempo single Ingenmandsland\, som gik nr. et på top ti listen på DR P6Beat\, efter i ugevis at have kravlet op ad listen. De to forrige singler Et Skib og Sneblind har ligeledes haft stor medvind med både radio airplay\, store playliste-placeringer og medieopmærksomhed. Nana’s brug af fløjteregister på singlen Sneblind skabte overskrifter og tusindvis af følelsesladede\, hengivne tilbagemeldinger fra fans.
URL:https://spildansk.dk/kalender/sangskriver-workshop-fra-koda-med-nana-jacobi/
LOCATION:HF/VUC\, Randers
CATEGORIES:Undervisning
END:VEVENT
BEGIN:VEVENT
DTSTART;TZID=Europe/Copenhagen:20201027T113000
DTEND;TZID=Europe/Copenhagen:20201027T121500
DTSTAMP:20260422T163936
CREATED:20200915T103533Z
LAST-MODIFIED:20200915T103533Z
UID:24879-1603798200-1603800900@spildansk.dk
SUMMARY:Babysalmesang med Birgitte Debel Krag
DESCRIPTION:27. Okt Andet\nBabysalmesang er for de helt små mellem 0 og 10 mdr. og deres voksne. I kurset kan man hente inspiration til\, hvordan man selv kan synge\, danse og lege musik og livsglæde ind i barnet. Der kræves ingen forudsætninger..\n\n\n\nAlle kan være med J Babysalmesang er en sjov og utraditionel måde at udvide sit sang- og salmekendskab på\, i et herligt samspil med sit barn og andre forældre og børn. Vi synger og danser til både gamle salmer og nyere småbørnssange\, flyver med tørklæder\, vugger\, bruger rasleæg mm. Alt sammen i en hyggelig og afslappet atmosfære i kirkerummet. Bagefter er der mulighed for en forfriskning i Clemenshuset. Det musikalske samvær styrker det intense nærvær barn og forældre imellem og er med til at udvikle barnets sanser\, sprog og følelsesliv. Musikpædagog Birgitte Debel Krag\, Randers Musikskole leder forløbet. Hvem? Småbørn mellem 0 og 10 mdr. og deres Voksne. Hvornår? 11 tirsdage kl. 11.30-12.15 (minus tirsdag 13/10). Start 8. september Hvor? Sct. Clemens kirke\, Parkboulevarden 15\, 8900 Randers C Pris? Gratis Tilmelding\, er nødvendigt pga. begrænset deltagerantal\, til: Kirkekontoret tlf. 8712 4110 eller mail: kirkekontor@sct-clemens.dk
URL:https://spildansk.dk/kalender/babysalmesang-med-birgitte-debel-krag/
LOCATION:Sct. Clemens Kirke\, Parkboulevarden 15\, Randers\, 8900
CATEGORIES:Musik til børn
END:VEVENT
BEGIN:VEVENT
DTSTART;TZID=Europe/Copenhagen:20201027T113000
DTEND;TZID=Europe/Copenhagen:20201027T123000
DTSTAMP:20260422T163936
CREATED:20201009T115418Z
LAST-MODIFIED:20201009T115418Z
UID:25746-1603798200-1603801800@spildansk.dk
SUMMARY:Eastwind
DESCRIPTION:LMS koncert
URL:https://spildansk.dk/kalender/eastwind-4/
LOCATION:Gåsetårnskolen\, afd. Marienberg\, Parkvænget 12\, Vordingborg\, 4760\, Danmark
END:VEVENT
END:VCALENDAR