BEGIN:VCALENDAR
VERSION:2.0
PRODID:-//Spil Dansk - ECPv6.5.0//NONSGML v1.0//EN
CALSCALE:GREGORIAN
METHOD:PUBLISH
X-WR-CALNAME:Spil Dansk
X-ORIGINAL-URL:https://spildansk.dk
X-WR-CALDESC:Events for Spil Dansk
REFRESH-INTERVAL;VALUE=DURATION:PT1H
X-Robots-Tag:noindex
X-PUBLISHED-TTL:PT1H
BEGIN:VTIMEZONE
TZID:Europe/Copenhagen
BEGIN:DAYLIGHT
TZOFFSETFROM:+0100
TZOFFSETTO:+0200
TZNAME:CEST
DTSTART:20190331T010000
END:DAYLIGHT
BEGIN:STANDARD
TZOFFSETFROM:+0200
TZOFFSETTO:+0100
TZNAME:CET
DTSTART:20191027T010000
END:STANDARD
BEGIN:DAYLIGHT
TZOFFSETFROM:+0100
TZOFFSETTO:+0200
TZNAME:CEST
DTSTART:20200329T010000
END:DAYLIGHT
BEGIN:STANDARD
TZOFFSETFROM:+0200
TZOFFSETTO:+0100
TZNAME:CET
DTSTART:20201025T010000
END:STANDARD
BEGIN:DAYLIGHT
TZOFFSETFROM:+0100
TZOFFSETTO:+0200
TZNAME:CEST
DTSTART:20210328T010000
END:DAYLIGHT
BEGIN:STANDARD
TZOFFSETFROM:+0200
TZOFFSETTO:+0100
TZNAME:CET
DTSTART:20211031T010000
END:STANDARD
BEGIN:DAYLIGHT
TZOFFSETFROM:+0100
TZOFFSETTO:+0200
TZNAME:CEST
DTSTART:20220327T010000
END:DAYLIGHT
BEGIN:STANDARD
TZOFFSETFROM:+0200
TZOFFSETTO:+0100
TZNAME:CET
DTSTART:20221030T010000
END:STANDARD
END:VTIMEZONE
BEGIN:VEVENT
DTSTART;TZID=Europe/Copenhagen:20221105T200000
DTEND;TZID=Europe/Copenhagen:20221105T230000
DTSTAMP:20260421T075959
CREATED:20221031T182553Z
LAST-MODIFIED:20221031T182553Z
UID:31609-1667678400-1667689200@spildansk.dk
SUMMARY:Tiger På Spring X Røde Himmel
DESCRIPTION:Det energiske party-punkband ‘Tiger På Spring’\, skriver ørehængere på engelsk\, om fortvivlelse og håb\, om konflikt og mystik. Med det omhyggeligt sammenvævede tekstunivers og melodiske signaturer\, der går igen på tværs af sangene\, får helheden en større konceptuel og åndelig autoritet. Gennem delvis improvisation og en tæt kontakt med publikum\, bliver koncertoplevelsen forbindelsen mellem den opdagelsesrejsende og faren\, der lurer i junglen.\nTiger På Spring har optrådt på Grønland og Færøerne i april 2022\, på Jelling Musikfestival 2022 og blev rost af P3’s ‘Curlingklubben’. I 2021 spillede de over 30 koncerter i hele Danmark med titelsangen ‘Calm of the City’ til filmen ‘Vaskedag’\, vist ved den internationale filmfestival OFF21.
URL:https://spildansk.dk/kalender/tiger-paa-spring-x-roede-himmel/
LOCATION:Frølageret\, Farvergården 7\, Odense\, 5000
CATEGORIES:Koncert,Alternative,Elektronisk,Progrock,Rock
ATTACH;FMTTYPE=image/jpeg:https://spildansk.dk/wp-content/uploads/2022/10/Roede-Himmel.jpeg
END:VEVENT
BEGIN:VEVENT
DTSTART;TZID=Europe/Copenhagen:20221103T190000
DTEND;TZID=Europe/Copenhagen:20221103T203000
DTSTAMP:20260421T075959
CREATED:20221028T070552Z
LAST-MODIFIED:20221028T070552Z
UID:31530-1667502000-1667507400@spildansk.dk
SUMMARY:Afenginn @ Springbrættet\, Ringsted
DESCRIPTION:Afenginn har\, siden de i 2002 på kom frem som et frækt og uregerligt barn\, opbygget et ry som et virtuost og fremragende liveband med hundredevis af koncerter over hele verden på samvittigheden. Herhjemme har Afenginn modtaget et utal priser og udmærkelser\, bl.a 8 Danish Music Awards\, Carl Prisen\, DMAs Live-pris\, Kunstrådets Ung Elite Satsning med flere.\nMed et instrumentarium bestående af klarinet\, violin\, mandolin\, cello/bas\, piano og trommer har de på én gang et intenst og tilbagelænet sammenspil præget af stor spilleglæde og virtuositet.\n\nAfenginns originale og grænseløse musik udspiller sig i et særegent musikalsk univers\, der byder på alt fra hæsblæsende rytmer i alle tænkelige taktarter\, stille og meditative øjeblikke og virtuost\, nærmest psykedelisk sammenspil. De nærmest klassiske tonelandskaber væver sig sammen med etniske inspirationer og kontrasteres af højenergiske passager\, der bæres frem af rå følelser\, og formår at skabe musik der kombinerer enkle melodiske motiver med komplekse\, matematiske strukturer.\n\nAfenginn har gennem karrieren spillet på de mest forskelligartede scener – alt fra Bellevue Sommerballet og Roskilde Festival til SXSW i USA og en fiskekutter på Færøerne. Både deres koncerter og 7 albums har modtaget massive anmelderroser og til denne koncert går bandet på opdagelse i deres bagkatalog.\n\nBandeleder og komponist Kim Rafael Nyberg uddyber:\n“Til denne koncert ryster vi posen og spiller en række numre fra vores tidligere albums. Der kan forventes skæve takter og toner\, og nogle friske tempi over stok og sten\, men også nogle mere stilfærdige musikalske væverier.”\n\nPressen siger om Afenginn:\n★★★★★★ “Et helstøbt nordatlantisk mesterværk” (GAFFA om Klingra\, 2019)\n★★★★★★ “Et symfonisk mesterværk” (GAFFA om OPUS\, 2016)\n★★★★★★ ”Afenginn har i en årrække befundet sig på et svimlende højt niveau\, når det gælder\nkomposition\, udtryk og originalitet. Det var en mageløs oplevelse at være i selskab med Afenginn i\ngår.” (GAFFA om Afenginn live)\n★★★★★✩ “En fantastisk musikalsk drømmerejse” BT (DK)\n“Simply fantastic!” Sound and Image (DE)\n\nRasmus Krøyer: klarinetter\nNiels Skovmand: violin\nKim Rafael Nyberg: mandolin\, guitar\nDánjal á Neystabø: piano\, vokaler\nNils Bo Davidsen: bas\, cello\nUlrik Brohuus: trommer\nRomans Komar: lyd\nwww.afenginn.net
URL:https://spildansk.dk/kalender/afenginn-springbraettet-ringsted/
LOCATION:Springbrættet\, Garnisonen 46-48\, Garnisonen 46-48\, 4100
CATEGORIES:Koncert,Folk,Progrock,World
ATTACH;FMTTYPE=image/jpeg:https://spildansk.dk/wp-content/uploads/2022/10/Afenginn_1_2022_lo-res.jpeg
ORGANIZER;CN="ringsted Musik &amp%3B Kulturskole":MAILTO:tba@ringsted
END:VEVENT
BEGIN:VEVENT
DTSTART;TZID=Europe/Copenhagen:20211106T210000
DTEND;TZID=Europe/Copenhagen:20211107T010000
DTSTAMP:20260421T075959
CREATED:20211011T153108Z
LAST-MODIFIED:20211011T153333Z
UID:28946-1636232400-1636246800@spildansk.dk
SUMMARY:Turquoise Sun + Räre Birds (SE)
DESCRIPTION:Gennem psykedeliske surf-popsange leverer Turquoise Sun lyden af solbeskinnede strande og varmere himmelstrøg. Lørdag d. 6. november kan du opleve det aarhusianske band på Loppen\, når de forlænger sommeren langt ind i 2021 og hiver svenske Räre Birds med som support! \nTurquoise Sun har længe rumsteret rundt omkring på landets spillesteder med deres iørefaldende psychrock spækket med melodiske hooks og intelligente\, elektroniske lydflader. Med udgivelsen af debutalbummet Sunesthesia fra 2019 fik de i den grad cementeret sig som et band\, man bør holde øje med. Mon ikke også singler som “Like Others” og “Easytree” har uden tvivl også fundet vej til dine øregange via P6 BEAT? \nSelvom 2020 formentligt ikke indfriede bandets forventninger\, nåede de lige at lægge vejen forbi by:Larm\, hvor det norske GAFFA udråbte koncerten til én af festivalens tre bedste optrædener! \n“… psykedelisk flinkisrock på et svært høyt nivå. Det er nesten provoserende hvor mye hver og en av heltene på scenen briefer på sine respektive instrumenter” – GAFFA Norge \nHerhjemme blev det også til et par enkelte koncerter i den danske sensommer\, efter at landet delvist åbnede op for koncerter igen\, og det er heller ikke første gang\, at Turquoise Sun lægger vejen forbi Christiania. I 2016 indtog de Byens Lys under den hedengange Copenhagen Psych Festival\, og året efter vendte de tilbage til fristaden og sørgede for\, at stemningen var sat inden britiske The Lucid Dream gav koncert på Loppen. \nVi ser frem til gensynet med den aarhusianske kvintet og deres brillerende blanding af up-beat sange\, laid-back grooves og syrede atmosfæriske udskejelser lørdag d. 6. november med svenske Räre Birds som support. \nRäre Birds kommer hele vejen fra Stockholm med en ørken-agtige lyd\, der drives af slide guitarer og reverb i et univers\, som ligner lidt en western-film\, der er skudt ude i rummet.
URL:https://spildansk.dk/kalender/turquoise-sun-rare-birds-paa-loppen/
LOCATION:Loppen\, Sydområdet 4B\, 1.\, København K\, 1440\, Danmark
CATEGORIES:Indie,Progrock,Rock
ATTACH;FMTTYPE=image/jpeg:https://spildansk.dk/wp-content/uploads/2021/10/Turquoise-Sun-lille-scaled.jpg
ORGANIZER;CN="Loppen":MAILTO:loppen@loppen.dk
END:VEVENT
BEGIN:VEVENT
DTSTART;TZID=Europe/Copenhagen:20191102T130000
DTEND;TZID=Europe/Copenhagen:20191102T140000
DTSTAMP:20260421T075959
CREATED:20190924T091654Z
LAST-MODIFIED:20190924T091654Z
UID:20444-1572699600-1572703200@spildansk.dk
SUMMARY:Den danske rockskat 50 år
DESCRIPTION:Vær med\, når vi hylder navne såsom Alrune Rod\, Burning Red Ivanhoe og Young Flowers!\n\n\n\n\n\nNogle af de bands\, som fejrer 50-års jubilæum med store udgivelser lige netop i år. Det er samtidig Spil Dansk Uge\, og derfor skal musikken også spilles! Så kom forbi musikafdelingen denne eftermiddag\, og nyd fed (syre)rock i ovennævnte tidsrum. \nFri adgang – duk bare op 🙂
URL:https://spildansk.dk/kalender/den-danske-rockskat-50-aar/
LOCATION:Hvidovre Hovedbibliotek\, Hvidovrevej 280\, Hvidovre\, 2650\, Danmark
CATEGORIES:Progrock,Rock
ATTACH;FMTTYPE=image/jpeg:https://spildansk.dk/wp-content/uploads/2019/09/Spil-Dansk-Den-danske-rockskat-50-år1.jpg
ORGANIZER;CN="HvidovreBibliotekerne":MAILTO:hvbib@hvidovre.dk
END:VEVENT
END:VCALENDAR