BEGIN:VCALENDAR
VERSION:2.0
PRODID:-//Spil Dansk - ECPv6.5.0//NONSGML v1.0//EN
CALSCALE:GREGORIAN
METHOD:PUBLISH
X-WR-CALNAME:Spil Dansk
X-ORIGINAL-URL:https://spildansk.dk
X-WR-CALDESC:Events for Spil Dansk
REFRESH-INTERVAL;VALUE=DURATION:PT1H
X-Robots-Tag:noindex
X-PUBLISHED-TTL:PT1H
BEGIN:VTIMEZONE
TZID:Europe/Copenhagen
BEGIN:DAYLIGHT
TZOFFSETFROM:+0100
TZOFFSETTO:+0200
TZNAME:CEST
DTSTART:20180325T010000
END:DAYLIGHT
BEGIN:STANDARD
TZOFFSETFROM:+0200
TZOFFSETTO:+0100
TZNAME:CET
DTSTART:20181028T010000
END:STANDARD
BEGIN:DAYLIGHT
TZOFFSETFROM:+0100
TZOFFSETTO:+0200
TZNAME:CEST
DTSTART:20190331T010000
END:DAYLIGHT
BEGIN:STANDARD
TZOFFSETFROM:+0200
TZOFFSETTO:+0100
TZNAME:CET
DTSTART:20191027T010000
END:STANDARD
BEGIN:DAYLIGHT
TZOFFSETFROM:+0100
TZOFFSETTO:+0200
TZNAME:CEST
DTSTART:20200329T010000
END:DAYLIGHT
BEGIN:STANDARD
TZOFFSETFROM:+0200
TZOFFSETTO:+0100
TZNAME:CET
DTSTART:20201025T010000
END:STANDARD
BEGIN:DAYLIGHT
TZOFFSETFROM:+0100
TZOFFSETTO:+0200
TZNAME:CEST
DTSTART:20210328T010000
END:DAYLIGHT
BEGIN:STANDARD
TZOFFSETFROM:+0200
TZOFFSETTO:+0100
TZNAME:CET
DTSTART:20211031T010000
END:STANDARD
BEGIN:DAYLIGHT
TZOFFSETFROM:+0100
TZOFFSETTO:+0200
TZNAME:CEST
DTSTART:20220327T010000
END:DAYLIGHT
BEGIN:STANDARD
TZOFFSETFROM:+0200
TZOFFSETTO:+0100
TZNAME:CET
DTSTART:20221030T010000
END:STANDARD
BEGIN:DAYLIGHT
TZOFFSETFROM:+0100
TZOFFSETTO:+0200
TZNAME:CEST
DTSTART:20230326T010000
END:DAYLIGHT
BEGIN:STANDARD
TZOFFSETFROM:+0200
TZOFFSETTO:+0100
TZNAME:CET
DTSTART:20231029T010000
END:STANDARD
BEGIN:DAYLIGHT
TZOFFSETFROM:+0100
TZOFFSETTO:+0200
TZNAME:CEST
DTSTART:20240331T010000
END:DAYLIGHT
BEGIN:STANDARD
TZOFFSETFROM:+0200
TZOFFSETTO:+0100
TZNAME:CET
DTSTART:20241027T010000
END:STANDARD
END:VTIMEZONE
BEGIN:VEVENT
DTSTART;TZID=Europe/Copenhagen:20241031T193000
DTEND;TZID=Europe/Copenhagen:20241031T213000
DTSTAMP:20260420T214545
CREATED:20241013T205856Z
LAST-MODIFIED:20241013T205856Z
UID:52115-1730403000-1730410200@spildansk.dk
SUMMARY:SPIL DANSK event i Musica Art\, Hellerup
DESCRIPTION:SPIL DANSK event torsdag d. 31/10 2024 kl. 19.30 i Musica Art:  \nMusica Art inviterer til sang- og musikworkshop\, fællessang og hyggeligt samvær i Hellerup\, hvor vi sammen fejrer musikkens festuge.\nVi synger fællessange fra vores sangskat og lytter til eksempler på dansk operamusik fra guldalder til moderne\, fx komponisterne Hartmann\, Carl Nielsen og Poul Ruders m.fl. Undervejs holder vi pause\, hvor vi byder på kaffe og lidt sødt. \nSted: Musica Art\, Strandvejen 163\, 2900 Hellerup. \nTilmelding: Vil du med\, så bedes du tilmelde dig senest 28/10 ved at sende sms til 23303108 med dit navn og Spil Dansk 31/10. Når du har tilmeldt dig\, modtager du bekræftelse. Først til mølle\, vi har begrænset antal pladser. \nEntré: Prisen er 80 kr. for at deltage og inkluderer sanghæfte\, kaffe med lidt sødt og der kan betales med mobile pay og kontant på dagen. \nArrangør: Musica Art og Spil Dansk. \nMedvirkende: Korsangere\, musikere\, gæster. Tilrettelæggelse: cand.mag. Agneta Mei Hytten\, Musica Art.
URL:https://spildansk.dk/kalender/spil-dansk-event-i-musica-art-hellerup/
LOCATION:Musica Art\, Strandvejen 163\, Hellerup\, 2900\, Danmark
CATEGORIES:Opera,Fællessang,Foredrag,Kor,Workshop
ATTACH;FMTTYPE=image/jpeg:https://spildansk.dk/wp-content/uploads/2024/10/download-5solsikker.jpg
ORGANIZER;CN="Musica Art":MAILTO:musicaart@mail.dk
END:VEVENT
BEGIN:VEVENT
DTSTART;TZID=Europe/Copenhagen:20191031T193000
DTEND;TZID=Europe/Copenhagen:20191031T210000
DTSTAMP:20260420T214545
CREATED:20191023T092121Z
LAST-MODIFIED:20191023T092121Z
UID:22388-1572550200-1572555600@spildansk.dk
SUMMARY:Tove Hyldgaard m. pianist
DESCRIPTION:I anledning af spil dansk ugen har vi fornøjelsen af at præsentere Tove Hyldgaard med pianist. Det er stemningsfuld underholdning med operette\, musical og sange af Kai Normann Andersen. Nyd og nyn med på sange som ”musens” sang\, ”Stemningsmelodien” og ”Der var engang” fra Bolettes brudefærd.\nEntre 100 kr. kontant (kaffe/the\, øl\, vin og vand kan købes\nBilletsalg i cafe’ Sydpolen på følgende datoer:\nkl. 18-20: mandag 7/10\, mandag 21/10\, onsdag 23/10\,\nog mandag 28/10\nkl. 10-12: tirsdage og torsdage 3/10 8/10 10/10 22/10 24/10\nRestbilletter sælges ved indgang
URL:https://spildansk.dk/kalender/tove-hyldgaard-m-pianist/
LOCATION:Sydpolen\, parkvej 109(kælderen)\, Næstved\, 4700
CATEGORIES:Opera
ATTACH;FMTTYPE=image/png:https://spildansk.dk/wp-content/uploads/2019/10/Tove-Hyldgaard-570x500.png
ORGANIZER;CN="Sydpolen":MAILTO:gudmund@pc.dk
END:VEVENT
BEGIN:VEVENT
DTSTART;TZID=Europe/Copenhagen:20191031T170000
DTEND;TZID=Europe/Copenhagen:20191031T170000
DTSTAMP:20260420T214545
CREATED:20190828T114113Z
LAST-MODIFIED:20190828T114113Z
UID:19839-1572541200-1572541200@spildansk.dk
SUMMARY:Spil Dansk: Visesang på byens ældste værtshus
DESCRIPTION:Vestergades Café åbner dørene for visesang i forbindelse med Spil Dansk ugen 2019. Byens spillemand Martin Pedersen spiller op og Claus Ørsted synger. Operasangerinden Sophia Frovin vil også være en del af arrangementet. \nSpil Dansk er musiklivets festuge\, der altid foregår i uge 44. Siden 2001 har Spil Dansk været Danmarks største musikbegivenhed i al sin bredde og mangfoldighed af arrangementer. Turbinen\, Randers Bibliotek\, Randers Kommune og Randers Eventsekretariat er lokale arrangører. Det sker i samarbejde med blandt andre lokale bands\, musikkorps\, -ensembler og -kor. Målet er blandt andet at skabe glæde og øge kendskabet til musik med dansk afsæt – herunder udfolde musikken i nye og anderledes rammer.
URL:https://spildansk.dk/kalender/spil-dansk-visesang-paa-byens-aeldste-vaertshus/
LOCATION:Vestergades Café\, Vestergade 8\, Randers C\, 8900
CATEGORIES:Opera,Viser
END:VEVENT
BEGIN:VEVENT
DTSTART;TZID=Europe/Copenhagen:20181026T193000
DTEND;TZID=Europe/Copenhagen:20181026T220000
DTSTAMP:20260420T214545
CREATED:20180910T123518Z
LAST-MODIFIED:20180910T123518Z
UID:14780-1540582200-1540591200@spildansk.dk
SUMMARY:Martyriet
DESCRIPTION:Kammeropera i en akt baseret på digterpræsten Kaj Munks skæbne \nLibretto: Vilhelm Topsøe \nKaj Munk er en af Danmarkshistoriens store og omstridte personligheder\, og var på mange måder et undtagelsesmenneske. I tiden op til Anden Verdenskrigs udbrud hyldede han Adolf Hitler som tidens Messias\, men siden blev han en af de mest fremtrædende modstandere af den tyske besættelse. Hans indædte modstand mod den tyske besættelse førte til\, at han d. 4. januar 1944 blev myrdet af en SS-patrulje. Nyheden om mordet gik som en løbeild gennem Danmark\, og den død\, han selv havde set i øjnene\, blev en væsentlig grund til\, at modstandsviljen hos flertallet af danskerne for alvor blev vakt. \n‘Martyriet’ er en psykologisk kammeropera for blot to sangere\, der undersøger og diskuterer myten om Kaj Munk. Med udgangspunkt i librettisten Vilhelm Topsøes tidligere skuespil om Munk søger vi med Martyriet ind til manden bag myten – vi udforsker i samspillet mellem musikken og teksten de indre konflikter\, der prægede Kaj Munk\, og belyser hans skæbne fra et menneskeligt perspektiv. \nI ‘Martyriet’ følger vi Kaj Munk i den sidste tid før hans død. Her glider han længere og længere væk fra familien i sin søgen efter Guds plan med ham\, alt imens hans kone Lise forgæves forsøger at fastholde ham til livet. \nAt vælge martyriet for sin tro er også et brændende tema i dag. ‘Martyriet’ undersøger\, hvad der får et menneske til at ofte sig selv i en fanatisk overbevisning om troen på en bedre verden. Hvem definerer forskellen på en frihedskæmper og en terrorist? Hvor går grænsen mellem idealisme og fanatisme? Hvordan spiller religion og politisk praksis sammen? Forestillingen er på den måde en kommentar fra en ikke så fjern fortid i en dansk provins til nutidens store\, globale spørgsmål om ideologi\, krig og religiøse konflikter. \nKaj Munk synges af den prisvindende kontratenor Morten Grove Frandsen (Årets Reumert Talent 2016)\, og mezzosopranen Liv Oddveig Midtmageli lægger stemme til Lise Munk. Den verdensberømte accordeonist Bjarke Mogensen leder musikken sammen med sit eget ensemble\, den progressive folkemusikinspirerede gruppe KOTTOS. \nMEDVIRKENDE\nMorten Grove Frandsen: Kaj Munk\nLiv Oddveig Midtmageli: Lise Munk \nInstruktør: Tine Topsøe\nScenografi: Rebekka Bentzen\nRepetitør: Sofia Wilkman \nKOTTOS Ensemble\nBjarke Mogensen\, accordeon\nPernille Petersen\, blokfløjter\nJosefine Opsahl\, cello\nChristos Farmakis\, bouzouki \nProduktion: Cumulus Teatret
URL:https://spildansk.dk/kalender/martyriet/
LOCATION:Galaksen\, Bymidten 48\, Værløse\, 3500
CATEGORIES:Opera
END:VEVENT
END:VCALENDAR