BEGIN:VCALENDAR
VERSION:2.0
PRODID:-//Spil Dansk - ECPv6.5.0//NONSGML v1.0//EN
CALSCALE:GREGORIAN
METHOD:PUBLISH
X-ORIGINAL-URL:https://spildansk.dk
X-WR-CALDESC:Events for Spil Dansk
REFRESH-INTERVAL;VALUE=DURATION:PT1H
X-Robots-Tag:noindex
X-PUBLISHED-TTL:PT1H
BEGIN:VTIMEZONE
TZID:Europe/Copenhagen
BEGIN:DAYLIGHT
TZOFFSETFROM:+0100
TZOFFSETTO:+0200
TZNAME:CEST
DTSTART:20180325T010000
END:DAYLIGHT
BEGIN:STANDARD
TZOFFSETFROM:+0200
TZOFFSETTO:+0100
TZNAME:CET
DTSTART:20181028T010000
END:STANDARD
END:VTIMEZONE
BEGIN:VEVENT
DTSTART;TZID=Europe/Copenhagen:20181029T200000
DTEND;TZID=Europe/Copenhagen:20181029T213000
DTSTAMP:20260420T201522
CREATED:20180911T125732Z
LAST-MODIFIED:20180911T125732Z
UID:14906-1540843200-1540848600@spildansk.dk
SUMMARY:SNE
DESCRIPTION:Bassisten Ida Bach-Jensen og percussionisten Birgit Løkke spiller livemusik i forestillingen SNE på Thy Teater.
URL:https://spildansk.dk/kalender/sne/
LOCATION:Thy Teater\, Frederiksgade 5\, Thisted\, 7700\, Danmark
CATEGORIES:Klassisk
ATTACH;FMTTYPE=image/jpeg:https://spildansk.dk/wp-content/uploads/2018/09/Sne.jpg
ORGANIZER;CN="Thy Teater":MAILTO:billet@thyteater.dk
END:VEVENT
BEGIN:VEVENT
DTSTART;TZID=Europe/Copenhagen:20181029T193000
DTEND;TZID=Europe/Copenhagen:20181029T210000
DTSTAMP:20260420T201522
CREATED:20181009T072429Z
LAST-MODIFIED:20181009T072429Z
UID:16189-1540841400-1540846800@spildansk.dk
SUMMARY:Spil Dansk-koncert og Syng-med-aften i Korsør Kulturhus
DESCRIPTION:Slagelse Musikskole og Korsør Kulturhus inviterer til en festlig og hyggelig koncert og sangaften.\nOm du er ung eller gammel er hip som hap – blot du har lyst til at høre og nyde nogle smukke harmonier og toner og måske synge sammen med andre sangglade i fællessang\, så er muligheden her for en god oplevelse.\nMandag 29/10 kl. 19.30 giver Storebæltskoret og Slagelse Musikskole i samarbejde med Korsør Kulturhus nemlig en afvekslende koncert i Marmorsalen i Kulturhuset\, Korsør. \nStorebæltskoret\, dirigeret af Ole Worm\, vil synge om kærlighed og årets skiften\, musik af John Høybye inspireret af malerier af Anna Ancher og Johannes Larsen og stemningsfulde aftensange. Undervejs vil vi synge fællesange af bl.a. Kim Larsen og Benny Andersen og dygtige elever fra Slagelse Musikskole vil spille på trompet\, cello og klaver. Der bliver masser af dansk musik\, men for at sætte det hele i perspektiv\, bliver der dog også sunget og spillet på andre sprog end dansk.\nKulturhuset sørger for mulighed for at købe en kop kaffe mm\, undervejs.\nKom og nyd et par herlige musikalske timer i godt selskab – der er fri entré i Kulturhuset.
URL:https://spildansk.dk/kalender/spil-dansk-koncert-og-syng-med-aften-i-korsoer-kulturhus/
LOCATION:Korsør Kulturhus\, Skolegade 1\, Korsør\, 4220\, Danmark
CATEGORIES:Fællessang,Klassisk
ATTACH;FMTTYPE=image/jpeg:https://spildansk.dk/wp-content/uploads/2018/10/annonce-for-Storebæltskoret-1.10.jpg
ORGANIZER;CN="Slagelse Musikskole":MAILTO:metmo@slagelse.dk
END:VEVENT
BEGIN:VEVENT
DTSTART;TZID=Europe/Copenhagen:20181029T190000
DTEND;TZID=Europe/Copenhagen:20181029T210000
DTSTAMP:20260420T201522
CREATED:20181009T082046Z
LAST-MODIFIED:20181009T082046Z
UID:16193-1540839600-1540846800@spildansk.dk
SUMMARY:Brandvæsenets Orkester og Tårnbykoret
DESCRIPTION:En spændende nyskabelse i Tårnbys musikliv.\n\n\n\n\n\nBrandvæsenets Orkester er et Concert Band/harmoniorkester med 30 musikere\, primært blæsere og slagtøj\, som spiller symfonier og marcher. Oprindelig brandfolk\, men nu åbent for andre. \nTårnbykoret er 30 sangere\, der synger et bredt underholdningsrepertoire\, der spænder fra Faurés requiem over Toner fra himlen til Chess. Orkesteret og koret er netop begyndt at optræde sammen i dette efterår.
URL:https://spildansk.dk/kalender/brandvaesenets-orkester-og-taarnbykoret/
LOCATION:Tårnby Hovedbibliotek
CATEGORIES:Klassisk,Kor
END:VEVENT
BEGIN:VEVENT
DTSTART;TZID=Europe/Copenhagen:20181029T161500
DTEND;TZID=Europe/Copenhagen:20181029T170000
DTSTAMP:20260420T201522
CREATED:20180924T121229Z
LAST-MODIFIED:20180924T121229Z
UID:15582-1540829700-1540832400@spildansk.dk
SUMMARY:Halloweenkoncert
DESCRIPTION:Musikskolens basun-\, violin- obo- og klaverlærer spiller koncert for elever\, forældre og interesserede tilhørere.
URL:https://spildansk.dk/kalender/halloweenkoncert/
LOCATION:Skive Musikskole\, Asylgade 5\, Skive\, 7800\, Danmark
CATEGORIES:Klassisk,Musik til børn
END:VEVENT
BEGIN:VEVENT
DTSTART;TZID=Europe/Copenhagen:20181029T160000
DTEND;TZID=Europe/Copenhagen:20181029T170000
DTSTAMP:20260420T201522
CREATED:20181016T091529Z
LAST-MODIFIED:20181016T091529Z
UID:16888-1540828800-1540832400@spildansk.dk
SUMMARY:Klub Klassisk på Hovedbiblioteket
DESCRIPTION:Randers Biblioteks lytteklub for alle med interesse for klassisk musik.\n\n\n\n\n\nHar du lyst til at lytte til klassisk og samtidig få historien om komponisten\, værket og den tid det er skrevet i? Klub Klassisk på Randers Bibliotek er et hyggeligt og uformelt mødested for alle\, der er nysgerrige på klassisk musik i bred forstand. \nDenne gang Carl Nielsens 4. symfoni.
URL:https://spildansk.dk/kalender/klub-klassisk-paa-hovedbiblioteket/
LOCATION:Randers Bibliotek\, Stemannsgade 2\, Randers C\, 8900\, Danmark
CATEGORIES:Klassisk
ATTACH;FMTTYPE=image/jpeg:https://spildansk.dk/wp-content/uploads/2018/10/billede_web_7.jpg
ORGANIZER;CN="Randers Bibliotek":MAILTO:mk@randersbib.dk
END:VEVENT
BEGIN:VEVENT
DTSTART;TZID=Europe/Copenhagen:20181029T100000
DTEND;TZID=Europe/Copenhagen:20181029T103000
DTSTAMP:20260420T201522
CREATED:20181023T135416Z
LAST-MODIFIED:20181023T135416Z
UID:17338-1540807200-1540809000@spildansk.dk
SUMMARY:Morgensang på Esbjerg Kulturskole for dagplejere og daginstituationer
DESCRIPTION:Kære dagplejere og daginstitutioner\, \n  \nKom og vær med – og det er helt gratis ☺ \n  \nMandag d. 29. oktober vil vi i anledning af Spil dansk-ugen rigtig gerne se jer til morgensang på Esbjerg Kulturskole\, Islandsgade 50\, 6700 Esbjerg. \nI kan vælge at komme kl. 10 eller kl. 11\, og der vil være et lille orkester\,bestående af dygtige MGK-elever\, til at akkompagnere sangene samt give et par numre for børnene. \nAlle kan være med. \nSangene er: \nGodmorgen sol \nLille sky gik morgentur \nSigurds Godnatsang \n  \n  \nJeg vil gerne have en tilbagemelding senest torsdag d. 25/10\, hvis I kommer (antal børn og voksne samt ønsket tidspunkt) af hensyn til antallet\, der må være i salen. \nTilmelding til:  beski@esbjergkommune.dk \n  \nVi ses! \n 
URL:https://spildansk.dk/kalender/morgensang-paa-esbjerg-kulturskole-for-dagplejere-og-daginstituationer/
LOCATION:Esbjerg Kulturskole\, Islandsgade 50\, Esbjerg\, 6700
CATEGORIES:Klassisk,Musik til børn
ATTACH;FMTTYPE=image/png:https://spildansk.dk/wp-content/uploads/2018/10/SpilDansk-2018-ESBJERG-kommunevignet-hvid-002.png
END:VEVENT
BEGIN:VEVENT
DTSTART;TZID=Europe/Copenhagen:20181028T170000
DTEND;TZID=Europe/Copenhagen:20181028T180000
DTSTAMP:20260420T201522
CREATED:20181002T130334Z
LAST-MODIFIED:20181002T130334Z
UID:15892-1540746000-1540749600@spildansk.dk
SUMMARY:Århus Kammerkor og messingkvartet
DESCRIPTION:Velkommen til dejlig efterårskoncert i Fuglslev kirke med bløde toner og store instrumenter for kor og messingkvintet. \nVi kan glæde os til\, at lytte til en perlerække af værker skrevet af kendte og mindre kendte komponister bl.a. Bach\, Brahms\, Gade og Rimskij-Korsakov. \nKvintetten Dynamic Brass og Aarhus Kammerkor\, der består af 26 sangere\, er under ledelse af dirigent Erik Bjørn Lund. \nKoncerten er gratis\, og der samles ind til den lokale julehjælp.
URL:https://spildansk.dk/kalender/aarhus-kammerkor-og-messingkvartet/
LOCATION:Fuglslev kirke
CATEGORIES:Klassisk,Kor
ATTACH;FMTTYPE=image/jpeg:https://spildansk.dk/wp-content/uploads/2018/10/Århus-kammerkro.jpg
END:VEVENT
BEGIN:VEVENT
DTSTART;TZID=Europe/Copenhagen:20181028T160000
DTEND;TZID=Europe/Copenhagen:20181028T180000
DTSTAMP:20260420T201522
CREATED:20180921T082014Z
LAST-MODIFIED:20180921T082014Z
UID:15472-1540742400-1540749600@spildansk.dk
SUMMARY:Nightingale String Quartet
DESCRIPTION:Den succesfulde strygekvartet Nightingale String Quartet\, hvis medlemmer er Gunvor Sihm\, violin\, Josefine Dalsgaard\, violin\, Marie Louise Broholt Jensen\, bratsch og Louisa Schwab\, cello\, har to danske værker på programmet. Det er Vagn Holmboe: Strygekvartet nr. 15 opus 135 og Rued Langgaard: Variationer over ‘Mig hjertelig nu længes’. Desuden spilles værker af Haydn og Shostakovich.
URL:https://spildansk.dk/kalender/nightingale-string-quartet/
LOCATION:Syddansk Musikkonservatorium Esbjerg\, Kirkegade 61\, Esbjerg\, 6700
CATEGORIES:Klassisk
ATTACH;FMTTYPE=image/jpeg:https://spildansk.dk/wp-content/uploads/2018/09/Nightingale-kopi.jpg
ORGANIZER;CN="Esbjerg Musikforening":MAILTO:info@esbjergmusikforening.dk
END:VEVENT
BEGIN:VEVENT
DTSTART;TZID=Europe/Copenhagen:20181028T160000
DTEND;TZID=Europe/Copenhagen:20181028T173000
DTSTAMP:20260420T201522
CREATED:20180910T122030Z
LAST-MODIFIED:20180910T122030Z
UID:14737-1540742400-1540747800@spildansk.dk
SUMMARY:"På flugt"
DESCRIPTION:Oboisten Henrik Goldschmidt har skrevet musik til sin families skæbnefortælling om jødernes flugt i 1943. Musikken og teksterne er udkommet i bogen “På flugt”\, der præsenteres ved denne koncert af Goldschmidt selv og et par sangere og musikere. \nKoncerten arrangeres i samarbejde med Spil Dansk i Furesø\, som i år markerer 75 året for jødernes flugt i 1943.
URL:https://spildansk.dk/kalender/paa-flugt/
LOCATION:Stavnsholtkirken\, Stavnsholtvej 25\, Farum\, 3520\, Danmark
CATEGORIES:Klassisk
END:VEVENT
BEGIN:VEVENT
DTSTART;TZID=Europe/Copenhagen:20181028T150000
DTEND;TZID=Europe/Copenhagen:20181028T150000
DTSTAMP:20260420T201522
CREATED:20180907T074037Z
LAST-MODIFIED:20180907T074037Z
UID:14565-1540738800-1540738800@spildansk.dk
SUMMARY:Liedkoncert på Bastionen - Dyvekes sange
DESCRIPTION:Lied-koncert på Bastionen i Nyborg \n“Dyvekes sange” med tekster af Holger Drachmann og musik af Peter Heise. \nSopran: Lise Bech Bendix \nPianist: Berit Juul Rasmussen. \nKong Christian II voksede op på Nyborg slot. Som ung prins forelskede han sig i den ganske unge Dyveke. Hun var ikke adelig\, men han tog hende som elskerinde og lod hende bo hos sig\, trods det at han var adeligt gift. Dyvekes mor\, Sigbritt var en dygtig handelskvinde. Hun flyttede med datteren til København\, her fungerede hun som Chr. II rådgiver. Både kærligheds forholdet til Dyveke og det at Mor Sigbritt var nærmeste kongelige rådgiver var sprængfarlige enmer. Begge alliancer var ille set\, og dette drama blev unægteligt Dyvekes skæbne – få år efter var Dyveke på mystisk vis død! \nDet sidste\, Heise komponerede\, var Dyvekes Sange. \nHolger Drachmann skrev sin digtcyklus om Dyveke til Peter Heise og den udkom i foråret 1879. Af Drachmanns i alt ti digte udvalgte Heise syv\, som gennem Dyvekes ungdoms sind beskriver mødet med prinsen\, og den siden så dramatiske tid som Chr. II’s elskerinde. \nDesuden indgår i programmet andre romancer og sange af komponisterne Peter Heise og P. E. Lange-Müller. \n 
URL:https://spildansk.dk/kalender/liedkoncert-paa-bastionen-dyvekes-sange/
LOCATION:Bastionen Nyborg\, Nørrevoldgade 63\, Nyborg\, 5800\, Danmark
CATEGORIES:Klassisk
ATTACH;FMTTYPE=image/jpeg:https://spildansk.dk/wp-content/uploads/2018/09/40B2FEFA-FE84-4E15-A49C-B276E5A607AA.jpeg
END:VEVENT
BEGIN:VEVENT
DTSTART;TZID=Europe/Copenhagen:20181028T110000
DTEND;TZID=Europe/Copenhagen:20181028T120000
DTSTAMP:20260420T201522
CREATED:20180803T120926Z
LAST-MODIFIED:20180803T121322Z
UID:13534-1540724400-1540728000@spildansk.dk
SUMMARY:Spil Dansk Gudstjeneste i Hellevad Kirke
DESCRIPTION:SALMESANGSGUDSTJENESTE \nSom optakt til Spil Dansk Ugen arrangeres en Salmesangsgudstjeneste i Hellevad Kirke i Klokkerholm. Prædiketeksten handler blandt andet om at fryde sig og bryde ud i jubelråb. Salmer og musik vil være danskproducerede\, heriblandt nyere komponerede korværker fra blandt andet Lutherrosen\, og salmer fra det nye salmebogstillæg “100 salmer”.
URL:https://spildansk.dk/kalender/spil-dansk-gudstjeneste-i-hellevad-kirke/
LOCATION:Hellevad Kirke\, Klokkerholm\, Bredkærsvej 2B\, Hjallerup\, 9320\, Danmark
CATEGORIES:Klassisk,Kor
ATTACH;FMTTYPE=image/jpeg:https://spildansk.dk/wp-content/uploads/2018/08/Orglet-i-Hellevad-Kirke.jpg
END:VEVENT
BEGIN:VEVENT
DTSTART;TZID=Europe/Copenhagen:20181025T190000
DTEND;TZID=Europe/Copenhagen:20181025T213000
DTSTAMP:20260420T201522
CREATED:20181022T085019Z
LAST-MODIFIED:20181022T085019Z
UID:17110-1540494000-1540503000@spildansk.dk
SUMMARY:Kor Care  - Cantemus
DESCRIPTION:Cantemus får besøg af professionelle sangere\, som giver ny inspiration.
URL:https://spildansk.dk/kalender/kor-care-cantemus/
LOCATION:Næstved Musikskole\, Skellet 29\, Næstved\, 4700
CATEGORIES:Klassisk,Kor
ORGANIZER;CN="N%C3%A6stved Musik Aftenskole":MAILTO:nma@naestvedmusikaftenskole.dk
END:VEVENT
BEGIN:VEVENT
DTSTART;TZID=Europe/Copenhagen:20181024T070000
DTEND;TZID=Europe/Copenhagen:20181024T190000
DTSTAMP:20260420T201522
CREATED:20180906T135909Z
LAST-MODIFIED:20180906T140051Z
UID:14510-1540364400-1540407600@spildansk.dk
SUMMARY:12 koncerter i 12 byer på 12 timer
DESCRIPTION:På denne dag skriver DMF-Herning historie\, ved at arrangere 12 koncerter på 12 timer på 12 lokaliteter\, i Herning kommune. Det sker som optakt til Spil Dansk ugen. \nMusikken\nHenrik Volf med band står for den rytmiske del af koncerterne\, mens den unge strygekvartet “Les quatre gents” fra Herning Musikskole\, står for den klassiske del. Koncerterne\, der varer 20 minutter\, afsluttes med en fusion mellem klassisk og rock. Musikken starter kl. 07:00 og slutter kl. 19:00. Koncerterne afvikles fra en stor lastbil\, som køres til 12 forskellige steder i kommunen\, med en times interval. \nProjektet\nDet er et kæmpe projekt DMF-Herning har søsat\, både i forhold til logistik\, men også i forhold til budgettet på 68.000 kr. Foruden lokalafdelingen selv\, bidrager EGE-fonden\, Gramex fonden\, Herning Kommune og Herning Musikskole økonomisk til denne event. Alle koncerter afvikles i Spil Dansk ånden\, og finder sted på lokaliteter\, hvor der ikke normalt afvikles koncerter.
URL:https://spildansk.dk/kalender/12-koncerter-i-12-byer-paa-12-timer/
LOCATION:Forskellige lokaliteter i Herning Kommune – Tjek hjemmesiden\, forskellige\, Herning\, 7400\, Danmark
CATEGORIES:Klassisk,Rock
ATTACH;FMTTYPE=image/jpeg:https://spildansk.dk/wp-content/uploads/2018/09/DMF-pressefoto.jpg
ORGANIZER;CN="Dansk Musiker Forbund - Herning":MAILTO:formand@dmf-herning.dk
END:VEVENT
BEGIN:VEVENT
DTSTART;TZID=Europe/Copenhagen:20181023T190000
DTEND;TZID=Europe/Copenhagen:20181023T203000
DTSTAMP:20260420T201522
CREATED:20180910T074158Z
LAST-MODIFIED:20180910T074158Z
UID:14661-1540321200-1540326600@spildansk.dk
SUMMARY:Furesø Musikskole & Copenhagen Phil
DESCRIPTION:Copenhagen Phil – hele Sjællands Symfoniorkester spiller koncert i Farum Arena sammen med elever fra Furesø Musikskole og 250 børnkorsangere fra kommunens skoler. \nKonferencier: Henrik Engelbrecht \nVoksne 50kr børn under 18 år gratis. \nKøb billet HER
URL:https://spildansk.dk/kalender/furesoe-musikskole-copenhagen-phil/
LOCATION:Farum Arena\, Stavnsholtvej 41\, Farum\, 3520\, Danmark
CATEGORIES:Klassisk
ATTACH;FMTTYPE=image/jpeg:https://spildansk.dk/wp-content/uploads/2018/09/cphphil_furesø_billetto_1440x600px-4.jpg
END:VEVENT
BEGIN:VEVENT
DTSTART;TZID=Europe/Copenhagen:20181001T193000
DTEND;TZID=Europe/Copenhagen:20181001T213000
DTSTAMP:20260420T201522
CREATED:20180911T181517Z
LAST-MODIFIED:20180912T082723Z
UID:14970-1538422200-1538429400@spildansk.dk
SUMMARY:MODERNE MANDAG – Jonas Olsson
DESCRIPTION:1. oktober 1928\n     Den 19-årige Gunnar Berg får ansættelse som liftboy på Turisthotellet i København – i dag Hotel Alexandra\n1. oktober 1943\n     Gunnar Berg deltager aktivt i de danske jøders flugt til Sverige – og komponerer sine første musikeksperimenter\n1. oktober 2018\nDen svenske pianist Jonas Olsson spiller Gunnar Bergs store klaverværk Gaffky’s 1-10 (1958-1959) \nJonas Olsson er allerede en klaverlegende på den internationale ny-musik-scene\, hvor han med den største selvfølge og en formidabel teknik lader sig udfordre af vor tids mest krævende klaverværker. I 2015 skabte han furore\, da han spillede alle Boulez’ klaversonater på KLANG–Copenhagen Avantgarde Music Festival\, og det gjorde han også i foråret 2017\, da han på MODERNE MANDAG satte fokus på den musikalske avantgarde i Danmark og i Paris i 1950’erne med Olivier Messiaens Quatre études de rythme\, Pierre Boulez’s Première Sonate\, Karlheinz Stockhausens Klavierstücke I-IV og klaverværker af Gunnar Berg. \nMandag 1. oktober – på 90 års dagen for den 19-årige Gunnar Bergs tilbagevenden til Danmark efter 4 år i Schweiz og et år i Paris\, og på 75-års dagen for de danske jøders flugt til Sverige – gør Jonas Olsson det\, som ingen har vovet i mere end 50 år\, nemlig at give sig i kast med en samlet opførelse af Gunnar Bergs store klaverværk Gaffky’s. Det begyndte som musikalske visitkort\, men under nomadeårene på danske højskoler i årene 1958-1959 arbejdede Berg videre på dem\, og Gaffky’s blev til et af de betydeligste bidrag til dansk klavermusik i anden halvdel af det tyvende århundrede. Hver af de 10 satser består af 10 små dele\, som første gang blev spillet samlet af Béatrice Berg i Roskilde i 1964. ”At 100 stykker\, der er så asketiske og hinanden så lig i stilistisk og klanglig henseende\, alligevel formår at holde koncentrationen usvækket gennem to timer\, er intet mindre end et særsyn. En mesters værk”\, skrev Jan Maegaard i sin anmeldelse af koncerten i Roskilde i Politiken.
URL:https://spildansk.dk/kalender/moderne-mandag-jonas-olsson/
LOCATION:Metronomen\, Godthåbsvej 33\, Frederiksberg\, 2000\, Danmark
CATEGORIES:Klassisk
ATTACH;FMTTYPE=image/jpeg:https://spildansk.dk/wp-content/uploads/2018/09/GBogJonasOlsson.jpg
ORGANIZER;CN="Arbejdsgruppe Gunnar Berg":MAILTO:mail@gunnarberg.dk
END:VEVENT
BEGIN:VEVENT
DTSTART;TZID=Europe/Copenhagen:20181001T190000
DTEND;TZID=Europe/Copenhagen:20181001T210000
DTSTAMP:20260420T201522
CREATED:20181010T122001Z
LAST-MODIFIED:20181107T141211Z
UID:16534-1538420400-1538427600@spildansk.dk
SUMMARY:Spil Dansk Café på Musikskolen 1/11 kl. 19
DESCRIPTION:Vores dygtige elever optræder i Salen i KulturArkaden med danske sange og melodier
URL:https://spildansk.dk/kalender/spil-dansk-cafe-paa-musikskolen-1-11-kl-19/
LOCATION:kulturarkaden\, Sydhavnsvej 6\, Vordingborg\, 4760\, Danmark
CATEGORIES:Alternative,Klassisk,Musik til børn,Pop
ATTACH;FMTTYPE=image/jpeg:https://spildansk.dk/wp-content/uploads/2018/10/Spil-Dansk-Cafe-1.-november-2018.jpg
END:VEVENT
BEGIN:VEVENT
DTSTART;TZID=Europe/Copenhagen:20180927T200000
DTEND;TZID=Europe/Copenhagen:20180927T213000
DTSTAMP:20260420T201522
CREATED:20180911T122847Z
LAST-MODIFIED:20180911T122847Z
UID:14890-1538078400-1538083800@spildansk.dk
SUMMARY:FLYGT
DESCRIPTION:Cellisten Hanna Englund\, klarinettisten Marie Bessesen (klarinettist) akkompagnerer sangeren Cille Buch i forestillingen FLUGT på Thy Teater.
URL:https://spildansk.dk/kalender/flygt-2/
LOCATION:Thy Teater\, Frederiksgade 5\, Thisted\, 7700\, Danmark
CATEGORIES:Klassisk
ATTACH;FMTTYPE=image/jpeg:https://spildansk.dk/wp-content/uploads/2018/09/Flygt-1.jpg
ORGANIZER;CN="Thy Teater":MAILTO:billet@thyteater.dk
END:VEVENT
BEGIN:VEVENT
DTSTART;TZID=Europe/Copenhagen:20180926T200000
DTEND;TZID=Europe/Copenhagen:20180926T213000
DTSTAMP:20260420T201522
CREATED:20180911T122338Z
LAST-MODIFIED:20180911T122338Z
UID:14879-1537992000-1537997400@spildansk.dk
SUMMARY:FLYGT
DESCRIPTION:Cellisten Hanna Englund\, klarinettisten Marie Bessesen (klarinettist) akkompagnerer sangeren Cille Buch i forestillingen FLUGT på Thy Teater.
URL:https://spildansk.dk/kalender/flygt/
LOCATION:Thy Teater\, Frederiksgade 5\, Thisted\, 7700\, Danmark
CATEGORIES:Klassisk
ATTACH;FMTTYPE=image/jpeg:https://spildansk.dk/wp-content/uploads/2018/09/Flygt.jpg
ORGANIZER;CN="Thy Teater":MAILTO:billet@thyteater.dk
END:VEVENT
END:VCALENDAR