BEGIN:VCALENDAR
VERSION:2.0
PRODID:-//Spil Dansk - ECPv6.5.0//NONSGML v1.0//EN
CALSCALE:GREGORIAN
METHOD:PUBLISH
X-ORIGINAL-URL:https://spildansk.dk
X-WR-CALDESC:Events for Spil Dansk
REFRESH-INTERVAL;VALUE=DURATION:PT1H
X-Robots-Tag:noindex
X-PUBLISHED-TTL:PT1H
BEGIN:VTIMEZONE
TZID:Europe/Copenhagen
BEGIN:DAYLIGHT
TZOFFSETFROM:+0100
TZOFFSETTO:+0200
TZNAME:CEST
DTSTART:20180325T010000
END:DAYLIGHT
BEGIN:STANDARD
TZOFFSETFROM:+0200
TZOFFSETTO:+0100
TZNAME:CET
DTSTART:20181028T010000
END:STANDARD
END:VTIMEZONE
BEGIN:VEVENT
DTSTART;TZID=Europe/Copenhagen:20181101T083000
DTEND;TZID=Europe/Copenhagen:20181101T120000
DTSTAMP:20260420T212853
CREATED:20180927T073325Z
LAST-MODIFIED:20180927T073325Z
UID:15717-1541061000-1541073600@spildansk.dk
SUMMARY:Sangskriverworkshop med AndyOp
DESCRIPTION:Arrangementet starter  med en lille koncert og bagefter er der en sangskriverworkshop med AndyOp for nogle valgfagselever.
URL:https://spildansk.dk/kalender/sangskriverworkshop-med-andyop/
LOCATION:A. P. Møller Skolen\, Fjordallee 1\, Slesvig\, 24837
CATEGORIES:Hiphop
END:VEVENT
BEGIN:VEVENT
DTSTART;TZID=Europe/Copenhagen:20181031T180000
DTEND;TZID=Europe/Copenhagen:20181031T220000
DTSTAMP:20260420T212853
CREATED:20181022T085338Z
LAST-MODIFIED:20181022T085338Z
UID:17116-1541008800-1541023200@spildansk.dk
SUMMARY:Locumskoncerter
DESCRIPTION:Locumskoncerter er Vejles alternative byvandring\, der fører dig til koncerter på usædvanlige locations\, kunstoverraskelser\,\nsamt sanselig mad og drikke to go. \nI år har vi valgt tre steder omkring Vejle Havn som ramme om hver sin musikalske oplevelse. Rundturen begynder i Fjordenhus til en fællessang\, herefter vandrer vi i fælles flok via ”Locums-Caminoen” mod et tidligere Carlsberg øllager – i dag vinteropbevaring for lystbådene – for afslutningsvis at ende i Vejles moderne havnemøller. \nHusk din uldne sweater!
URL:https://spildansk.dk/kalender/locumskoncerter/
LOCATION:Fjordenhus\, Vejle Havn\, Havneøen 1\, Vejle\, 7100\, Danmark
CATEGORIES:Elektronisk,Fællessang,Folk,Hiphop,RnB
ATTACH;FMTTYPE=image/png:https://spildansk.dk/wp-content/uploads/2018/10/Locumskoncerter_2018_Facebook_1200x628_01.png
ORGANIZER;CN="Vejle Kommune":MAILTO:thsch@vejle.dk
END:VEVENT
BEGIN:VEVENT
DTSTART;TZID=Europe/Copenhagen:20181029T120000
DTEND;TZID=Europe/Copenhagen:20181029T160000
DTSTAMP:20260420T212853
CREATED:20181025T201039Z
LAST-MODIFIED:20181108T102958Z
UID:17617-1540814400-1540828800@spildansk.dk
SUMMARY:Rapolitics workshop
DESCRIPTION:workshop for et udvalg af Frederiksberg Gymnasiums elever med fokus på hiphop og typiske temaer inden for denne type musik. Eleverne skal diskutere temaernes relevans\, og også selv prøve kræfter med at skrive hiphop-tekster.
URL:https://spildansk.dk/kalender/rapolitics-workshop-2/
LOCATION:Frederiksberg Gymnasium\, Falkoner Plads 2\, Frederiksberg\, 2000\, Danmark
CATEGORIES:Hiphop
END:VEVENT
BEGIN:VEVENT
DTSTART;TZID=Europe/Copenhagen:20181029T090000
DTEND;TZID=Europe/Copenhagen:20181029T120000
DTSTAMP:20260420T212853
CREATED:20180903T160919Z
LAST-MODIFIED:20181002T102019Z
UID:14408-1540803600-1540814400@spildansk.dk
SUMMARY:Rapolitics goes to FG
DESCRIPTION:Rapolitics workshop med de to rapcoaches Nicklas Bertelsen og Mc Ske for en flok elever på Frederiksberg Gymnasium.
URL:https://spildansk.dk/kalender/rapolitics-goes-to-fg/
LOCATION:Frederiksberg Gymnasium\, Falkoner Plads 2\, Frederiksberg\, 2000\, Danmark
CATEGORIES:Hiphop
ATTACH;FMTTYPE=image/jpeg:https://spildansk.dk/wp-content/uploads/2018/09/Mc-ske.jpg
ORGANIZER;CN="Spil Dansk":MAILTO:info@spildansk.dk
END:VEVENT
BEGIN:VEVENT
DTSTART;TZID=Europe/Copenhagen:20181026T200000
DTEND;TZID=Europe/Copenhagen:20181026T200000
DTSTAMP:20260420T212853
CREATED:20180910T071243Z
LAST-MODIFIED:20180910T080130Z
UID:14660-1540584000-1540584000@spildansk.dk
SUMMARY:Funky White Boys + Support Jule Sösemann
DESCRIPTION:Funky White Boys er en alternativ rap-gruppe fra København\, som består af to rappere og et liveband. Deres musik og performance er energisk\, nærværende\, humoristisk og betagende. Igennem bandets alteregoer og genresprængende musik formår de at fortælle underholdende historier og overraske lytteren. Tag med på en rejse ind i deres unikke selvironiske univers\, hvor der er plads til at give slip og skabe sig\, og komme ud på den anden side som et genfødt menneske. \nBilletsalg: Ved indgangen
URL:https://spildansk.dk/kalender/funky-white-boys-support-jule-sosemann/
LOCATION:Volksbad\, Schiffbrücke 67\, Flensborg\, 24939
CATEGORIES:Alternative,Hiphop
ATTACH;FMTTYPE=image/jpeg:https://spildansk.dk/wp-content/uploads/2018/09/funky-white-boys-02.jpg
ORGANIZER;CN="SdU":MAILTO:kontoret@sdu.de
END:VEVENT
BEGIN:VEVENT
DTSTART;TZID=Europe/Copenhagen:20181011T100000
DTEND;TZID=Europe/Copenhagen:20181011T140000
DTSTAMP:20260420T212853
CREATED:20181005T093025Z
LAST-MODIFIED:20181005T093025Z
UID:16070-1539252000-1539266400@spildansk.dk
SUMMARY:RAPOLITICS BESØGER SKANDERBORG UNGDOMSSKOLE
DESCRIPTION:10. klasse på Ungdomsskolen deltager i en workshop\, hvor de lærer at rappe med udgangspunkt i temaet “Claim din kulturarv”. \nTil spørgsmålet om\, hvilket aftryk Rapolitics håber projektet vil sætte\, svarer Aya Lee: “Jeg håber\, at vores workshops giver unge blod på tanden i forhold til at udtrykke sig og fortælle om eget liv gennem tekst og musik\, at de opdager at politik og demokrati ikke kun er noget\, der foregår på Christiansborg\, men at de også kan være politisk engagerede og deltagende gennem musikken. Og så håber jeg\, at de på workshoppen eksperimenterer og prøver sig selv af på nye måder\, så de får øje på egne potentialer.”
URL:https://spildansk.dk/kalender/rapolitics-besoeger-skanderborg-ungdomsskole/
LOCATION:Skanderborg Ungdomsskole\, Højvangen 6\, Skanderborg\, 8660\, Danmark
CATEGORIES:Hiphop
ATTACH;FMTTYPE=image/png:https://spildansk.dk/wp-content/uploads/2018/10/Rapolitics_logo_2-1.png
END:VEVENT
END:VCALENDAR