BEGIN:VCALENDAR
VERSION:2.0
PRODID:-//Spil Dansk - ECPv6.5.0//NONSGML v1.0//EN
CALSCALE:GREGORIAN
METHOD:PUBLISH
X-WR-CALNAME:Spil Dansk
X-ORIGINAL-URL:https://spildansk.dk
X-WR-CALDESC:Events for Spil Dansk
REFRESH-INTERVAL;VALUE=DURATION:PT1H
X-Robots-Tag:noindex
X-PUBLISHED-TTL:PT1H
BEGIN:VTIMEZONE
TZID:Europe/Copenhagen
BEGIN:DAYLIGHT
TZOFFSETFROM:+0100
TZOFFSETTO:+0200
TZNAME:CEST
DTSTART:20180325T010000
END:DAYLIGHT
BEGIN:STANDARD
TZOFFSETFROM:+0200
TZOFFSETTO:+0100
TZNAME:CET
DTSTART:20181028T010000
END:STANDARD
END:VTIMEZONE
BEGIN:VEVENT
DTSTART;TZID=Europe/Copenhagen:20181031T193000
DTEND;TZID=Europe/Copenhagen:20181031T203000
DTSTAMP:20260420T214315
CREATED:20181019T133426Z
LAST-MODIFIED:20181019T133426Z
UID:17071-1541014200-1541017800@spildansk.dk
SUMMARY:Kvindelige forbilleder
DESCRIPTION:I anledning af Spil Dansk Ugen kan du opleve den danske sangerinde Sara Indrio i en intim solokoncert på seminarieHuset\, Ribe. Ud over koncerten\, vil Sara Indrio fortælle om sit liv som professionel musiker og sangskriver.
URL:https://spildansk.dk/kalender/kvindelige-forbilleder-2/
LOCATION:Seminariehuset\, Ribe\, Simon Hansens Vej 1\, Ribe\, 6760\, Danmark
CATEGORIES:Foredrag,Pop
ORGANIZER;CN="Esbjerg Kommunes Biblioteker":MAILTO:biblio@esbjergkommune.dk
END:VEVENT
BEGIN:VEVENT
DTSTART;TZID=Europe/Copenhagen:20181031T193000
DTEND;TZID=Europe/Copenhagen:20181031T203000
DTSTAMP:20260420T214315
CREATED:20180911T121920Z
LAST-MODIFIED:20180911T122107Z
UID:14881-1541014200-1541017800@spildansk.dk
SUMMARY:Kvindelige Forbilleder
DESCRIPTION:Kvindelige Forbilleder\nSara Indrio turnerer med sin gode ven siden konservatoriet\, den virtuose guitarist og solist i egen ret\, Rolf Hansen. De har fået berøm for deres duo-arbejde\, og her er det ikke mindst historiefortællingen mellem numrene\, som vinder indpas hos publikum.\nMåske har Sara lært lidt af Niels Hausgaard\, som hun turnerede med i to år? I hvert fald trækker koncerterne både grin og gråd hos publikum\, som kan være sikre på\, de ikke får en færdigstøbt pakke\, men en professionel musiker med internationalt præg\, som stændigt stræber mod at fornye sit musikalske udtryk\, aldrig gro fast i form eller norm og at være vedkommende i teksterne.
URL:https://spildansk.dk/kalender/kvindelige-forbilleder/
LOCATION:Seminariehuset\, Ribe\, Simon Hansens Vej 1\, Ribe\, 6760\, Danmark
CATEGORIES:Foredrag
ATTACH;FMTTYPE=image/jpeg:https://spildansk.dk/wp-content/uploads/2018/09/Sara-Indrio.jpg
ORGANIZER;CN="Esbjerg Kommunes Biblioteker":MAILTO:biblio@esbjergkommune.dk
END:VEVENT
BEGIN:VEVENT
DTSTART;TZID=Europe/Copenhagen:20181031T190000
DTEND;TZID=Europe/Copenhagen:20181031T213000
DTSTAMP:20260420T214315
CREATED:20181015T092654Z
LAST-MODIFIED:20181015T092654Z
UID:16806-1541012400-1541021400@spildansk.dk
SUMMARY:Matador i ord og toner - Foredrag i Tånum Forsamlingshus
DESCRIPTION:Matador er for længst blevet folkeeje. TV-fænomenet\, som i 2018 kan fejre 40-års jubilæum. \nKom til en munter og hyggelig aften\, hvor vi vil høre Helle og Dynes Skovkjær fra Bjerringbro fortælle om kulturelle og kunstneriske referencer og replikker fra serien Matador. De vil krydre det med masser af musik.
URL:https://spildansk.dk/kalender/matador-i-ord-og-toner-foredrag-i-taanum-forsamlingshus/
LOCATION:Tånum Forsamlingshus\, Gammel Viborgvej 188\, Randers\, 8920
CATEGORIES:Foredrag
ATTACH;FMTTYPE=image/jpeg:https://spildansk.dk/wp-content/uploads/2018/10/Tånum.jpg
END:VEVENT
BEGIN:VEVENT
DTSTART;TZID=Europe/Copenhagen:20181031T190000
DTEND;TZID=Europe/Copenhagen:20181031T210000
DTSTAMP:20260420T214315
CREATED:20180925T125007Z
LAST-MODIFIED:20180925T125007Z
UID:15615-1541012400-1541019600@spildansk.dk
SUMMARY:Henrik Engelbrecht: H.C. Andersen og den svenske nattergal
DESCRIPTION:Operaeksperten Henrik Engelbrecht fortæller i et farverigt foredrag om H.C. Andersen og operastjernen Jenny Lind.\n\n\n\n\n\nI 1843 kommer en ung\, svensk sangerinde til København. Hun skal redde det skrantende billetsalg på Det Kongelige Teater – og stamgæsten H.C. Andersen forelsker sig voldsomt i den uopnåelige Jenny Lind. Publikum går amok i Jenny Lind-feber\, og der produceres alt fra Jenny Lind påklædningsdukker og Jenny Lind-kager til endda – måske mindre flatterende – et Jenny Lind-komfur. \nOg der er drama både på og bag scenen; Jenny Lind får stjålet sine kostbare smykker af en langfingret oboist fra Det Kongelige Kapel. H.C. Andersen belejrer hende med gaver\, digte og opmærksomhed – og han gemmer resten af livet et champagneglas\, som for ham betød den endelige afvisning. \nArrangeret i samarbejde med Dag- og Aftenskolen i Rønde
URL:https://spildansk.dk/kalender/henrik-engelbrecht-h-c-andersen-og-den-svenske-nattergal/
LOCATION:Rønde Bibliotek\, Skolevej 12\, Rønde\, 8410\, Danmark
CATEGORIES:Foredrag,Klassisk
ATTACH;FMTTYPE=image/jpeg:https://spildansk.dk/wp-content/uploads/2018/09/henning_engelbrecht.jpg
END:VEVENT
BEGIN:VEVENT
DTSTART;TZID=Europe/Copenhagen:20181031T183000
DTEND;TZID=Europe/Copenhagen:20181031T210000
DTSTAMP:20260420T214315
CREATED:20180917T131605Z
LAST-MODIFIED:20180920T123647Z
UID:15308-1541010600-1541019600@spildansk.dk
SUMMARY:Foredrag om Pink Floyds værk Wish You Were Here
DESCRIPTION:Wish you were here er et af Pink Floyds mesterværker. Intet mindre. Og måske også det mest følsomme og vemodige album. Det er et album\, der skulle følge op på verdensgennembruddet med The Dark Side of The Moon\, men samtidig også et album\, der – på trods af at bandet havde vristet sig fri fra den slagskygge\, bandstifteren og frontfiguren Syd Barrett\, havde kastet over Pink Floyd pga. hans voksende sindssyge – kom til både direkte og indirekte at have Syd Barrett i emnefeltet. \nTil at gøre os klogere på værket\, har vi Thomas Ulrik Larsen\, der var sanger\, guitarist og kapelmester i kopibandet The Pink Floyd Project i årene 2003-2009. Han kan fortælle detaljer om albummet\, som de færreste lægger mærke til\, og om det spændende arbejde med at indstudere albummet i sin helhed. \nKom og hør Thomas fortælle om Pink Floyd\, og bliv samtidig klædt på til koncerten på Fermaten d. 8. november\, hvor Pink Floyd Projekt opfører værket i sin fulde længde.
URL:https://spildansk.dk/kalender/koncertforedrag-om-pink-floyds-vaerk-wish-you-were-here/
LOCATION:Biblioteket i Herning\, Østergade 8\, Herning\, 7400\, Danmark
CATEGORIES:Foredrag,Rock
ATTACH;FMTTYPE=image/png:https://spildansk.dk/wp-content/uploads/2018/09/pink_floyd_wish_cover_565x411.png
ORGANIZER;CN="Herning Bibliotekerne":MAILTO:biblioteket@herning.dk
END:VEVENT
BEGIN:VEVENT
DTSTART;TZID=Europe/Copenhagen:20181031T160000
DTEND;TZID=Europe/Copenhagen:20181031T170000
DTSTAMP:20260420T214315
CREATED:20181009T092513Z
LAST-MODIFIED:20181009T092513Z
UID:16222-1541001600-1541005200@spildansk.dk
SUMMARY:Spil dansk med Linda Andrews på Marstal Bibliotek
DESCRIPTION:Kom og hør Linda Andrews synge på Marstal Bibliotek.\n\n\n\n\n\nIgen i år afholdes der SPIL DANSK i uge 44 og Ærø Folkebiblikotek byder i den forbindelse velkommen til koncert med Linda Andrews. \nDet er ONSDAG 31. OKTOBER KL. 16 på Marstal Bibliotek – indgang fra Prinsensgade 21. \nKom og nyd god musik med en dygtig sangerinde. \nDet er gratis og man møder bare op.
URL:https://spildansk.dk/kalender/spil-dansk-med-linda-andrews-paa-marstal-bibliotek/
LOCATION:Ærø Folkebibliotek\, Marstal afd.\, Prinsensgade 21\, Marstal\, 5960\, Danmark
CATEGORIES:Foredrag,Singer-songwriter
ATTACH;FMTTYPE=image/jpeg:https://spildansk.dk/wp-content/uploads/2018/10/lindaandrews2.jpg
ORGANIZER;CN="%C3%86r%C3%B8 Folkebibliotek":MAILTO:marstal@arrebib.dk
END:VEVENT
BEGIN:VEVENT
DTSTART;TZID=Europe/Copenhagen:20181031T141500
DTEND;TZID=Europe/Copenhagen:20181031T153000
DTSTAMP:20260420T214315
CREATED:20180830T095741Z
LAST-MODIFIED:20180830T095741Z
UID:14309-1540995300-1540999800@spildansk.dk
SUMMARY:Artist Talk: Kirsten Astrup
DESCRIPTION:Kirsten Astrup er aktuel på Museet for Samtidskunst med Urolige hjerte – en filmkabaret af Kirsten Astrup. Udstillingen kommer vidt omkring\, men centralt er brugen af musik. Alt fra revymusik til techno og melodigrandprix.  \nAstrup skaber selv musikken til hendes værker. Sammen sin samarbejdspartner Maria Bordorff vil Astrup præsentere uddrag af musikken\, diskutere musikkens rolle i hendes arbejde samt hvordan hun komponerer og spiller musik. \n I tillæg kommer Astrup og Bordorff ind på det omfattende grave-arbejde i den danske musikskat\, der ligger til grund for udstillingen. \n 
URL:https://spildansk.dk/kalender/artist-talk-kirsten-astrup/
LOCATION:Multisalen i Sciencebygningen\, Roskilde Gymnasium\, Latinerhaven\, Roskilde\, 4000\, Danmark
CATEGORIES:Foredrag,Musical
END:VEVENT
BEGIN:VEVENT
DTSTART;TZID=Europe/Copenhagen:20181031T103000
DTEND;TZID=Europe/Copenhagen:20181031T120000
DTSTAMP:20260420T214315
CREATED:20181009T120736Z
LAST-MODIFIED:20181009T120736Z
UID:16347-1540981800-1540987200@spildansk.dk
SUMMARY:BabyMUS - danske børnesange
DESCRIPTION:I Danmark findes en særlig tradition for sang og fællessang\, og netop sangen er en vigtig del af barnets identitetsdannelse. Kom med og hør Ida-Marie Vorre\, museumsinspektør for Carl Nielsen Museet\, fortælle om børnesange igennem generationer. Hvad er en god børnesang? Og hvilke strømninger har der været igennem tiden? Vi voksne skal selvfølgelig selv synge med på sange som Jeg ved en lærkerede\, Lille sky gik morgentur\, Andreas sang og Sigurd Barretts godnatsang til stor glæde for de små pus. \nBabyMUS er et fast tilbud til forældre på barsel\, hvor tempoet er roligt og der er plads til pludren\, formiddagslur\, bleskift og mælk – og kaffehygge og snak for forældrene.
URL:https://spildansk.dk/kalender/babymus-danske-boernesange/
LOCATION:Møntergården\, Overgade 48\, Odense C\, 5000
CATEGORIES:Foredrag,Musik til børn
ATTACH;FMTTYPE=image/jpeg:https://spildansk.dk/wp-content/uploads/2018/10/babyMUS_billede.jpg
ORGANIZER;CN="Odense Bys Museer":MAILTO:museum@odense.dk
END:VEVENT
BEGIN:VEVENT
DTSTART;TZID=Europe/Copenhagen:20181031T080000
DTEND;TZID=Europe/Copenhagen:20181031T160000
DTSTAMP:20260420T214315
CREATED:20181023T093206Z
LAST-MODIFIED:20181023T093206Z
UID:17202-1540972800-1541001600@spildansk.dk
SUMMARY:Sct. Hans Trio i Røde Kors Cafeen
DESCRIPTION:Sct. Hans Trio – navnet skyldes den årlige Sct. Hans fest ved Sognegården –  Frank Lund\, vokal og guitar\, Kaj Ove Højgaard\, vokal og bas og Thorkild Petersen\, vokal og guitar underholder med sange på dansk og lidt snak. Det er ren akustisk uden strøm og ledninger 🙂   Arrangeret af Røde Kors i anledning af Spil Dansk ugen.  Det er for beboere i ejendomskomplekset Fredensgade.
URL:https://spildansk.dk/kalender/sct-hans-trio-i-roede-kors-cafeen/
LOCATION:Røde Kors Cafeen\, Fredensgade\, Hinnerup\, 8382\, Danmark
CATEGORIES:Fællessang,Foredrag,Viser
ATTACH;FMTTYPE=image/jpeg:https://spildansk.dk/wp-content/uploads/2018/10/IMG_1959.jpg
END:VEVENT
BEGIN:VEVENT
DTSTART;TZID=Europe/Copenhagen:20181030T200000
DTEND;TZID=Europe/Copenhagen:20181030T220000
DTSTAMP:20260420T214315
CREATED:20181009T082636Z
LAST-MODIFIED:20181009T082636Z
UID:16195-1540929600-1540936800@spildansk.dk
SUMMARY:Oktober '43 ved Klezmerduo
DESCRIPTION:I en ramme af livsbekræftende jødisk klezmermusik fortæller Klezmerduo historien om danske jøder\, der må flygte over hals og hoved og om nogle af de mange\, der satte livet på spil for at hjælpe.\n\n\n\n\n\nSprælsk musik der taler til hjertet\nKlezmerduo hører til blandt landets førende fortolkere af den traditionelle jødiske festmusik – klezmer. Igennem mere end 25 år har duoen fordybet sig i klezmermusikkens stemningsfulde og livsbekræftende univers\, som de formidler med humor og smittende spilleglæde. Sprælsk musik med rødder i Østeuropa\, som rummer længsel og smerte og samtidig insisterer på håbet\, glæden og festen. Kombineret med en fornem teknik og et sjælfuldt\, sanseligt udtryk formår Klezmerduo at skabe intense oplevelser\, der taler til hjertet. \nKlezmerduo består af Henrik Bredholt (sopransax\, dulcimer\, tuba\, vokal) og Ann-Mai-Britt Fjord (harmonika\, percussion\, vokal) \nI oktober 2018 er det 75 år siden\, at en af de største vellykkede enkeltaktioner mod Nazitysklands jødeforfølgelser fandt sted. Det var her i Danmark under Anden Verdenskrig i oktober 1943. Mere end 7000 jøder blev på mindre end en måned sejlet over Øresund i fiskerbåde og andre småskibe og dermed bragt i sikkerhed i Sverige. \nVarighed: 2 x 45 minutter \nArrangementet er en del af Tårnby Musikuge 2018. Du kan se hele programmet for musikugen her
URL:https://spildansk.dk/kalender/oktober-43-ved-klezmerduo/
LOCATION:Tårnby Hovedbibliotek
CATEGORIES:Foredrag
END:VEVENT
BEGIN:VEVENT
DTSTART;TZID=Europe/Copenhagen:20181030T190000
DTEND;TZID=Europe/Copenhagen:20181030T210000
DTSTAMP:20260420T214315
CREATED:20180910T113222Z
LAST-MODIFIED:20180910T113222Z
UID:14771-1540926000-1540933200@spildansk.dk
SUMMARY:Kim Larsen-aften – anekdoter\, sjove historier og god musik
DESCRIPTION:Bliv klog på Kim Larsen med Anders Munch og syng med på Lune Larsens kendte sange.\n\n\n\n\n\nHistorien om Kim Larsens musikalske rejse begynder i 1971 og fører os frem til i dag. Syng med\, nyd musikken og historierne\, når Anders Munch spiller og fortolker alle de gode klassikere\, som vi alle kender! Anders Munch spiller også sine egne sange. Kom og få en munter og hyggelig aften i Kulturhus Måløv. \n  \nEt samarbejde mellem Ældre Sagen og Ballerup Bibliotek. \n  \nBilletten er inklusiv kaffe/te og kage. Øl\, vand og vin kan købes. \n  \nTirsdag den 30. oktober kl. 19-21 \nKulturhus Måløv\, Salen \nBilletter 30 kr. inkl. kaffe/te og kage. \n\nFind arrangementet her:\nhttps://bib.ballerup.dk/arrangementer/musik-og-sang/kim-larsen-aften-anekdoter-sjove-historier-og-god-musik \n 
URL:https://spildansk.dk/kalender/kim-larsen-aften-anekdoter-sjove-historier-og-god-musik/
LOCATION:Kulturhus Måløv\, Måløv Hovedgade 60\, Måløv\, 2760\, Danmark
CATEGORIES:Folk,Foredrag
ATTACH;FMTTYPE=image/jpeg:https://spildansk.dk/wp-content/uploads/2018/09/1030_Kim-Larsen-aften.jpg
ORGANIZER;CN="Ballerup Bibliotek":MAILTO:kulturhus-maaloev@balk.dk
END:VEVENT
BEGIN:VEVENT
DTSTART;TZID=Europe/Copenhagen:20181029T190000
DTEND;TZID=Europe/Copenhagen:20181029T210000
DTSTAMP:20260420T214315
CREATED:20181009T135522Z
LAST-MODIFIED:20181009T135522Z
UID:16376-1540839600-1540846800@spildansk.dk
SUMMARY:HUGland - oplæg og film om Lars HUG
DESCRIPTION:Guitarist Rasmus Hedeboe fortæller om sit samarbejde med Lars HUG\, inden filmen ”HUGland” vises.\n\n\n\n\n\nRasmus Hedeboe fortæller denne aften om sit samarbejde med den legendariske Lars HUG. \nEfterfølgende viser vi filmen ”HUGland”\, der er en skildring af den kreative proces omkring tilblivelsen af albummet “10 sekunders stilhed”. \nDen viser både hans virke som sangskriver og den perfektionisme\, der kendetegner ham som performer.
URL:https://spildansk.dk/kalender/hugland-oplaeg-og-film-om-lars-hug/
LOCATION:Næstved Bibliotek\, Kvægtorvet 4-6\, Næstved\, 4700\, Danmark
CATEGORIES:Foredrag,Pop
ATTACH;FMTTYPE=image/jpeg:https://spildansk.dk/wp-content/uploads/2018/10/Hugland.jpg
END:VEVENT
BEGIN:VEVENT
DTSTART;TZID=Europe/Copenhagen:20181029T190000
DTEND;TZID=Europe/Copenhagen:20181029T210000
DTSTAMP:20260420T214315
CREATED:20181009T092258Z
LAST-MODIFIED:20181009T095220Z
UID:16218-1540839600-1540846800@spildansk.dk
SUMMARY:Hit med Sangskriveren – MARCUS WINTHER-JOHN
DESCRIPTION:FRI ENTRÉ \nI anledning af SPIL DANSK ugen har vi inviteret Marcus Winther-John som er en af Danmarks mest produktive sangskriver. Han har skrevet sange til alle fra Christopher\, Mads Langer\, Ankerstjerne til Peter Belli og fra Barbara Moleko til Sanne Salomonsen og Sys Bjerre. \nMarcus giver han et sjældent indblik i livet som sangsmed og stjernernes fortrolig. Vi får historierne bag de kendte sange og hører dem i intime akustiske udgaver. \nEngelskfødte Marcus\, brød igennem i 90’erne som sanger i bandet Inside The Whale (kendt for evergreenen ”Hvor er tiden der tager os”) og debuterede som sangskriver til andre med 9 co-writes på Tim Christensens solo debut\, ”Secrets On Parade”. \nSiden har han skrevet til en ualmindelig lang og varieret række artister herhjemme foruden X-factor vindersange\, Melodi Grand Prix\, film og tv. Marcus er også aktiv internationalt og har ramt hitlisterne med artister i bl.a. Japan\, Tyskland\, Spanien\, USA\, Korea mm. \nForuden sangskrivningen udgav han i 2017 bogen ”Skriv hits & sælg dem” og turneret som bandleder på Peter Bellis afskedsturné.
URL:https://spildansk.dk/kalender/hit-med-sangskriveren-marcus-winther-john/
LOCATION:STARS\, Algade 84\, Vordingborg\, 4760\, Danmark
CATEGORIES:Foredrag
ATTACH;FMTTYPE=image/jpeg:https://spildansk.dk/wp-content/uploads/2018/10/Marcus2.jpg
ORGANIZER;CN="STARS":MAILTO:stars@stars.dk
END:VEVENT
BEGIN:VEVENT
DTSTART;TZID=Europe/Copenhagen:20181029T140000
DTEND;TZID=Europe/Copenhagen:20181029T160000
DTSTAMP:20260420T214315
CREATED:20181023T091340Z
LAST-MODIFIED:20181023T091340Z
UID:17193-1540821600-1540828800@spildansk.dk
SUMMARY:Sct. Hans Trio med sangerinde for Røde Kors på Hinneruplund
DESCRIPTION:Sct. Hans Trio  Frank Lund vokal og guitar\, Kaj Ove Højgaard vokal og bas og Thorkild Petersen vokal og guitar med sangerinden Katcha Højegaard som special guest star underholder.
URL:https://spildansk.dk/kalender/sct-hans-trio-med-sangerinde-for-roede-kors-paa-hinneruplund/
LOCATION:Hinneruplund\, Herredsvej 16\, Hinnerup\, 8382
CATEGORIES:Fællessang,Foredrag,Viser
ATTACH;FMTTYPE=image/jpeg:https://spildansk.dk/wp-content/uploads/2018/10/Billede-23-10-2018-10.47.42.jpg
END:VEVENT
BEGIN:VEVENT
DTSTART;TZID=Europe/Copenhagen:20181026T193000
DTEND;TZID=Europe/Copenhagen:20181026T200000
DTSTAMP:20260420T214315
CREATED:20181015T074545Z
LAST-MODIFIED:20181015T074545Z
UID:16767-1540582200-1540584000@spildansk.dk
SUMMARY:Carpark North - artist talk
DESCRIPTION:Turbinen præsenterer et intimt liveinterview med et af Danmarks største rockbands forud for deres koncert. Kom med til Artist Talk med Carpark North og mød menneskene bag musikken. \n\nSidste år sendte Carpark North deres femte studiealbum\, ‘Hope’\, på gaden. Titelnummeret ‘Håb’ er bandets første udspil på modersmålet\, og sangen – ja hele albummet – er opstået i kølvandet på forsanger Lau Højens personlige tragedie. I 2016 mistede han sin mor til kræften\, og singlen ‘Håb’ blotter Lau Højens inderste tanker om at elske og miste. \n‘Det er vores første danske sang og jeg er lykkelig for den. ’Håb’ rummer så meget. Den er lyden af håb\, men også lyden af sorg. Den har en kraft\, der løfter én op\, og stormer én igennem. Helt stille og voldsom på samme tid\,’ sagde forsangeren selv om udgivelsen af singlen. \nForud for aftenens koncert i Turbinen kan du møde ham og resten af Carpark North\, i et intimt liveinterview i øjenhøjde i vores stemningsfulde lounge. Musikjournalist Michael Gonzalez interviewer bandet for åben mikrofon for blot 45 deltagere. En unik mulighed for at komme tættere på et af landets største rockbands. \n45 billetter udbydes til Artist Talk med Carpark North. Billetprisen er en flad 50’er\, og så følger der en drink med i prisen.\nBilletkøb forudsætter billet til aftenens koncert med Carpark North.
URL:https://spildansk.dk/kalender/carpark-north-artist-talk/
LOCATION:Turbinen\, Svend Dalsgaards Plads\, 1\, Randers C.\, 8900\, Danmark
CATEGORIES:Foredrag
ATTACH;FMTTYPE=image/jpeg:https://spildansk.dk/wp-content/uploads/2018/10/thumb_turbinen-dk_artisttalk_carparknorth.jpg
ORGANIZER;CN="Turbinen":MAILTO:jh@vaerket.dk
END:VEVENT
BEGIN:VEVENT
DTSTART;TZID=Europe/Copenhagen:20181025T190000
DTEND;TZID=Europe/Copenhagen:20181025T210000
DTSTAMP:20260420T214315
CREATED:20180702T103201Z
LAST-MODIFIED:20180802T103809Z
UID:13402-1540494000-1540501200@spildansk.dk
SUMMARY:Sangforedrag med Jens Rosendal og Rasmus Skov Borring
DESCRIPTION:I samarbejde med Efterskolen Epos inviterer LOF Syd til dobbeltforedrag med digter og forfatter Jens Rosendal og pianist og komponist Rasmus Skov Borring\, hvor vi her dykker ned i Jens´s kendte sange blandet med nogle af de nyere tekster\, som Rasmus har sat musik til.
URL:https://spildansk.dk/kalender/sangforedrag-med-jens-rosendal-og-rasmus-skov-borring/
LOCATION:Efterskolen EPOS\, Færgevej 5\, Fynshav\, 6440\, Augustenborg\, Danmark
CATEGORIES:Fællessang,Foredrag
ATTACH;FMTTYPE=image/jpeg:https://spildansk.dk/wp-content/uploads/2018/07/RosendalogBorring.jpg
ORGANIZER;CN="LOF Syd":MAILTO:fritid@lof-syd.dk
END:VEVENT
END:VCALENDAR