BEGIN:VCALENDAR
VERSION:2.0
PRODID:-//Spil Dansk - ECPv6.5.0//NONSGML v1.0//EN
CALSCALE:GREGORIAN
METHOD:PUBLISH
X-ORIGINAL-URL:https://spildansk.dk
X-WR-CALDESC:Events for Spil Dansk
REFRESH-INTERVAL;VALUE=DURATION:PT1H
X-Robots-Tag:noindex
X-PUBLISHED-TTL:PT1H
BEGIN:VTIMEZONE
TZID:Europe/Copenhagen
BEGIN:DAYLIGHT
TZOFFSETFROM:+0100
TZOFFSETTO:+0200
TZNAME:CEST
DTSTART:20250330T010000
END:DAYLIGHT
BEGIN:STANDARD
TZOFFSETFROM:+0200
TZOFFSETTO:+0100
TZNAME:CET
DTSTART:20251026T010000
END:STANDARD
END:VTIMEZONE
BEGIN:VEVENT
DTSTART;TZID=Europe/Copenhagen:20251102T200000
DTEND;TZID=Europe/Copenhagen:20251102T211500
DTSTAMP:20260421T005720
CREATED:20250826T082857Z
LAST-MODIFIED:20250826T082857Z
UID:57943-1762113600-1762118100@spildansk.dk
SUMMARY:Fortællekoncerten "Far\, farvel"
DESCRIPTION:Det er Allehelgen\, mørket tager til\, og det er tiden til at mindes\, dem vi har mistet. \nDenne aften inviterer Skt. Lukas Kirke til en særlig fortællekoncert med Jakob Sheppard\, der med “Far\, farvel” tager os med på en dybt personlig og bevægende rejse – en fortælling om kærlighed\, svigt og forsoning. \nI ord og toner mindes Jakob sine to fædre: sin biologiske far i USA og sin danske stedfar. Forholdet til den biologiske far blev tidligt afbrudt\, da Jakob som barn rejste med sin mor fra Berkeley i USA tilbage til Danmark. Først mange år senere – under dramatiske og uventede omstændigheder – blev de genforenet i DR-programmet Sporløs. Et nyt\, intenst bånd opstod\, men blev kort\, afbrudt af farens død efter et liv med misbrug. \nStedfaren\, der fyldte barndommen med tryghed og skæv varme\, endte sine dage i ensomhed i udkanten af Aarhus. Begge fædre var drevet af kunst og spiritualitet – og kæmpede med at finde fodfæste i den materielle verden. \nKoncerten væves sammen af Jakobs egne sange fra hans fire pladeudgivelser (2008–2025)\, herunder det nyeste album NATSALMER – salmer til det ensomme menneske i mørket. Jakob fortæller\, hvordan han – inspireret af den moderne salmes stærke genkomst i fællessang og gudstjenester – vovede at tage livtag med genren. En genre\, der kræver stringens\, tyngde og åndelig dybde – men som netop derfor kunne rumme hans tilbagevendende temaer: uro\, skam\, skyld\, angst og længsel. \n“Far\, farvel” er en stemningsfuld og ærlig fortællekoncert\, hvor livets skyggesider møder lyset fra tro\, musik og menneskelig længsel. \nKoncerten er gratis og åben for alle. \nMedvirkende: \nJakob Sheppard – vokal og guitar \nCarsten Kær – klaver \nRobert Karlsson – bratsch
URL:https://spildansk.dk/kalender/fortaellekoncerten-far-farvel/
LOCATION:Skt. Lukas Kirke\, Sct. Lukas Kirkeplads 1\, Aarhus\, 8000\, Danmark
CATEGORIES:Koncert,Foredrag,Rock,Singer-songwriter
ATTACH;FMTTYPE=image/png:https://spildansk.dk/wp-content/uploads/2025/08/far-farvel.png
ORGANIZER;CN="Skt. Lukas Kirke":MAILTO:sanktlukas.sognaarhus@km.dk
END:VEVENT
END:VCALENDAR