BEGIN:VCALENDAR
VERSION:2.0
PRODID:-//Spil Dansk - ECPv6.5.0//NONSGML v1.0//EN
CALSCALE:GREGORIAN
METHOD:PUBLISH
X-ORIGINAL-URL:https://spildansk.dk
X-WR-CALDESC:Events for Spil Dansk
REFRESH-INTERVAL;VALUE=DURATION:PT1H
X-Robots-Tag:noindex
X-PUBLISHED-TTL:PT1H
BEGIN:VTIMEZONE
TZID:Europe/Copenhagen
BEGIN:DAYLIGHT
TZOFFSETFROM:+0100
TZOFFSETTO:+0200
TZNAME:CEST
DTSTART:20250330T010000
END:DAYLIGHT
BEGIN:STANDARD
TZOFFSETFROM:+0200
TZOFFSETTO:+0100
TZNAME:CET
DTSTART:20251026T010000
END:STANDARD
END:VTIMEZONE
BEGIN:VEVENT
DTSTART;TZID=Europe/Copenhagen:20251101T140000
DTEND;TZID=Europe/Copenhagen:20251101T160000
DTSTAMP:20260421T005726
CREATED:20250926T104032Z
LAST-MODIFIED:20250926T104032Z
UID:58663-1762005600-1762012800@spildansk.dk
SUMMARY:Mathias Hammer: Musikalsk foredrag om Højskolesangbogen
DESCRIPTION:  \n  \n  \n  \n  \n  \n  \nMusikalsk foredrag om Højskolesangbogen \nSom led i Spil Dansk-ugen 2025 får Højby Sj. Kirke besøg af den \nvidende\, velformulerede og underholdende Mathias Hammer\, \nkendt som vært fra talrige radio- og TV-programmer\, \nheriblandt  ”Den klassiske musikquiz.” \nMathias Hammer vil tage os med på en rejse gennem Højskolesangbogen\, med udgangspunkt i den nuværende fra 2020 samt tilbageblik på tidligere udgaver. \nHan var i øvrigt medlem af sangbogsudvalget der lavede det store forarbejde til 19. og dermed nyeste udgave. \nUndervejs skal der naturligvis synes en række sange \, som den uddannede pianist Mathias Hammer vil akkompagnere. \nDer er gratis adgang\, og dørene åbnes kl. 13. \n  \n 
URL:https://spildansk.dk/kalender/mathias-hammer-musikalsk-foredrag-om-hoejskolesangbogen-2/
LOCATION:Højby Sj. kirke\, Bag Kirken 5\, 4573 Højby\, Bag Kirken 5\, Højby\, 4573
CATEGORIES:Foredrag
ATTACH;FMTTYPE=image/jpeg:https://spildansk.dk/wp-content/uploads/2025/09/mathias-hammer-1.jpg
ORGANIZER;CN="H%C3%B8jby Sj. kirke":MAILTO:organist@hoejby-sj-kirke.dk
END:VEVENT
END:VCALENDAR