BEGIN:VCALENDAR
VERSION:2.0
PRODID:-//Spil Dansk - ECPv6.5.0//NONSGML v1.0//EN
CALSCALE:GREGORIAN
METHOD:PUBLISH
X-ORIGINAL-URL:https://spildansk.dk
X-WR-CALDESC:Events for Spil Dansk
REFRESH-INTERVAL;VALUE=DURATION:PT1H
X-Robots-Tag:noindex
X-PUBLISHED-TTL:PT1H
BEGIN:VTIMEZONE
TZID:Europe/Copenhagen
BEGIN:DAYLIGHT
TZOFFSETFROM:+0100
TZOFFSETTO:+0200
TZNAME:CEST
DTSTART:20190331T010000
END:DAYLIGHT
BEGIN:STANDARD
TZOFFSETFROM:+0200
TZOFFSETTO:+0100
TZNAME:CET
DTSTART:20191027T010000
END:STANDARD
END:VTIMEZONE
BEGIN:VEVENT
DTSTART;TZID=Europe/Copenhagen:20191108T103000
DTEND;TZID=Europe/Copenhagen:20191108T113000
DTSTAMP:20260421T235139
CREATED:20190911T081023Z
LAST-MODIFIED:20190911T081023Z
UID:20176-1573209000-1573212600@spildansk.dk
SUMMARY:Vestkystkoret synger i Bredsted Koncert med børnekor
DESCRIPTION:Op til 100 børn fra skolerne i\nBredsted\, Husum\, Treja\, Tønning\nog Frederiksstad synger\ndanske sange på Fiede-Kay-\nPlatz i Bredsted.\nDenne gang står der stomp\npå programmet. Men det er\ndansk stomp\, for alle numrene\ner skrevet af Jesper Falch\,\nder også vil indøve sangene\nmed børnene og lede koncerten.\nKoncerten er offentlig\, og der er fri adgang.\nI tilfælde af regnvejr flyttes den indendørs.\nFølg med på https://syfo.de/regional/husum-amt\neller på FB-gruppen Dansk i Bredsted\,\nhvis vejret ser truen-de ud.
URL:https://spildansk.dk/kalender/vestkystkoret-synger-i-bredsted-koncert-med-boernekor/
LOCATION:Fiede-Kay-Platz\, Markt 33\, Bredsted
CATEGORIES:Fællessang
END:VEVENT
BEGIN:VEVENT
DTSTART;TZID=Europe/Copenhagen:20191108T200000
DTEND;TZID=Europe/Copenhagen:20191108T200000
DTSTAMP:20260421T235139
CREATED:20191022T191935Z
LAST-MODIFIED:20191022T191935Z
UID:22306-1573243200-1573243200@spildansk.dk
SUMMARY:Moonjam Trio
DESCRIPTION:Kom til koncert i Glostrup Bio \nSiger man Bag de blå bjerge eller Østen for solen\, kommer man uvilkårligt til at tænke på Moonjam. Det legendariske pop-rock orkester blev startet i 1985 af brødrene Morten og Rasmus Kærså. Flere af Danmarks bedste musikere har siden spillet i bandet\, og nu er det engen ringere end saxofonisten Bobby Rickett\, der fuldender trioen.
URL:https://spildansk.dk/kalender/moonjam-trio/
LOCATION:Glostrup Bio\, Bryggergårdsvej 2\, Glostrup\, 2600
CATEGORIES:Koncert
ATTACH;FMTTYPE=image/jpeg:https://spildansk.dk/wp-content/uploads/2019/10/Moonjam.jpg
ORGANIZER;CN="Glostrup Kulturhus":MAILTO:info@glostrupkulturhus.dk
END:VEVENT
BEGIN:VEVENT
DTSTART;TZID=Europe/Copenhagen:20191108T200000
DTEND;TZID=Europe/Copenhagen:20191108T210000
DTSTAMP:20260421T235139
CREATED:20190828T115602Z
LAST-MODIFIED:20191108T083415Z
UID:19843-1573243200-1573246800@spildansk.dk
SUMMARY:Intim koncert med Jacob Haugaard
DESCRIPTION:En del af Spil Dansk ugen i Viborg Kommune\n\n\n\n\n\nJacob Haugaard har udgivet 17 albums og skrevet tekst og musik til mere end 300 sange. Ved koncerten i Jans stue kan publikum forvente at opleve en ukendt side af Jacob Haugaard\, når han knytter en lille fortælling til hvert nummer.
URL:https://spildansk.dk/kalender/intim-koncert-med-jacob-haugaard/
LOCATION:Jans Stue\, Vesterled 31\, Viborg\, 8800
CATEGORIES:Pop
ATTACH;FMTTYPE=image/jpeg:https://spildansk.dk/wp-content/uploads/2019/08/haugaard.jpg
ORGANIZER;CN="Viborg Bibliotekerne":MAILTO:kv@viborg.dk
END:VEVENT
BEGIN:VEVENT
DTSTART;TZID=Europe/Copenhagen:20191108T200000
DTEND;TZID=Europe/Copenhagen:20191108T223000
DTSTAMP:20260421T235139
CREATED:20190911T081646Z
LAST-MODIFIED:20190911T081646Z
UID:20179-1573243200-1573252200@spildansk.dk
SUMMARY:Nancy Harms feat. Templeton/Earle/Rosendal
DESCRIPTION:Nancy Harms er en af de nye\nstjerner på den internationale\njazzhimmel\, og i efteråret turnerer\nhun i Skandinavien med\nDanish Music Award vindende\ntrio “Rosendal/Earle/Templeton\ntrio“. Nu er de netop i\ngang med at skrive ny musik\,\nsom beskriver Danmark\,\nset igennem Nancys øjne.\nDer findes ingen bedre end komponisten og pianisten\nPeter Rosendal\, når det handler om at indfange den\ndanske grundtone. Med hans store kærlighed og\nerfaring fra mange år i dansk folkemusik\, blandet med\net virtuost jazzøre\, komponerer han i samarbejde med\nNancy Harms den nye musik\, som vi hermed præsenterer. \n\nForsalg: 19 € / SSF-medlemmer 14 €\nVed indgangen: 21 € / SSF-medlemmer 16 €\nBilletsalg: ssf-billetten.de\, tlf. +49 (0)461-14408125\,\nSSFs sekretariater\, Aktivitetshuset\, sh:z Ticketcenter\,\nNikolaistr. 7 FL\, Reisebüro Peelwatt\, Marie-Curie-Ring\n39 FL eller ved indgangen
URL:https://spildansk.dk/kalender/nancy-harms-feat-templeton-earle-rosendal/
LOCATION:Flensborghus\, Norderstr. 76\, Flensborg\, 24939
CATEGORIES:Jazz
END:VEVENT
END:VCALENDAR