BEGIN:VCALENDAR
VERSION:2.0
PRODID:-//Spil Dansk - ECPv6.5.0//NONSGML v1.0//EN
CALSCALE:GREGORIAN
METHOD:PUBLISH
X-WR-CALNAME:Spil Dansk
X-ORIGINAL-URL:https://spildansk.dk
X-WR-CALDESC:Events for Spil Dansk
REFRESH-INTERVAL;VALUE=DURATION:PT1H
X-Robots-Tag:noindex
X-PUBLISHED-TTL:PT1H
BEGIN:VTIMEZONE
TZID:Europe/Copenhagen
BEGIN:DAYLIGHT
TZOFFSETFROM:+0100
TZOFFSETTO:+0200
TZNAME:CEST
DTSTART:20190331T010000
END:DAYLIGHT
BEGIN:STANDARD
TZOFFSETFROM:+0200
TZOFFSETTO:+0100
TZNAME:CET
DTSTART:20191027T010000
END:STANDARD
END:VTIMEZONE
BEGIN:VEVENT
DTSTART;TZID=Europe/Copenhagen:20191107T080000
DTEND;TZID=Europe/Copenhagen:20191107T150000
DTSTAMP:20260421T221012
CREATED:20191008T133900Z
LAST-MODIFIED:20191008T134407Z
UID:21069-1573113600-1573138800@spildansk.dk
SUMMARY:’Komponist i klassen’ med  Tine Louise Kortermand
DESCRIPTION:Jeg er uddannet video- lyd- og performancekunstner fra Kunstakademiet. I 2010 modtog jeg det 3-årige-arbejdslegat fra Statens Kunstfonds Tonekunstudvalg. Jeg har udgivet plade på Darla Records USA og Quince Records i Japan samt optrådt med performance\, videoinstallation og musik både i Danmark og udlandet. Seneste performances på bienalen Exchange Rates i NYC og Susak Expo festivalen i Kroatien. Pt. arbejder jeg på den musikdramatiske forestilling ”Nature Wild”\, som blev opført på Den Fynske Opera og som skal genopføres på Aveny-T under Cph Stage 7. Juni. Jeg er optaget af\, at det visuelle udtryk skal smelte sammen med det musikalske udtryk og skabe en total oplevelse for publikum. Min musik er ofte soundscapes skabt ud fra samplede hverdagslyde. Fx i den musikdramatiske forestilling “Nature Wild” er det naturens lyde fra videoscenografien\, som jeg har bearbejdet og omskabt til musik. Og i “Knallertsange”\, hvor jeg kørte ud til folk med en lille mikrofonforstærker bagpå knallerten var det knallertens lyd\, som blev musikken. Sangteksterne skriver jeg med udgangspunkt i interviews med mennesker. Deres livshistorier omskriver jeg til sange\, der handler om de nære ting i vores liv. Jeg bruger vokalen og den gode melodi til at formidle vigtige temaer i vores liv.
URL:https://spildansk.dk/kalender/komponist-i-klassen-med-tine-louise-kortermand/
LOCATION:Rønde Skole\, Skrejrupvej 1\, Rønde\, 8410
CATEGORIES:Foredrag
ATTACH;FMTTYPE=image/jpeg:https://spildansk.dk/wp-content/uploads/2019/10/tine-louise-kortemand.jpg
ORGANIZER;CN="Kulturafdelingen%2C Syddjurs Kommune":MAILTO:ligl@syddjurs.dk
END:VEVENT
BEGIN:VEVENT
DTSTART;TZID=Europe/Copenhagen:20191107T090000
DTEND;TZID=Europe/Copenhagen:20191107T130000
DTSTAMP:20260421T221012
CREATED:20191028T101737Z
LAST-MODIFIED:20191028T101737Z
UID:22927-1573117200-1573131600@spildansk.dk
SUMMARY:Komponistbesøg
DESCRIPTION:Jes Kruse-Skolens 8.b får besøg af komponisten Boe Larsen\, som sammen med elever vil skrive en sang. \nDet bliver en god og stor oplevelse for vores elever!!
URL:https://spildansk.dk/kalender/komponistbesoeg/
LOCATION:Jes Kruse-Skolen\, Eckerförde\, Udenlandsk\, Danmark
CATEGORIES:Workshop
END:VEVENT
BEGIN:VEVENT
DTSTART;TZID=Europe/Copenhagen:20191107T123000
DTEND;TZID=Europe/Copenhagen:20191107T153000
DTSTAMP:20260421T221012
CREATED:20191022T073453Z
LAST-MODIFIED:20191022T073453Z
UID:22145-1573129800-1573140600@spildansk.dk
SUMMARY:Sangskriver-workshop fra Koda med Annette Bjergfeldt
DESCRIPTION:Sangskriver-workshop fra Koda med Annette Bjergfeldt.
URL:https://spildansk.dk/kalender/sangskriver-workshop-fra-koda-med-annette-bjergfeldt-2/
LOCATION:Frederiksberg Gymnasium\, Falkoner Plads 2\, Frederiksberg\, 2000\, Danmark
CATEGORIES:Undervisning
ATTACH;FMTTYPE=image/jpeg:https://spildansk.dk/wp-content/uploads/2019/10/annettebjergfeldt.jpg
ORGANIZER;CN="Spil Dansk":MAILTO:info@spildansk.dk
END:VEVENT
BEGIN:VEVENT
DTSTART;TZID=Europe/Copenhagen:20191107T143000
DTEND;TZID=Europe/Copenhagen:20191107T160000
DTSTAMP:20260421T221012
CREATED:20190926T174536Z
LAST-MODIFIED:20190926T174655Z
UID:20596-1573137000-1573142400@spildansk.dk
SUMMARY:Sangeftermiddag
DESCRIPTION:Vi synger fra Højskolesangbogen. Enhver er velkommen til en eftermiddag\, hvor humøret er højt og sangglæden er stor. \nDer er sangeftermiddage i Sankt Jørgensbjerg Sognegård\, hver den 1. torsdag i måneden kl. 14:30 – 16:00 – kom og syng med.
URL:https://spildansk.dk/kalender/sangeftermiddag/
LOCATION:Sankt Jørgensbjerg Sognegård\, Møllehusvej 120\, Roskilde\, 4000
CATEGORIES:Fællessang
ATTACH;FMTTYPE=image/jpeg:https://spildansk.dk/wp-content/uploads/2019/09/guidetsangaften-1.jpg
ORGANIZER;CN="Sankt J%C3%B8rgensbjerg Kirke":MAILTO:kontakt@sjk.dk
END:VEVENT
END:VCALENDAR