BEGIN:VCALENDAR
VERSION:2.0
PRODID:-//Spil Dansk - ECPv6.5.0//NONSGML v1.0//EN
CALSCALE:GREGORIAN
METHOD:PUBLISH
X-ORIGINAL-URL:https://spildansk.dk
X-WR-CALDESC:Events for Spil Dansk
REFRESH-INTERVAL;VALUE=DURATION:PT1H
X-Robots-Tag:noindex
X-PUBLISHED-TTL:PT1H
BEGIN:VTIMEZONE
TZID:Europe/Copenhagen
BEGIN:DAYLIGHT
TZOFFSETFROM:+0100
TZOFFSETTO:+0200
TZNAME:CEST
DTSTART:20190331T010000
END:DAYLIGHT
BEGIN:STANDARD
TZOFFSETFROM:+0200
TZOFFSETTO:+0100
TZNAME:CET
DTSTART:20191027T010000
END:STANDARD
END:VTIMEZONE
BEGIN:VEVENT
DTSTART;TZID=Europe/Copenhagen:20191105T083000
DTEND;TZID=Europe/Copenhagen:20191105T123000
DTSTAMP:20260421T190004
CREATED:20190906T110521Z
LAST-MODIFIED:20190916T094015Z
UID:20011-1572942600-1572957000@spildansk.dk
SUMMARY:Spil Dansk: Sangskriver-workshop fra KODA
DESCRIPTION:Workshoppen varer 4 timers og varetages af en professionel sangskriver\, der laver en sang med eleverne. Sangskriveren vil også fortælle om musikkens værdi\, ophavsrettigheder og hvordan en musikers økonomi kan se ud. Arrangementet er lukket. \nDen digitale udvikling har betydet\, at de fleste unge altid har et enormt musikkatalog lige ved hånden\, hvilket kan gøre det svært for dem at få en fornemmelse af det arbejde\, der ligger bag en sang. Derfor er formålet med ‘Sangskriver-workshop fra KODA’\, at eleverne opnår større forståelse for det store arbejde\, der ligger bag den musik\, de lytter til samtidig med\, at de har det sjovt og får hænderne helt ned i det kreative arbejde. \nSpil Dansk er musiklivets festuge\, der altid foregår i uge 44. Siden 2001 har Spil Dansk været Danmarks største musikbegivenhed i al sin bredde og mangfoldighed af arrangementer. Turbinen\, Randers Bibliotek\, Randers Kommune og Randers Eventsekretariat er lokale arrangører. Det sker i samarbejde med blandt andre lokale bands\, musikkorps\, -ensembler og -kor. Målet er blandt andet at skabe glæde og øge kendskabet til musik med dansk afsæt – herunder udfolde musikken i nye og anderledes rammer.
URL:https://spildansk.dk/kalender/spil-dansk-sangskriver-workshop-fra-koda/
LOCATION:Paderup Gymnasium
CATEGORIES:Workshop
ATTACH;FMTTYPE=image/jpeg:https://spildansk.dk/wp-content/uploads/2019/09/Martin-Stender.jpg
ORGANIZER;CN="Spil Dansk":MAILTO:info@spildansk.dk
END:VEVENT
BEGIN:VEVENT
DTSTART;TZID=Europe/Copenhagen:20191105T100000
DTEND;TZID=Europe/Copenhagen:20191105T130000
DTSTAMP:20260421T190004
CREATED:20191028T101007Z
LAST-MODIFIED:20191028T101007Z
UID:22923-1572948000-1572958800@spildansk.dk
SUMMARY:Spil Dansk Dag
DESCRIPTION:Jes Kruse-Skolens megakor og band understøtter elever\, lærere\, forældre\, venner og bekendte til Rieseby Danske Skole\, Jernved Dansk Skole og Kes Kruse Skolen I Eckernförde\, sammen med førskolebørnene fra Eckernförde Børnehave og Borreby Børnehave. \nAlle mødes på rådhuspladsen i centrum af Eckernförde by kl. ca. 10.15. \nSå bliver der sunget og spillet fra kl. 10.30-11.30. \nDerefter er der hot dogs og saft til alle elever i hallen ved Jes Kruse-Skolen. \nVi vil synge nogle Kim Larsen sange såsom “Balffersangen”\, “Flyvere i natten” og Kringsatt av fjender”. \nEllers står “Jeg vil lade lyset brænde”\, Shu-bi-duas “Danmark” og “Vi elsker vort land”\, “Inderst inde”\, “Til næste år”\, “Duerne flyver”\, “Øde ø”\, “Du kom med alt det\, der var dig” og “Billesangen” på programmet. \nVi ser frem til et hyggeligt arrangement med ca 500 menesker\, som forhåbentlig alle er i godt humør!
URL:https://spildansk.dk/kalender/spil-dansk-dag-5/
LOCATION:Rådhuspladsen i Eckernförde\, Rathausmarkt 4-6\, Eckernförde\, D-24340
CATEGORIES:Fællessang
END:VEVENT
BEGIN:VEVENT
DTSTART;TZID=Europe/Copenhagen:20191105T140000
DTEND;TZID=Europe/Copenhagen:20191105T150000
DTSTAMP:20260421T190004
CREATED:20191021T083106Z
LAST-MODIFIED:20191021T083643Z
UID:21940-1572962400-1572966000@spildansk.dk
SUMMARY:Koncert med Anna Rosenkilde
DESCRIPTION:Anna Rosenkildes musik er atmosfærisk\, enkel\, poetisk og kombinerer akustiske elementer med elektronik. Teksterne bevæger sig rundt i et stemningsfuldt univers fuld af forsvundne piger\, forestillinger om livet efter døden\, forelskelse\, bedøvelse og begær. \nI kan forvente en intimkoncert med rolige og nærværende sange. Anna er også uddannet indenfor mindfulness og vil involvere publikum i et par fællessange/stemmemeditationer.
URL:https://spildansk.dk/kalender/koncert-med-anna-rosenkilde/
LOCATION:Rigshospitalet\, Kirken ved opg. 4\, Blegdamsvej 9\, København\, 2100
CATEGORIES:Koncert
ATTACH;FMTTYPE=image/jpeg:https://spildansk.dk/wp-content/uploads/2019/10/Anna-Rosenkilde-1440x700.jpg
END:VEVENT
BEGIN:VEVENT
DTSTART;TZID=Europe/Copenhagen:20191105T140000
DTEND;TZID=Europe/Copenhagen:20191105T150000
DTSTAMP:20260421T190004
CREATED:20191022T064327Z
LAST-MODIFIED:20191108T085623Z
UID:22095-1572962400-1572966000@spildansk.dk
SUMMARY:Musik & Sundhed med Anna Rosenkilde
DESCRIPTION:Musik & Sundhed med Anna Rosenkilde. \nDette arrangement er støttet af Københavns Kommune. 
URL:https://spildansk.dk/kalender/musik-sundhed-med-anna-rosenkilde/
LOCATION:Rigshospitalets Patientbibliotek\, Blegdamsvej 9\, København Ø\, 2100
CATEGORIES:Filmkoncert,Singer-songwriter
ATTACH;FMTTYPE=image/jpeg:https://spildansk.dk/wp-content/uploads/2019/10/Anna-Rosenkilde-1440x700-1.jpg
ORGANIZER;CN="Spil Dansk":MAILTO:info@spildansk.dk
END:VEVENT
BEGIN:VEVENT
DTSTART;TZID=Europe/Copenhagen:20191105T160000
DTEND;TZID=Europe/Copenhagen:20191105T200000
DTSTAMP:20260421T190004
CREATED:20191014T100659Z
LAST-MODIFIED:20191025T104819Z
UID:21398-1572969600-1572984000@spildansk.dk
SUMMARY:Mentorsession med Marcus Winther John
DESCRIPTION:Den danske kendte sangskriver Marcus Winther John kommer til Gribskov og skal være mentor for to udvalgte musikelever der går på Kulturskolen Gribskov. Eleverne hedder Siri og Julie
URL:https://spildansk.dk/kalender/mentorsession-med-marcus-winther-john/
LOCATION:Helsinge Kulturhus\, Skolegade 43\, Helsinge\, 3200
CATEGORIES:Workshop
ATTACH;FMTTYPE=image/jpeg:https://spildansk.dk/wp-content/uploads/2019/10/marcus-winther-john.jpg
ORGANIZER;CN="Kulturskolen Gribskov":MAILTO:musikskolen@gribskov.dk
END:VEVENT
BEGIN:VEVENT
DTSTART;TZID=Europe/Copenhagen:20191105T160000
DTEND;TZID=Europe/Copenhagen:20191105T200000
DTSTAMP:20260421T190004
CREATED:20191028T085318Z
LAST-MODIFIED:20191028T085318Z
UID:22906-1572969600-1572984000@spildansk.dk
SUMMARY:Sangskriverworkshop
DESCRIPTION:Komponist & multiinstrumentalist Martin Stender holder sangskriverworkshop med musikskolens elever
URL:https://spildansk.dk/kalender/sangskriverworkshop-6/
LOCATION:Ringe bibliotek\, Algade 40\, Ringe\, 5750\, Danmark
CATEGORIES:Undervisning
ORGANIZER;CN="Faaborg Midtfyn Musikskole":MAILTO:Musikskolen@fmk.dk
END:VEVENT
BEGIN:VEVENT
DTSTART;TZID=Europe/Copenhagen:20191105T183000
DTEND;TZID=Europe/Copenhagen:20191105T193000
DTSTAMP:20260421T190004
CREATED:20191028T103237Z
LAST-MODIFIED:20191028T104018Z
UID:22930-1572978600-1572982200@spildansk.dk
SUMMARY:Spil Dansk koncert v. Nyborg Musikskole
DESCRIPTION:Akustisk Spil Dansk koncert v. Nyborg Musikskole
URL:https://spildansk.dk/kalender/spil-dansk-koncert-19/
LOCATION:Bastionen Nyborg\, Nørrevoldgade 63\, Nyborg\, 5800\, Danmark
CATEGORIES:Koncert
ORGANIZER;CN="Nyborg Musikskole":MAILTO:musikskolen@nyborg.dk
END:VEVENT
BEGIN:VEVENT
DTSTART;TZID=Europe/Copenhagen:20191105T190000
DTEND;TZID=Europe/Copenhagen:20191105T203000
DTSTAMP:20260421T190004
CREATED:20191008T124113Z
LAST-MODIFIED:20191008T124113Z
UID:21059-1572980400-1572985800@spildansk.dk
SUMMARY:Lise Dres
DESCRIPTION:Oplev den lokale singer-songwriter Lise Dres i stemningsfuld intimkoncert.
URL:https://spildansk.dk/kalender/lise-dres/
LOCATION:Feldballe Kirke
CATEGORIES:Singer-songwriter
ATTACH;FMTTYPE=image/jpeg:https://spildansk.dk/wp-content/uploads/2019/10/Lise-dres.jpg
END:VEVENT
END:VCALENDAR