BEGIN:VCALENDAR
VERSION:2.0
PRODID:-//Spil Dansk - ECPv6.5.0//NONSGML v1.0//EN
CALSCALE:GREGORIAN
METHOD:PUBLISH
X-WR-CALNAME:Spil Dansk
X-ORIGINAL-URL:https://spildansk.dk
X-WR-CALDESC:Events for Spil Dansk
REFRESH-INTERVAL;VALUE=DURATION:PT1H
X-Robots-Tag:noindex
X-PUBLISHED-TTL:PT1H
BEGIN:VTIMEZONE
TZID:Europe/Copenhagen
BEGIN:DAYLIGHT
TZOFFSETFROM:+0100
TZOFFSETTO:+0200
TZNAME:CEST
DTSTART:20190331T010000
END:DAYLIGHT
BEGIN:STANDARD
TZOFFSETFROM:+0200
TZOFFSETTO:+0100
TZNAME:CET
DTSTART:20191027T010000
END:STANDARD
END:VTIMEZONE
BEGIN:VEVENT
DTSTART;TZID=Europe/Copenhagen:20190806T083000
DTEND;TZID=Europe/Copenhagen:20191031T113000
DTSTAMP:20260421T172354
CREATED:20190806T140955Z
LAST-MODIFIED:20190806T140955Z
UID:19532-1565080200-1572521400@spildansk.dk
SUMMARY:Spil Dansk på Mou Skole
DESCRIPTION:Børn og voksner underholder i den store aula
URL:https://spildansk.dk/kalender/spil-dansk-paa-mou-skole-2/
LOCATION:Mou skole\, Ny Høstemarkvej 7\, Storvorde\, 9280
CATEGORIES:Blues,Dansktop,Fællessang,Kor,Musical,Musik til børn,Pop,Rock,Viser
END:VEVENT
BEGIN:VEVENT
DTSTART;TZID=Europe/Copenhagen:20190911T120000
DTEND;TZID=Europe/Copenhagen:20191030T160000
DTSTAMP:20260421T172354
CREATED:20190911T072213Z
LAST-MODIFIED:20190911T072213Z
UID:20140-1568203200-1572451200@spildansk.dk
SUMMARY:Sangskriverworkshop med Boe Larsen
DESCRIPTION:Producer Boe Larsen kommer til Viby Skole og laver en workshop med 7. klasse valghold
URL:https://spildansk.dk/kalender/sangskriverworkshop-med-boe-larsen/
LOCATION:Dåstrup Skole\, Bueager 2\, Viby Sjælland\, 4130
CATEGORIES:Workshop
ATTACH;FMTTYPE=image/jpeg:https://spildansk.dk/wp-content/uploads/2019/09/Viby-skole.jpg
END:VEVENT
BEGIN:VEVENT
DTSTART;TZID=Europe/Copenhagen:20191025T200000
DTEND;TZID=Europe/Copenhagen:20191026T020000
DTSTAMP:20260421T172354
CREATED:20191021T202756Z
LAST-MODIFIED:20191021T202756Z
UID:22081-1572033600-1572055200@spildansk.dk
SUMMARY:FOMOTION - Mendoza & Kaaliyah and friends
DESCRIPTION:Mendoza inviterer til en aften med performance overload\, når hun dekonstruerer betydningen af en koncertoplevelse. Hun har inviteret talentfulde performere med\, som forstår at skabe ENERGI i det rum de er i. I kollaboration stræber de efter at overstimulere dig for at flytte dine forstillinger og forventninger til en “night out”. \nMENDOZA –\nMendoza leverer nogle af de mere sjæl turbulente optrædender på en scene\, med en uspoleret vokal\, der er med til at vække alle dine følelser. Samtidig er hun en oprigtig person der kæmper sine egne kampe for lighed og inkludering. Mendoza’s hudløse ærlighed og provokative tekster er et godt match med bas-fyldte\, trap inspireret hiphop beats og hendes egen genkendelige og attitudefulde vokal\, der skaber et opløftende og atmosfærisk lydbillede\, som både kan starte raves og forblive en uforlignelig skrøbelighed. Det er en divers fest når Mendoza går på scenen! \nLyt med her:\nhttps://www.youtube.com/watch?v=m8i50l9xhtA\nhttps://www.youtube.com/watch?v=ZWeg4gLQMLQ \nKaaliyah –\nKaaliyah started sin karriere med udgivelsen af sin første EP under navnet ”Darkpop: First Sequence” tilbage I 2015\, efterfulgt af de fire singler: ”Yoko”\, ”Buried”\, ”Vaya” og ”Fortune Cookie”. Hun brugte hele sommeren og efteråret i 2017 på tourné med den award vindende gruppe Phlake\, som også førte til åbningen af Orange Scene på Roskilde Festivalen. Kaaliyah brugte 2018 på at udvikle og færdiggøre hendes kommende singler og album\, men var samtidig en del af E-Tur arrangeret af ROSA. Med singlen ”Facts” er Kaaliyah nu klar til at dele sin musik igen – En bred combination af trap\, hiphop\, R’n’b og pop. \nLyt med her:\nhttps://www.youtube.com/watch?v=qg6JMdL9VzE\nhttps://www.youtube.com/watch?v=7WO_-Di_kQw \n… AND MANY MORE: \nCOBRA LOUBOUTIN\nCobra Miyake mugler er det skandinaviske ”face” og runway diva fra House of Miyake Mugler\, for ikke at nævne\, at hun vandt prisen for ”Denmark’s finest” i 2018. Hun har været aktiv i den europæiske balsalscene i 2 år og stræber kontinuerligt med runways i Paris\, London\, Amsterdam og mange flere. \nKLARA LOPEZ\nKlara er experimental danser og performer.\nHun er repræsenteret af Kiki House of Campbell\, hvor hun går vogue Femme\, og sex Siren\, som hun fornyligt har vundet Sin første Grand Prize for i LA. \nPROXY SERVER\nProxy Server er en af dem som giver ”Drag” en helt ny betydning. Hun leverer glam\, punk\, kawaii og space queen på samme tid. Du kommer til at misunde mindst 5 ting når du ser\nhende. \nMICHIEL TANGE VAN LEUWEN\nEn fysisk kunstner uddannet inden for det moderne cirkus. Han kombinerer sine akrobatiske færdigheder med elementer i præstation\, hvilket skaber sit helt eget fysiske sprog. På grund af hans unikke udseende er Michiels arbejde en løbende protest mod overensstemmelse og kønsnormer i samfundet. \nDJ NAH CARE\nDJ og arrangøren bag det queer- koncept Club Versatile\, LGBT Asylum fundraiser og general Adonis-figur. Dj Nah Care er kendt for sit eklektiske udvalg af både moderne vestlig og kurdisk dansemusik. Han bringer et strejf af glamour til selv de grimeste raves og overfører en frigjort seksuel energi til gulvet. \nDJ EZIRI is a Danish trance dj\, couture model and prince of the new woke nightlife. Djeziri is known for his G-unit slickness\, afterparty extravaganza\, and commitment to fight injustice and pushing scenes like Fast Forward\, Posh Isolation\, Endurance\, Mala Junta any much more. \nM A N I F E S T O by FREDERIK TAUS. Er en fashion kollektion motiveret af at ska- be en ideologi og æstetik\, der stiller norm-kritiske spørgsmål. Kollektionen er en rejse i beklædnings historien\, udfordring af den normative femininitet forståelse i en herre- tøj- sammenhæng og provokation af de stereotype maskuline og feminine værdier. \nSpillestedet Stengade\nFredag d. 25 Oktober kl. 20-02\nEntré: 100 / 120 kr.
URL:https://spildansk.dk/kalender/fomotion-mendoza-kaaliyah-and-friends/
LOCATION:Spillestedet Stengade\, Stengade 18\, København N\, 2200\, Danmark
CATEGORIES:Koncert,Pop
ATTACH;FMTTYPE=image/jpeg:https://spildansk.dk/wp-content/uploads/2019/10/70782358_1273799436156236_3126337055882215424_o.jpg
END:VEVENT
BEGIN:VEVENT
DTSTART;TZID=Europe/Copenhagen:20191025T220000
DTEND;TZID=Europe/Copenhagen:20191026T010000
DTSTAMP:20260421T172354
CREATED:20191004T091816Z
LAST-MODIFIED:20191004T091816Z
UID:20876-1572040800-1572051600@spildansk.dk
SUMMARY:Livemusik på Hotel Randers by Hornsleth
DESCRIPTION:Gratis livemusik. Kom og syng med når pop-up baren Hotel Randers by Hornsleth denne weekend får besøg af Sjaske & Rosenlund. Musikken starter kl. 22.00\, men baren har åben helt fra kl. 17.00. \nDenne fredag og lørdag aften får Hotel Randers by Hornsleth besøg af de to garvede musikere\, Carsten (Sjaske) Mortensen og Allan Rosenlund. Sjaske på guitar og Rosenlund på bas og trommer (på samme tid!). De to vil\, med deres fremragende vokaler og smittende spilleglæde\, tilsammen sprede god stemning med levende musik af højeste kvalitet. Vi stemmer i med lækker vin på glas eller flaske og drinks til enhver smag.
URL:https://spildansk.dk/kalender/livemusik-paa-hotel-randers-by-hornsleth/
LOCATION:Hotel Randers by Hornsleth\, Torvegade 11\, Randers C\, 8900
END:VEVENT
BEGIN:VEVENT
DTSTART;TZID=Europe/Copenhagen:20191026T140000
DTEND;TZID=Europe/Copenhagen:20191026T160000
DTSTAMP:20260421T172354
CREATED:20190906T084725Z
LAST-MODIFIED:20190906T084725Z
UID:19985-1572098400-1572105600@spildansk.dk
SUMMARY:Sigurds Danmarkshistorie på Værket\, Store Sal
DESCRIPTION:Forfatter\, børnevært og musiker Sigurd Barrett har skabt en stort anlagt teaterkoncert for hele familien på baggrund af sin bestseller-bog ‘Sigurd Fortæller Danmarkshistorie’. Ta’ med på en eventyrlig rejse op gennem vores fælles historie med underholdning og uddannelse for folk i alle aldre\, når der er ‘Sigurds Danmarkshistorie’. \nSpil Dansk er musiklivets festuge\, der altid foregår i uge 44. Siden 2001 har Spil Dansk været Danmarks største musikbegivenhed i al sin bredde og mangfoldighed af arrangementer. Turbinen\, Randers Bibliotek\, Randers Kommune og Randers Eventsekretariat er lokale arrangører. Det sker i samarbejde med blandt andre lokale bands\, musikkorps\, -ensembler og -kor. Målet er blandt andet at skabe glæde og øge kendskabet til musik med dansk afsæt – herunder udfolde musikken i nye og anderledes rammer.
URL:https://spildansk.dk/kalender/sigurds-danmarkshistorie-paa-vaerket-store-sal/
LOCATION:Værket\, Sven Dalsgaards Plads 1\, Randers C\, 8900\, Danmark
CATEGORIES:Musik til børn
ATTACH;FMTTYPE=image/jpeg:https://spildansk.dk/wp-content/uploads/2019/09/sigurdsdanmarkshistorie.jpg
END:VEVENT
BEGIN:VEVENT
DTSTART;TZID=Europe/Copenhagen:20191026T143000
DTEND;TZID=Europe/Copenhagen:20191026T160000
DTSTAMP:20260421T172354
CREATED:20191023T070148Z
LAST-MODIFIED:20191023T070148Z
UID:22341-1572100200-1572105600@spildansk.dk
SUMMARY:Jazz at the Museum
DESCRIPTION:Lørdag den 26. oktober kommer Mikkel Ploug (f. 1978)\, en moderne dansk jazzguitarist i L.A. Rings Atelier. Han spiller denne dag en minikoncert med bl.a. improvisationer på baggrund af udvalgte Ring-malerier. Konceptet hedder ”Jazz at the Museum” og er støttet af Roskilde Kommune som led i Spil Dansk-ugen\, der finder sted over hele landet i den følgende uge. Koncerten er i to sæt á 30 min. – kl. 14.30 og 15.30 – og er gratis. Man kan høre det ene eller begge sæt. Først til mølle\, maks. 25 gæster pr. gang. Almindelig entré til huset (25 kr.\, medlemmer og børn gratis).\nGratis billet til koncerterne kan afhentes på dagen fra kl. 12.\n– Mikkel Ploug har slået sit navn fast på den internationale jazzscene med turnéer i 22 lande\, 13 udgivelser på internationale pladeselskaber og over 2 mio. streams af sin soloudgivelse ”Allevation”. I 2019 har han turneret med sin trio i USA.
URL:https://spildansk.dk/kalender/jazz-at-the-museum-8/
LOCATION:L.A. Rings Atelier\, Brøndgade 1\, Roskilde\, 4000
CATEGORIES:Jazz
ATTACH;FMTTYPE=image/png:https://spildansk.dk/wp-content/uploads/2019/10/MikkelPloug.png
END:VEVENT
BEGIN:VEVENT
DTSTART;TZID=Europe/Copenhagen:20191026T200000
DTEND;TZID=Europe/Copenhagen:20191026T220000
DTSTAMP:20260421T172354
CREATED:20191008T112323Z
LAST-MODIFIED:20191008T112323Z
UID:21029-1572120000-1572127200@spildansk.dk
SUMMARY:John Mogensen Live
DESCRIPTION:Garanti for god stemning og masser af ‘syng-med’ muligheder.
URL:https://spildansk.dk/kalender/john-mogensen-live-2/
LOCATION:fannerup forsamlingshus
CATEGORIES:Dansktop
ATTACH;FMTTYPE=image/jpeg:https://spildansk.dk/wp-content/uploads/2019/10/Johnmogenslive.jpg
END:VEVENT
BEGIN:VEVENT
DTSTART;TZID=Europe/Copenhagen:20191026T210000
DTEND;TZID=Europe/Copenhagen:20191026T223000
DTSTAMP:20260421T172354
CREATED:20190906T085053Z
LAST-MODIFIED:20190906T085053Z
UID:19988-1572123600-1572129000@spildansk.dk
SUMMARY:Carl Emil Petersen - Solo på Turbinen
DESCRIPTION:Den tidligere forsanger i Ulige Numre og nu solomusiker Carl Emil Petersen er i gang med at indspille nye sange\, som han lader hans følgere lytte til som de første i nedbarberede udgaver ved akustisk koncert i Turbinen. \nSpil Dansk er musiklivets festuge\, der altid foregår i uge 44. Siden 2001 har Spil Dansk været Danmarks største musikbegivenhed i al sin bredde og mangfoldighed af arrangementer. Turbinen\, Randers Bibliotek\, Randers Kommune og Randers Eventsekretariat er lokale arrangører. Det sker i samarbejde med blandt andre lokale bands\, musikkorps\, -ensembler og -kor. Målet er blandt andet at skabe glæde og øge kendskabet til musik med dansk afsæt – herunder udfolde musikken i nye og anderledes rammer.
URL:https://spildansk.dk/kalender/carl-emil-petersen-solo-paa-turbinen/
LOCATION:Turbinen\, Svend Dalsgaards Plads\, 1\, Randers C.\, 8900\, Danmark
ATTACH;FMTTYPE=image/jpeg:https://spildansk.dk/wp-content/uploads/2019/09/carlemil.jpg
ORGANIZER;CN="Turbinen":MAILTO:jh@vaerket.dk
END:VEVENT
BEGIN:VEVENT
DTSTART;TZID=Europe/Copenhagen:20191026T210000
DTEND;TZID=Europe/Copenhagen:20191026T230000
DTSTAMP:20260421T172354
CREATED:20191021T073617Z
LAST-MODIFIED:20191021T073617Z
UID:21912-1572123600-1572130800@spildansk.dk
SUMMARY:Tårn
DESCRIPTION:  \nKærlighed er blevet kastet i grams efter TÅRN de seneste år\, hvor de har etableret sig som et af de mest omtalte nye navne på den danske scene. \n  \nDet fynske band har på blot tre år formået at udgive to anmelderroste album ‘Ud Ad Mit Vindue’ og ‘Velkommen Indenfor’ og med forsanger Erik Apollo i front\, er de blevet kendt\, som et band der tryllebinder publikum med sange\, som er lavet af et stof\, der kan få pigeøjne til at stråle og drengehjerter til at banke. \n  \nNu er de klar til at tage hul på 2019 med ny musik og annonceringen af en større efterårsturné. Første udspil er singlen ’Farver og Vanvid’ og en EP ventes ude i maj. \n  \nDet nye materiale er skabt med afsæt i de stadier\, vi går igennem\, fra vi overgiver os til forelskelsen\, til bruddet\, sorgen\, og til vi igen er helet og klar til overgivelsen. En cirkulær bevægelse. Som en kærlighedens fugl Phøniks. \n  \n”Kærligheden er i forandring. Ikke bare i mig\, men i verden omkring mig. Jeg har brugt meget tid på at begribe kærligheden som en kraft og som overlevelses-mekanisme. Udspringet til de nye sange er et brud\, og hele den proces\, der følger efter. Fortællingen slutter – og begynder – der hvor ringen er sluttet\, og jeg har et åbent hjerte igen”\, fortæller Erik Apollo. \nFoto: Zuhal Kocan \n– \nSpecial Guest: Nicolai Noas dybe vokal er for nogle bedst kendt fra Magnolia Shoals storladne rockunivers. \nNicolai Noa er nu gået solo under eget navn\, og er netop ved at lægge sidste hand på sin dansksprogede debut-EP\, ‘Gælden’\, som udkommer til foraret. Selvom mørket stadig lurer\, er lydbilledet lettere og mere poppet. Omkvædene er fængende og teksterne bittersøde. Med en selv- og samfundskritisk tone bliver hverdagssituationer til sørgmodige hits med et ligefremt udtryk.\nHans nye udtryk formår på samme tid at være følsomt og legende. Melankolsk og medrivende. Han fremstar som sin egen\, og er et frisk pust af lyd og ikke mindst lyrik på den dansksprogede musikscene.\nAt opleve Nicolai Noa live med band er en intens\, poetisk og meget energisk oplevelse. \n 
URL:https://spildansk.dk/kalender/taarn-3/
LOCATION:Musikhuset Posten\, Odense\, Odense\, Danmark
CATEGORIES:Pop,Rock
ATTACH;FMTTYPE=image/jpeg:https://spildansk.dk/wp-content/uploads/2019/10/Taarn-840-x-420-Web.jpg
END:VEVENT
BEGIN:VEVENT
DTSTART;TZID=Europe/Copenhagen:20191026T220000
DTEND;TZID=Europe/Copenhagen:20191027T010000
DTSTAMP:20260421T172354
CREATED:20191004T092011Z
LAST-MODIFIED:20191004T092011Z
UID:20878-1572127200-1572138000@spildansk.dk
SUMMARY:Livemusik på Hotel Randers by Hornsleth
DESCRIPTION:Gratis livemusik. Kom og syng med når pop-up baren Hotel Randers by Hornsleth denne weekend får besøg af Sjaske & Rosenlund. Musikken starter kl. 22.00\, men baren har åben helt fra kl. 17.00.. \nDenne fredag og lørdag aften får Hotel Randers by Hornsleth besøg af de to garvede musikere\, Carsten (Sjaske) Mortensen og Allan Rosenlund. Sjaske på guitar og Rosenlund på bas og trommer (på samme tid!). De to vil\, med deres fremragende vokaler og smittende spilleglæde\, tilsammen sprede god stemning med levende musik af højeste kvalitet. Vi stemmer i med lækker vin på glas eller flaske og drinks til enhver smag.
URL:https://spildansk.dk/kalender/livemusik-paa-hotel-randers-by-hornsleth-2/
LOCATION:Hotel Randers by Hornsleth\, Torvegade 11\, Randers C\, 8900
END:VEVENT
END:VCALENDAR